{"text_format":"1","workbook":"xlsx","n_sheets":9,"sheets":["CADIDO","Base","HOJA_CAPTURA","INVENTARIO TRÁMITE","PORTADA DE EXPEDIENTE","PESTAÑA DE EXPEDIENTE","ETIQUETA CARPETA","PORTADA DE CAJA","TRANSFERENCIA PRIMARIA"],"not_rendered":{"charts":0,"images":4,"macros":0,"external_links":1,"defined_names":6,"comments":0,"pivot_tables":0},"unopened":[],"bounds":{"document_bytes":16777216,"sheet_cells":100000,"rows_first":2000,"rows_last":500,"rows_between":2000,"halvings":0,"cell_chars":16384,"cell_head_chars":4096},"cells_cut":0,"cells_raw":0,"read":"whole","date_system":"1900"}

{"sheet":"CADIDO","index":0,"n_rows":464,"n_cols":20,"rows_kept":464,"cut":false,"hidden":false,"merged":[[254,1,254,12],[117,1,117,12],[218,1,218,12],[229,1,229,12],[232,1,232,12],[239,1,239,12],[195,1,195,12],[160,1,160,12],[178,1,178,12],[134,1,134,12],[1,1,1,12],[2,3,2,5],[2,6,2,8],[2,9,2,11],[2,2,3,2],[2,1,3,1],[2,12,3,12],[4,1,4,12],[23,1,23,12],[44,1,44,12],[61,1,61,12],[90,1,90,12]]}
[]
[null,"FONDO: Instituto Nacional de Pediatría"]
[null,"Código","Nivel de clasificación","Valor Documental",null,null,"Vigencia Documental",null,null,"Técnicas de Selección",null,null,"Observaciones"]
[null,null,null,"A","L","F/C","AT","AC","TOTAL","E","C","M"]
[null,"SECCIÓN 2C. ASUNTOS JURÍDICOS"]
[null,"2C.1","DISPOSICIONES EN MATERIA DE ASUNTOS JURÍDICOS","X","X",null,"4 años","8 años","12 años",null,null,"X","Método de muestreo cualitativo"]
[null,"2C.2","PROGRAMAS Y PROYECTOS EN LA MATERIA DE ASUNTOS JURÍDICOS","X",null,null,"2 años","4 años","6 años",null,null,"X","Método de muestreo cualitativo"]
[null,"2C.3","REGISTRO Y CERTIFICACIÓN DE FIRMAS","X","X",null,"2 años","4 años","6 años","X"]
[null,"2C.4","REGISTRO Y CERTIFICACIÓN DE FIRMAS ACREDITADAS ANTE LA DEPENDENCIA","X","X",null,"2 años","4 años","6 años","X"]
[null,"2C.5","ACTUACIONES Y REPRESENTACIONES EN MATERIA LEGAL","X","X",null,"2 años","4 años","6 años",null,"X"]
[null,"2C.6","ASISTENCIA, CONSULTA Y ASESORÍAS","X",null,null,"2 años","4 años","6 años",null,"X"]
[null,"2C.7","ESTUDIOS, DICTÁMENES E INFORMES","X",null,null,"2 años","4 años","6 años",null,"X"]
[null,"2C.8","JUICIOS CONTRA LA DEPENDENCIA","X","X",null,"4 años","8 años","12 años",null,"X"]
[null,"2C.9","JUICIOS DE LA DEPENDENCIA","X","X",null,"4 años","8 años","12 años",null,"X"]
[null,"2C.10","AMPAROS","X","X",null,"4 años","8 años","12 años",null,"X"]
[null,"2C.11","INTERPOSICIÓN DE RECURSOS ADMINISTRATIVOS","X","X",null,"2 años","4 años","6 años",null,"X"]
[null,"2C.12","OPINIONES TÉCNICO JURÍDICAS","X","X",null,"2 años","4 años","6 años",null,"X"]
[null,"2C.13","INSPECCIÓN Y DESIGNACIÓN DE PERITOS","X","X",null,"2 años","4 años","6 años",null,"X"]
[null,"2C.14","DESFALCOS, PECULADOS, FRAUDES Y COHECHOS","X","X",null,"4 años","8 años","12 años",null,"X"]
[null,"2C.15","NOTIFICACIONES","X","X",null,"2 años","4 años","6 años",null,"X"]
[null,"2C.16","INCONFORMIDADES Y PETICIONES","X","X",null,"2 años","4 años","6 años",null,"X"]
[null,"2C.17","DELITOS Y FALTAS","X","X",null,"2 años","4 años","6 años",null,"X"]
[null,"2C.18","DERECHOS HUMANOS","X","X",null,"2 años","4 años","6 años",null,"X"]
[null,"SECCIÓN: 3C PROGRAMACIÓN, ORGANIZACIÓN Y PRESUPUESTACIÓN"]
[null,"3C.1","DISPOSICIONES EN MATERIA DE PROGRAMACIÓN","X","X",null,"4 años","8 años","12 años",null,null,"X","Método de muestreo cualitativo"]
[null,"3C.2","PROGRAMAS Y PROYECTOS EN MATERIA DE PROGRAMACIÓN","X",null,null,"2 años","4 años","6 años",null,null,"X","Método de muestreo cualitativo"]
[null,"3C.3","PROCESOS DE PROGRAMACIÓN","X",null,null,"2 años","4 años","6 años","X"]
[null,"3C.4","PROGRAMA ANUAL DE INVERSIONES","X",null,null,"2 años","4 años","6 años","X"]
[null,"3C.5","REGISTRO PROGRAMÁTICO DE PROYECTOS INSTITUCIONALES","X",null,null,"2 años","4 años","6 años",null,"X"]
[null,"3C.6","REGISTRO PROGRAMÁTICO DE PROYECTOS ESPECIALES","X",null,null,"2 años","4 años","6 años",null,"X"]
[null,"3C.7","PROGRAMAS OPERATIVOS ANUALES","X",null,null,"2 años","4 años","6 años",null,null,"X","Método de muestreo cualitativo"]
[null,"3C.8","DISPOSICIONES EN MATERIA DE ORGANIZACIÓN","X","X",null,"4 años","8 años","12 años",null,null,"X","Método de muestreo cualitativo"]
[null,"3C.9","PROGRAMAS Y PROYECTOS EN MATERIA DE ORGANIZACIÓN","X",null,null,"2 años","4 años","6 años",null,null,"X","Método de muestreo cualitativo"]
[null,"3C.10","DICTAMEN TÉCNICO DE ESTRUCTURAS","X",null,null,"2 años","4 años","6 años",null,"X"]
[null,"3C.11","INTEGRACIÓN Y DICTAMEN DE MANUALES DE ORGANIZACIÓN","X",null,null,"2 años","4 años","6 años",null,null,"X","Método de muestreo cualitativo"]
[null,"3C.12","INTEGRACIÓN Y DICTAMEN DE MANUALES NORMAS Y LINEAMIENTOS, DE PROCESOS Y PROCEDIMIENTOS","X",null,null,"2 años","4 años","6 años",null,null,"X","Método de muestreo cualitativo"]
[null,"3C.13","ACCIONES DE MODERNIZACIÓN ADMINISTRATIVA","X",null,null,"2 años","4 años","6 años","X"]
[null,"3C.14","CERTIFICACIÓN DE CALIDAD DE PROCESOS Y SERVICIOS ADMINISTRATIVOS","X",null,null,"2 años","4 años","6 años","X"]
[null,"3C.15","DESCONCENTRACIÓN DE FUNCIONES","X",null,null,"2 años","4 años","6 años","X"]
[null,"3C.16","DESCENTRALIZACIÓN","X",null,null,"2 años","4 años","6 años","X"]
[null,"3C.17","DISPOSICIONES EN MATERIA DE PRESUPUESTACIÓN","X","X",null,"4 años","8 años","12 años",null,null,"X","Método de muestreo cualitativo"]
[null,"3C.18","PROGRAMAS Y PROYECTOS EN MATERIA DE PRESUPUESTACIÓN","X",null,null,"2 años","4 años","6 años",null,null,"X","Método de muestreo cualitativo"]
[null,"3C.19","ANÁLISIS FINANCIERO Y PRESUPUESTAL","X",null,null,"2 años","4 años","6 años","X"]
[null,"3C.20","EVALUACIÓN Y CONTROL DEL EJERCICIO PRESUPUESTAL","X",null,null,"2 años","4 años","6 años","X"]
[null,"SECCIÓN: 4C RECURSOS HUMANOS"]
[null,"4C.1","DISPOSICIONES EN MATERIA DE RECURSOS HUMANOS","X","X",null,"4 años","8 años","12 años",null,null,"X","Método de muestreo cualitativo"]
[null,"4C.2","PROGRAMAS Y PROYECTOS EN MATERIA DE RECURSOS HUMANOS","X","X","X","2 años","4 años","6 años","X"]
[null,"4C.3","EXPEDIENTE ÚNICO DE PERSONAL","X","X",null,"5 años","20 años","25 años",null,"X"]
[null,"4C.4","REGISTRO Y CONTROL DE PUESTOS Y PLAZAS","X",null,null,"2 años","4 años","6 años","X"]
[null,"4C.5","NÓMINAS DE PAGO DE PERSONAL","X",null,null,"2 años","4 años","6 años","X"]
[null,"4C.6","RECLUTAMIENTO Y SELECCIÓN DE PERSONAL","X",null,null,"2 años","4 años","6 años","X"]
[null,"4C.8","CONTROL DE ASISTENCIA (VACACIONES, DESCANSOS Y LICENCIAS, INCAPACIDADES, ETC.)","X",null,null,"2 años","4 años","6 años","X"]
[null,"4C.10","DESCUENTOS","X",null,"X","2 años","4 años","6 años","X"]
[null,"4C.11","ESTÍMULOS Y RECOMPENSAS","X",null,null,"2 años","4 años","6 años","X"]
[null,"4C.14","EVALUACIÓN DEL DESEMPEÑO DE SERVIDORES DE MANDO","X",null,null,"2 años","4 años","6 años","X"]
[null,"4C.15","AFILIACIONES AL INSTITUTO DE SEGURIDAD Y SERVICIOS SOCIALES DE LOS TRABAJADORES DEL ESTADO","X",null,null,"2 años","4 años","6 años","X"]
[null,"4C.16","CONTROL DE PRESTACIONES EN MATERIA ECONÓMICA (FONAC, SISTEMA AHORRO PARA EL RETIRO, SEGUROS, ETC)","X",null,null,"2 años","4 años","6 años","X"]
[null,"4C.20","RELACIONES LABORALES (COMISIONES MIXTAS, SINDICATO NACIONAL DE TRABAJADORES AL SERVICIO DEL ESTADO, CONDICIONES LABORALES)","X",null,null,"2 años","4 años","6 años","X"]
[null,"4C.22","CAPACITACIÓN CONTINUA Y DESARROLLO PROFESIONAL DEL PERSONAL DE LAS ÁREAS ADMINISTRATIVAS","X","X",null,"2 años","4 años","6 años","X"]
[null,"4C.23","SERVICIO SOCIAL DE ÁREAS ADMINISTRATIVAS","X",null,null,"2 años","4 años","6 años","X"]
[null,"4C.27","COORDINACIÓN LABORAL CON ORGANISMOS DESCENTRALIZADOS Y PARAESTATALES","X",null,null,"2 años","4 años","6 años","X"]
[null,"SECCIÓN: 5C RECURSOS FINANCIEROS"]
[null,"5C.1","DISPOSICIONES EN MATERIA DE RECURSOS FINANCIEROS Y CONTABILIDAD GUBERNAMENTAL","X","X",null,"4 años","8 años","12 años",null,null,"X","Método de muestreo cualitativo"]
[null,"5C.2","PROGRAMAS Y PROYECTOS EN MATERIA DE RECURSOS FINANCIEROS Y CONTABILIDAD GUBERNAMENTAL","X",null,null,"2 años","4 años","6 años",null,null,"X","Método de muestreo cualitativo"]
[null,"5C.3","GASTOS O EGRESOS POR PARTIDA PRESUPUESTAL","X",null,"X","2 años","4 años","6 años","X"]
[null,"5C.4","INGRESOS","X",null,"X","2 años","4 años","6 años",null,"X"]
[null,"5C.5","LIBROS CONTABLES","X",null,"X","6 años","6 años","12 años",null,"X"]
[null,"5C.6","REGISTROS CONTABLES (GLOSA)","X",null,"X","6 años","6 años","12 años",null,"X"]
[null,"5C.7","VALORES FINANCIEROS","X",null,"X","6 años","6 años","12 años","X"]
[null,"5C.8","APORTACIONES A CAPITAL","X",null,"X","6 años","6 años","12 años","X"]
[null,"5C.9","EMPRÉSTITOS","X",null,"X","6 años","6 años","12 años","X"]
[null,"5C.10","FINANCIAMIENTO EXTERNO","X",null,"X","6 años","6 años","12 años","X"]
[null,"5C.11","ESQUEMAS DE FINANCIAMIENTO","X",null,"X","6 años","6 años","12 años","X"]
[null,"5C.12","ASIGNACIÓN Y OPTIMIZACIÓN DE RECURSOS FINANCIEROS","X",null,"X","2 años","4 años","6 años","X"]
[null,"5C.13","CRÉDITOS CONCEDIDOS","X",null,"X","2 años","4 años","6 años","X"]
[null,"5C.14","CUENTAS POR LIQUIDAR CERTIFICADAS","X",null,"X","2 años","4 años","6 años","X"]
[null,"5C.15","TRANSFERENCIAS DE PRESUPUESTO","X",null,"X","2 años","4 años","6 años","X"]
[null,"5C.16","AMPLIACIONES DEL PRESUPUESTO","X",null,"X","2 años","4 años","6 años","X"]
[null,"5C.17","REGISTRO Y CONTROL DE PÓLIZA DE EGRESOS","X",null,"X","2 años","4 años","6 años","X"]
[null,"5C.18","REGISTRO Y CONTROL DE PÓLIZA DE INGRESOS","X",null,"X","2 años","4 años","6 años","X"]
[null,"5C.19","PÓLIZAS DE DIARIO","X",null,"X","2 años","4 años","6 años","X"]
[null,"5C.20","COMPRAS DIRECTAS","X",null,"X","2 años","4 años","6 años","X"]
[null,"5C.21","GARANTÍAS, FIANZAS Y DEPÓSITOS","X",null,"X","2 años","4 años","6 años","X"]
[null,"5C.22","CONTROL DE CHEQUES","X",null,"X","2 años","4 años","6 años","X"]
[null,"5C.23","CONCILIACIONES","X",null,"X","2 años","4 años","6 años","X"]
[null,"5C.24","ESTADOS FINANCIEROS","X",null,"X","2 años","4 años","6 años",null,null,"X","Método de muestreo cualitativo"]
[null,"5C.25","AUXILIARES DE CUENTAS","X",null,"X","2 años","4 años","6 años","X"]
[null,"5C.26","ESTADO DEL EJERCICIO DEL PRESUPUESTO","X",null,"X","2 años","4 años","6 años","X"]
[" ","5C.27","FONDO ROTATORIO","X",null,"X","2 años","4 años","6 años","X"]
[null,"5C.28","PAGO DE DERECHOS","X",null,"X","2 años","4 años","6 años","X"]
[null,"SECCIÓN: 6C RECURSOS MATERIALES Y OBRA PÚBLICA"]
[null,"6C.1","DISPOSICIONES EN MATERIA DE RECURSOS MATERIALES, OBRA PÚBLICA, CONSERVACIÓN Y MANTENIMIENTO","X","X",null,"4 años","8 años","12 años",null,null,"X","Método de muestreo cualitativo"]
[null,"6C.2","PROGRAMAS Y PROYECTOS EN MATERIA DE RECURSOS MATERIALES, OBRA PÚBLICA, CONSERVACIÓN Y MANTENIMIENTO","X",null,null,"2 años","4 años","6 años",null,null,"X","Método de muestreo cualitativo"]
[null,"6C.3","LICITACIONES","X",null,null,"2 años","4 años","6 años","X"]
[null,"6C.4","ADQUISICIONES","X","X",null,"2 años","4 años","6 años","X"]
[null,"6C.5","SANCIONES, INCONFORMIDADES Y CONCILIACIONES DERIVADOS DE CONTRATOS","X","X","X","2 años","4 años","6 años","X"]
[null,"6C.6","CONTROL DE CONTRATOS","X","X",null,"2 años","4 años","6 años","X"]
[null,"6C.7","SEGUROS Y FIANZAS","X","X","X","4 años","8 años","12 años","X"]
[null,"6C.8","SUSPENSIÓN, RESCISIÓN, TERMINACIÓN DE OBRA PÚBLICA","X","X",null,"4 años","8 años","12 años",null,"X"]
[null,"6C.9","BITÁCORAS DE OBRA PÚBLICA","X",null,null,"8 años","3 años","11 años",null,"X"]
[null,"6C.10","CALIDAD EN MATERIA DE OBRAS, CONSERVACIÓN Y EQUIPAMIENTO","X",null,null,"2 años","4 años","6 años","X"]
[null,"6C.11","PRECIOS UNITARIOS EN OBRA PÚBLICA Y SERVICIOS","X",null,null,"2 años","4 años","6 años","X"]
[null,"6C.12","ASESORÍA TÉCNICA EN MATERIA DE OBRA PÚBLICA","X",null,null,"2 años","4 años","6 años","X"]
[null,"6C.13","CONSERVACIÓN Y MANTENIMIENTO DE LA INFRAESTRUCTURA FÍSICA","X",null,null,"2 años","4 años","6 años","X"]
[null,"6C.14","REGISTRO DE PROVEEDORES Y CONTRATISTAS","X",null,null,"2 años","4 años","6 años","X"]
[null,"6C.15","ARRENDAMIENTOS","X",null,null,"2 años","4 años","6 años","X"]
[null,"6C.16","DISPOSICIONES DE ACTIVO FIJO","X","X",null,"4 años","8 años","12 años","X"]
[null,"6C.17","INVENTARIO FÍSICO Y CONTROL DE BIENES MUEBLES","X",null,null,"3 años","4 años","7 años","X"]
[null,"6C.18","INVENTARIO FÍSICO YCONTROL DE BIENES INMUEBLES","X",null,null,"3 años","4 años","7 años","X"]
[null,"6C.19","ALMACENAMIENTO, CONTROL Y DISTRIBUCIÓN DE BIENES MUEBLES","X",null,null,"2 años","4 años","6 años","X"]
[null,"6C.20","DISPOSICIONES Y SISTEMAS DE ABASTECIMIENTO Y ALMACENES","X","X",null,"4 años","8 años","12 años",null,null,"X","Método de muestreo cualitativo"]
[null,"6C.21","CONTROL DE CALIDAD DE BIENES E INSUMOS","X",null,null,"2 años","4 años","6 años","X"]
[null,"6C.22","CONTROL Y SEGUIMIENTO DE OBRAS Y REMODELACIONES","X",null,null,"2 años","4 años","6 años","X"]
[null,"6C.23","COMITÉS Y SUBCOMITÉS DE ADQUISICIÓNES, ARRENDAMIENTOS Y SERVICIOS","X",null,null,"4 años","8 años","12 años",null,null,"X","Método de muestreo cualitativo"]
[null,"6C.24","COMITÉ DE ENAJENACIÓN DE BIENES MUEBLES E INMUEBLES","X",null,null,"4 años","8 años","12 años",null,null,"X","Método de muestreo cualitativo"]
[null,"6C.25","COMITÉ DE OBRA PÚBLICA","X",null,null,"4 años","8 años","12 años",null,null,"X","Método de muestreo cualitativo"]
[null,"6C.26","COMISIONES CONSULTIVA MIXTAS DE ABASTECIMIENTO","X",null,null,"4 años","8 años","12 años",null,null,"X","Método de muestreo cualitativo"]
[null,"SECCIÓN: 7C SERVICIOS GENERALES"]
[null,"7C.1","DISPOSICIONES EN MATERIA DE SERVICIOS GENERALES","X","X",null,"4 años","8 años","12 años",null,null,"X","Método de muestreo cualitativo"]
[null,"7C.2","PROGRAMAS Y PROYECTOS EN MATERIA DE SERVICIOS GENERALES","X",null,null,"2 años","4 años","6 años",null,null,"X","Método de muestreo cualitativo"]
[null,"7C.3","SERVICIOS BÁSICOS (ENERGÍA ELECTRÍCA, AGUA, PREDIAL, ETC)","X",null,null,"2 años","4 años","6 años","X"]
[null,"7C.4","SERVICIOS DE EMBALAJE, FLETES Y MANIOBRAS.","X",null,null,"2 años","4 años","6 años","X"]
[null,"7C.5","SERVICIOS DE SEGURIDAD Y VIGILANCIA","X",null,null,"2 años","4 años","6 años","X"]
[null,"7C.6","SERVICIOS DE LAVANDERÍA, LIMPIEZA, HIGIENE Y FUMIGACIÓN","X",null,null,"2 años","4 años","6 años","X"]
[null,"7C.7","SERVICIOS DE TRANSPORTACIÓN","X",null,null,"2 años","4 años","6 años","X"]
[null,"7C.8","SERVICIOS DE TELEFONÍA, TELEFONÍA CELULAR Y RADIOLOCALIZACIÓN","X",null,null,"2 años","4 años","6 años","X"]
[null,"7C.9","SERVICIO POSTAL","X",null,null,"2 años","4 años","6 años","X"]
[null,"7C.10","SERVICIOS ESPECIALIZADOS DE MENSAJERÍA","X",null,null,"2 años","4 años","6 años","X"]
[null,"7C.11","MANTENIMIENTO, CONSERVACIÓN E INSTALACIÓN DE MOBILIARIO","X",null,null,"2 años","4 años","6 años","X"]
[null,"7C.12","MANTENIMIENTO, CONSERVACIÓN E INSTALACIÓN DE EQUIPO DE CÓMPUTO","X",null,null,"2 años","4 años","6 años","X"]
[null,"7C.13","CONTROL DEL PARQUE VEHÍCULAR","X",null,null,"2 años","4 años","6 años","X"]
[null,"7C.14","CONTROL DE COMBUSTIBLE","X",null,null,"2 años","4 años","6 años","X"]
[null,"7C.15","CONTROL Y SERVICIOS EN AUDITORIOS Y SALAS","X",null,null,"2 años","4 años","6 años","X"]
[null,"7C.16","PROTECCIÓN CIVIL","X",null,null,"2 años","4 años","6 años","X"]
[null,"SECCIÓN: 8C TECNOLOGIAS Y SERVICIOS DE LA INFORMACIÓN"]
[null,"8C.1","DISPOSICIONES EN MATERIA DE TELECOMUNICACIONES","X","X",null,"4 años","8 años","12 años",null,null,"X","Método de muestreo cualitativo"]
[null,"8C.2","PROGRAMAS Y PROYECTOS EN MATERIA DE TELECOMUNICACIONES","X",null,null,"2 años","4 años","6 años",null,null,"X","Método de muestreo cualitativo"]
[null,"8C.3","NORMATIVIDAD TECNOLÓGICA","X",null,null,"2 años","4 años","6 años","X"]
[null,"8C.4","DESARROLLO E INFRAESTRUCTURA DE TELECOMUNICACIONES","X",null,null,"2 años","4 años","6 años","X"]
[null,"8C.5","DESARROLLO E INFRAESTRUCTURA DEL PORTAL DE INTERNET DE LA DEPENDENCIA","X",null,null,"2 años","4 años","6 años","X"]
[null,"8C.6","DESARROLLO DE REDES DE COMUNICACIÓN DE DATOS Y VOZ","X",null,null,"2 años","4 años","6 años","X"]
[null,"8C.7","DISPOSICIONES EN MATERIA DE INFORMÁTICA","X","X",null,"4 años","8 años","12 años",null,null,"X","Método de muestreo cualitativo"]
[null,"8C.8","PROGRAMAS Y PROYECTO EN MATERIA DE INFORMÁTICA","X",null,null,"2 años","4 años","6 años",null,null,"X","Método de muestreo cualitativo"]
[null,"8C.9","DESARROLLO INFORMÁTICO","X",null,null,"2 años","4 años","6 años","X"]
[null,"8C.10","SEGURIDAD INFORMÁTICA","X",null,null,"2 años","4 años","6 años","X"]
[null,"8C.11","DESARROLLO DE SISTEMAS","X",null,null,"2 años","4 años","6 años","X"]
[null,"8C.12","AUTOMATIZACIÓN DE PROCESOS","X",null,null,"2 años","4 años","6 años","X"]
[null,"8C.13","CONTROL Y DESARROLLO DEL PARQUE INFORMÁTICO","X",null,null,"2 años","4 años","6 años","X"]
[null,"8C.14","DISPOSICIONES EN MATERIA DE SERVICIOS DE INFORMACIÓN","X","X",null,"4 años","8 años","12 años",null,null,"X","Método de muestreo cualitativo"]
[null,"8C.15","PROGRAMAS Y PROYECTOS EN MATERIA DE SERVICIOS DE INFORMACIÓN","X",null,null,"2 años","4 años","6 años",null,null,"X","Método de muestreo cualitativo"]
[null,"8C.16","ADMINISTRACIÓN Y SERVICIOS DE ARCHIVO","X",null,null,"3 años","4 años","7 años",null,"X",null,"Método de muestreo cualitativo"]
[null,"8C.17","ADMINISTRACIÓN Y SERVICIOS DE CORRESPONDENCIA","X",null,null,"2 años","4 años","6 años","X"]
[null,"8C.18","ADMINISTRACIÓN Y SERVICIOS DE BIBLIOTECAS","X",null,null,"2 años","4 años","6 años","X"]
[null,"8C.19","ADMINISTRACIÓN Y SERVICIOS DE OTROS CENTROS DOCUMENTALES","X",null,null,"2 años","4 años","6 años","X"]
[null,"8C.20","ADMINISTRACIÓN Y PRESERVACIÓN DE ACERVOS DIGITALES","X",null,null,"2 años","4 años","6 años","X"]
[null,"8C.21","INSTRUMENTOS DE CONSULTA","X",null,null,"2 años","4 años","6 años",null,"X",null,"Método de muestreo cualitativo"]
[null,"8C.22","PROCESOS TÉCNICOS EN LOS SERVICIOS DE INFORMACIÓN","X",null,null,"2 años","4 años","6 años","X"]
[null,"8C.23","ACCESO Y RESERVAS EN SERVICIO DE INFORMACIÓN","X",null,null,"2 años","4 años","6 años","X"]
[null,"8C.24","PRODUCTOS PARA LA DIVULGACIÓN DE SERVICIOS","X",null,null,"2 años","4 años","6 años","X"]
[null,"8C.25","SERVICIOS Y PRODUCTOS EN INTERNET E INTRANET","X",null,null,"2 años","4 años","6 años","X"]
[null,"SECCIÓN: 9C COMUNICACIÓN SOCIAL"]
[null,"9C.1","DISPOSICIONES EN MATERIA DE COMUNICACIÓN SOCIAL","X","X",null,"4 años","8 años","12 años",null,null,"X","Método de muestreo cualitativo"]
[null,"9C.2","PROGRAMAS Y PROYECTOS EN MATERIA DE COMUNICACIÓN SOCIAL","X",null,null,"2 años","4 años","6 años",null,null,"X","Método de muestreo cualitativo"]
[null,"9C.3","PUBLICACIONES E IMPRESOS INSTITUCIONALES","X",null,null,"2 años","1 año","3 años",null,null,"X","Método de muestreo cualitativo"]
[null,"9C.4","MATERIAL MULTIMEDIA","X",null,null,"2 años","1 año","3 años",null,null,"X","Método de muestreo cualitativo"]
[null,"9C.5","PUBLICIDAD INSTITUCIONAL","X",null,null,"2 años","1 año","3 años","X"]
[null,"9C.6","BOLETINES Y ENTREVISTAS PARA MEDIOS","X",null,null,"2 años","1 año","3 años","X"]
[null,"9C.7","BOLETINES INFORMATIVOS PARA MEDIOS","X",null,null,"2 años","1 año","3 años","X"]
[null,"9C.8","INSERCIONES Y ANUNCIOS EN PERIÓDICOS Y REVISTAS","X",null,null,"2 años","1 año","3 años",null,null,"X","Método de muestreo cualitativo"]
[null,"9C.9","AGENCIAS PERIODÍSTICAS, DE NOTICIAS, REPORTEROS, ARTICULISTAS, CADENAS TELEVISIVAS Y OTROS MEDIOS DE COMUNICACIÓN SOCIAL","X",null,null,"2 años","1 año","3 años",null,null,"X","Método de muestreo cualitativo"]
[null,"9C.10","NOTAS PARA MEDIOS","X",null,null,"2 años","1 año","3 años",null,null,"X","Método de muestreo cualitativo"]
[null,"9C.11","PRENSA INSTITUCIONAL","X",null,null,"2 años","1 año","3 años",null,null,"X","Método de muestreo cualitativo"]
[null,"9C.12","DISPOSICIONES EN MATERIA DE RELACIONES PÚBLICAS","X","X",null,"4 años","8 años","12 años",null,null,"X","Método de muestreo cualitativo"]
[null,"9C.13","COMPARECENCIA ANTE EL PODER LEGISLATIVO","X",null,null,"2 años","1 año","3 años",null,null,"X","Método de muestreo cualitativo"]
[null,"9C.14","ACTOS Y EVENTOS OFICIALES","X",null,null,"2 años","1 año","3 años",null,null,"X","Método de muestreo cualitativo"]
[null,"9C.15","REGISTRO DE AUDIENCIAS PÚBLICAS","X",null,null,"2 años","1 año","3 años","X"]
[null,"9C.16","INVITACIONES Y FELICITACIONES","X",null,null,"2 años","1 año","3 años","X"]
[null,"9C.18","ENCUESTAS DE OPINIÓN","X",null,null,"2 años","1 año","3 años","X"]
[null,"SECCIÓN: 10C CONTROL DE ACTIVIDADES PÚBLICAS"]
[null,"10C.1","DISPOSICIONES EN MATERIA DE CONTROL Y AUDITORÍA","X","X",null,"4 años","8 años","12 años",null,null,"X","Método de muestreo cualitativo"]
[null,"10C.2","PROGRAMAS Y PROYECTOS EN MATERIA DE CONTROL Y AUDITORÍA","X",null,null,"2 años","4 años","6 años",null,null,"X","Método de muestreo cualitativo"]
[null,"10C.3","AUDITORÍA","X",null,null,"2 años","4 años","6 años",null,null,"X","Método de muestreo cualitativo"]
[null,"10C.4","VISITADURÍAS","X",null,null,"2 años","4 años","6 años","X"]
[null,"10C.5","REVISIONES DE RUBROS ESPECÍÍFICOS","X",null,null,"2 años","4 años","6 años",null,null,"X","Método de muestreo cualitativo"]
[null,"10C.6","SEGUIMIENTO A LA APLICACIÓN EN MEDIDAS O RECOMENDACIONES","X",null,null,"2 años","4 años","6 años",null,null,"X","Método de muestreo cualitativo"]
[null,"10C.7","PARTICIPANTES EN COMITÉS","X",null,null,"2 años","1 año","3 años","X"]
[null,"10C.8","REQUERIMIENTOS DE INFORMACIÓN A DEPENDENCIAS Y ENTIDADES","X",null,null,"2 años","4 años","6 años","X"]
[null,"10C.9","QUEJAS Y DENUNCIAS DE ACTIVIDADES PÚBLICAS","X",null,null,"2 años","4 años","6 años","X"]
[null,"10C.10","PETICIONES, SUGERENCIAS Y RECOMENDACIONES","X",null,null,"2 años","1 año","3 años","X"]
[null,"10C.11","RESPONSABILIDADES","X","X",null,"4 años","8 años","12 años",null,"X"]
[null,"10C.12","INCONFORMIDADES","X","X",null,"4 años","8 años","12 años",null,"X"]
[null,"10C.13","INHABILITACIONES","X","X",null,"4 años","8 años","12 años",null,"X"]
[null,"10C.14","DECLARACIONES PATRIMONIALES","X",null,null,"5 años","1 año","6 años","X"]
[null,"10C.15","ENTREGA - RECEPCIÓN","X","X",null,"2 años","4 años","6 años",null,null,"X","Método de muestreo cualitativo"]
[null,"10C.16","LIBROS BLANCOS","X",null,null,"6 años"," 6 años","12 años",null,null,"X","Método de muestreo cualitativo"]
[null,"SECCIÓN: 11C PLANEACIÓN, INFORMACIÓN, EVALUACIÓN Y POLÍTICAS"]
[null,"11C.1","DISPOSICIONES EN MATERIA DE PLANEACIÓN","X","X",null,"4 años","8 años","12 años",null,null,"X","Método de muestreo cualitativo"]
[null,"11C.2","DISPOSICIONES EN MATERIA DE INFORMACIÓN Y EVALUACIÓN","X","X",null,"4 años","8 años","12 años",null,null,"X","Método de muestreo cualitativo"]
[null,"11C.3","DISPOSICIONES EN MATERIA DE POLÍTICAS","X","X",null,"4 años","8 años","12 años",null,null,"X","Método de muestreo cualitativo"]
[null,"11C.4","PROGRAMAS Y PROYECTOS EN MATERIA DE INFORMACIÓN Y EVALUACIÓN","X",null,null,"2 años","4 años","6 años",null,null,"X","Método de muestreo cualitativo"]
[null,"11C.5","PROGRAMAS Y PROYECTOS EN MATERIA DE POLÍTICAS","X",null,null,"2 años","4 años","6 años",null,null,"X","Método de muestreo cualitativo"]
[null,"11C.6","PLANES NACIONALES","X",null,null,"2 años","4 años","6 años",null,null,"X","Método de muestreo cualitativo"]
[null,"11C.7","PROGRAMAS A MEDIANO PLAZO","X",null,null,"2 años","4 años","6 años",null,null,"X","Método de muestreo cualitativo"]
[null,"11C.8","PROGRAMAS DE ACCIÓN","X",null,null,"2 años","4 años","6 años",null,null,"X","Método de muestreo cualitativo"]
[null,"11C.9","SISTEMAS DE INFORMACIÓN ESTADÍSTICA DE LA DEPENDENCIA","X",null,null,"4 años","2 años","6 años",null,null,"X","Método de muestreo cualitativo"]
[null,"11C.10","SISTEMA NACIONAL DE INFORMACIÓN ESTADÍSTICA","X",null,null,"4 años","2 años","6 años",null,null,"X","Método de muestreo cualitativo"]
[null,"11C.11","NORMAS DE ELABORACIÓN Y ACTUALIZACIÓN DE LA INFORMACIÓN ESTADÍSTICA","X",null,null,"2 años","4 años","6 años",null,null,"X","Método de muestreo cualitativo"]
[null,"11C.12","CAPTACIÓN, PRODUCCIÓN Y DIFUSIÓN DE LA INFORMACIÓN ESTADÍSTICA","X",null,null,"4 años","2 años","6 años",null,null,"X","Método de muestreo cualitativo"]
[null,"11C.13","DESARROLLO DE ENCUESTAS","X",null,null,"2 años","1 año","3 años","X"]
[null,"11C.14","GRUPO INTERINSTITUCIONAL DE INFORMACIÓN ( COMITÉS)","X",null,null,"4 años","8 años","12 años",null,null,"X","Método de muestreo cualitativo"]
[null,"11C.15","EVALUACIÓN DE PROGRAMAS DE ACCIÓN","X",null,null,"2 años","4 años","6 años",null,null,"X","Método de muestreo cualitativo"]
[null,"11C.16","INFORME DE LABORES","X",null,null,"2 años","4 años","6 años",null,null,"X","Método de muestreo cualitativo"]
[null,"11C.17","INFORME DE EJECUCIÓN","X",null,null,"2 años","4 años","6 años",null,"X"]
[null,"11C.18","INFORME DE GOBIERNO","X",null,null,"2 años","4 años","6 años",null,"X"]
[null,"11C.19","INDICADORES","X",null,null,"2 años","4 años","6 años","X"]
[null,"11C.20","INDICADORES DE DESEMPEÑO, CALIDAD Y PRODUCTIVIDAD","X",null,null,"2 años","4 años","6 años","X"]
[null,"11C.21","NORMAS PARA LA EVALUACIÓN","X",null,null,"2 años","1 año","3 años","X"]
[null,"11C.22","MODELOS DE ORGANIZACIÓN","X",null,null,"2 años","4 años","6 años",null,null,"X","Método de muestreo cualitativo"]
[null,"SECCIÓN: 12C TRANSPARENCIA Y ACCESO A LA INFORMACIÓN"]
[null,"12C.1","DISPOSICIONES EN MATERIA DE ACCESO A LA INFORMACIÓN","X","X",null,"4 años","8 años","12 años",null,null,"X","Método de muestreo cualitativo"]
[null,"12C.2","PROGRAMAS Y PROYECTOS EN MATERIA DE ACCESO A LA INFORMACIÓN","X",null,null,"2 años","4 años","6 años",null,null,"X","Método de muestreo cualitativo",null,"SECCIÓN","SERIES",null,null,null,"SUBSERIES"]
[null,"12C.3","PROGRAMAS Y PROYECTOS EN MATERIA DE TRANSPARENCIA Y COMBATE A LA CORRUPCIÓN","X",null,null,"2 años","4 años","6 años",null,null,"X","Método de muestreo cualitativo",null,"2C. ASUNTOS JURÍDICOS","2C.1 DISPOSICIONES EN MATERIA DE ASUNTOS JURÍDICOS",null,null,null,"3S.2.1 ESPECIALIDAD DE ENTRADA DIRECTA E INDIRECTA"]
[null,"12C.5","COMITÉ DE INFORMACIÓN","X","X",null,"4 años","8 años","12 años",null,null,"X","Método de muestreo cualitativo",null,"3C PROGRAMACIÓN, ORGANIZACIÓN Y PRESUPUESTACIÓN","2C.2 PROGRAMAS Y PROYECTOS EN LA MATERIA DE ASUNTOS JURÍDICOS",null,null,null,"3S.2.2 POSGRADO DE ALTA ESPECIALIDAD EN MEDICINA"]
[null,"12C.6","SOLICITUDES DE ACCESO A LA INFORMACIÓN","X",null,null,"2 años","4 años","6 años",null,null,"X","Método de muestreo cualitativo",null,"4C RECURSOS HUMANOS","2C.3 REGISTRO Y CERTIFICACIÓN DE FIRMAS",null,null,null,"3S.5.1 EN PREGRADO"]
[null,"12C.7","PORTAL DE TRANSPARENCIA","X",null,null,"2 años","4 años","6 años","X",null,null,null,null,"5C  RECURSOS FINANCIEROS","2C.4 REGISTRO Y CERTIFICACIÓN DE FIRMAS ACREDITADAS ANTE LA DEPENDENCIA",null,null,null,"3S.5.2 EN POSGRADO DE ESPECIALIDADES DE ENTRADA DIRECTA"]
[null,"12C.8","CLASIFICACION DE INFORMACIÓN RESERVADA","X",null,null,"2 años","4 años","6 años","X",null,null,null,null,"6C  RECURSOS MATERIALES Y OBRA PÚBLICA","2C.5 ACTUACIONES Y REPRESENTACIONES EN MATERIA LEGAL",null,null,null,"4S.8.1 VIGILANCIA EPIDEMIOLÓGICA HOSPITALARIA DE INFECCIONES ASOCIADAS A LA ATENCIÓN DE LA SALUD"]
[null,"12C.9","CLASIFICACIÓN DE INFORMACIÓN CONFIDENCIAL","X",null,null,"2 años","4 años","6 años","X",null,null,null,null,"7C  SERVICIOS GENERALES","2C.6 ASISTENCIA, CONSULTA Y ASESORÍAS",null,null,null,"N/A"]
[null,"12C.10","SISTEMA DE DATOS PERSONALES","X",null,null,"2 años","4 años","6 años",null,null,"X","Método de muestreo cualitativo",null,"8C  TECNOLOGÍAS Y SERVICIOS DE LA INFORMACIÓN","2C.7 ESTUDIOS, DICTÁMENES E INFORMES"]
[null,"12C.11","INSTITUTO FEDERAL DE ACCESO A LA INFORMACIÓN","X",null,null,"6 años","6 años","12 años",null,"X",null,null,null,"9C  COMUNICACIÓN SOCIAL","2C.8 JUICIOS CONTRA LA DEPENDENCIA"]
[null,"SECCIÓN: 1S GOBIERNO",null,null,null,null,null,null,null,null,null,null,null,null,"10C  CONTROL DE ACTIVIDADES PÚBLICAS","2C.9 JUICIOS DE LA DEPENDENCIA"]
[null,"1S.1","JUNTA DE GOBIERNO","X",null,null,"2 años","4 años","6 años",null,null,"X","Método de muestreo cualitativo",null,"11C  PLANEACIÓN, INFORMACIÓN, EVALUACIÓN Y POLÍTICAS","2C.10 AMPAROS"]
[null,"1S.2","CONSEJO TÉCNICO DE ADMINISTRACIÓN Y PROGRAMACIÓN","X",null,null,"1 año","2 años","3 años",null,null,"X","Método de muestreo cualitativo",null,"12C  TRANSPARENCIA Y ACCESO A LA INFORMACIÓN ","2C.11 INTERPOSICIÓN DE RECURSOS ADMINISTRATIVOS"]
[null,"SECCIÓN: 2S INVESTIGACIÓN",null,null,null,null,null,null,null,null,null,null,null,null,"1S GOBIERNO","2C.12 OPINIONES TÉCNICO JURÍDICAS"]
[null,"2S.1","FOMENTO Y DESARROLLO DE LA INVESTIGACIÓN ","X",null,null,"2 años","4 años","6 años",null,null,"X","Método de muestreo cualitativo",null,"2S INVESTIGACIÓN","2C.13 INSPECCIÓN Y DESIGNACIÓN DE PERITOS"]
[null,"2S.2","ÓRGANOS COLEGIADOS EN MATERIA DE INVESTIGACIÓN","X","X",null,"4 años","8 años","12 años",null,null,"X","Método de muestreo cualitativo","a","3S ENSEÑANZA","2C.14 DESFALCOS, PECULADOS, FRAUDES Y COHECHOS"]
[null,"2S.3","INVESTIGACIÓN CIENTÍFICA Y DESARROLLO CIENTÍFICO","X","X",null,"4 años","8 años","12 años",null,null,"X","Método de muestreo cualitativo",null,"4S ATENCIÓN MÉDICA Y HOSPITALARIA","2C.15 NOTIFICACIONES"]
[null,"2S.4","ASESORÍA EN EL DESARROLLO DE PROYECTOS DE INVESTIGACIÓN","X",null,null,"6 años","6 años","12 años",null,null,"X","Método de muestreo cualitativo",null,null,"2C.16 INCONFORMIDADES Y PETICIONES"]
[null,"2S.5","ORGANIZACIÓN DE EVENTOS CIENTÍFICOS Y ACADÉMICOS DE INVESTIGACIÓN","X",null,null,"2 años","4 años","6 años",null,null,"X","Método de muestreo cualitativo",null,null,"2C.17 DELITOS Y FALTAS"]
[null,"2S.6","INTERCAMBIOS ACADÉMICOS Y CIENTÍFICOS","X",null,null,"2 años","4 años","6 años",null,null,"X","Método de muestreo cualitativo",null,null,"2C.18 DERECHOS HUMANOS"]
[null,"SECCIÓN: 3S ENSEÑANZA",null,null,null,null,null,null,null,null,null,null,null,null,null,"3C.1 DISPOSICIONES EN MATERIA DE PROGRAMACIÓN"]
[null,"3S.1","SISTEMA DE ADMINISTRACIÓN EN LA ENSEÑANZA","X",null,null,"2 años","2 años","4 años",null,null,"X","Método de muestreo cualitativo",null,null,"3C.2 PROGRAMAS Y PROYECTOS EN MATERIA DE PROGRAMACIÓN"]
[null,"3S.2","ADMISIÓN DE ASPIRANTES","X",null,null,"2 años","1 año","3 años",null,null,"X","Método de muestreo cualitativo",null,null,"3C.3 PROCESOS DE PROGRAMACIÓN"]
[null,"3S.2.1","ESPECIALIDAD DE ENTRADA DIRECTA E INDIRECTA","X",null,null,"2 años","1 año","3 años",null,null,"X","Método de muestreo cualitativo",null,null,"3C.4 PROGRAMA ANUAL DE INVERSIONES"]
[null,"3S.2.2","POSGRADO DE ALTA ESPECIALIDAD EN MEDICINA","X",null,null,"2 años","1 año","3 años",null,null,"X","Método de muestreo cualitativo",null,null,"3C.5 REGISTRO PROGRAMÁTICO DE PROYECTOS INSTITUCIONALES"]
[null,"3S.3","ASPIRANTES MÉDICOS REGISTRADOS","X",null,"X","4 años","2 años","6 años",null,null,"X","Método de muestreo cualitativo",null,null,"3C.6 REGISTRO PROGRAMÁTICO DE PROYECTOS ESPECIALES"]
[null,"3S.4","EXPEDIENTES ACADÉMICOS DEL ALUMNADO","X",null,"X","5 años","4 años","9 años",null,null,"X","Método de muestreo cualitativo",null,null,"3C.7 PROGRAMAS OPERATIVOS ANUALES"]
[null,"3S.5","ENSEÑANZA EN PREGRADO Y POSGRADO","X",null,null,"5 años","4 años","9 años",null,null,"X","Método de muestreo cualitativo",null,null,"3C.8 DISPOSICIONES EN MATERIA DE ORGANIZACIÓN"]
[null,"3S.5.1","EN PREGRADO","X",null,null,"5 años","4 años","9 años",null,null,"X","Método de muestreo cualitativo",null,null,"3C.9 PROGRAMAS Y PROYECTOS EN MATERIA DE ORGANIZACIÓN"]
[null,"3S.5.2","EN POSGRADO DE ESPECIALIDADES DE ENTRADA DIRECTA","X",null,null,"5 años","4 años","9 años",null,null,"X","Método de muestreo cualitativo",null,null,"3C.10 DICTAMEN TÉCNICO DE ESTRUCTURAS"]
[null,"3S.6","GRADOS ACADÉMICOS","X",null,null,"4 años","2 años","6 años",null,null,"X","Método de muestreo cualitativo",null,null,"3C.11 INTEGRACIÓN Y DICTAMEN DE MANUALES DE ORGANIZACIÓN"]
[null,"3S.7","EDUCACIÓN MEDICA CONTINUA","X",null,null,"4 años","2 años","6 años",null,null,"X","Método de muestreo cualitativo",null,null,"3C.12 INTEGRACIÓN Y DICTAMEN DE MANUALES NORMAS Y LINEAMIENTOS, DE PROCESOS Y PROCEDIMIENTOS"]
[null,"3S.8","PRÁCTICAS PROFESIONALES Y SERVICIO SOCIAL DE PROFESIONALES DE LA SALUD","X",null,null,"2 años","1 año","3 años",null,null,"X","Método de muestreo cualitativo",null,null,"3C.13 ACCIONES DE MODERNIZACIÓN ADMINISTRATIVA"]
[null,"3S.9","ESPECIALIDADES RECONOCIDAS POR EL CONSEJO NACIONAL DE HUMANIDADES, CIENCIAS Y TECNOLOGÍAS (CONAHCYT)","X","X",null,"4 años","2 años","6 años",null,null,"X","Método de muestreo cualitativo",null,null,"3C.14 CERTIFICACIÓN DE CALIDAD DE PROCESOS Y SERVICIOS ADMINISTRATIVOS"]
[null,"3S.10","APOYOS ECONÓMICOS EN MATERIA DE ENSEÑANZA","X",null,"X","6 años","4 años","10 años",null,null,"X","Método de muestreo cualitativo",null,null,"3C.15 DESCONCENTRACIÓN DE FUNCIONES"]
[null,"SECCIÓN: 4S ATENCIÓN MÉDICA Y HOSPITALARIA",null,null,null,null,null,null,null,null,null,null,null,null,null,"3C.16 DESCENTRALIZACIÓN"]
[null,"4S.1","URGENCIAS MÉDICAS","X",null,null,"2 años","4 años","6 años",null,null,"X","Método de muestreo cualitativo",null,null,"3C.17 DISPOSICIONES EN MATERIA DE PRESUPUESTACIÓN"]
[null,"4S.2","CASOS DE MALTRATO INFANTIL MÉDICO-LEGAL","X","X",null,"2 años","4 años","6 años",null,null,"X","Método de muestreo cualitativo",null,null,"3C.18 PROGRAMAS Y PROYECTOS EN MATERIA DE PRESUPUESTACIÓN"]
[null,"4S.3","ÓRGANOS COLEGIADOS EN MATERIA DE ATENCIÓN MÉDICA HOSPITALARIA","X",null,null,"4 años","8 años","12 años",null,null,"X","Método de muestreo cualitativo",null,null,"3C.19 ANÁLISIS FINANCIERO Y PRESUPUESTAL"]
[null,"4S.4","CONSULTA EXTERNA Y ESPECIALIDADES","X",null,null,"2 años","4 años","6 años",null,null,"X","Método de muestreo cualitativo",null,null,"3C.20 EVALUACIÓN Y CONTROL DEL EJERCICIO PRESUPUESTAL"]
[null,"4S.5","ARCHIVO CLÍNICO","X",null,null,"2 años","4 años","6 años",null,null,"X","Método de muestreo cualitativo",null,null,"4C.1 DISPOSICIONES EN MATERIA DE RECURSOS HUMANOS"]
[null,"4S.6","AUXILIARES DE DIAGNÓSTICO Y TRATAMIENTO","X",null,null,"2 años","4 años","6 años",null,null,"X","Método de muestreo cualitativo",null,null,"4C.2 PROGRAMAS Y PROYECTOS EN MATERIA DE RECURSOS HUMANOS"]
[null,"4S.7","CIRUGÍA","X",null,null,"2 años","4 años","6 años",null,null,"X","Método de muestreo cualitativo",null,null,"4C.3 EXPEDIENTE ÚNICO DE PERSONAL"]
[null,"4S.8","VIGILANCIA EPIDEMIOLÓGICA","X",null,null,"2 años","4 años","6 años",null,null,"X","Método de muestreo cualitativo",null,null,"4C.4 REGISTRO Y CONTROL DE PUESTOS Y PLAZAS"]
[null,"4S.8.1","VIGILANCIA EPIDEMIOLÓGICA HOSPITALARIA DE INFECCIONES ASOCIADAS A LA ATENCIÓN DE LA SALUD","X",null,null,"5 años","5 años","10 años",null,null,"X","Método de muestreo cualitativo",null,null,"4C.5 NÓMINAS DE PAGO DE PERSONAL"]
[null,"4S.9","TRANSFUSIÓN SANGUÍNEA (BANCO DE SANGRE)","X",null,null,"5 años","5 años","10 años",null,null,"X","Método de muestreo cualitativo",null,null,"4C.6 RECLUTAMIENTO Y SELECCIÓN DE PERSONAL"]
[null,"4S.10","FARMACOVIGILANCIA","X",null,null,"2 años","4 años","6 años",null,null,"X","Método de muestreo cualitativo",null,null,"4C.8 CONTROL DE ASISTENCIA (VACACIONES, DESCANSOS Y LICENCIAS, INCAPACIDADES, ETC.)"]
[null,"4S.11","TECNOVIGILANCIA","X",null,null,"2 años","4 años","6 años",null,null,"X","Método de muestreo cualitativo",null,null,"4C.10 DESCUENTOS"]
[null,null,null,null,null,null,null,null,null,null,null,null,null,null,null,"4C.11 ESTÍMULOS Y RECOMPENSAS"]
[null,null,null,null,null,null,null,null,null,null,null,null,null,null,null,"4C.14 EVALUACIÓN DEL DESEMPEÑO DE SERVIDORES DE MANDO"]
[null,null,null,null,null,null,null,null,null,null,null,null,null,null,null,"4C.15 AFILIACIONES AL INSTITUTO DE SEGURIDAD Y SERVICIOS SOCIALES DE LOS TRABAJADORES DEL ESTADO"]
[null,null,null,null,null,null,null,null,null,null,null,null,null,null,null,"4C.16 CONTROL DE PRESTACIONES EN MATERIA ECONÓMICA (FONAC, SISTEMA AHORRO PARA EL RETIRO, SEGUROS, ETC)"]
[null,null,null,null,null,null,null,null,null,null,null,null,null,null,null,"4C.20 RELACIONES LABORALES (COMISIONES MIXTAS, SINDICATO NACIONAL DE TRABAJADORES AL SERVICIO DEL ESTADO, CONDICIONES LABORALES)"]
[null,null,null,null,null,null,null,null,null,null,null,null,null,null,null,"4C.22 CAPACITACIÓN CONTINUA Y DESARROLLO PROFESIONAL DEL PERSONAL DE LAS ÁREAS ADMINISTRATIVAS"]
[null,null,null,null,null,null,null,null,null,null,null,null,null,null,null,"4C.23 SERVICIO SOCIAL DE ÁREAS ADMINISTRATIVAS"]
[null,null,null,null,null,null,null,null,null,null,null,null,null,null,null,"4C.27 COORDINACIÓN LABORAL CON ORGANISMOS DESCENTRALIZADOS Y PARAESTATALES"]
[null,null,null,null,null,null,null,null,null,null,null,null,null,null,null,"5C.1 DISPOSICIONES EN MATERIA DE RECURSOS FINANCIEROS Y CONTABILIDAD GUBERNAMENTAL"]
[null,null,null,null,null,null,null,null,null,null,null,null,null,null,null,"5C.2 PROGRAMAS Y PROYECTOS EN MATERIA DE RECURSOS FINANCIEROS Y CONTABILIDAD GUBERNAMENTAL"]
[null,null,null,null,null,null,null,null,null,null,null,null,null,null,null,"5C.3 GASTOS O EGRESOS POR PARTIDA PRESUPUESTAL"]
[null,null,null,null,null,null,null,null,null,null,null,null,null,null,null,"5C.4 INGRESOS"]
[null,null,null,null,null,null,null,null,null,null,null,null,null,null,null,"5C.5 LIBROS CONTABLES"]
[null,null,null,null,null,null,null,null,null,null,null,null,null,null,null,"5C.6 REGISTROS CONTABLES (GLOSA)"]
[null,null,null,null,null,null,null,null,null,null,null,null,null,null,null,"5C.7 VALORES FINANCIEROS"]
[null,null,null,null,null,null,null,null,null,null,null,null,null,null,null,"5C.8 APORTACIONES A CAPITAL"]
[null,null,null,null,null,null,null,null,null,null,null,null,null,null,null,"5C.9 EMPRÉSTITOS"]
[null,null,null,null,null,null,null,null,null,null,null,null,null,null,null,"5C.10 FINANCIAMIENTO EXTERNO"]
[null,null,null,null,null,null,null,null,null,null,null,null,null,null,null,"5C.11 ESQUEMAS DE FINANCIAMIENTO"]
[null,null,null,null,null,null,null,null,null,null,null,null,null,null,null,"5C.12 ASIGNACIÓN Y OPTIMIZACIÓN DE RECURSOS FINANCIEROS"]
[null,null,null,null,null,null,null,null,null,null,null,null,null,null,null,"5C.13 CRÉDITOS CONCEDIDOS"]
[null,null,null,null,null,null,null,null,null,null,null,null,null,null,null,"5C.14 CUENTAS POR LIQUIDAR CERTIFICADAS"]
[null,null,null,null,null,null,null,null,null,null,null,null,null,null,null,"5C.15 TRANSFERENCIAS DE PRESUPUESTO"]
[null,null,null,null,null,null,null,null,null,null,null,null,null,null,null,"5C.16 AMPLIACIONES DEL PRESUPUESTO"]
[null,null,null,null,null,null,null,null,null,null,null,null,null,null,null,"5C.17 REGISTRO Y CONTROL DE PÓLIZA DE EGRESOS"]
[null,null,null,null,null,null,null,null,null,null,null,null,null,null,null,"5C.18 REGISTRO Y CONTROL DE PÓLIZA DE INGRESOS"]
[null,null,null,null,null,null,null,null,null,null,null,null,null,null,null,"5C.19 PÓLIZAS DE DIARIO"]
[null,null,null,null,null,null,null,null,null,null,null,null,null,null,null,"5C.20 COMPRAS DIRECTAS"]
[null,null,null,null,null,null,null,null,null,null,null,null,null,null,null,"5C.21 GARANTÍAS, FIANZAS Y DEPÓSITOS"]
[null,null,null,null,null,null,null,null,null,null,null,null,null,null,null,"5C.22 CONTROL DE CHEQUES"]
[null,null,null,null,null,null,null,null,null,null,null,null,null,null,null,"5C.23 CONCILIACIONES"]
[null,null,null,null,null,null,null,null,null,null,null,null,null,null,null,"5C.24 ESTADOS FINANCIEROS"]
[null,null,null,null,null,null,null,null,null,null,null,null,null,null,null,"5C.25 AUXILIARES DE CUENTAS"]
[null,null,null,null,null,null,null,null,null,null,null,null,null,null,null,"5C.26 ESTADO DEL EJERCICIO DEL PRESUPUESTO"]
[null,null,null,null,null,null,null,null,null,null,null,null,null,null,null,"5C.27 FONDO ROTATORIO"]
[null,null,null,null,null,null,null,null,null,null,null,null,null,null,null,"5C.28 PAGO DE DERECHOS"]
[null,null,null,null,null,null,null,null,null,null,null,null,null,null,null,"6C.1 DISPOSICIONES EN MATERIA DE RECURSOS MATERIALES, OBRA PÚBLICA, CONSERVACIÓN Y MANTENIMIENTO"]
[null,null,null,null,null,null,null,null,null,null,null,null,null,null,null,"6C.2 PROGRAMAS Y PROYECTOS EN MATERIA DE RECURSOS MATERIALES, OBRA PÚBLICA, CONSERVACIÓN Y MANTENIMIENTO"]
[null,null,null,null,null,null,null,null,null,null,null,null,null,null,null,"6C.3 LICITACIONES"]
[null,null,null,null,null,null,null,null,null,null,null,null,null,null,null,"6C.4 ADQUISICIONES"]
[null,null,null,null,null,null,null,null,null,null,null,null,null,null,null,"6C.5 SANCIONES, INCONFORMIDADES Y CONCILIACIONES DERIVADOS DE CONTRATOS"]
[null,null,null,null,null,null,null,null,null,null,null,null,null,null,null,"6C.6 CONTROL DE CONTRATOS"]
[null,null,null,null,null,null,null,null,null,null,null,null,null,null,null,"6C.7 SEGUROS Y FIANZAS"]
[null,null,null,null,null,null,null,null,null,null,null,null,null,null,null,"6C.8 SUSPENSIÓN, RESCISIÓN, TERMINACIÓN DE OBRA PÚBLICA"]
[null,null,null,null,null,null,null,null,null,null,null,null,null,null,null,"6C.9 BITÁCORAS DE OBRA PÚBLICA"]
[null,null,null,null,null,null,null,null,null,null,null,null,null,null,null,"6C.10 CALIDAD EN MATERIA DE OBRAS, CONSERVACIÓN Y EQUIPAMIENTO"]
[null,null,null,null,null,null,null,null,null,null,null,null,null,null,null,"6C.11 PRECIOS UNITARIOS EN OBRA PÚBLICA Y SERVICIOS"]
[null,null,null,null,null,null,null,null,null,null,null,null,null,null,null,"6C.12 ASESORÍA TÉCNICA EN MATERIA DE OBRA PÚBLICA"]
[null,null,null,null,null,null,null,null,null,null,null,null,null,null,null,"6C.13 CONSERVACIÓN Y MANTENIMIENTO DE LA INFRAESTRUCTURA FÍSICA"]
[null,null,null,null,null,null,null,null,null,null,null,null,null,null,null,"6C.14 REGISTRO DE PROVEEDORES Y CONTRATISTAS"]
[null,null,null,null,null,null,null,null,null,null,null,null,null,null,null,"6C.15 ARRENDAMIENTOS"]
[null,null,null,null,null,null,null,null,null,null,null,null,null,null,null,"6C.16 DISPOSICIONES DE ACTIVO FIJO"]
[null,null,null,null,null,null,null,null,null,null,null,null,null,null,null,"6C.17 INVENTARIO FÍSICO Y CONTROL DE BIENES MUEBLES"]
[null,null,null,null,null,null,null,null,null,null,null,null,null,null,null,"6C.18 INVENTARIO FÍSICO YCONTROL DE BIENES INMUEBLES"]
[null,null,null,null,null,null,null,null,null,null,null,null,null,null,null,"6C.19 ALMACENAMIENTO, CONTROL Y DISTRIBUCIÓN DE BIENES MUEBLES"]
[null,null,null,null,null,null,null,null,null,null,null,null,null,null,null,"6C.20 DISPOSICIONES Y SISTEMAS DE ABASTECIMIENTO Y ALMACENES"]
[null,null,null,null,null,null,null,null,null,null,null,null,null,null,null,"6C.21 CONTROL DE CALIDAD DE BIENES E INSUMOS"]
[null,null,null,null,null,null,null,null,null,null,null,null,null,null,null,"6C.22 CONTROL Y SEGUIMIENTO DE OBRAS Y REMODELACIONES"]
[null,null,null,null,null,null,null,null,null,null,null,null,null,null,null,"6C.23 COMITÉS Y SUBCOMITÉS DE ADQUISICIÓNES, ARRENDAMIENTOS Y SERVICIOS"]
[null,null,null,null,null,null,null,null,null,null,null,null,null,null,null,"6C.24 COMITÉ DE ENAJENACIÓN DE BIENES MUEBLES E INMUEBLES"]
[null,null,null,null,null,null,null,null,null,null,null,null,null,null,null,"6C.25 COMITÉ DE OBRA PÚBLICA"]
[null,null,null,null,null,null,null,null,null,null,null,null,null,null,null,"6C.26 COMISIONES CONSULTIVA MIXTAS DE ABASTECIMIENTO"]
[null,null,null,null,null,null,null,null,null,null,null,null,null,null,null,"7C.1 DISPOSICIONES EN MATERIA DE SERVICIOS GENERALES"]
[null,null,null,null,null,null,null,null,null,null,null,null,null,null,null,"7C.2 PROGRAMAS Y PROYECTOS EN MATERIA DE SERVICIOS GENERALES"]
[null,null,null,null,null,null,null,null,null,null,null,null,null,null,null,"7C.3 SERVICIOS BÁSICOS (ENERGÍA ELECTRÍCA, AGUA, PREDIAL, ETC)"]
[null,null,null,null,null,null,null,null,null,null,null,null,null,null,null,"7C.4 SERVICIOS DE EMBALAJE, FLETES Y MANIOBRAS."]
[null,null,null,null,null,null,null,null,null,null,null,null,null,null,null,"7C.5 SERVICIOS DE SEGURIDAD Y VIGILANCIA"]
[null,null,null,null,null,null,null,null,null,null,null,null,null,null,null,"7C.6 SERVICIOS DE LAVANDERÍA, LIMPIEZA, HIGIENE Y FUMIGACIÓN"]
[null,null,null,null,null,null,null,null,null,null,null,null,null,null,null,"7C.7 SERVICIOS DE TRANSPORTACIÓN"]
[null,null,null,null,null,null,null,null,null,null,null,null,null,null,null,"7C.8 SERVICIOS DE TELEFONÍA, TELEFONÍA CELULAR Y RADIOLOCALIZACIÓN"]
[null,null,null,null,null,null,null,null,null,null,null,null,null,null,null,"7C.9 SERVICIO POSTAL"]
[null,null,null,null,null,null,null,null,null,null,null,null,null,null,null,"7C.10 SERVICIOS ESPECIALIZADOS DE MENSAJERÍA"]
[null,null,null,null,null,null,null,null,null,null,null,null,null,null,null,"7C.11 MANTENIMIENTO, CONSERVACIÓN E INSTALACIÓN DE MOBILIARIO"]
[null,null,null,null,null,null,null,null,null,null,null,null,null,null,null,"7C.12 MANTENIMIENTO, CONSERVACIÓN E INSTALACIÓN DE EQUIPO DE CÓMPUTO"]
[null,null,null,null,null,null,null,null,null,null,null,null,null,null,null,"7C.13 CONTROL DEL PARQUE VEHÍCULAR"]
[null,null,null,null,null,null,null,null,null,null,null,null,null,null,null,"7C.14 CONTROL DE COMBUSTIBLE"]
[null,null,null,null,null,null,null,null,null,null,null,null,null,null,null,"7C.15 CONTROL Y SERVICIOS EN AUDITORIOS Y SALAS"]
[null,null,null,null,null,null,null,null,null,null,null,null,null,null,null,"7C.16 PROTECCIÓN CIVIL"]
[null,null,null,null,null,null,null,null,null,null,null,null,null,null,null,"8C.1 DISPOSICIONES EN MATERIA DE TELECOMUNICACIONES"]
[null,null,null,null,null,null,null,null,null,null,null,null,null,null,null,"8C.2 PROGRAMAS Y PROYECTOS EN MATERIA DE TELECOMUNICACIONES"]
[null,null,null,null,null,null,null,null,null,null,null,null,null,null,null,"8C.3 NORMATIVIDAD TECNOLÓGICA"]
[null,null,null,null,null,null,null,null,null,null,null,null,null,null,null,"8C.4 DESARROLLO E INFRAESTRUCTURA DE TELECOMUNICACIONES"]
[null,null,null,null,null,null,null,null,null,null,null,null,null,null,null,"8C.5 DESARROLLO E INFRAESTRUCTURA DEL PORTAL DE INTERNET DE LA DEPENDENCIA"]
[null,null,null,null,null,null,null,null,null,null,null,null,null,null,null,"8C.6 DESARROLLO DE REDES DE COMUNICACIÓN DE DATOS Y VOZ"]
[null,null,null,null,null,null,null,null,null,null,null,null,null,null,null,"8C.7 DISPOSICIONES EN MATERIA DE INFORMÁTICA"]
[null,null,null,null,null,null,null,null,null,null,null,null,null,null,null,"8C.8 PROGRAMAS Y PROYECTO EN MATERIA DE INFORMÁTICA"]
[null,null,null,null,null,null,null,null,null,null,null,null,null,null,null,"8C.9 DESARROLLO INFORMÁTICO"]
[null,null,null,null,null,null,null,null,null,null,null,null,null,null,null,"8C.10 SEGURIDAD INFORMÁTICA"]
[null,null,null,null,null,null,null,null,null,null,null,null,null,null,null,"8C.11 DESARROLLO DE SISTEMAS"]
[null,null,null,null,null,null,null,null,null,null,null,null,null,null,null,"8C.12 AUTOMATIZACIÓN DE PROCESOS"]
[null,null,null,null,null,null,null,null,null,null,null,null,null,null,null,"8C.13 CONTROL Y DESARROLLO DEL PARQUE INFORMÁTICO"]
[null,null,null,null,null,null,null,null,null,null,null,null,null,null,null,"8C.14 DISPOSICIONES EN MATERIA DE SERVICIOS DE INFORMACIÓN"]
[null,null,null,null,null,null,null,null,null,null,null,null,null,null,null,"8C.15 PROGRAMAS Y PROYECTOS EN MATERIA DE SERVICIOS DE INFORMACIÓN"]
[null,null,null,null,null,null,null,null,null,null,null,null,null,null,null,"8C.16 ADMINISTRACIÓN Y SERVICIOS DE ARCHIVO"]
[null,null,null,null,null,null,null,null,null,null,null,null,null,null,null,"8C.17 ADMINISTRACIÓN Y SERVICIOS DE CORRESPONDENCIA"]
[null,null,null,null,null,null,null,null,null,null,null,null,null,null,null,"8C.18 ADMINISTRACIÓN Y SERVICIOS DE BIBLIOTECAS"]
[null,null,null,null,null,null,null,null,null,null,null,null,null,null,null,"8C.19 ADMINISTRACIÓN Y SERVICIOS DE OTROS CENTROS DOCUMENTALES"]
[null,null,null,null,null,null,null,null,null,null,null,null,null,null,null,"8C.20 ADMINISTRACIÓN Y PRESERVACIÓN DE ACERVOS DIGITALES"]
[null,null,null,null,null,null,null,null,null,null,null,null,null,null,null,"8C.21 INSTRUMENTOS DE CONSULTA"]
[null,null,null,null,null,null,null,null,null,null,null,null,null,null,null,"8C.22 PROCESOS TÉCNICOS EN LOS SERVICIOS DE INFORMACIÓN"]
[null,null,null,null,null,null,null,null,null,null,null,null,null,null,null,"8C.23 ACCESO Y RESERVAS EN SERVICIO DE INFORMACIÓN"]
[null,null,null,null,null,null,null,null,null,null,null,null,null,null,null,"8C.24 PRODUCTOS PARA LA DIVULGACIÓN DE SERVICIOS"]
[null,null,null,null,null,null,null,null,null,null,null,null,null,null,null,"8C.25 SERVICIOS Y PRODUCTOS EN INTERNET E INTRANET"]
[null,null,null,null,null,null,null,null,null,null,null,null,null,null,null,"9C.1 DISPOSICIONES EN MATERIA DE COMUNICACIÓN SOCIAL"]
[null,null,null,null,null,null,null,null,null,null,null,null,null,null,null,"9C.2 PROGRAMAS Y PROYECTOS EN MATERIA DE COMUNICACIÓN SOCIAL"]
[null,null,null,null,null,null,null,null,null,null,null,null,null,null,null,"9C.3 PUBLICACIONES E IMPRESOS INSTITUCIONALES"]
[null,null,null,null,null,null,null,null,null,null,null,null,null,null,null,"9C.4 MATERIAL MULTIMEDIA"]
[null,null,null,null,null,null,null,null,null,null,null,null,null,null,null,"9C.5 PUBLICIDAD INSTITUCIONAL"]
[null,null,null,null,null,null,null,null,null,null,null,null,null,null,null,"9C.6 BOLETINES Y ENTREVISTAS PARA MEDIOS"]
[null,null,null,null,null,null,null,null,null,null,null,null,null,null,null,"9C.7 BOLETINES INFORMATIVOS PARA MEDIOS"]
[null,null,null,null,null,null,null,null,null,null,null,null,null,null,null,"9C.8 INSERCIONES Y ANUNCIOS EN PERIÓDICOS Y REVISTAS"]
[null,null,null,null,null,null,null,null,null,null,null,null,null,null,null,"9C.9 AGENCIAS PERIODÍSTICAS, DE NOTICIAS, REPORTEROS, ARTICULISTAS, CADENAS TELEVISIVAS Y OTROS MEDIOS DE COMUNICACIÓN SOCIAL"]
[null,null,null,null,null,null,null,null,null,null,null,null,null,null,null,"9C.10 NOTAS PARA MEDIOS"]
[null,null,null,null,null,null,null,null,null,null,null,null,null,null,null,"9C.11 PRENSA INSTITUCIONAL"]
[null,null,null,null,null,null,null,null,null,null,null,null,null,null,null,"9C.12 DISPOSICIONES EN MATERIA DE RELACIONES PÚBLICAS"]
[null,null,null,null,null,null,null,null,null,null,null,null,null,null,null,"9C.13 COMPARECENCIA ANTE EL PODER LEGISLATIVO"]
[null,null,null,null,null,null,null,null,null,null,null,null,null,null,null,"9C.14 ACTOS Y EVENTOS OFICIALES"]
[null,null,null,null,null,null,null,null,null,null,null,null,null,null,null,"9C.15 REGISTRO DE AUDIENCIAS PÚBLICAS"]
[null,null,null,null,null,null,null,null,null,null,null,null,null,null,null,"9C.16 INVITACIONES Y FELICITACIONES"]
[null,null,null,null,null,null,null,null,null,null,null,null,null,null,null,"9C.18 ENCUESTAS DE OPINIÓN"]
[null,null,null,null,null,null,null,null,null,null,null,null,null,null,null,"10C.1 DISPOSICIONES EN MATERIA DE CONTROL Y AUDITORÍA"]
[null,null,null,null,null,null,null,null,null,null,null,null,null,null,null,"10C.2 PROGRAMAS Y PROYECTOS EN MATERIA DE CONTROL Y AUDITORÍA"]
[null,null,null,null,null,null,null,null,null,null,null,null,null,null,null,"10C.3 AUDITORÍA"]
[null,null,null,null,null,null,null,null,null,null,null,null,null,null,null,"10C.4 VISITADURÍAS"]
[null,null,null,null,null,null,null,null,null,null,null,null,null,null,null,"10C.5 REVISIONES DE RUBROS ESPECÍÍFICOS"]
[null,null,null,null,null,null,null,null,null,null,null,null,null,null,null,"10C.6 SEGUIMIENTO A LA APLICACIÓN EN MEDIDAS O RECOMENDACIONES"]
[null,null,null,null,null,null,null,null,null,null,null,null,null,null,null,"10C.7 PARTICIPANTES EN COMITÉS"]
[null,null,null,null,null,null,null,null,null,null,null,null,null,null,null,"10C.8 REQUERIMIENTOS DE INFORMACIÓN A DEPENDENCIAS Y ENTIDADES"]
[null,null,null,null,null,null,null,null,null,null,null,null,null,null,null,"10C.9 QUEJAS Y DENUNCIAS DE ACTIVIDADES PÚBLICAS"]
[null,null,null,null,null,null,null,null,null,null,null,null,null,null,null,"10C.10 PETICIONES, SUGERENCIAS Y RECOMENDACIONES"]
[null,null,null,null,null,null,null,null,null,null,null,null,null,null,null,"10C.11 RESPONSABILIDADES"]
[null,null,null,null,null,null,null,null,null,null,null,null,null,null,null,"10C.12 INCONFORMIDADES"]
[null,null,null,null,null,null,null,null,null,null,null,null,null,null,null,"10C.13 INHABILITACIONES"]
[null,null,null,null,null,null,null,null,null,null,null,null,null,null,null,"10C.14 DECLARACIONES PATRIMONIALES"]
[null,null,null,null,null,null,null,null,null,null,null,null,null,null,null,"10C.15 ENTREGA - RECEPCIÓN"]
[null,null,null,null,null,null,null,null,null,null,null,null,null,null,null,"10C.16 LIBROS BLANCOS"]
[null,null,null,null,null,null,null,null,null,null,null,null,null,null,null,"11C.1 DISPOSICIONES EN MATERIA DE PLANEACIÓN"]
[null,null,null,null,null,null,null,null,null,null,null,null,null,null,null,"11C.2 DISPOSICIONES EN MATERIA DE INFORMACIÓN Y EVALUACIÓN"]
[null,null,null,null,null,null,null,null,null,null,null,null,null,null,null,"11C.3 DISPOSICIONES EN MATERIA DE POLÍTICAS"]
[null,null,null,null,null,null,null,null,null,null,null,null,null,null,null,"11C.4 PROGRAMAS Y PROYECTOS EN MATERIA DE INFORMACIÓN Y EVALUACIÓN"]
[null,null,null,null,null,null,null,null,null,null,null,null,null,null,null,"11C.5 PROGRAMAS Y PROYECTOS EN MATERIA DE POLÍTICAS"]
[null,null,null,null,null,null,null,null,null,null,null,null,null,null,null,"11C.6 PLANES NACIONALES"]
[null,null,null,null,null,null,null,null,null,null,null,null,null,null,null,"11C.7 PROGRAMAS A MEDIANO PLAZO"]
[null,null,null,null,null,null,null,null,null,null,null,null,null,null,null,"11C.8 PROGRAMAS DE ACCIÓN"]
[null,null,null,null,null,null,null,null,null,null,null,null,null,null,null,"11C.9 SISTEMAS DE INFORMACIÓN ESTADÍSTICA DE LA DEPENDENCIA"]
[null,null,null,null,null,null,null,null,null,null,null,null,null,null,null,"11C.10 SISTEMA NACIONAL DE INFORMACIÓN ESTADÍSTICA"]
[null,null,null,null,null,null,null,null,null,null,null,null,null,null,null,"11C.11 NORMAS DE ELABORACIÓN Y ACTUALIZACIÓN DE LA INFORMACIÓN ESTADÍSTICA"]
[null,null,null,null,null,null,null,null,null,null,null,null,null,null,null,"11C.12 CAPTACIÓN, PRODUCCIÓN Y DIFUSIÓN DE LA INFORMACIÓN ESTADÍSTICA"]
[null,null,null,null,null,null,null,null,null,null,null,null,null,null,null,"11C.13 DESARROLLO DE ENCUESTAS"]
[null,null,null,null,null,null,null,null,null,null,null,null,null,null,null,"11C.14 GRUPO INTERINSTITUCIONAL DE INFORMACIÓN ( COMITÉS)"]
[null,null,null,null,null,null,null,null,null,null,null,null,null,null,null,"11C.15 EVALUACIÓN DE PROGRAMAS DE ACCIÓN"]
[null,null,null,null,null,null,null,null,null,null,null,null,null,null,null,"11C.16 INFORME DE LABORES"]
[null,null,null,null,null,null,null,null,null,null,null,null,null,null,null,"11C.17 INFORME DE EJECUCIÓN"]
[null,null,null,null,null,null,null,null,null,null,null,null,null,null,null,"11C.18 INFORME DE GOBIERNO"]
[null,null,null,null,null,null,null,null,null,null,null,null,null,null,null,"11C.19 INDICADORES"]
[null,null,null,null,null,null,null,null,null,null,null,null,null,null,null,"11C.20 INDICADORES DE DESEMPEÑO, CALIDAD Y PRODUCTIVIDAD"]
[null,null,null,null,null,null,null,null,null,null,null,null,null,null,null,"11C.21 NORMAS PARA LA EVALUACIÓN"]
[null,null,null,null,null,null,null,null,null,null,null,null,null,null,null,"11C.22 MODELOS DE ORGANIZACIÓN"]
[null,null,null,null,null,null,null,null,null,null,null,null,null,null,null,"12C.1 DISPOSICIONES EN MATERIA DE ACCESO A LA INFORMACIÓN"]
[null,null,null,null,null,null,null,null,null,null,null,null,null,null,null,"12C.2 PROGRAMAS Y PROYECTOS EN MATERIA DE ACCESO A LA INFORMACIÓN"]
[null,null,null,null,null,null,null,null,null,null,null,null,null,null,null,"12C.3 PROGRAMAS Y PROYECTOS EN MATERIA DE TRANSPARENCIA Y COMBATE A LA CORRUPCIÓN"]
[null,null,null,null,null,null,null,null,null,null,null,null,null,null,null,"12C.5 COMITÉ DE INFORMACIÓN"]
[null,null,null,null,null,null,null,null,null,null,null,null,null,null,null,"12C.6 SOLICITUDES DE ACCESO A LA INFORMACIÓN"]
[null,null,null,null,null,null,null,null,null,null,null,null,null,null,null,"12C.7 PORTAL DE TRANSPARENCIA"]
[null,null,null,null,null,null,null,null,null,null,null,null,null,null,null,"12C.8 CLASIFICACION DE INFORMACIÓN RESERVADA"]
[null,null,null,null,null,null,null,null,null,null,null,null,null,null,null,"12C.9 CLASIFICACIÓN DE INFORMACIÓN CONFIDENCIAL"]
[null,null,null,null,null,null,null,null,null,null,null,null,null,null,null,"12C.10 SISTEMA DE DATOS PERSONALES"]
[null,null,null,null,null,null,null,null,null,null,null,null,null,null,null,"12C.11 INSTITUTO FEDERAL DE ACCESO A LA INFORMACIÓN"]
[null,null,null,null,null,null,null,null,null,null,null,null,null,null,null,"1S.1 JUNTA DE GOBIERNO"]
[null,null,null,null,null,null,null,null,null,null,null,null,null,null,null,"1S.2 CONSEJO TÉCNICO DE ADMINISTRACIÓN Y PROGRAMACIÓN"]
[null,null,null,null,null,null,null,null,null,null,null,null,null,null,null,"2S.1 FOMENTO Y DESARROLLO DE LA INVESTIGACIÓN "]
[null,null,null,null,null,null,null,null,null,null,null,null,null,null,null,"2S.2 ÓRGANOS COLEGIADOS EN MATERIA DE INVESTIGACIÓN"]
[null,null,null,null,null,null,null,null,null,null,null,null,null,null,null,"2S.3 INVESTIGACIÓN CIENTÍFICA Y DESARROLLO CIENTÍFICO"]
[null,null,null,null,null,null,null,null,null,null,null,null,null,null,null,"2S.4 ASESORÍA EN EL DESARROLLO DE PROYECTOS DE INVESTIGACIÓN"]
[null,null,null,null,null,null,null,null,null,null,null,null,null,null,null,"2S.5 ORGANIZACIÓN DE EVENTOS CIENTÍFICOS Y ACADÉMICOS DE INVESTIGACIÓN"]
[null,null,null,null,null,null,null,null,null,null,null,null,null,null,null,"2S.6 INTERCAMBIOS ACADÉMICOS Y CIENTÍFICOS"]
[null,null,null,null,null,null,null,null,null,null,null,null,null,null,null,"3S.1 SISTEMA DE ADMINISTRACIÓN EN LA ENSEÑANZA"]
[null,null,null,null,null,null,null,null,null,null,null,null,null,null,null,"3S.2 ADMISIÓN DE ASPIRANTES"]
[null,null,null,null,null,null,null,null,null,null,null,null,null,null,null,"3S.3 ASPIRANTES MÉDICOS REGISTRADOS"]
[null,null,null,null,null,null,null,null,null,null,null,null,null,null,null,"3S.4 EXPEDIENTES ACADÉMICOS DEL ALUMNADO"]
[null,null,null,null,null,null,null,null,null,null,null,null,null,null,null,"3S.5 ENSEÑANZA EN PREGRADO Y POSGRADO"]
[null,null,null,null,null,null,null,null,null,null,null,null,null,null,null,"3S.6 GRADOS ACADÉMICOS"]
[null,null,null,null,null,null,null,null,null,null,null,null,null,null,null,"3S.7 EDUCACIÓN MEDICA CONTINUA"]
[null,null,null,null,null,null,null,null,null,null,null,null,null,null,null,"3S.8 PRÁCTICAS PROFESIONALES Y SERVICIO SOCIAL DE PROFESIONALES DE LA SALUD"]
[null,null,null,null,null,null,null,null,null,null,null,null,null,null,null,"3S.9 ESPECIALIDADES RECONOCIDAS POR EL CONSEJO NACIONAL DE HUMANIDADES, CIENCIAS Y TECNOLOGÍAS (CONAHCYT)"]
[null,null,null,null,null,null,null,null,null,null,null,null,null,null,null,"3S.10 APOYOS ECONÓMICOS EN MATERIA DE ENSEÑANZA"]
[null,null,null,null,null,null,null,null,null,null,null,null,null,null,null,"4S.1 URGENCIAS MÉDICAS"]
[null,null,null,null,null,null,null,null,null,null,null,null,null,null,null,"4S.2 CASOS DE MALTRATO INFANTIL MÉDICO-LEGAL"]
[null,null,null,null,null,null,null,null,null,null,null,null,null,null,null,"4S.3 ÓRGANOS COLEGIADOS EN MATERIA DE ATENCIÓN MÉDICA HOSPITALARIA"]
[null,null,null,null,null,null,null,null,null,null,null,null,null,null,null,"4S.4 CONSULTA EXTERNA Y ESPECIALIDADES"]
[null,null,null,null,null,null,null,null,null,null,null,null,null,null,null,"4S.5 ARCHIVO CLÍNICO"]
[null,null,null,null,null,null,null,null,null,null,null,null,null,null,null,"4S.6 AUXILIARES DE DIAGNÓSTICO Y TRATAMIENTO"]
[null,null,null,null,null,null,null,null,null,null,null,null,null,null,null,"4S.7 CIRUGÍA"]
[null,null,null,null,null,null,null,null,null,null,null,null,null,null,null,"4S.8 VIGILANCIA EPIDEMIOLÓGICA"]
[null,null,null,null,null,null,null,null,null,null,null,null,null,null,null,"4S.9 TRANSFUSIÓN SANGUÍNEA (BANCO DE SANGRE)"]
[null,null,null,null,null,null,null,null,null,null,null,null,null,null,null,"4S.10 FARMACOVIGILANCIA"]
[null,null,null,null,null,null,null,null,null,null,null,null,null,null,null,"4S.11 TECNOVIGILANCIA"]

{"sheet":"Base","index":1,"n_rows":249,"n_cols":8,"rows_kept":249,"cut":false,"hidden":true,"merged":[]}
[]
["2C.1","DISPOSICIONES EN MATERIA DE ASUNTOS JURÍDICOS","X","X",null,"4 años","8 años","12 años"]
["2C.2","PROGRAMAS Y PROYECTOS EN LA MATERIA DE ASUNTOS JURÍDICOS","X",null,null,"2 años","4 años","6 años"]
["2C.3","REGISTRO Y CERTIFICACIÓN DE FIRMAS","X","X",null,"2 años","4 años","6 años"]
["2C.4","REGISTRO Y CERTIFICACIÓN DE FIRMAS ACREDITADAS ANTE LA DEPENDENCIA","X","X",null,"2 años","4 años","6 años"]
["2C.5","ACTUACIONES Y REPRESENTACIONES EN MATERIA LEGAL","X","X",null,"2 años","4 años","6 años"]
["2C.6","ASISTENCIA, CONSULTA Y ASESORÍAS","X",null,null,"2 años","4 años","6 años"]
["2C.7","ESTUDIOS, DICTÁMENES E INFORMES","X",null,null,"2 años","4 años","6 años"]
["2C.8","JUICIOS CONTRA LA DEPENDENCIA","X","X",null,"4 años","8 años","12 años"]
["2C.9","JUICIOS DE LA DEPENDENCIA","X","X",null,"4 años","8 años","12 años"]
["2C.10","AMPAROS","X","X",null,"4 años","8 años","12 años"]
["2C.11","INTERPOSICIÓN DE RECURSOS ADMINISTRATIVOS","X","X",null,"2 años","4 años","6 años"]
["2C.12","OPINIONES TÉCNICO JURÍDICAS","X","X",null,"2 años","4 años","6 años"]
["2C.13","INSPECCIÓN Y DESIGNACIÓN DE PERITOS","X","X",null,"2 años","4 años","6 años"]
["2C.14","DESFALCOS, PECULADOS, FRAUDES Y COHECHOS","X","X",null,"4 años","8 años","12 años"]
["2C.15","NOTIFICACIONES","X","X",null,"2 años","4 años","6 años"]
["2C.16","INCONFORMIDADES Y PETICIONES","X","X",null,"2 años","4 años","6 años"]
["2C.17","DELITOS Y FALTAS","X","X",null,"2 años","4 años","6 años"]
["2C.18","DERECHOS HUMANOS","X","X",null,"2 años","4 años","6 años"]
["3C.1","DISPOSICIONES EN MATERIA DE PROGRAMACIÓN","X","X",null,"4 años","8 años","12 años"]
["3C.2","PROGRAMAS Y PROYECTOS EN MATERIA DE PROGRAMACIÓN","X",null,null,"2 años","4 años","6 años"]
["3C.3","PROCESOS DE PROGRAMACIÓN","X",null,null,"2 años","4 años","6 años"]
["3C.4","PROGRAMA ANUAL DE INVERSIONES","X",null,null,"2 años","4 años","6 años"]
["3C.5","REGISTRO PROGRAMÁTICO DE PROYECTOS INSTITUCIONALES","X",null,null,"2 años","4 años","6 años"]
["3C.6","REGISTRO PROGRAMÁTICO DE PROYECTOS ESPECIALES","X",null,null,"2 años","4 años","6 años"]
["3C.7","PROGRAMAS OPERATIVOS ANUALES","X",null,null,"2 años","4 años","6 años"]
["3C.8","DISPOSICIONES EN MATERIA DE ORGANIZACIÓN","X","X",null,"4 años","8 años","12 años"]
["3C.9","PROGRAMAS Y PROYECTOS EN MATERIA DE ORGANIZACIÓN","X",null,null,"2 años","4 años","6 años"]
["3C.10","DICTAMEN TÉCNICO DE ESTRUCTURAS","X",null,null,"2 años","4 años","6 años"]
["3C.11","INTEGRACIÓN Y DICTAMEN DE MANUALES DE ORGANIZACIÓN","X",null,null,"2 años","4 años","6 años"]
["3C.12","INTEGRACIÓN Y DICTAMEN DE MANUALES NORMAS Y LINEAMIENTOS, DE PROCESOS Y PROCEDIMIENTOS","X",null,null,"2 años","4 años","6 años"]
["3C.13","ACCIONES DE MODERNIZACIÓN ADMINISTRATIVA","X",null,null,"2 años","4 años","6 años"]
["3C.14","CERTIFICACIÓN DE CALIDAD DE PROCESOS Y SERVICIOS ADMINISTRATIVOS","X",null,null,"2 años","4 años","6 años"]
["3C.15","DESCONCENTRACIÓN DE FUNCIONES","X",null,null,"2 años","4 años","6 años"]
["3C.16","DESCENTRALIZACIÓN","X",null,null,"2 años","4 años","6 años"]
["3C.17","DISPOSICIONES EN MATERIA DE PRESUPUESTACIÓN","X","X",null,"4 años","8 años","12 años"]
["3C.18","PROGRAMAS Y PROYECTOS EN MATERIA DE PRESUPUESTACIÓN","X",null,null,"2 años","4 años","6 años"]
["3C.19","ANÁLISIS FINANCIERO Y PRESUPUESTAL","X",null,null,"2 años","4 años","6 años"]
["3C.20","EVALUACIÓN Y CONTROL DEL EJERCICIO PRESUPUESTAL","X",null,null,"2 años","4 años","6 años"]
["4C.1","DISPOSICIONES EN MATERIA DE RECURSOS HUMANOS","X","X",null,"4 años","8 años","12 años"]
["4C.2","PROGRAMAS Y PROYECTOS EN MATERIA DE RECURSOS HUMANOS","X","X","X","2 años","4 años","6 años"]
["4C.3","EXPEDIENTE ÚNICO DE PERSONAL","X","X",null,"5 años","20 años","25 años"]
["4C.4","REGISTRO Y CONTROL DE PUESTOS Y PLAZAS","X",null,null,"2 años","4 años","6 años"]
["4C.5","NÓMINAS DE PAGO DE PERSONAL","X",null,null,"2 años","4 años","6 años"]
["4C.6","RECLUTAMIENTO Y SELECCIÓN DE PERSONAL","X",null,null,"2 años","4 años","6 años"]
["4C.8","CONTROL DE ASISTENCIA (VACACIONES, DESCANSOS Y LICENCIAS, INCAPACIDADES, ETC.)","X",null,null,"2 años","4 años","6 años"]
["4C.10","DESCUENTOS","X",null,"X","2 años","4 años","6 años"]
["4C.11","ESTÍMULOS Y RECOMPENSAS","X",null,null,"2 años","4 años","6 años"]
["4C.14","EVALUACIÓN DEL DESEMPEÑO DE SERVIDORES DE MANDO","X",null,null,"2 años","4 años","6 años"]
["4C.15","AFILIACIONES AL INSTITUTO DE SEGURIDAD Y SERVICIOS SOCIALES DE LOS TRABAJADORES DEL ESTADO","X",null,null,"2 años","4 años","6 años"]
["4C.16","CONTROL DE PRESTACIONES EN MATERIA ECONÓMICA (FONAC, SISTEMA AHORRO PARA EL RETIRO, SEGUROS, ETC)","X",null,null,"2 años","4 años","6 años"]
["4C.20","RELACIONES LABORALES (COMISIONES MIXTAS, SINDICATO NACIONAL DE TRABAJADORES AL SERVICIO DEL ESTADO, CONDICIONES LABORALES)","X",null,null,"2 años","4 años","6 años"]
["4C.22","CAPACITACIÓN CONTINUA Y DESARROLLO PROFESIONAL DEL PERSONAL DE LAS ÁREAS ADMINISTRATIVAS","X","X",null,"2 años","4 años","6 años"]
["4C.23","SERVICIO SOCIAL DE ÁREAS ADMINISTRATIVAS","X",null,null,"2 años","4 años","6 años"]
["4C.27","COORDINACIÓN LABORAL CON ORGANISMOS DESCENTRALIZADOS Y PARAESTATALES","X",null,null,"2 años","4 años","6 años"]
["5C.1","DISPOSICIONES EN MATERIA DE RECURSOS FINANCIEROS Y CONTABILIDAD GUBERNAMENTAL","X","X",null,"4 años","8 años","12 años"]
["5C.2","PROGRAMAS Y PROYECTOS EN MATERIA DE RECURSOS FINANCIEROS Y CONTABILIDAD GUBERNAMENTAL","X",null,null,"2 años","4 años","6 años"]
["5C.3","GASTOS O EGRESOS POR PARTIDA PRESUPUESTAL","X",null,"X","2 años","4 años","6 años"]
["5C.4","INGRESOS","X",null,"X","2 años","4 años","6 años"]
["5C.5","LIBROS CONTABLES","X",null,"X","6 años","6 años","12 años"]
["5C.6","REGISTROS CONTABLES (GLOSA)","X",null,"X","6 años","6 años","12 años"]
["5C.7","VALORES FINANCIEROS","X",null,"X","6 años","6 años","12 años"]
["5C.8","APORTACIONES A CAPITAL","X",null,"X","6 años","6 años","12 años"]
["5C.9","EMPRÉSTITOS","X",null,"X","6 años","6 años","12 años"]
["5C.10","FINANCIAMIENTO EXTERNO","X",null,"X","6 años","6 años","12 años"]
["5C.11","ESQUEMAS DE FINANCIAMIENTO","X",null,"X","6 años","6 años","12 años"]
["5C.12","ASIGNACIÓN Y OPTIMIZACIÓN DE RECURSOS FINANCIEROS","X",null,"X","2 años","4 años","6 años"]
["5C.13","CRÉDITOS CONCEDIDOS","X",null,"X","2 años","4 años","6 años"]
["5C.14","CUENTAS POR LIQUIDAR CERTIFICADAS","X",null,"X","2 años","4 años","6 años"]
["5C.15","TRANSFERENCIAS DE PRESUPUESTO","X",null,"X","2 años","4 años","6 años"]
["5C.16","AMPLIACIONES DEL PRESUPUESTO","X",null,"X","2 años","4 años","6 años"]
["5C.17","REGISTRO Y CONTROL DE PÓLIZA DE EGRESOS","X",null,"X","2 años","4 años","6 años"]
["5C.18","REGISTRO Y CONTROL DE PÓLIZA DE INGRESOS","X",null,"X","2 años","4 años","6 años"]
["5C.19","PÓLIZAS DE DIARIO","X",null,"X","2 años","4 años","6 años"]
["5C.20","COMPRAS DIRECTAS","X",null,"X","2 años","4 años","6 años"]
["5C.21","GARANTÍAS, FIANZAS Y DEPÓSITOS","X",null,"X","2 años","4 años","6 años"]
["5C.22","CONTROL DE CHEQUES","X",null,"X","2 años","4 años","6 años"]
["5C.23","CONCILIACIONES","X",null,"X","2 años","4 años","6 años"]
["5C.24","ESTADOS FINANCIEROS","X",null,"X","2 años","4 años","6 años"]
["5C.25","AUXILIARES DE CUENTAS","X",null,"X","2 años","4 años","6 años"]
["5C.26","ESTADO DEL EJERCICIO DEL PRESUPUESTO","X",null,"X","2 años","4 años","6 años"]
["5C.27","FONDO ROTATORIO","X",null,"X","2 años","4 años","6 años"]
["5C.28","PAGO DE DERECHOS","X",null,"X","2 años","4 años","6 años"]
["6C.1","DISPOSICIONES EN MATERIA DE RECURSOS MATERIALES, OBRA PÚBLICA, CONSERVACIÓN Y MANTENIMIENTO","X","X",null,"4 años","8 años","12 años"]
["6C.2","PROGRAMAS Y PROYECTOS EN MATERIA DE RECURSOS MATERIALES, OBRA PÚBLICA, CONSERVACIÓN Y MANTENIMIENTO","X",null,null,"2 años","4 años","6 años"]
["6C.3","LICITACIONES","X",null,null,"2 años","4 años","6 años"]
["6C.4","ADQUISICIONES","X","X",null,"2 años","4 años","6 años"]
["6C.5","SANCIONES, INCONFORMIDADES Y CONCILIACIONES DERIVADOS DE CONTRATOS","X","X","X","2 años","4 años","6 años"]
["6C.6","CONTROL DE CONTRATOS","X","X",null,"2 años","4 años","6 años"]
["6C.7","SEGUROS Y FIANZAS","X","X","X","4 años","8 años","12 años"]
["6C.8","SUSPENSIÓN, RESCISIÓN, TERMINACIÓN DE OBRA PÚBLICA","X","X",null,"4 años","8 años","12 años"]
["6C.9","BITÁCORAS DE OBRA PÚBLICA","X",null,null,"8 años","3 años","11 años"]
["6C.10","CALIDAD EN MATERIA DE OBRAS, CONSERVACIÓN Y EQUIPAMIENTO","X",null,null,"2 años","4 años","6 años"]
["6C.11","PRECIOS UNITARIOS EN OBRA PÚBLICA Y SERVICIOS","X",null,null,"2 años","4 años","6 años"]
["6C.12","ASESORÍA TÉCNICA EN MATERIA DE OBRA PÚBLICA","X",null,null,"2 años","4 años","6 años"]
["6C.13","CONSERVACIÓN Y MANTENIMIENTO DE LA INFRAESTRUCTURA FÍSICA","X",null,null,"2 años","4 años","6 años"]
["6C.14","REGISTRO DE PROVEEDORES Y CONTRATISTAS","X",null,null,"2 años","4 años","6 años"]
["6C.15","ARRENDAMIENTOS","X",null,null,"2 años","4 años","6 años"]
["6C.16","DISPOSICIONES DE ACTIVO FIJO","X","X",null,"4 años","8 años","12 años"]
["6C.17","INVENTARIO FÍSICO Y CONTROL DE BIENES MUEBLES","X",null,null,"3 años","4 años","7 años"]
["6C.18","INVENTARIO FÍSICO YCONTROL DE BIENES INMUEBLES","X",null,null,"3 años","4 años","7 años"]
["6C.19","ALMACENAMIENTO, CONTROL Y DISTRIBUCIÓN DE BIENES MUEBLES","X",null,null,"2 años","4 años","6 años"]
["6C.20","DISPOSICIONES Y SISTEMAS DE ABASTECIMIENTO Y ALMACENES","X","X",null,"4 años","8 años","12 años"]
["6C.21","CONTROL DE CALIDAD DE BIENES E INSUMOS","X",null,null,"2 años","4 años","6 años"]
["6C.22","CONTROL Y SEGUIMIENTO DE OBRAS Y REMODELACIONES","X",null,null,"2 años","4 años","6 años"]
["6C.23","COMITÉS Y SUBCOMITÉS DE ADQUISICIÓNES, ARRENDAMIENTOS Y SERVICIOS","X",null,null,"4 años","8 años","12 años"]
["6C.24","COMITÉ DE ENAJENACIÓN DE BIENES MUEBLES E INMUEBLES","X",null,null,"4 años","8 años","12 años"]
["6C.25","COMITÉ DE OBRA PÚBLICA","X",null,null,"4 años","8 años","12 años"]
["6C.26","COMISIONES CONSULTIVA MIXTAS DE ABASTECIMIENTO","X",null,null,"4 años","8 años","12 años"]
["7C.1","DISPOSICIONES EN MATERIA DE SERVICIOS GENERALES","X","X",null,"4 años","8 años","12 años"]
["7C.2","PROGRAMAS Y PROYECTOS EN MATERIA DE SERVICIOS GENERALES","X",null,null,"2 años","4 años","6 años"]
["7C.3","SERVICIOS BÁSICOS (ENERGÍA ELECTRÍCA, AGUA, PREDIAL, ETC)","X",null,null,"2 años","4 años","6 años"]
["7C.4","SERVICIOS DE EMBALAJE, FLETES Y MANIOBRAS.","X",null,null,"2 años","4 años","6 años"]
["7C.5","SERVICIOS DE SEGURIDAD Y VIGILANCIA","X",null,null,"2 años","4 años","6 años"]
["7C.6","SERVICIOS DE LAVANDERÍA, LIMPIEZA, HIGIENE Y FUMIGACIÓN","X",null,null,"2 años","4 años","6 años"]
["7C.7","SERVICIOS DE TRANSPORTACIÓN","X",null,null,"2 años","4 años","6 años"]
["7C.8","SERVICIOS DE TELEFONÍA, TELEFONÍA CELULAR Y RADIOLOCALIZACIÓN","X",null,null,"2 años","4 años","6 años"]
["7C.9","SERVICIO POSTAL","X",null,null,"2 años","4 años","6 años"]
["7C.10","SERVICIOS ESPECIALIZADOS DE MENSAJERÍA","X",null,null,"2 años","4 años","6 años"]
["7C.11","MANTENIMIENTO, CONSERVACIÓN E INSTALACIÓN DE MOBILIARIO","X",null,null,"2 años","4 años","6 años"]
["7C.12","MANTENIMIENTO, CONSERVACIÓN E INSTALACIÓN DE EQUIPO DE CÓMPUTO","X",null,null,"2 años","4 años","6 años"]
["7C.13","CONTROL DEL PARQUE VEHÍCULAR","X",null,null,"2 años","4 años","6 años"]
["7C.14","CONTROL DE COMBUSTIBLE","X",null,null,"2 años","4 años","6 años"]
["7C.15","CONTROL Y SERVICIOS EN AUDITORIOS Y SALAS","X",null,null,"2 años","4 años","6 años"]
["7C.16","PROTECCIÓN CIVIL","X",null,null,"2 años","4 años","6 años"]
["8C.1","DISPOSICIONES EN MATERIA DE TELECOMUNICACIONES","X","X",null,"4 años","8 años","12 años"]
["8C.2","PROGRAMAS Y PROYECTOS EN MATERIA DE TELECOMUNICACIONES","X",null,null,"2 años","4 años","6 años"]
["8C.3","NORMATIVIDAD TECNOLÓGICA","X",null,null,"2 años","4 años","6 años"]
["8C.4","DESARROLLO E INFRAESTRUCTURA DE TELECOMUNICACIONES","X",null,null,"2 años","4 años","6 años"]
["8C.5","DESARROLLO E INFRAESTRUCTURA DEL PORTAL DE INTERNET DE LA DEPENDENCIA","X",null,null,"2 años","4 años","6 años"]
["8C.6","DESARROLLO DE REDES DE COMUNICACIÓN DE DATOS Y VOZ","X",null,null,"2 años","4 años","6 años"]
["8C.7","DISPOSICIONES EN MATERIA DE INFORMÁTICA","X","X",null,"4 años","8 años","12 años"]
["8C.8","PROGRAMAS Y PROYECTO EN MATERIA DE INFORMÁTICA","X",null,null,"2 años","4 años","6 años"]
["8C.9","DESARROLLO INFORMÁTICO","X",null,null,"2 años","4 años","6 años"]
["8C.10","SEGURIDAD INFORMÁTICA","X",null,null,"2 años","4 años","6 años"]
["8C.11","DESARROLLO DE SISTEMAS","X",null,null,"2 años","4 años","6 años"]
["8C.12","AUTOMATIZACIÓN DE PROCESOS","X",null,null,"2 años","4 años","6 años"]
["8C.13","CONTROL Y DESARROLLO DEL PARQUE INFORMÁTICO","X",null,null,"2 años","4 años","6 años"]
["8C.14","DISPOSICIONES EN MATERIA DE SERVICIOS DE INFORMACIÓN","X","X",null,"4 años","8 años","12 años"]
["8C.15","PROGRAMAS Y PROYECTOS EN MATERIA DE SERVICIOS DE INFORMACIÓN","X",null,null,"2 años","4 años","6 años"]
["8C.16","ADMINISTRACIÓN Y SERVICIOS DE ARCHIVO","X",null,null,"3 años","4 años","7 años"]
["8C.17","ADMINISTRACIÓN Y SERVICIOS DE CORRESPONDENCIA","X",null,null,"2 años","4 años","6 años"]
["8C.18","ADMINISTRACIÓN Y SERVICIOS DE BIBLIOTECAS","X",null,null,"2 años","4 años","6 años"]
["8C.19","ADMINISTRACIÓN Y SERVICIOS DE OTROS CENTROS DOCUMENTALES","X",null,null,"2 años","4 años","6 años"]
["8C.20","ADMINISTRACIÓN Y PRESERVACIÓN DE ACERVOS DIGITALES","X",null,null,"2 años","4 años","6 años"]
["8C.21","INSTRUMENTOS DE CONSULTA","X",null,null,"2 años","4 años","6 años"]
["8C.22","PROCESOS TÉCNICOS EN LOS SERVICIOS DE INFORMACIÓN","X",null,null,"2 años","4 años","6 años"]
["8C.23","ACCESO Y RESERVAS EN SERVICIO DE INFORMACIÓN","X",null,null,"2 años","4 años","6 años"]
["8C.24","PRODUCTOS PARA LA DIVULGACIÓN DE SERVICIOS","X",null,null,"2 años","4 años","6 años"]
["8C.25","SERVICIOS Y PRODUCTOS EN INTERNET E INTRANET","X",null,null,"2 años","4 años","6 años"]
["9C.1","DISPOSICIONES EN MATERIA DE COMUNICACIÓN SOCIAL","X","X",null,"4 años","8 años","12 años"]
["9C.2","PROGRAMAS Y PROYECTOS EN MATERIA DE COMUNICACIÓN SOCIAL","X",null,null,"2 años","4 años","6 años"]
["9C.3","PUBLICACIONES E IMPRESOS INSTITUCIONALES","X",null,null,"2 años","1 año","3 años"]
["9C.4","MATERIAL MULTIMEDIA","X",null,null,"2 años","1 año","3 años"]
["9C.5","PUBLICIDAD INSTITUCIONAL","X",null,null,"2 años","1 año","3 años"]
["9C.6","BOLETINES Y ENTREVISTAS PARA MEDIOS","X",null,null,"2 años","1 año","3 años"]
["9C.7","BOLETINES INFORMATIVOS PARA MEDIOS","X",null,null,"2 años","1 año","3 años"]
["9C.8","INSERCIONES Y ANUNCIOS EN PERIÓDICOS Y REVISTAS","X",null,null,"2 años","1 año","3 años"]
["9C.9","AGENCIAS PERIODÍSTICAS, DE NOTICIAS, REPORTEROS, ARTICULISTAS, CADENAS TELEVISIVAS Y OTROS MEDIOS DE COMUNICACIÓN SOCIAL","X",null,null,"2 años","1 año","3 años"]
["9C.10","NOTAS PARA MEDIOS","X",null,null,"2 años","1 año","3 años"]
["9C.11","PRENSA INSTITUCIONAL","X",null,null,"2 años","1 año","3 años"]
["9C.12","DISPOSICIONES EN MATERIA DE RELACIONES PÚBLICAS","X","X",null,"4 años","8 años","12 años"]
["9C.13","COMPARECENCIA ANTE EL PODER LEGISLATIVO","X",null,null,"2 años","1 año","3 años"]
["9C.14","ACTOS Y EVENTOS OFICIALES","X",null,null,"2 años","1 año","3 años"]
["9C.15","REGISTRO DE AUDIENCIAS PÚBLICAS","X",null,null,"2 años","1 año","3 años"]
["9C.16","INVITACIONES Y FELICITACIONES","X",null,null,"2 años","1 año","3 años"]
["9C.18","ENCUESTAS DE OPINIÓN","X",null,null,"2 años","1 año","3 años"]
["10C.1","DISPOSICIONES EN MATERIA DE CONTROL Y AUDITORÍA","X","X",null,"4 años","8 años","12 años"]
["10C.2","PROGRAMAS Y PROYECTOS EN MATERIA DE CONTROL Y AUDITORÍA","X",null,null,"2 años","4 años","6 años"]
["10C.3","AUDITORÍA","X",null,null,"2 años","4 años","6 años"]
["10C.4","VISITADURÍAS","X",null,null,"2 años","4 años","6 años"]
["10C.5","REVISIONES DE RUBROS ESPECÍÍFICOS","X",null,null,"2 años","4 años","6 años"]
["10C.6","SEGUIMIENTO A LA APLICACIÓN EN MEDIDAS O RECOMENDACIONES","X",null,null,"2 años","4 años","6 años"]
["10C.7","PARTICIPANTES EN COMITÉS","X",null,null,"2 años","1 año","3 años"]
["10C.8","REQUERIMIENTOS DE INFORMACIÓN A DEPENDENCIAS Y ENTIDADES","X",null,null,"2 años","4 años","6 años"]
["10C.9","QUEJAS Y DENUNCIAS DE ACTIVIDADES PÚBLICAS","X",null,null,"2 años","4 años","6 años"]
["10C.10","PETICIONES, SUGERENCIAS Y RECOMENDACIONES","X",null,null,"2 años","1 año","3 años"]
["10C.11","RESPONSABILIDADES","X","X",null,"4 años","8 años","12 años"]
["10C.12","INCONFORMIDADES","X","X",null,"4 años","8 años","12 años"]
["10C.13","INHABILITACIONES","X","X",null,"4 años","8 años","12 años"]
["10C.14","DECLARACIONES PATRIMONIALES","X",null,null,"5 años","1 año","6 años"]
["10C.15","ENTREGA - RECEPCIÓN","X","X",null,"2 años","4 años","6 años"]
["10C.16","LIBROS BLANCOS","X",null,null,"6 años"," 6 años","12 años"]
["11C.1","DISPOSICIONES EN MATERIA DE PLANEACIÓN","X","X",null,"4 años","8 años","12 años"]
["11C.2","DISPOSICIONES EN MATERIA DE INFORMACIÓN Y EVALUACIÓN","X","X",null,"4 años","8 años","12 años"]
["11C.3","DISPOSICIONES EN MATERIA DE POLÍTICAS","X","X",null,"4 años","8 años","12 años"]
["11C.4","PROGRAMAS Y PROYECTOS EN MATERIA DE INFORMACIÓN Y EVALUACIÓN","X",null,null,"2 años","4 años","6 años"]
["11C.5","PROGRAMAS Y PROYECTOS EN MATERIA DE POLÍTICAS","X",null,null,"2 años","4 años","6 años"]
["11C.6","PLANES NACIONALES","X",null,null,"2 años","4 años","6 años"]
["11C.7","PROGRAMAS A MEDIANO PLAZO","X",null,null,"2 años","4 años","6 años"]
["11C.8","PROGRAMAS DE ACCIÓN","X",null,null,"2 años","4 años","6 años"]
["11C.9","SISTEMAS DE INFORMACIÓN ESTADÍSTICA DE LA DEPENDENCIA","X",null,null,"4 años","2 años","6 años"]
["11C.10","SISTEMA NACIONAL DE INFORMACIÓN ESTADÍSTICA","X",null,null,"4 años","2 años","6 años"]
["11C.11","NORMAS DE ELABORACIÓN Y ACTUALIZACIÓN DE LA INFORMACIÓN ESTADÍSTICA","X",null,null,"2 años","4 años","6 años"]
["11C.12","CAPTACIÓN, PRODUCCIÓN Y DIFUSIÓN DE LA INFORMACIÓN ESTADÍSTICA","X",null,null,"4 años","2 años","6 años"]
["11C.13","DESARROLLO DE ENCUESTAS","X",null,null,"2 años","1 año","3 años"]
["11C.14","GRUPO INTERINSTITUCIONAL DE INFORMACIÓN ( COMITÉS)","X",null,null,"4 años","8 años","12 años"]
["11C.15","EVALUACIÓN DE PROGRAMAS DE ACCIÓN","X",null,null,"2 años","4 años","6 años"]
["11C.16","INFORME DE LABORES","X",null,null,"2 años","4 años","6 años"]
["11C.17","INFORME DE EJECUCIÓN","X",null,null,"2 años","4 años","6 años"]
["11C.18","INFORME DE GOBIERNO","X",null,null,"2 años","4 años","6 años"]
["11C.19","INDICADORES","X",null,null,"2 años","4 años","6 años"]
["11C.20","INDICADORES DE DESEMPEÑO, CALIDAD Y PRODUCTIVIDAD","X",null,null,"2 años","4 años","6 años"]
["11C.21","NORMAS PARA LA EVALUACIÓN","X",null,null,"2 años","1 año","3 años"]
["11C.22","MODELOS DE ORGANIZACIÓN","X",null,null,"2 años","4 años","6 años"]
["12C.1","DISPOSICIONES EN MATERIA DE ACCESO A LA INFORMACIÓN","X","X",null,"4 años","8 años","12 años"]
["12C.2","PROGRAMAS Y PROYECTOS EN MATERIA DE ACCESO A LA INFORMACIÓN","X",null,null,"2 años","4 años","6 años"]
["12C.3","PROGRAMAS Y PROYECTOS EN MATERIA DE TRANSPARENCIA Y COMBATE A LA CORRUPCIÓN","X",null,null,"2 años","4 años","6 años"]
["12C.5","COMITÉ DE INFORMACIÓN","X","X",null,"4 años","8 años","12 años"]
["12C.6","SOLICITUDES DE ACCESO A LA INFORMACIÓN","X",null,null,"2 años","4 años","6 años"]
["12C.7","PORTAL DE TRANSPARENCIA","X",null,null,"2 años","4 años","6 años"]
["12C.8","CLASIFICACION DE INFORMACIÓN RESERVADA","X",null,null,"2 años","4 años","6 años"]
["12C.9","CLASIFICACIÓN DE INFORMACIÓN CONFIDENCIAL","X",null,null,"2 años","4 años","6 años"]
["12C.10","SISTEMA DE DATOS PERSONALES","X",null,null,"2 años","4 años","6 años"]
["12C.11","INSTITUTO FEDERAL DE ACCESO A LA INFORMACIÓN","X",null,null,"6 años","6 años","12 años"]
["1S.1","JUNTA DE GOBIERNO","X",null,null,"2 años","4 años","6 años"]
["1S.2","CONSEJO TÉCNICO DE ADMINISTRACIÓN Y PROGRAMACIÓN","X",null,null,"1 año","2 años","3 años"]
["2S.1","FOMENTO Y DESARROLLO DE LA INVESTIGACIÓN ","X",null,null,"2 años","4 años","6 años"]
["2S.2","ÓRGANOS COLEGIADOS EN MATERIA DE INVESTIGACIÓN","X","X",null,"4 años","8 años","12 años"]
["2S.3","INVESTIGACIÓN CIENTÍFICA Y DESARROLLO CIENTÍFICO","X","X",null,"4 años","8 años","12 años"]
["2S.4","ASESORÍA EN EL DESARROLLO DE PROYECTOS DE INVESTIGACIÓN","X",null,null,"6 años","6 años","12 años"]
["2S.5","ORGANIZACIÓN DE EVENTOS CIENTÍFICOS Y ACADÉMICOS DE INVESTIGACIÓN","X",null,null,"2 años","4 años","6 años"]
["2S.6","INTERCAMBIOS ACADÉMICOS Y CIENTÍFICOS","X",null,null,"2 años","4 años","6 años"]
["3S.1","SISTEMA DE ADMINISTRACIÓN EN LA ENSEÑANZA","X",null,null,"2 años","2 años","4 años"]
["3S.2","ADMISIÓN DE ASPIRANTES","X",null,null,"2 años","1 año","3 años"]
["3S.2.1","ESPECIALIDAD DE ENTRADA DIRECTA E INDIRECTA","X",null,null,"2 años","1 año","3 años"]
["3S.2.2","POSGRADO DE ALTA ESPECIALIDAD EN MEDICINA","X",null,null,"2 años","1 año","3 años"]
["3S.3","ASPIRANTES MÉDICOS REGISTRADOS","X",null,"X","4 años","2 años","6 años"]
["3S.4","EXPEDIENTES ACADÉMICOS DEL ALUMNADO","X",null,"X","5 años","4 años","9 años"]
["3S.5","ENSEÑANZA EN PREGRADO Y POSGRADO","X",null,null,"5 años","4 años","9 años"]
["3S.5.1","EN PREGRADO","X",null,null,"5 años","4 años","9 años"]
["3S.5.2","EN POSGRADO DE ESPECIALIDADES DE ENTRADA DIRECTA","X",null,null,"5 años","4 años","9 años"]
["3S.6","GRADOS ACADÉMICOS","X",null,null,"4 años","2 años","6 años"]
["3S.7","EDUCACIÓN MEDICA CONTINUA","X",null,null,"4 años","2 años","6 años"]
["3S.8","PRÁCTICAS PROFESIONALES Y SERVICIO SOCIAL DE PROFESIONALES DE LA SALUD","X",null,null,"2 años","1 año","3 años"]
["3S.9","ESPECIALIDADES RECONOCIDAS POR EL CONSEJO NACIONAL DE HUMANIDADES, CIENCIAS Y TECNOLOGÍAS (CONAHCYT)","X","X",null,"4 años","2 años","6 años"]
["3S.10","APOYOS ECONÓMICOS EN MATERIA DE ENSEÑANZA","X",null,"X","6 años","4 años","10 años"]
["4S.1","URGENCIAS MÉDICAS","X",null,null,"2 años","4 años","6 años"]
["4S.2","CASOS DE MALTRATO INFANTIL MÉDICO-LEGAL","X","X",null,"2 años","4 años","6 años"]
["4S.3","ÓRGANOS COLEGIADOS EN MATERIA DE ATENCIÓN MÉDICA HOSPITALARIA","X",null,null,"4 años","8 años","12 años"]
["4S.4","CONSULTA EXTERNA Y ESPECIALIDADES","X",null,null,"2 años","4 años","6 años"]
["4S.5","ARCHIVO CLÍNICO","X",null,null,"2 años","4 años","6 años"]
["4S.6","AUXILIARES DE DIAGNÓSTICO Y TRATAMIENTO","X",null,null,"2 años","4 años","6 años"]
["4S.7","CIRUGÍA","X",null,null,"2 años","4 años","6 años"]
["4S.8","VIGILANCIA EPIDEMIOLÓGICA","X",null,null,"2 años","4 años","6 años"]
["4S.8.1","VIGILANCIA EPIDEMIOLÓGICA HOSPITALARIA DE INFECCIONES ASOCIADAS A LA ATENCIÓN DE LA SALUD","X",null,null,"5 años","5 años","10 años"]
["4S.9","TRANSFUSIÓN SANGUÍNEA (BANCO DE SANGRE)","X",null,null,"5 años","5 años","10 años"]
["4S.10","FARMACOVIGILANCIA","X",null,null,"2 años","4 años","6 años"]
["4S.11","TECNOVIGILANCIA","X",null,null,"2 años","4 años","6 años"]

{"sheet":"HOJA_CAPTURA","index":2,"n_rows":405,"n_cols":47,"rows_kept":405,"cut":false,"hidden":false,"merged":[[0,45,1,45],[0,5,1,5],[0,4,1,4],[0,38,1,38],[0,39,1,39],[0,22,0,24],[0,34,0,36],[0,31,0,33],[0,37,1,37],[0,2,1,2],[0,6,1,6],[0,7,1,7],[0,8,1,8],[0,11,1,11],[0,3,1,3],[0,46,1,46],[0,0,1,0],[0,9,1,9],[0,10,1,10],[0,25,0,30],[0,19,1,19],[0,20,1,20],[0,21,1,21],[0,12,1,12],[0,13,1,13],[0,14,1,14],[0,16,0,17],[0,18,1,18],[0,15,1,15],[0,1,1,1],[0,40,0,44]]}
["NOMBRE DE LA DEPENDENCIA O ENTIDAD","FONDO","UNIDAD ADMINISTRATIVA/ÁREA PRODUCTORA","TITULAR DE LA UNIDAD ADMINISTRATIVA","TITULAR DEL ÁREA PRODUCTORA","RESPONSABLE DE ARCHIVO DE TRÁMITE (RAT)","SECCION","SERIE","SUBSERIE","NÚMERO CONSECUTIVO  ","NÚMERO DE CAJA","NÚMERO DE TRANSFERENCIA","NÚMERO DE EXPEDIENTE","CLASIFICACIÓN ARCHIVÍSTICA","TÍTULO DEL EXPEDIENTE","ASUNTO O DESCRIPCIÓN","FECHAS EXTREMAS",null,"NO. DE LEGAJO","NO. DE FOJAS","NO. TOTAL DE LEGAJOS","NO. TOTAL DE FOJAS","TIPO DE ARCHIVO",null,null,"DISPOSICIÓN DOCUMENTAL",null,null,null,null,null,"VALOR DOCUMENTAL",null,null,"VIGENCIA DOCUMENTAL",null,null,"CONDICIONES DE ACCESO (INFORMACIÓN PÚBLICA, RESERVADA O CONFIDENCIAL)","PERIODO DE RESERVA","FUNDAMENTO LEGAL","SOPORTE (FORMATO)",null,null,null,null,"UBICACIÓN TOPOGRÁFICA","TRADICIÓN DOCUMENTAL (Documentación en original/Documentación en copia)"]
[null,null,null,null,null,null,null,null,null,null,null,null,null,null,null,null,"APERTURA","CIERRE",null,null,null,null,"TRÁMITE","CONCENTRACIÓN","HISTÓRICO","CLAVE \nSECCION","NOMBRE \nSECCIÓN","CLAVE\nSERIE","NOMBRE \nSERIE","CLAVE\nSUBSERIE","NOMBRE \nSUBSERIE","ADMVO","LEGAL","FISCAL/CONTABLE","ARCHIVO DE TRÁMITE","ARCHIVO DE CONCENTRACIÓN","TOTAL",null,null,null,"Papel","Medio Magnético","CD","USB","OTROS"]
["Instituto Nacional de Pediatría","Fondo: INP",null,null,null,null,null,null,null,null,null,null,null,null,null,null,null,null,null,null,null,null,null,"X",null,{"$f":"IF(G3>0, MID(G3,1,FIND(\" \",G3,1)-1), \" \")","v":" "},{"$f":"MID(G3,LEN(Z3)+2, 80)","v":""},{"$f":"IF(H3>0, MID(H3,1,FIND(\" \",H3,1)-1), \" \")","v":" "},{"$f":"MID(H3,LEN(AB3)+2, 80)","v":""},{"$f":"IF(I3>0,MID(I3,1,FIND(\" \",H3,1)+1),\" \")","v":" "},{"$f":"IF(LEFT(I3,6)=\"N/A\", \"N/A\", IFERROR(RIGHT(I3, LEN(I3) - FIND(\" \", I3)), \"\"))","v":""},{"$f":"IFERROR(INDEX(Base!$A$2:$H$284,MATCH(HOJA_CAPTURA!AB3,Base!$A$2:$A$284,0),3),)","v":0},{"$f":"IFERROR(INDEX(Base!$A$2:$H$284,MATCH(HOJA_CAPTURA!AB3,Base!$A$2:$A$284,0),4),)","v":0},{"$f":"IFERROR(INDEX(Base!$A$2:$H$284,MATCH(HOJA_CAPTURA!AB3,Base!$A$2:$A$284,0),5),)","v":0},{"$f":"IFERROR(INDEX(Base!$A$2:$H$284,MATCH(HOJA_CAPTURA!AB3,Base!$A$2:$A$284,0),6),)","v":0},{"$f":"IFERROR(INDEX(Base!$A$2:$H$284,MATCH(HOJA_CAPTURA!AB3,Base!$A$2:$A$284,0),7),)","v":0},{"$f":"IFERROR(INDEX(Base!$A$2:$H$284,MATCH(HOJA_CAPTURA!AB3,Base!$A$2:$A$284,0),8),)","v":0}]
["Instituto Nacional de Pediatría","Fondo: INP",null,null,null,null,null,null,null,null,null,null,null,null,null,null,null,null,null,null,null,null,null,null,null,{"$f":"IF(G4>0, MID(G4,1,FIND(\" \",G4,1)-1), \" \")","v":" "},{"$f":"MID(G4,LEN(Z4)+2, 80)","v":""},{"$f":"IF(H4>0, MID(H4,1,FIND(\" \",H4,1)-1), \" \")","v":" "},{"$f":"MID(H4,LEN(AB4)+2, 80)","v":""},{"$f":"IF(I4>0,MID(I4,1,FIND(\" \",H4,1)+1),\" \")","v":" "},{"$f":"IF(LEFT(I4,6)=\"N/A\", \"N/A\", IFERROR(RIGHT(I4, LEN(I4) - FIND(\" \", I4)), \"\"))","v":""},{"$f":"IFERROR(INDEX(Base!$A$2:$H$284,MATCH(HOJA_CAPTURA!AB4,Base!$A$2:$A$284,0),3),)","v":0},{"$f":"IFERROR(INDEX(Base!$A$2:$H$284,MATCH(HOJA_CAPTURA!AB4,Base!$A$2:$A$284,0),4),)","v":0},{"$f":"IFERROR(INDEX(Base!$A$2:$H$284,MATCH(HOJA_CAPTURA!AB4,Base!$A$2:$A$284,0),5),)","v":0},{"$f":"IFERROR(INDEX(Base!$A$2:$H$284,MATCH(HOJA_CAPTURA!AB4,Base!$A$2:$A$284,0),6),)","v":0},{"$f":"IFERROR(INDEX(Base!$A$2:$H$284,MATCH(HOJA_CAPTURA!AB4,Base!$A$2:$A$284,0),7),)","v":0},{"$f":"IFERROR(INDEX(Base!$A$2:$H$284,MATCH(HOJA_CAPTURA!AB4,Base!$A$2:$A$284,0),8),)","v":0}]
["Instituto Nacional de Pediatría","Fondo: INP",null,null,null,null,null,null,null,null,null,null,null,null,null,null,null,null,null,null,null,null,null,null,null,{"$f":"IF(G5>0, MID(G5,1,FIND(\" \",G5,1)-1), \" \")","v":" "},"",{"$f":"IF(H5>0, MID(H5,1,FIND(\" \",H5,1)-1), \" \")","v":" "},"",{"$f":"IF(I5>0,MID(I5,1,FIND(\" \",H5,1)+1),\" \")","v":" "},"",{"$f":"IFERROR(INDEX(Base!$A$2:$H$284,MATCH(HOJA_CAPTURA!AB5,Base!$A$2:$A$284,0),3),)","v":0},{"$f":"IFERROR(INDEX(Base!$A$2:$H$284,MATCH(HOJA_CAPTURA!AB5,Base!$A$2:$A$284,0),4),)","v":0},{"$f":"IFERROR(INDEX(Base!$A$2:$H$284,MATCH(HOJA_CAPTURA!AB5,Base!$A$2:$A$284,0),5),)","v":0},{"$f":"IFERROR(INDEX(Base!$A$2:$H$284,MATCH(HOJA_CAPTURA!AB5,Base!$A$2:$A$284,0),6),)","v":0},{"$f":"IFERROR(INDEX(Base!$A$2:$H$284,MATCH(HOJA_CAPTURA!AB5,Base!$A$2:$A$284,0),7),)","v":0},{"$f":"IFERROR(INDEX(Base!$A$2:$H$284,MATCH(HOJA_CAPTURA!AB5,Base!$A$2:$A$284,0),8),)","v":0}]
["Instituto Nacional de Pediatría","Fondo: INP",null,null,null,null,null,null,null,null,null,null,null,null,null,null,null,null,null,null,null,null,null,null,null,{"$f":"IF(G6>0, MID(G6,1,FIND(\" \",G6,1)-1), \" \")","v":" "},"",{"$f":"IF(H6>0, MID(H6,1,FIND(\" \",H6,1)-1), \" \")","v":" "},"",{"$f":"IF(I6>0,MID(I6,1,FIND(\" \",H6,1)+1),\" \")","v":" "},"",{"$f":"IFERROR(INDEX(Base!$A$2:$H$284,MATCH(HOJA_CAPTURA!AB6,Base!$A$2:$A$284,0),3),)","v":0},{"$f":"IFERROR(INDEX(Base!$A$2:$H$284,MATCH(HOJA_CAPTURA!AB6,Base!$A$2:$A$284,0),4),)","v":0},{"$f":"IFERROR(INDEX(Base!$A$2:$H$284,MATCH(HOJA_CAPTURA!AB6,Base!$A$2:$A$284,0),5),)","v":0},{"$f":"IFERROR(INDEX(Base!$A$2:$H$284,MATCH(HOJA_CAPTURA!AB6,Base!$A$2:$A$284,0),6),)","v":0},{"$f":"IFERROR(INDEX(Base!$A$2:$H$284,MATCH(HOJA_CAPTURA!AB6,Base!$A$2:$A$284,0),7),)","v":0},{"$f":"IFERROR(INDEX(Base!$A$2:$H$284,MATCH(HOJA_CAPTURA!AB6,Base!$A$2:$A$284,0),8),)","v":0}]
["Instituto Nacional de Pediatría","Fondo: INP",null,null,null,null,null,null,null,null,null,null,null,null,null,null,null,null,null,null,null,null,null,null,null,{"$f":"IF(G7>0, MID(G7,1,FIND(\" \",G7,1)-1), \" \")","v":" "},"",{"$f":"IF(H7>0, MID(H7,1,FIND(\" \",H7,1)-1), \" \")","v":" "},{"$f":"MID(H7,LEN(AB7)+2, 80)","v":""}," ","",{"$f":"IFERROR(INDEX(Base!$A$2:$H$284,MATCH(HOJA_CAPTURA!AB7,Base!$A$2:$A$284,0),3),)","v":0},{"$f":"IFERROR(INDEX(Base!$A$2:$H$284,MATCH(HOJA_CAPTURA!AB7,Base!$A$2:$A$284,0),4),)","v":0},{"$f":"IFERROR(INDEX(Base!$A$2:$H$284,MATCH(HOJA_CAPTURA!AB7,Base!$A$2:$A$284,0),5),)","v":0},{"$f":"IFERROR(INDEX(Base!$A$2:$H$284,MATCH(HOJA_CAPTURA!AB7,Base!$A$2:$A$284,0),6),)","v":0},{"$f":"IFERROR(INDEX(Base!$A$2:$H$284,MATCH(HOJA_CAPTURA!AB7,Base!$A$2:$A$284,0),7),)","v":0},{"$f":"IFERROR(INDEX(Base!$A$2:$H$284,MATCH(HOJA_CAPTURA!AB7,Base!$A$2:$A$284,0),8),)","v":0}]
["Instituto Nacional de Pediatría","Fondo: INP",null,null,null,null,null,null,null,null,null,null,null,null,null,null,null,null,null,null,null,null,null,null,null," ",""," ",{"$f":"MID(H8,LEN(AB8)+2, 80)","v":""}," ","",{"$f":"IFERROR(INDEX(Base!$A$2:$H$284,MATCH(HOJA_CAPTURA!AB8,Base!$A$2:$A$284,0),3),)","v":0},{"$f":"IFERROR(INDEX(Base!$A$2:$H$284,MATCH(HOJA_CAPTURA!AB8,Base!$A$2:$A$284,0),4),)","v":0},{"$f":"IFERROR(INDEX(Base!$A$2:$H$284,MATCH(HOJA_CAPTURA!AB8,Base!$A$2:$A$284,0),5),)","v":0},{"$f":"IFERROR(INDEX(Base!$A$2:$H$284,MATCH(HOJA_CAPTURA!AB8,Base!$A$2:$A$284,0),6),)","v":0},{"$f":"IFERROR(INDEX(Base!$A$2:$H$284,MATCH(HOJA_CAPTURA!AB8,Base!$A$2:$A$284,0),7),)","v":0},{"$f":"IFERROR(INDEX(Base!$A$2:$H$284,MATCH(HOJA_CAPTURA!AB8,Base!$A$2:$A$284,0),8),)","v":0}]
["Instituto Nacional de Pediatría","Fondo: INP",null,null,null,null,null,null,null,null,null,null,null,null,null,null,null,null,null,null,null,null,null,null,null," ",""," ",""," ","",{"$f":"IFERROR(INDEX(Base!$A$2:$H$284,MATCH(HOJA_CAPTURA!AB9,Base!$A$2:$A$284,0),3),)","v":0},{"$f":"IFERROR(INDEX(Base!$A$2:$H$284,MATCH(HOJA_CAPTURA!AB9,Base!$A$2:$A$284,0),4),)","v":0},{"$f":"IFERROR(INDEX(Base!$A$2:$H$284,MATCH(HOJA_CAPTURA!AB9,Base!$A$2:$A$284,0),5),)","v":0},{"$f":"IFERROR(INDEX(Base!$A$2:$H$284,MATCH(HOJA_CAPTURA!AB9,Base!$A$2:$A$284,0),6),)","v":0},{"$f":"IFERROR(INDEX(Base!$A$2:$H$284,MATCH(HOJA_CAPTURA!AB9,Base!$A$2:$A$284,0),7),)","v":0},{"$f":"IFERROR(INDEX(Base!$A$2:$H$284,MATCH(HOJA_CAPTURA!AB9,Base!$A$2:$A$284,0),8),)","v":0}]
["Instituto Nacional de Pediatría","Fondo: INP",null,null,null,null,null,null,null,null,null,null,null,null,null,null,null,null,null,null,null,null,null,null,null," ",""," ",""," ","",{"$f":"IFERROR(INDEX(Base!$A$2:$H$284,MATCH(HOJA_CAPTURA!AB10,Base!$A$2:$A$284,0),3),)","v":0},{"$f":"IFERROR(INDEX(Base!$A$2:$H$284,MATCH(HOJA_CAPTURA!AB10,Base!$A$2:$A$284,0),4),)","v":0},{"$f":"IFERROR(INDEX(Base!$A$2:$H$284,MATCH(HOJA_CAPTURA!AB10,Base!$A$2:$A$284,0),5),)","v":0},{"$f":"IFERROR(INDEX(Base!$A$2:$H$284,MATCH(HOJA_CAPTURA!AB10,Base!$A$2:$A$284,0),6),)","v":0},{"$f":"IFERROR(INDEX(Base!$A$2:$H$284,MATCH(HOJA_CAPTURA!AB10,Base!$A$2:$A$284,0),7),)","v":0},{"$f":"IFERROR(INDEX(Base!$A$2:$H$284,MATCH(HOJA_CAPTURA!AB10,Base!$A$2:$A$284,0),8),)","v":0}]
["Instituto Nacional de Pediatría","Fondo: INP",null,null,null,null,null,null,null,null,null,null,null,null,null,null,null,null,null,null,null,null,null,null,null,{"$f":"IF(G11>0, MID(G11,1,FIND(\" \",G11,1)-1), \" \")","v":" "},""," ",""," ","",{"$f":"IFERROR(INDEX(Base!$A$2:$H$284,MATCH(HOJA_CAPTURA!AB11,Base!$A$2:$A$284,0),3),)","v":0},{"$f":"IFERROR(INDEX(Base!$A$2:$H$284,MATCH(HOJA_CAPTURA!AB11,Base!$A$2:$A$284,0),4),)","v":0},{"$f":"IFERROR(INDEX(Base!$A$2:$H$284,MATCH(HOJA_CAPTURA!AB11,Base!$A$2:$A$284,0),5),)","v":0},{"$f":"IFERROR(INDEX(Base!$A$2:$H$284,MATCH(HOJA_CAPTURA!AB11,Base!$A$2:$A$284,0),6),)","v":0},{"$f":"IFERROR(INDEX(Base!$A$2:$H$284,MATCH(HOJA_CAPTURA!AB11,Base!$A$2:$A$284,0),7),)","v":0},{"$f":"IFERROR(INDEX(Base!$A$2:$H$284,MATCH(HOJA_CAPTURA!AB11,Base!$A$2:$A$284,0),8),)","v":0}]
["Instituto Nacional de Pediatría","Fondo: INP",null,null,null,null,null,null,null,null,null,null,null,null,null,null,null,null,null,null,null,null,null,null,null," ",""," ",""," ","",{"$f":"IFERROR(INDEX(Base!$A$2:$H$284,MATCH(HOJA_CAPTURA!AB12,Base!$A$2:$A$284,0),3),)","v":0},{"$f":"IFERROR(INDEX(Base!$A$2:$H$284,MATCH(HOJA_CAPTURA!AB12,Base!$A$2:$A$284,0),4),)","v":0},{"$f":"IFERROR(INDEX(Base!$A$2:$H$284,MATCH(HOJA_CAPTURA!AB12,Base!$A$2:$A$284,0),5),)","v":0},{"$f":"IFERROR(INDEX(Base!$A$2:$H$284,MATCH(HOJA_CAPTURA!AB12,Base!$A$2:$A$284,0),6),)","v":0},{"$f":"IFERROR(INDEX(Base!$A$2:$H$284,MATCH(HOJA_CAPTURA!AB12,Base!$A$2:$A$284,0),7),)","v":0},{"$f":"IFERROR(INDEX(Base!$A$2:$H$284,MATCH(HOJA_CAPTURA!AB12,Base!$A$2:$A$284,0),8),)","v":0}]
["Instituto Nacional de Pediatría","Fondo: INP",null,null,null,null,null,null,null,null,null,null,null,null,null,null,null,null,null,null,null,null,null,null,null," ",""," ",""," ","",{"$f":"IFERROR(INDEX(Base!$A$2:$H$284,MATCH(HOJA_CAPTURA!AB13,Base!$A$2:$A$284,0),3),)","v":0},{"$f":"IFERROR(INDEX(Base!$A$2:$H$284,MATCH(HOJA_CAPTURA!AB13,Base!$A$2:$A$284,0),4),)","v":0},{"$f":"IFERROR(INDEX(Base!$A$2:$H$284,MATCH(HOJA_CAPTURA!AB13,Base!$A$2:$A$284,0),5),)","v":0},{"$f":"IFERROR(INDEX(Base!$A$2:$H$284,MATCH(HOJA_CAPTURA!AB13,Base!$A$2:$A$284,0),6),)","v":0},{"$f":"IFERROR(INDEX(Base!$A$2:$H$284,MATCH(HOJA_CAPTURA!AB13,Base!$A$2:$A$284,0),7),)","v":0},{"$f":"IFERROR(INDEX(Base!$A$2:$H$284,MATCH(HOJA_CAPTURA!AB13,Base!$A$2:$A$284,0),8),)","v":0}]
["Instituto Nacional de Pediatría","Fondo: INP",null,null,null,null,null,null,null,null,null,null,null,null,null,null,null,null,null,null,null,null,null,null,null," ",""," ",""," ","",{"$f":"IFERROR(INDEX(Base!$A$2:$H$284,MATCH(HOJA_CAPTURA!AB14,Base!$A$2:$A$284,0),3),)","v":0},{"$f":"IFERROR(INDEX(Base!$A$2:$H$284,MATCH(HOJA_CAPTURA!AB14,Base!$A$2:$A$284,0),4),)","v":0},{"$f":"IFERROR(INDEX(Base!$A$2:$H$284,MATCH(HOJA_CAPTURA!AB14,Base!$A$2:$A$284,0),5),)","v":0},{"$f":"IFERROR(INDEX(Base!$A$2:$H$284,MATCH(HOJA_CAPTURA!AB14,Base!$A$2:$A$284,0),6),)","v":0},{"$f":"IFERROR(INDEX(Base!$A$2:$H$284,MATCH(HOJA_CAPTURA!AB14,Base!$A$2:$A$284,0),7),)","v":0},{"$f":"IFERROR(INDEX(Base!$A$2:$H$284,MATCH(HOJA_CAPTURA!AB14,Base!$A$2:$A$284,0),8),)","v":0}]
["Instituto Nacional de Pediatría","Fondo: INP",null,null,null,null,null,null,null,null,null,null,null,null,null,null,null,null,null,null,null,null,null,null,null," ",""," ",""," ","",{"$f":"IFERROR(INDEX(Base!$A$2:$H$284,MATCH(HOJA_CAPTURA!AB15,Base!$A$2:$A$284,0),3),)","v":0},{"$f":"IFERROR(INDEX(Base!$A$2:$H$284,MATCH(HOJA_CAPTURA!AB15,Base!$A$2:$A$284,0),4),)","v":0},{"$f":"IFERROR(INDEX(Base!$A$2:$H$284,MATCH(HOJA_CAPTURA!AB15,Base!$A$2:$A$284,0),5),)","v":0},{"$f":"IFERROR(INDEX(Base!$A$2:$H$284,MATCH(HOJA_CAPTURA!AB15,Base!$A$2:$A$284,0),6),)","v":0},{"$f":"IFERROR(INDEX(Base!$A$2:$H$284,MATCH(HOJA_CAPTURA!AB15,Base!$A$2:$A$284,0),7),)","v":0},{"$f":"IFERROR(INDEX(Base!$A$2:$H$284,MATCH(HOJA_CAPTURA!AB15,Base!$A$2:$A$284,0),8),)","v":0}]
["Instituto Nacional de Pediatría","Fondo: INP",null,null,null,null,null,null,null,null,null,null,null,null,null,null,null,null,null,null,null,null,null,null,null," ",""," ",""," ","",{"$f":"IFERROR(INDEX(Base!$A$2:$H$284,MATCH(HOJA_CAPTURA!AB16,Base!$A$2:$A$284,0),3),)","v":0},{"$f":"IFERROR(INDEX(Base!$A$2:$H$284,MATCH(HOJA_CAPTURA!AB16,Base!$A$2:$A$284,0),4),)","v":0},{"$f":"IFERROR(INDEX(Base!$A$2:$H$284,MATCH(HOJA_CAPTURA!AB16,Base!$A$2:$A$284,0),5),)","v":0},{"$f":"IFERROR(INDEX(Base!$A$2:$H$284,MATCH(HOJA_CAPTURA!AB16,Base!$A$2:$A$284,0),6),)","v":0},{"$f":"IFERROR(INDEX(Base!$A$2:$H$284,MATCH(HOJA_CAPTURA!AB16,Base!$A$2:$A$284,0),7),)","v":0},{"$f":"IFERROR(INDEX(Base!$A$2:$H$284,MATCH(HOJA_CAPTURA!AB16,Base!$A$2:$A$284,0),8),)","v":0}]
["Instituto Nacional de Pediatría","Fondo: INP",null,null,null,null,null,null,null,null,null,null,null,null,null,null,null,null,null,null,null,null,null,null,null," ",""," ",""," ","",{"$f":"IFERROR(INDEX(Base!$A$2:$H$284,MATCH(HOJA_CAPTURA!AB17,Base!$A$2:$A$284,0),3),)","v":0},{"$f":"IFERROR(INDEX(Base!$A$2:$H$284,MATCH(HOJA_CAPTURA!AB17,Base!$A$2:$A$284,0),4),)","v":0},{"$f":"IFERROR(INDEX(Base!$A$2:$H$284,MATCH(HOJA_CAPTURA!AB17,Base!$A$2:$A$284,0),5),)","v":0},{"$f":"IFERROR(INDEX(Base!$A$2:$H$284,MATCH(HOJA_CAPTURA!AB17,Base!$A$2:$A$284,0),6),)","v":0},{"$f":"IFERROR(INDEX(Base!$A$2:$H$284,MATCH(HOJA_CAPTURA!AB17,Base!$A$2:$A$284,0),7),)","v":0},{"$f":"IFERROR(INDEX(Base!$A$2:$H$284,MATCH(HOJA_CAPTURA!AB17,Base!$A$2:$A$284,0),8),)","v":0}]
["Instituto Nacional de Pediatría","Fondo: INP",null,null,null,null,null,null,null,null,null,null,null,null,null,null,null,null,null,null,null,null,null,null,null," ",""," ",""," ","",{"$f":"IFERROR(INDEX(Base!$A$2:$H$284,MATCH(HOJA_CAPTURA!AB18,Base!$A$2:$A$284,0),3),)","v":0},{"$f":"IFERROR(INDEX(Base!$A$2:$H$284,MATCH(HOJA_CAPTURA!AB18,Base!$A$2:$A$284,0),4),)","v":0},{"$f":"IFERROR(INDEX(Base!$A$2:$H$284,MATCH(HOJA_CAPTURA!AB18,Base!$A$2:$A$284,0),5),)","v":0},{"$f":"IFERROR(INDEX(Base!$A$2:$H$284,MATCH(HOJA_CAPTURA!AB18,Base!$A$2:$A$284,0),6),)","v":0},{"$f":"IFERROR(INDEX(Base!$A$2:$H$284,MATCH(HOJA_CAPTURA!AB18,Base!$A$2:$A$284,0),7),)","v":0},{"$f":"IFERROR(INDEX(Base!$A$2:$H$284,MATCH(HOJA_CAPTURA!AB18,Base!$A$2:$A$284,0),8),)","v":0}]
["Instituto Nacional de Pediatría","Fondo: INP",null,null,null,null,null,null,null,null,null,null,null,null,null,null,null,null,null,null,null,null,null,null,null," ",""," ",""," ","",{"$f":"IFERROR(INDEX(Base!$A$2:$H$284,MATCH(HOJA_CAPTURA!AB19,Base!$A$2:$A$284,0),3),)","v":0},{"$f":"IFERROR(INDEX(Base!$A$2:$H$284,MATCH(HOJA_CAPTURA!AB19,Base!$A$2:$A$284,0),4),)","v":0},{"$f":"IFERROR(INDEX(Base!$A$2:$H$284,MATCH(HOJA_CAPTURA!AB19,Base!$A$2:$A$284,0),5),)","v":0},{"$f":"IFERROR(INDEX(Base!$A$2:$H$284,MATCH(HOJA_CAPTURA!AB19,Base!$A$2:$A$284,0),6),)","v":0},{"$f":"IFERROR(INDEX(Base!$A$2:$H$284,MATCH(HOJA_CAPTURA!AB19,Base!$A$2:$A$284,0),7),)","v":0},{"$f":"IFERROR(INDEX(Base!$A$2:$H$284,MATCH(HOJA_CAPTURA!AB19,Base!$A$2:$A$284,0),8),)","v":0}]
["Instituto Nacional de Pediatría","Fondo: INP",null,null,null,null,null,null,null,null,null,null,null,null,null,null,null,null,null,null,null,null,null,null,null," ",""," ",""," ","",{"$f":"IFERROR(INDEX(Base!$A$2:$H$284,MATCH(HOJA_CAPTURA!AB20,Base!$A$2:$A$284,0),3),)","v":0},{"$f":"IFERROR(INDEX(Base!$A$2:$H$284,MATCH(HOJA_CAPTURA!AB20,Base!$A$2:$A$284,0),4),)","v":0},{"$f":"IFERROR(INDEX(Base!$A$2:$H$284,MATCH(HOJA_CAPTURA!AB20,Base!$A$2:$A$284,0),5),)","v":0},{"$f":"IFERROR(INDEX(Base!$A$2:$H$284,MATCH(HOJA_CAPTURA!AB20,Base!$A$2:$A$284,0),6),)","v":0},{"$f":"IFERROR(INDEX(Base!$A$2:$H$284,MATCH(HOJA_CAPTURA!AB20,Base!$A$2:$A$284,0),7),)","v":0},{"$f":"IFERROR(INDEX(Base!$A$2:$H$284,MATCH(HOJA_CAPTURA!AB20,Base!$A$2:$A$284,0),8),)","v":0}]
["Instituto Nacional de Pediatría","Fondo: INP",null,null,null,null,null,null,null,null,null,null,null,null,null,null,null,null,null,null,null,null,null,null,null," ",""," ",""," ","",{"$f":"IFERROR(INDEX(Base!$A$2:$H$284,MATCH(HOJA_CAPTURA!AB21,Base!$A$2:$A$284,0),3),)","v":0},{"$f":"IFERROR(INDEX(Base!$A$2:$H$284,MATCH(HOJA_CAPTURA!AB21,Base!$A$2:$A$284,0),4),)","v":0},{"$f":"IFERROR(INDEX(Base!$A$2:$H$284,MATCH(HOJA_CAPTURA!AB21,Base!$A$2:$A$284,0),5),)","v":0},{"$f":"IFERROR(INDEX(Base!$A$2:$H$284,MATCH(HOJA_CAPTURA!AB21,Base!$A$2:$A$284,0),6),)","v":0},{"$f":"IFERROR(INDEX(Base!$A$2:$H$284,MATCH(HOJA_CAPTURA!AB21,Base!$A$2:$A$284,0),7),)","v":0},{"$f":"IFERROR(INDEX(Base!$A$2:$H$284,MATCH(HOJA_CAPTURA!AB21,Base!$A$2:$A$284,0),8),)","v":0}]
["Instituto Nacional de Pediatría","Fondo: INP",null,null,null,null,null,null,null,null,null,null,null,null,null,null,null,null,null,null,null,null,null,null,null," ",""," ",""," ","",{"$f":"IFERROR(INDEX(Base!$A$2:$H$284,MATCH(HOJA_CAPTURA!AB22,Base!$A$2:$A$284,0),3),)","v":0},{"$f":"IFERROR(INDEX(Base!$A$2:$H$284,MATCH(HOJA_CAPTURA!AB22,Base!$A$2:$A$284,0),4),)","v":0},{"$f":"IFERROR(INDEX(Base!$A$2:$H$284,MATCH(HOJA_CAPTURA!AB22,Base!$A$2:$A$284,0),5),)","v":0},{"$f":"IFERROR(INDEX(Base!$A$2:$H$284,MATCH(HOJA_CAPTURA!AB22,Base!$A$2:$A$284,0),6),)","v":0},{"$f":"IFERROR(INDEX(Base!$A$2:$H$284,MATCH(HOJA_CAPTURA!AB22,Base!$A$2:$A$284,0),7),)","v":0},{"$f":"IFERROR(INDEX(Base!$A$2:$H$284,MATCH(HOJA_CAPTURA!AB22,Base!$A$2:$A$284,0),8),)","v":0}]
["Instituto Nacional de Pediatría","Fondo: INP",null,null,null,null,null,null,null,null,null,null,null,null,null,null,null,null,null,null,null,null,null,null,null," ",""," ",""," ","",{"$f":"IFERROR(INDEX(Base!$A$2:$H$284,MATCH(HOJA_CAPTURA!AB23,Base!$A$2:$A$284,0),3),)","v":0},{"$f":"IFERROR(INDEX(Base!$A$2:$H$284,MATCH(HOJA_CAPTURA!AB23,Base!$A$2:$A$284,0),4),)","v":0},{"$f":"IFERROR(INDEX(Base!$A$2:$H$284,MATCH(HOJA_CAPTURA!AB23,Base!$A$2:$A$284,0),5),)","v":0},{"$f":"IFERROR(INDEX(Base!$A$2:$H$284,MATCH(HOJA_CAPTURA!AB23,Base!$A$2:$A$284,0),6),)","v":0},{"$f":"IFERROR(INDEX(Base!$A$2:$H$284,MATCH(HOJA_CAPTURA!AB23,Base!$A$2:$A$284,0),7),)","v":0},{"$f":"IFERROR(INDEX(Base!$A$2:$H$284,MATCH(HOJA_CAPTURA!AB23,Base!$A$2:$A$284,0),8),)","v":0}]
["Instituto Nacional de Pediatría","Fondo: INP",null,null,null,null,null,null,null,null,null,null,null,null,null,null,null,null,null,null,null,null,null,null,null," ",""," ",""," ","",{"$f":"IFERROR(INDEX(Base!$A$2:$H$284,MATCH(HOJA_CAPTURA!AB24,Base!$A$2:$A$284,0),3),)","v":0},{"$f":"IFERROR(INDEX(Base!$A$2:$H$284,MATCH(HOJA_CAPTURA!AB24,Base!$A$2:$A$284,0),4),)","v":0},{"$f":"IFERROR(INDEX(Base!$A$2:$H$284,MATCH(HOJA_CAPTURA!AB24,Base!$A$2:$A$284,0),5),)","v":0},{"$f":"IFERROR(INDEX(Base!$A$2:$H$284,MATCH(HOJA_CAPTURA!AB24,Base!$A$2:$A$284,0),6),)","v":0},{"$f":"IFERROR(INDEX(Base!$A$2:$H$284,MATCH(HOJA_CAPTURA!AB24,Base!$A$2:$A$284,0),7),)","v":0},{"$f":"IFERROR(INDEX(Base!$A$2:$H$284,MATCH(HOJA_CAPTURA!AB24,Base!$A$2:$A$284,0),8),)","v":0}]
["Instituto Nacional de Pediatría","Fondo: INP",null,null,null,null,null,null,null,null,null,null,null,null,null,null,null,null,null,null,null,null,null,null,null," ",""," ",""," ","",{"$f":"IFERROR(INDEX(Base!$A$2:$H$284,MATCH(HOJA_CAPTURA!AB25,Base!$A$2:$A$284,0),3),)","v":0},{"$f":"IFERROR(INDEX(Base!$A$2:$H$284,MATCH(HOJA_CAPTURA!AB25,Base!$A$2:$A$284,0),4),)","v":0},{"$f":"IFERROR(INDEX(Base!$A$2:$H$284,MATCH(HOJA_CAPTURA!AB25,Base!$A$2:$A$284,0),5),)","v":0},{"$f":"IFERROR(INDEX(Base!$A$2:$H$284,MATCH(HOJA_CAPTURA!AB25,Base!$A$2:$A$284,0),6),)","v":0},{"$f":"IFERROR(INDEX(Base!$A$2:$H$284,MATCH(HOJA_CAPTURA!AB25,Base!$A$2:$A$284,0),7),)","v":0},{"$f":"IFERROR(INDEX(Base!$A$2:$H$284,MATCH(HOJA_CAPTURA!AB25,Base!$A$2:$A$284,0),8),)","v":0}]
["Instituto Nacional de Pediatría","Fondo: INP",null,null,null,null,null,null,null,null,null,null,null,null,null,null,null,null,null,null,null,null,null,null,null," ",""," ",""," ","",{"$f":"IFERROR(INDEX(Base!$A$2:$H$284,MATCH(HOJA_CAPTURA!AB26,Base!$A$2:$A$284,0),3),)","v":0},{"$f":"IFERROR(INDEX(Base!$A$2:$H$284,MATCH(HOJA_CAPTURA!AB26,Base!$A$2:$A$284,0),4),)","v":0},{"$f":"IFERROR(INDEX(Base!$A$2:$H$284,MATCH(HOJA_CAPTURA!AB26,Base!$A$2:$A$284,0),5),)","v":0},{"$f":"IFERROR(INDEX(Base!$A$2:$H$284,MATCH(HOJA_CAPTURA!AB26,Base!$A$2:$A$284,0),6),)","v":0},{"$f":"IFERROR(INDEX(Base!$A$2:$H$284,MATCH(HOJA_CAPTURA!AB26,Base!$A$2:$A$284,0),7),)","v":0},{"$f":"IFERROR(INDEX(Base!$A$2:$H$284,MATCH(HOJA_CAPTURA!AB26,Base!$A$2:$A$284,0),8),)","v":0}]
["Instituto Nacional de Pediatría","Fondo: INP",null,null,null,null,null,null,null,null,null,null,null,null,null,null,null,null,null,null,null,null,null,null,null," ",""," ",""," ","",{"$f":"IFERROR(INDEX(Base!$A$2:$H$284,MATCH(HOJA_CAPTURA!AB27,Base!$A$2:$A$284,0),3),)","v":0},{"$f":"IFERROR(INDEX(Base!$A$2:$H$284,MATCH(HOJA_CAPTURA!AB27,Base!$A$2:$A$284,0),4),)","v":0},{"$f":"IFERROR(INDEX(Base!$A$2:$H$284,MATCH(HOJA_CAPTURA!AB27,Base!$A$2:$A$284,0),5),)","v":0},{"$f":"IFERROR(INDEX(Base!$A$2:$H$284,MATCH(HOJA_CAPTURA!AB27,Base!$A$2:$A$284,0),6),)","v":0},{"$f":"IFERROR(INDEX(Base!$A$2:$H$284,MATCH(HOJA_CAPTURA!AB27,Base!$A$2:$A$284,0),7),)","v":0},{"$f":"IFERROR(INDEX(Base!$A$2:$H$284,MATCH(HOJA_CAPTURA!AB27,Base!$A$2:$A$284,0),8),)","v":0}]
["Instituto Nacional de Pediatría","Fondo: INP",null,null,null,null,null,null,null,null,null,null,null,null,null,null,null,null,null,null,null,null,null,null,null," ",""," ",""," ","",{"$f":"IFERROR(INDEX(Base!$A$2:$H$284,MATCH(HOJA_CAPTURA!AB28,Base!$A$2:$A$284,0),3),)","v":0},{"$f":"IFERROR(INDEX(Base!$A$2:$H$284,MATCH(HOJA_CAPTURA!AB28,Base!$A$2:$A$284,0),4),)","v":0},{"$f":"IFERROR(INDEX(Base!$A$2:$H$284,MATCH(HOJA_CAPTURA!AB28,Base!$A$2:$A$284,0),5),)","v":0},{"$f":"IFERROR(INDEX(Base!$A$2:$H$284,MATCH(HOJA_CAPTURA!AB28,Base!$A$2:$A$284,0),6),)","v":0},{"$f":"IFERROR(INDEX(Base!$A$2:$H$284,MATCH(HOJA_CAPTURA!AB28,Base!$A$2:$A$284,0),7),)","v":0},{"$f":"IFERROR(INDEX(Base!$A$2:$H$284,MATCH(HOJA_CAPTURA!AB28,Base!$A$2:$A$284,0),8),)","v":0}]
["Instituto Nacional de Pediatría","Fondo: INP",null,null,null,null,null,null,null,null,null,null,null,null,null,null,null,null,null,null,null,null,null,null,null," ",""," ",""," ","",{"$f":"IFERROR(INDEX(Base!$A$2:$H$284,MATCH(HOJA_CAPTURA!AB29,Base!$A$2:$A$284,0),3),)","v":0},{"$f":"IFERROR(INDEX(Base!$A$2:$H$284,MATCH(HOJA_CAPTURA!AB29,Base!$A$2:$A$284,0),4),)","v":0},{"$f":"IFERROR(INDEX(Base!$A$2:$H$284,MATCH(HOJA_CAPTURA!AB29,Base!$A$2:$A$284,0),5),)","v":0},{"$f":"IFERROR(INDEX(Base!$A$2:$H$284,MATCH(HOJA_CAPTURA!AB29,Base!$A$2:$A$284,0),6),)","v":0},{"$f":"IFERROR(INDEX(Base!$A$2:$H$284,MATCH(HOJA_CAPTURA!AB29,Base!$A$2:$A$284,0),7),)","v":0},{"$f":"IFERROR(INDEX(Base!$A$2:$H$284,MATCH(HOJA_CAPTURA!AB29,Base!$A$2:$A$284,0),8),)","v":0}]
["Instituto Nacional de Pediatría","Fondo: INP",null,null,null,null,null,null,null,null,null,null,null,null,null,null,null,null,null,null,null,null,null,null,null," ",""," ",""," ","",{"$f":"IFERROR(INDEX(Base!$A$2:$H$284,MATCH(HOJA_CAPTURA!AB30,Base!$A$2:$A$284,0),3),)","v":0},{"$f":"IFERROR(INDEX(Base!$A$2:$H$284,MATCH(HOJA_CAPTURA!AB30,Base!$A$2:$A$284,0),4),)","v":0},{"$f":"IFERROR(INDEX(Base!$A$2:$H$284,MATCH(HOJA_CAPTURA!AB30,Base!$A$2:$A$284,0),5),)","v":0},{"$f":"IFERROR(INDEX(Base!$A$2:$H$284,MATCH(HOJA_CAPTURA!AB30,Base!$A$2:$A$284,0),6),)","v":0},{"$f":"IFERROR(INDEX(Base!$A$2:$H$284,MATCH(HOJA_CAPTURA!AB30,Base!$A$2:$A$284,0),7),)","v":0},{"$f":"IFERROR(INDEX(Base!$A$2:$H$284,MATCH(HOJA_CAPTURA!AB30,Base!$A$2:$A$284,0),8),)","v":0}]
["Instituto Nacional de Pediatría","Fondo: INP",null,null,null,null,null,null,null,null,null,null,null,null,null,null,null,null,null,null,null,null,null,null,null," ",""," ",""," ","",{"$f":"IFERROR(INDEX(Base!$A$2:$H$284,MATCH(HOJA_CAPTURA!AB31,Base!$A$2:$A$284,0),3),)","v":0},{"$f":"IFERROR(INDEX(Base!$A$2:$H$284,MATCH(HOJA_CAPTURA!AB31,Base!$A$2:$A$284,0),4),)","v":0},{"$f":"IFERROR(INDEX(Base!$A$2:$H$284,MATCH(HOJA_CAPTURA!AB31,Base!$A$2:$A$284,0),5),)","v":0},{"$f":"IFERROR(INDEX(Base!$A$2:$H$284,MATCH(HOJA_CAPTURA!AB31,Base!$A$2:$A$284,0),6),)","v":0},{"$f":"IFERROR(INDEX(Base!$A$2:$H$284,MATCH(HOJA_CAPTURA!AB31,Base!$A$2:$A$284,0),7),)","v":0},{"$f":"IFERROR(INDEX(Base!$A$2:$H$284,MATCH(HOJA_CAPTURA!AB31,Base!$A$2:$A$284,0),8),)","v":0}]
["Instituto Nacional de Pediatría","Fondo: INP",null,null,null,null,null,null,null,null,null,null,null,null,null,null,null,null,null,null,null,null,null,null,null," ",""," ",""," ","",{"$f":"IFERROR(INDEX(Base!$A$2:$H$284,MATCH(HOJA_CAPTURA!AB32,Base!$A$2:$A$284,0),3),)","v":0},{"$f":"IFERROR(INDEX(Base!$A$2:$H$284,MATCH(HOJA_CAPTURA!AB32,Base!$A$2:$A$284,0),4),)","v":0},{"$f":"IFERROR(INDEX(Base!$A$2:$H$284,MATCH(HOJA_CAPTURA!AB32,Base!$A$2:$A$284,0),5),)","v":0},{"$f":"IFERROR(INDEX(Base!$A$2:$H$284,MATCH(HOJA_CAPTURA!AB32,Base!$A$2:$A$284,0),6),)","v":0},{"$f":"IFERROR(INDEX(Base!$A$2:$H$284,MATCH(HOJA_CAPTURA!AB32,Base!$A$2:$A$284,0),7),)","v":0},{"$f":"IFERROR(INDEX(Base!$A$2:$H$284,MATCH(HOJA_CAPTURA!AB32,Base!$A$2:$A$284,0),8),)","v":0}]
["Instituto Nacional de Pediatría","Fondo: INP",null,null,null,null,null,null,null,null,null,null,null,null,null,null,null,null,null,null,null,null,null,null,null," ",""," ",""," ","",{"$f":"IFERROR(INDEX(Base!$A$2:$H$284,MATCH(HOJA_CAPTURA!AB33,Base!$A$2:$A$284,0),3),)","v":0},{"$f":"IFERROR(INDEX(Base!$A$2:$H$284,MATCH(HOJA_CAPTURA!AB33,Base!$A$2:$A$284,0),4),)","v":0},{"$f":"IFERROR(INDEX(Base!$A$2:$H$284,MATCH(HOJA_CAPTURA!AB33,Base!$A$2:$A$284,0),5),)","v":0},{"$f":"IFERROR(INDEX(Base!$A$2:$H$284,MATCH(HOJA_CAPTURA!AB33,Base!$A$2:$A$284,0),6),)","v":0},{"$f":"IFERROR(INDEX(Base!$A$2:$H$284,MATCH(HOJA_CAPTURA!AB33,Base!$A$2:$A$284,0),7),)","v":0},{"$f":"IFERROR(INDEX(Base!$A$2:$H$284,MATCH(HOJA_CAPTURA!AB33,Base!$A$2:$A$284,0),8),)","v":0}]
["Instituto Nacional de Pediatría","Fondo: INP",null,null,null,null,null,null,null,null,null,null,null,null,null,null,null,null,null,null,null,null,null,null,null," ",""," ",""," ","",{"$f":"IFERROR(INDEX(Base!$A$2:$H$284,MATCH(HOJA_CAPTURA!AB34,Base!$A$2:$A$284,0),3),)","v":0},{"$f":"IFERROR(INDEX(Base!$A$2:$H$284,MATCH(HOJA_CAPTURA!AB34,Base!$A$2:$A$284,0),4),)","v":0},{"$f":"IFERROR(INDEX(Base!$A$2:$H$284,MATCH(HOJA_CAPTURA!AB34,Base!$A$2:$A$284,0),5),)","v":0},{"$f":"IFERROR(INDEX(Base!$A$2:$H$284,MATCH(HOJA_CAPTURA!AB34,Base!$A$2:$A$284,0),6),)","v":0},{"$f":"IFERROR(INDEX(Base!$A$2:$H$284,MATCH(HOJA_CAPTURA!AB34,Base!$A$2:$A$284,0),7),)","v":0},{"$f":"IFERROR(INDEX(Base!$A$2:$H$284,MATCH(HOJA_CAPTURA!AB34,Base!$A$2:$A$284,0),8),)","v":0}]
["Instituto Nacional de Pediatría","Fondo: INP",null,null,null,null,null,null,null,null,null,null,null,null,null,null,null,null,null,null,null,null,null,null,null," ",""," ",""," ","",{"$f":"IFERROR(INDEX(Base!$A$2:$H$284,MATCH(HOJA_CAPTURA!AB35,Base!$A$2:$A$284,0),3),)","v":0},{"$f":"IFERROR(INDEX(Base!$A$2:$H$284,MATCH(HOJA_CAPTURA!AB35,Base!$A$2:$A$284,0),4),)","v":0},{"$f":"IFERROR(INDEX(Base!$A$2:$H$284,MATCH(HOJA_CAPTURA!AB35,Base!$A$2:$A$284,0),5),)","v":0},{"$f":"IFERROR(INDEX(Base!$A$2:$H$284,MATCH(HOJA_CAPTURA!AB35,Base!$A$2:$A$284,0),6),)","v":0},{"$f":"IFERROR(INDEX(Base!$A$2:$H$284,MATCH(HOJA_CAPTURA!AB35,Base!$A$2:$A$284,0),7),)","v":0},{"$f":"IFERROR(INDEX(Base!$A$2:$H$284,MATCH(HOJA_CAPTURA!AB35,Base!$A$2:$A$284,0),8),)","v":0}]
["Instituto Nacional de Pediatría","Fondo: INP",null,null,null,null,null,null,null,null,null,null,null,null,null,null,null,null,null,null,null,null,null,null,null," ",""," ",""," ","",{"$f":"IFERROR(INDEX(Base!$A$2:$H$284,MATCH(HOJA_CAPTURA!AB36,Base!$A$2:$A$284,0),3),)","v":0},{"$f":"IFERROR(INDEX(Base!$A$2:$H$284,MATCH(HOJA_CAPTURA!AB36,Base!$A$2:$A$284,0),4),)","v":0},{"$f":"IFERROR(INDEX(Base!$A$2:$H$284,MATCH(HOJA_CAPTURA!AB36,Base!$A$2:$A$284,0),5),)","v":0},{"$f":"IFERROR(INDEX(Base!$A$2:$H$284,MATCH(HOJA_CAPTURA!AB36,Base!$A$2:$A$284,0),6),)","v":0},{"$f":"IFERROR(INDEX(Base!$A$2:$H$284,MATCH(HOJA_CAPTURA!AB36,Base!$A$2:$A$284,0),7),)","v":0},{"$f":"IFERROR(INDEX(Base!$A$2:$H$284,MATCH(HOJA_CAPTURA!AB36,Base!$A$2:$A$284,0),8),)","v":0}]
["Instituto Nacional de Pediatría","Fondo: INP",null,null,null,null,null,null,null,null,null,null,null,null,null,null,null,null,null,null,null,null,null,null,null," ",""," ",""," ","",{"$f":"IFERROR(INDEX(Base!$A$2:$H$284,MATCH(HOJA_CAPTURA!AB37,Base!$A$2:$A$284,0),3),)","v":0},{"$f":"IFERROR(INDEX(Base!$A$2:$H$284,MATCH(HOJA_CAPTURA!AB37,Base!$A$2:$A$284,0),4),)","v":0},{"$f":"IFERROR(INDEX(Base!$A$2:$H$284,MATCH(HOJA_CAPTURA!AB37,Base!$A$2:$A$284,0),5),)","v":0},{"$f":"IFERROR(INDEX(Base!$A$2:$H$284,MATCH(HOJA_CAPTURA!AB37,Base!$A$2:$A$284,0),6),)","v":0},{"$f":"IFERROR(INDEX(Base!$A$2:$H$284,MATCH(HOJA_CAPTURA!AB37,Base!$A$2:$A$284,0),7),)","v":0},{"$f":"IFERROR(INDEX(Base!$A$2:$H$284,MATCH(HOJA_CAPTURA!AB37,Base!$A$2:$A$284,0),8),)","v":0}]
["Instituto Nacional de Pediatría","Fondo: INP",null,null,null,null,null,null,null,null,null,null,null,null,null,null,null,null,null,null,null,null,null,null,null," ",""," ",""," ","",{"$f":"IFERROR(INDEX(Base!$A$2:$H$284,MATCH(HOJA_CAPTURA!AB38,Base!$A$2:$A$284,0),3),)","v":0},{"$f":"IFERROR(INDEX(Base!$A$2:$H$284,MATCH(HOJA_CAPTURA!AB38,Base!$A$2:$A$284,0),4),)","v":0},{"$f":"IFERROR(INDEX(Base!$A$2:$H$284,MATCH(HOJA_CAPTURA!AB38,Base!$A$2:$A$284,0),5),)","v":0},{"$f":"IFERROR(INDEX(Base!$A$2:$H$284,MATCH(HOJA_CAPTURA!AB38,Base!$A$2:$A$284,0),6),)","v":0},{"$f":"IFERROR(INDEX(Base!$A$2:$H$284,MATCH(HOJA_CAPTURA!AB38,Base!$A$2:$A$284,0),7),)","v":0},{"$f":"IFERROR(INDEX(Base!$A$2:$H$284,MATCH(HOJA_CAPTURA!AB38,Base!$A$2:$A$284,0),8),)","v":0}]
["Instituto Nacional de Pediatría","Fondo: INP",null,null,null,null,null,null,null,null,null,null,null,null,null,null,null,null,null,null,null,null,null,null,null," ",""," ",""," ","",{"$f":"IFERROR(INDEX(Base!$A$2:$H$284,MATCH(HOJA_CAPTURA!AB39,Base!$A$2:$A$284,0),3),)","v":0},{"$f":"IFERROR(INDEX(Base!$A$2:$H$284,MATCH(HOJA_CAPTURA!AB39,Base!$A$2:$A$284,0),4),)","v":0},{"$f":"IFERROR(INDEX(Base!$A$2:$H$284,MATCH(HOJA_CAPTURA!AB39,Base!$A$2:$A$284,0),5),)","v":0},{"$f":"IFERROR(INDEX(Base!$A$2:$H$284,MATCH(HOJA_CAPTURA!AB39,Base!$A$2:$A$284,0),6),)","v":0},{"$f":"IFERROR(INDEX(Base!$A$2:$H$284,MATCH(HOJA_CAPTURA!AB39,Base!$A$2:$A$284,0),7),)","v":0},{"$f":"IFERROR(INDEX(Base!$A$2:$H$284,MATCH(HOJA_CAPTURA!AB39,Base!$A$2:$A$284,0),8),)","v":0}]
["Instituto Nacional de Pediatría","Fondo: INP",null,null,null,null,null,null,null,null,null,null,null,null,null,null,null,null,null,null,null,null,null,null,null," ",""," ",""," ","",{"$f":"IFERROR(INDEX(Base!$A$2:$H$284,MATCH(HOJA_CAPTURA!AB40,Base!$A$2:$A$284,0),3),)","v":0},{"$f":"IFERROR(INDEX(Base!$A$2:$H$284,MATCH(HOJA_CAPTURA!AB40,Base!$A$2:$A$284,0),4),)","v":0},{"$f":"IFERROR(INDEX(Base!$A$2:$H$284,MATCH(HOJA_CAPTURA!AB40,Base!$A$2:$A$284,0),5),)","v":0},{"$f":"IFERROR(INDEX(Base!$A$2:$H$284,MATCH(HOJA_CAPTURA!AB40,Base!$A$2:$A$284,0),6),)","v":0},{"$f":"IFERROR(INDEX(Base!$A$2:$H$284,MATCH(HOJA_CAPTURA!AB40,Base!$A$2:$A$284,0),7),)","v":0},{"$f":"IFERROR(INDEX(Base!$A$2:$H$284,MATCH(HOJA_CAPTURA!AB40,Base!$A$2:$A$284,0),8),)","v":0}]
["Instituto Nacional de Pediatría","Fondo: INP",null,null,null,null,null,null,null,null,null,null,null,null,null,null,null,null,null,null,null,null,null,null,null," ",""," ",""," ","",{"$f":"IFERROR(INDEX(Base!$A$2:$H$284,MATCH(HOJA_CAPTURA!AB41,Base!$A$2:$A$284,0),3),)","v":0},{"$f":"IFERROR(INDEX(Base!$A$2:$H$284,MATCH(HOJA_CAPTURA!AB41,Base!$A$2:$A$284,0),4),)","v":0},{"$f":"IFERROR(INDEX(Base!$A$2:$H$284,MATCH(HOJA_CAPTURA!AB41,Base!$A$2:$A$284,0),5),)","v":0},{"$f":"IFERROR(INDEX(Base!$A$2:$H$284,MATCH(HOJA_CAPTURA!AB41,Base!$A$2:$A$284,0),6),)","v":0},{"$f":"IFERROR(INDEX(Base!$A$2:$H$284,MATCH(HOJA_CAPTURA!AB41,Base!$A$2:$A$284,0),7),)","v":0},{"$f":"IFERROR(INDEX(Base!$A$2:$H$284,MATCH(HOJA_CAPTURA!AB41,Base!$A$2:$A$284,0),8),)","v":0}]
["Instituto Nacional de Pediatría","Fondo: INP",null,null,null,null,null,null,null,null,null,null,null,null,null,null,null,null,null,null,null,null,null,null,null," ",""," ",""," ","",{"$f":"IFERROR(INDEX(Base!$A$2:$H$284,MATCH(HOJA_CAPTURA!AB42,Base!$A$2:$A$284,0),3),)","v":0},{"$f":"IFERROR(INDEX(Base!$A$2:$H$284,MATCH(HOJA_CAPTURA!AB42,Base!$A$2:$A$284,0),4),)","v":0},{"$f":"IFERROR(INDEX(Base!$A$2:$H$284,MATCH(HOJA_CAPTURA!AB42,Base!$A$2:$A$284,0),5),)","v":0},{"$f":"IFERROR(INDEX(Base!$A$2:$H$284,MATCH(HOJA_CAPTURA!AB42,Base!$A$2:$A$284,0),6),)","v":0},{"$f":"IFERROR(INDEX(Base!$A$2:$H$284,MATCH(HOJA_CAPTURA!AB42,Base!$A$2:$A$284,0),7),)","v":0},{"$f":"IFERROR(INDEX(Base!$A$2:$H$284,MATCH(HOJA_CAPTURA!AB42,Base!$A$2:$A$284,0),8),)","v":0}]
["Instituto Nacional de Pediatría","Fondo: INP",null,null,null,null,null,null,null,null,null,null,null,null,null,null,null,null,null,null,null,null,null,null,null," ",""," ",""," ","",{"$f":"IFERROR(INDEX(Base!$A$2:$H$284,MATCH(HOJA_CAPTURA!AB43,Base!$A$2:$A$284,0),3),)","v":0},{"$f":"IFERROR(INDEX(Base!$A$2:$H$284,MATCH(HOJA_CAPTURA!AB43,Base!$A$2:$A$284,0),4),)","v":0},{"$f":"IFERROR(INDEX(Base!$A$2:$H$284,MATCH(HOJA_CAPTURA!AB43,Base!$A$2:$A$284,0),5),)","v":0},{"$f":"IFERROR(INDEX(Base!$A$2:$H$284,MATCH(HOJA_CAPTURA!AB43,Base!$A$2:$A$284,0),6),)","v":0},{"$f":"IFERROR(INDEX(Base!$A$2:$H$284,MATCH(HOJA_CAPTURA!AB43,Base!$A$2:$A$284,0),7),)","v":0},{"$f":"IFERROR(INDEX(Base!$A$2:$H$284,MATCH(HOJA_CAPTURA!AB43,Base!$A$2:$A$284,0),8),)","v":0}]
["Instituto Nacional de Pediatría","Fondo: INP",null,null,null,null,null,null,null,null,null,null,null,null,null,null,null,null,null,null,null,null,null,null,null," ",""," ",""," ","",{"$f":"IFERROR(INDEX(Base!$A$2:$H$284,MATCH(HOJA_CAPTURA!AB44,Base!$A$2:$A$284,0),3),)","v":0},{"$f":"IFERROR(INDEX(Base!$A$2:$H$284,MATCH(HOJA_CAPTURA!AB44,Base!$A$2:$A$284,0),4),)","v":0},{"$f":"IFERROR(INDEX(Base!$A$2:$H$284,MATCH(HOJA_CAPTURA!AB44,Base!$A$2:$A$284,0),5),)","v":0},{"$f":"IFERROR(INDEX(Base!$A$2:$H$284,MATCH(HOJA_CAPTURA!AB44,Base!$A$2:$A$284,0),6),)","v":0},{"$f":"IFERROR(INDEX(Base!$A$2:$H$284,MATCH(HOJA_CAPTURA!AB44,Base!$A$2:$A$284,0),7),)","v":0},{"$f":"IFERROR(INDEX(Base!$A$2:$H$284,MATCH(HOJA_CAPTURA!AB44,Base!$A$2:$A$284,0),8),)","v":0}]
["Instituto Nacional de Pediatría","Fondo: INP",null,null,null,null,null,null,null,null,null,null,null,null,null,null,null,null,null,null,null,null,null,null,null," ",""," ",""," ","",{"$f":"IFERROR(INDEX(Base!$A$2:$H$284,MATCH(HOJA_CAPTURA!AB45,Base!$A$2:$A$284,0),3),)","v":0},{"$f":"IFERROR(INDEX(Base!$A$2:$H$284,MATCH(HOJA_CAPTURA!AB45,Base!$A$2:$A$284,0),4),)","v":0},{"$f":"IFERROR(INDEX(Base!$A$2:$H$284,MATCH(HOJA_CAPTURA!AB45,Base!$A$2:$A$284,0),5),)","v":0},{"$f":"IFERROR(INDEX(Base!$A$2:$H$284,MATCH(HOJA_CAPTURA!AB45,Base!$A$2:$A$284,0),6),)","v":0},{"$f":"IFERROR(INDEX(Base!$A$2:$H$284,MATCH(HOJA_CAPTURA!AB45,Base!$A$2:$A$284,0),7),)","v":0},{"$f":"IFERROR(INDEX(Base!$A$2:$H$284,MATCH(HOJA_CAPTURA!AB45,Base!$A$2:$A$284,0),8),)","v":0}]
["Instituto Nacional de Pediatría","Fondo: INP",null,null,null,null,null,null,null,null,null,null,null,null,null,null,null,null,null,null,null,null,null,null,null," ",""," ",""," ","",{"$f":"IFERROR(INDEX(Base!$A$2:$H$284,MATCH(HOJA_CAPTURA!AB46,Base!$A$2:$A$284,0),3),)","v":0},{"$f":"IFERROR(INDEX(Base!$A$2:$H$284,MATCH(HOJA_CAPTURA!AB46,Base!$A$2:$A$284,0),4),)","v":0},{"$f":"IFERROR(INDEX(Base!$A$2:$H$284,MATCH(HOJA_CAPTURA!AB46,Base!$A$2:$A$284,0),5),)","v":0},{"$f":"IFERROR(INDEX(Base!$A$2:$H$284,MATCH(HOJA_CAPTURA!AB46,Base!$A$2:$A$284,0),6),)","v":0},{"$f":"IFERROR(INDEX(Base!$A$2:$H$284,MATCH(HOJA_CAPTURA!AB46,Base!$A$2:$A$284,0),7),)","v":0},{"$f":"IFERROR(INDEX(Base!$A$2:$H$284,MATCH(HOJA_CAPTURA!AB46,Base!$A$2:$A$284,0),8),)","v":0}]
["Instituto Nacional de Pediatría","Fondo: INP",null,null,null,null,null,null,null,null,null,null,null,null,null,null,null,null,null,null,null,null,null,null,null," ",""," ",""," ","",{"$f":"IFERROR(INDEX(Base!$A$2:$H$284,MATCH(HOJA_CAPTURA!AB47,Base!$A$2:$A$284,0),3),)","v":0},{"$f":"IFERROR(INDEX(Base!$A$2:$H$284,MATCH(HOJA_CAPTURA!AB47,Base!$A$2:$A$284,0),4),)","v":0},{"$f":"IFERROR(INDEX(Base!$A$2:$H$284,MATCH(HOJA_CAPTURA!AB47,Base!$A$2:$A$284,0),5),)","v":0},{"$f":"IFERROR(INDEX(Base!$A$2:$H$284,MATCH(HOJA_CAPTURA!AB47,Base!$A$2:$A$284,0),6),)","v":0},{"$f":"IFERROR(INDEX(Base!$A$2:$H$284,MATCH(HOJA_CAPTURA!AB47,Base!$A$2:$A$284,0),7),)","v":0},{"$f":"IFERROR(INDEX(Base!$A$2:$H$284,MATCH(HOJA_CAPTURA!AB47,Base!$A$2:$A$284,0),8),)","v":0}]
["Instituto Nacional de Pediatría","Fondo: INP",null,null,null,null,null,null,null,null,null,null,null,null,null,null,null,null,null,null,null,null,null,null,null," ",""," ",""," ","",{"$f":"IFERROR(INDEX(Base!$A$2:$H$284,MATCH(HOJA_CAPTURA!AB48,Base!$A$2:$A$284,0),3),)","v":0},{"$f":"IFERROR(INDEX(Base!$A$2:$H$284,MATCH(HOJA_CAPTURA!AB48,Base!$A$2:$A$284,0),4),)","v":0},{"$f":"IFERROR(INDEX(Base!$A$2:$H$284,MATCH(HOJA_CAPTURA!AB48,Base!$A$2:$A$284,0),5),)","v":0},{"$f":"IFERROR(INDEX(Base!$A$2:$H$284,MATCH(HOJA_CAPTURA!AB48,Base!$A$2:$A$284,0),6),)","v":0},{"$f":"IFERROR(INDEX(Base!$A$2:$H$284,MATCH(HOJA_CAPTURA!AB48,Base!$A$2:$A$284,0),7),)","v":0},{"$f":"IFERROR(INDEX(Base!$A$2:$H$284,MATCH(HOJA_CAPTURA!AB48,Base!$A$2:$A$284,0),8),)","v":0}]
["Instituto Nacional de Pediatría","Fondo: INP",null,null,null,null,null,null,null,null,null,null,null,null,null,null,null,null,null,null,null,null,null,null,null," ",""," ",""," ","",{"$f":"IFERROR(INDEX(Base!$A$2:$H$284,MATCH(HOJA_CAPTURA!AB49,Base!$A$2:$A$284,0),3),)","v":0},{"$f":"IFERROR(INDEX(Base!$A$2:$H$284,MATCH(HOJA_CAPTURA!AB49,Base!$A$2:$A$284,0),4),)","v":0},{"$f":"IFERROR(INDEX(Base!$A$2:$H$284,MATCH(HOJA_CAPTURA!AB49,Base!$A$2:$A$284,0),5),)","v":0},{"$f":"IFERROR(INDEX(Base!$A$2:$H$284,MATCH(HOJA_CAPTURA!AB49,Base!$A$2:$A$284,0),6),)","v":0},{"$f":"IFERROR(INDEX(Base!$A$2:$H$284,MATCH(HOJA_CAPTURA!AB49,Base!$A$2:$A$284,0),7),)","v":0},{"$f":"IFERROR(INDEX(Base!$A$2:$H$284,MATCH(HOJA_CAPTURA!AB49,Base!$A$2:$A$284,0),8),)","v":0}]
["Instituto Nacional de Pediatría","Fondo: INP",null,null,null,null,null,null,null,null,null,null,null,null,null,null,null,null,null,null,null,null,null,null,null," ",""," ",""," ","",{"$f":"IFERROR(INDEX(Base!$A$2:$H$284,MATCH(HOJA_CAPTURA!AB50,Base!$A$2:$A$284,0),3),)","v":0},{"$f":"IFERROR(INDEX(Base!$A$2:$H$284,MATCH(HOJA_CAPTURA!AB50,Base!$A$2:$A$284,0),4),)","v":0},{"$f":"IFERROR(INDEX(Base!$A$2:$H$284,MATCH(HOJA_CAPTURA!AB50,Base!$A$2:$A$284,0),5),)","v":0},{"$f":"IFERROR(INDEX(Base!$A$2:$H$284,MATCH(HOJA_CAPTURA!AB50,Base!$A$2:$A$284,0),6),)","v":0},{"$f":"IFERROR(INDEX(Base!$A$2:$H$284,MATCH(HOJA_CAPTURA!AB50,Base!$A$2:$A$284,0),7),)","v":0},{"$f":"IFERROR(INDEX(Base!$A$2:$H$284,MATCH(HOJA_CAPTURA!AB50,Base!$A$2:$A$284,0),8),)","v":0}]
["Instituto Nacional de Pediatría","Fondo: INP",null,null,null,null,null,null,null,null,null,null,null,null,null,null,null,null,null,null,null,null,null,null,null," ",""," ",""," ","",{"$f":"IFERROR(INDEX(Base!$A$2:$H$284,MATCH(HOJA_CAPTURA!AB51,Base!$A$2:$A$284,0),3),)","v":0},{"$f":"IFERROR(INDEX(Base!$A$2:$H$284,MATCH(HOJA_CAPTURA!AB51,Base!$A$2:$A$284,0),4),)","v":0},{"$f":"IFERROR(INDEX(Base!$A$2:$H$284,MATCH(HOJA_CAPTURA!AB51,Base!$A$2:$A$284,0),5),)","v":0},{"$f":"IFERROR(INDEX(Base!$A$2:$H$284,MATCH(HOJA_CAPTURA!AB51,Base!$A$2:$A$284,0),6),)","v":0},{"$f":"IFERROR(INDEX(Base!$A$2:$H$284,MATCH(HOJA_CAPTURA!AB51,Base!$A$2:$A$284,0),7),)","v":0},{"$f":"IFERROR(INDEX(Base!$A$2:$H$284,MATCH(HOJA_CAPTURA!AB51,Base!$A$2:$A$284,0),8),)","v":0}]
["Instituto Nacional de Pediatría","Fondo: INP",null,null,null,null,null,null,null,null,null,null,null,null,null,null,null,null,null,null,null,null,null,null,null," ",""," ",""," ","",{"$f":"IFERROR(INDEX(Base!$A$2:$H$284,MATCH(HOJA_CAPTURA!AB52,Base!$A$2:$A$284,0),3),)","v":0},{"$f":"IFERROR(INDEX(Base!$A$2:$H$284,MATCH(HOJA_CAPTURA!AB52,Base!$A$2:$A$284,0),4),)","v":0},{"$f":"IFERROR(INDEX(Base!$A$2:$H$284,MATCH(HOJA_CAPTURA!AB52,Base!$A$2:$A$284,0),5),)","v":0},{"$f":"IFERROR(INDEX(Base!$A$2:$H$284,MATCH(HOJA_CAPTURA!AB52,Base!$A$2:$A$284,0),6),)","v":0},{"$f":"IFERROR(INDEX(Base!$A$2:$H$284,MATCH(HOJA_CAPTURA!AB52,Base!$A$2:$A$284,0),7),)","v":0},{"$f":"IFERROR(INDEX(Base!$A$2:$H$284,MATCH(HOJA_CAPTURA!AB52,Base!$A$2:$A$284,0),8),)","v":0}]
["Instituto Nacional de Pediatría","Fondo: INP",null,null,null,null,null,null,null,null,null,null,null,null,null,null,null,null,null,null,null,null,null,null,null," ",""," ",""," ","",{"$f":"IFERROR(INDEX(Base!$A$2:$H$284,MATCH(HOJA_CAPTURA!AB53,Base!$A$2:$A$284,0),3),)","v":0},{"$f":"IFERROR(INDEX(Base!$A$2:$H$284,MATCH(HOJA_CAPTURA!AB53,Base!$A$2:$A$284,0),4),)","v":0},{"$f":"IFERROR(INDEX(Base!$A$2:$H$284,MATCH(HOJA_CAPTURA!AB53,Base!$A$2:$A$284,0),5),)","v":0},{"$f":"IFERROR(INDEX(Base!$A$2:$H$284,MATCH(HOJA_CAPTURA!AB53,Base!$A$2:$A$284,0),6),)","v":0},{"$f":"IFERROR(INDEX(Base!$A$2:$H$284,MATCH(HOJA_CAPTURA!AB53,Base!$A$2:$A$284,0),7),)","v":0},{"$f":"IFERROR(INDEX(Base!$A$2:$H$284,MATCH(HOJA_CAPTURA!AB53,Base!$A$2:$A$284,0),8),)","v":0}]
["Instituto Nacional de Pediatría","Fondo: INP",null,null,null,null,null,null,null,null,null,null,null,null,null,null,null,null,null,null,null,null,null,null,null," ",""," ",""," ","",{"$f":"IFERROR(INDEX(Base!$A$2:$H$284,MATCH(HOJA_CAPTURA!AB54,Base!$A$2:$A$284,0),3),)","v":0},{"$f":"IFERROR(INDEX(Base!$A$2:$H$284,MATCH(HOJA_CAPTURA!AB54,Base!$A$2:$A$284,0),4),)","v":0},{"$f":"IFERROR(INDEX(Base!$A$2:$H$284,MATCH(HOJA_CAPTURA!AB54,Base!$A$2:$A$284,0),5),)","v":0},{"$f":"IFERROR(INDEX(Base!$A$2:$H$284,MATCH(HOJA_CAPTURA!AB54,Base!$A$2:$A$284,0),6),)","v":0},{"$f":"IFERROR(INDEX(Base!$A$2:$H$284,MATCH(HOJA_CAPTURA!AB54,Base!$A$2:$A$284,0),7),)","v":0},{"$f":"IFERROR(INDEX(Base!$A$2:$H$284,MATCH(HOJA_CAPTURA!AB54,Base!$A$2:$A$284,0),8),)","v":0}]
["Instituto Nacional de Pediatría","Fondo: INP",null,null,null,null,null,null,null,null,null,null,null,null,null,null,null,null,null,null,null,null,null,null,null," ",""," ",""," ","",{"$f":"IFERROR(INDEX(Base!$A$2:$H$284,MATCH(HOJA_CAPTURA!AB55,Base!$A$2:$A$284,0),3),)","v":0},{"$f":"IFERROR(INDEX(Base!$A$2:$H$284,MATCH(HOJA_CAPTURA!AB55,Base!$A$2:$A$284,0),4),)","v":0},{"$f":"IFERROR(INDEX(Base!$A$2:$H$284,MATCH(HOJA_CAPTURA!AB55,Base!$A$2:$A$284,0),5),)","v":0},{"$f":"IFERROR(INDEX(Base!$A$2:$H$284,MATCH(HOJA_CAPTURA!AB55,Base!$A$2:$A$284,0),6),)","v":0},{"$f":"IFERROR(INDEX(Base!$A$2:$H$284,MATCH(HOJA_CAPTURA!AB55,Base!$A$2:$A$284,0),7),)","v":0},{"$f":"IFERROR(INDEX(Base!$A$2:$H$284,MATCH(HOJA_CAPTURA!AB55,Base!$A$2:$A$284,0),8),)","v":0}]
["Instituto Nacional de Pediatría","Fondo: INP",null,null,null,null,null,null,null,null,null,null,null,null,null,null,null,null,null,null,null,null,null,null,null," ",""," ",""," ","",{"$f":"IFERROR(INDEX(Base!$A$2:$H$284,MATCH(HOJA_CAPTURA!AB56,Base!$A$2:$A$284,0),3),)","v":0},{"$f":"IFERROR(INDEX(Base!$A$2:$H$284,MATCH(HOJA_CAPTURA!AB56,Base!$A$2:$A$284,0),4),)","v":0},{"$f":"IFERROR(INDEX(Base!$A$2:$H$284,MATCH(HOJA_CAPTURA!AB56,Base!$A$2:$A$284,0),5),)","v":0},{"$f":"IFERROR(INDEX(Base!$A$2:$H$284,MATCH(HOJA_CAPTURA!AB56,Base!$A$2:$A$284,0),6),)","v":0},{"$f":"IFERROR(INDEX(Base!$A$2:$H$284,MATCH(HOJA_CAPTURA!AB56,Base!$A$2:$A$284,0),7),)","v":0},{"$f":"IFERROR(INDEX(Base!$A$2:$H$284,MATCH(HOJA_CAPTURA!AB56,Base!$A$2:$A$284,0),8),)","v":0}]
["Instituto Nacional de Pediatría","Fondo: INP",null,null,null,null,null,null,null,null,null,null,null,null,null,null,null,null,null,null,null,null,null,null,null," ",""," ",""," ","",{"$f":"IFERROR(INDEX(Base!$A$2:$H$284,MATCH(HOJA_CAPTURA!AB57,Base!$A$2:$A$284,0),3),)","v":0},{"$f":"IFERROR(INDEX(Base!$A$2:$H$284,MATCH(HOJA_CAPTURA!AB57,Base!$A$2:$A$284,0),4),)","v":0},{"$f":"IFERROR(INDEX(Base!$A$2:$H$284,MATCH(HOJA_CAPTURA!AB57,Base!$A$2:$A$284,0),5),)","v":0},{"$f":"IFERROR(INDEX(Base!$A$2:$H$284,MATCH(HOJA_CAPTURA!AB57,Base!$A$2:$A$284,0),6),)","v":0},{"$f":"IFERROR(INDEX(Base!$A$2:$H$284,MATCH(HOJA_CAPTURA!AB57,Base!$A$2:$A$284,0),7),)","v":0},{"$f":"IFERROR(INDEX(Base!$A$2:$H$284,MATCH(HOJA_CAPTURA!AB57,Base!$A$2:$A$284,0),8),)","v":0}]
["Instituto Nacional de Pediatría","Fondo: INP",null,null,null,null,null,null,null,null,null,null,null,null,null,null,null,null,null,null,null,null,null,null,null," ",""," ",""," ","",{"$f":"IFERROR(INDEX(Base!$A$2:$H$284,MATCH(HOJA_CAPTURA!AB58,Base!$A$2:$A$284,0),3),)","v":0},{"$f":"IFERROR(INDEX(Base!$A$2:$H$284,MATCH(HOJA_CAPTURA!AB58,Base!$A$2:$A$284,0),4),)","v":0},{"$f":"IFERROR(INDEX(Base!$A$2:$H$284,MATCH(HOJA_CAPTURA!AB58,Base!$A$2:$A$284,0),5),)","v":0},{"$f":"IFERROR(INDEX(Base!$A$2:$H$284,MATCH(HOJA_CAPTURA!AB58,Base!$A$2:$A$284,0),6),)","v":0},{"$f":"IFERROR(INDEX(Base!$A$2:$H$284,MATCH(HOJA_CAPTURA!AB58,Base!$A$2:$A$284,0),7),)","v":0},{"$f":"IFERROR(INDEX(Base!$A$2:$H$284,MATCH(HOJA_CAPTURA!AB58,Base!$A$2:$A$284,0),8),)","v":0}]
["Instituto Nacional de Pediatría","Fondo: INP",null,null,null,null,null,null,null,null,null,null,null,null,null,null,null,null,null,null,null,null,null,null,null," ",""," ",""," ","",{"$f":"IFERROR(INDEX(Base!$A$2:$H$284,MATCH(HOJA_CAPTURA!AB59,Base!$A$2:$A$284,0),3),)","v":0},{"$f":"IFERROR(INDEX(Base!$A$2:$H$284,MATCH(HOJA_CAPTURA!AB59,Base!$A$2:$A$284,0),4),)","v":0},{"$f":"IFERROR(INDEX(Base!$A$2:$H$284,MATCH(HOJA_CAPTURA!AB59,Base!$A$2:$A$284,0),5),)","v":0},{"$f":"IFERROR(INDEX(Base!$A$2:$H$284,MATCH(HOJA_CAPTURA!AB59,Base!$A$2:$A$284,0),6),)","v":0},{"$f":"IFERROR(INDEX(Base!$A$2:$H$284,MATCH(HOJA_CAPTURA!AB59,Base!$A$2:$A$284,0),7),)","v":0},{"$f":"IFERROR(INDEX(Base!$A$2:$H$284,MATCH(HOJA_CAPTURA!AB59,Base!$A$2:$A$284,0),8),)","v":0}]
["Instituto Nacional de Pediatría","Fondo: INP",null,null,null,null,null,null,null,null,null,null,null,null,null,null,null,null,null,null,null,null,null,null,null," ",""," ",""," ","",{"$f":"IFERROR(INDEX(Base!$A$2:$H$284,MATCH(HOJA_CAPTURA!AB60,Base!$A$2:$A$284,0),3),)","v":0},{"$f":"IFERROR(INDEX(Base!$A$2:$H$284,MATCH(HOJA_CAPTURA!AB60,Base!$A$2:$A$284,0),4),)","v":0},{"$f":"IFERROR(INDEX(Base!$A$2:$H$284,MATCH(HOJA_CAPTURA!AB60,Base!$A$2:$A$284,0),5),)","v":0},{"$f":"IFERROR(INDEX(Base!$A$2:$H$284,MATCH(HOJA_CAPTURA!AB60,Base!$A$2:$A$284,0),6),)","v":0},{"$f":"IFERROR(INDEX(Base!$A$2:$H$284,MATCH(HOJA_CAPTURA!AB60,Base!$A$2:$A$284,0),7),)","v":0},{"$f":"IFERROR(INDEX(Base!$A$2:$H$284,MATCH(HOJA_CAPTURA!AB60,Base!$A$2:$A$284,0),8),)","v":0}]
["Instituto Nacional de Pediatría","Fondo: INP",null,null,null,null,null,null,null,null,null,null,null,null,null,null,null,null,null,null,null,null,null,null,null," ",""," ",""," ","",{"$f":"IFERROR(INDEX(Base!$A$2:$H$284,MATCH(HOJA_CAPTURA!AB61,Base!$A$2:$A$284,0),3),)","v":0},{"$f":"IFERROR(INDEX(Base!$A$2:$H$284,MATCH(HOJA_CAPTURA!AB61,Base!$A$2:$A$284,0),4),)","v":0},{"$f":"IFERROR(INDEX(Base!$A$2:$H$284,MATCH(HOJA_CAPTURA!AB61,Base!$A$2:$A$284,0),5),)","v":0},{"$f":"IFERROR(INDEX(Base!$A$2:$H$284,MATCH(HOJA_CAPTURA!AB61,Base!$A$2:$A$284,0),6),)","v":0},{"$f":"IFERROR(INDEX(Base!$A$2:$H$284,MATCH(HOJA_CAPTURA!AB61,Base!$A$2:$A$284,0),7),)","v":0},{"$f":"IFERROR(INDEX(Base!$A$2:$H$284,MATCH(HOJA_CAPTURA!AB61,Base!$A$2:$A$284,0),8),)","v":0}]
["Instituto Nacional de Pediatría","Fondo: INP",null,null,null,null,null,null,null,null,null,null,null,null,null,null,null,null,null,null,null,null,null,null,null," ",""," ",""," ","",{"$f":"IFERROR(INDEX(Base!$A$2:$H$284,MATCH(HOJA_CAPTURA!AB62,Base!$A$2:$A$284,0),3),)","v":0},{"$f":"IFERROR(INDEX(Base!$A$2:$H$284,MATCH(HOJA_CAPTURA!AB62,Base!$A$2:$A$284,0),4),)","v":0},{"$f":"IFERROR(INDEX(Base!$A$2:$H$284,MATCH(HOJA_CAPTURA!AB62,Base!$A$2:$A$284,0),5),)","v":0},{"$f":"IFERROR(INDEX(Base!$A$2:$H$284,MATCH(HOJA_CAPTURA!AB62,Base!$A$2:$A$284,0),6),)","v":0},{"$f":"IFERROR(INDEX(Base!$A$2:$H$284,MATCH(HOJA_CAPTURA!AB62,Base!$A$2:$A$284,0),7),)","v":0},{"$f":"IFERROR(INDEX(Base!$A$2:$H$284,MATCH(HOJA_CAPTURA!AB62,Base!$A$2:$A$284,0),8),)","v":0}]
["Instituto Nacional de Pediatría","Fondo: INP",null,null,null,null,null,null,null,null,null,null,null,null,null,null,null,null,null,null,null,null,null,null,null," ",""," ",""," ","",{"$f":"IFERROR(INDEX(Base!$A$2:$H$284,MATCH(HOJA_CAPTURA!AB63,Base!$A$2:$A$284,0),3),)","v":0},{"$f":"IFERROR(INDEX(Base!$A$2:$H$284,MATCH(HOJA_CAPTURA!AB63,Base!$A$2:$A$284,0),4),)","v":0},{"$f":"IFERROR(INDEX(Base!$A$2:$H$284,MATCH(HOJA_CAPTURA!AB63,Base!$A$2:$A$284,0),5),)","v":0},{"$f":"IFERROR(INDEX(Base!$A$2:$H$284,MATCH(HOJA_CAPTURA!AB63,Base!$A$2:$A$284,0),6),)","v":0},{"$f":"IFERROR(INDEX(Base!$A$2:$H$284,MATCH(HOJA_CAPTURA!AB63,Base!$A$2:$A$284,0),7),)","v":0},{"$f":"IFERROR(INDEX(Base!$A$2:$H$284,MATCH(HOJA_CAPTURA!AB63,Base!$A$2:$A$284,0),8),)","v":0}]
["Instituto Nacional de Pediatría","Fondo: INP",null,null,null,null,null,null,null,null,null,null,null,null,null,null,null,null,null,null,null,null,null,null,null," ",""," ",""," ","",{"$f":"IFERROR(INDEX(Base!$A$2:$H$284,MATCH(HOJA_CAPTURA!AB64,Base!$A$2:$A$284,0),3),)","v":0},{"$f":"IFERROR(INDEX(Base!$A$2:$H$284,MATCH(HOJA_CAPTURA!AB64,Base!$A$2:$A$284,0),4),)","v":0},{"$f":"IFERROR(INDEX(Base!$A$2:$H$284,MATCH(HOJA_CAPTURA!AB64,Base!$A$2:$A$284,0),5),)","v":0},{"$f":"IFERROR(INDEX(Base!$A$2:$H$284,MATCH(HOJA_CAPTURA!AB64,Base!$A$2:$A$284,0),6),)","v":0},{"$f":"IFERROR(INDEX(Base!$A$2:$H$284,MATCH(HOJA_CAPTURA!AB64,Base!$A$2:$A$284,0),7),)","v":0},{"$f":"IFERROR(INDEX(Base!$A$2:$H$284,MATCH(HOJA_CAPTURA!AB64,Base!$A$2:$A$284,0),8),)","v":0}]
["Instituto Nacional de Pediatría","Fondo: INP",null,null,null,null,null,null,null,null,null,null,null,null,null,null,null,null,null,null,null,null,null,null,null," ",""," ",""," ","",{"$f":"IFERROR(INDEX(Base!$A$2:$H$284,MATCH(HOJA_CAPTURA!AB65,Base!$A$2:$A$284,0),3),)","v":0},{"$f":"IFERROR(INDEX(Base!$A$2:$H$284,MATCH(HOJA_CAPTURA!AB65,Base!$A$2:$A$284,0),4),)","v":0},{"$f":"IFERROR(INDEX(Base!$A$2:$H$284,MATCH(HOJA_CAPTURA!AB65,Base!$A$2:$A$284,0),5),)","v":0},{"$f":"IFERROR(INDEX(Base!$A$2:$H$284,MATCH(HOJA_CAPTURA!AB65,Base!$A$2:$A$284,0),6),)","v":0},{"$f":"IFERROR(INDEX(Base!$A$2:$H$284,MATCH(HOJA_CAPTURA!AB65,Base!$A$2:$A$284,0),7),)","v":0},{"$f":"IFERROR(INDEX(Base!$A$2:$H$284,MATCH(HOJA_CAPTURA!AB65,Base!$A$2:$A$284,0),8),)","v":0}]
["Instituto Nacional de Pediatría","Fondo: INP",null,null,null,null,null,null,null,null,null,null,null,null,null,null,null,null,null,null,null,null,null,null,null," ",""," ",""," ","",{"$f":"IFERROR(INDEX(Base!$A$2:$H$284,MATCH(HOJA_CAPTURA!AB66,Base!$A$2:$A$284,0),3),)","v":0},{"$f":"IFERROR(INDEX(Base!$A$2:$H$284,MATCH(HOJA_CAPTURA!AB66,Base!$A$2:$A$284,0),4),)","v":0},{"$f":"IFERROR(INDEX(Base!$A$2:$H$284,MATCH(HOJA_CAPTURA!AB66,Base!$A$2:$A$284,0),5),)","v":0},{"$f":"IFERROR(INDEX(Base!$A$2:$H$284,MATCH(HOJA_CAPTURA!AB66,Base!$A$2:$A$284,0),6),)","v":0},{"$f":"IFERROR(INDEX(Base!$A$2:$H$284,MATCH(HOJA_CAPTURA!AB66,Base!$A$2:$A$284,0),7),)","v":0},{"$f":"IFERROR(INDEX(Base!$A$2:$H$284,MATCH(HOJA_CAPTURA!AB66,Base!$A$2:$A$284,0),8),)","v":0}]
["Instituto Nacional de Pediatría","Fondo: INP",null,null,null,null,null,null,null,null,null,null,null,null,null,null,null,null,null,null,null,null,null,null,null," ",""," ",""," ","",{"$f":"IFERROR(INDEX(Base!$A$2:$H$284,MATCH(HOJA_CAPTURA!AB67,Base!$A$2:$A$284,0),3),)","v":0},{"$f":"IFERROR(INDEX(Base!$A$2:$H$284,MATCH(HOJA_CAPTURA!AB67,Base!$A$2:$A$284,0),4),)","v":0},{"$f":"IFERROR(INDEX(Base!$A$2:$H$284,MATCH(HOJA_CAPTURA!AB67,Base!$A$2:$A$284,0),5),)","v":0},{"$f":"IFERROR(INDEX(Base!$A$2:$H$284,MATCH(HOJA_CAPTURA!AB67,Base!$A$2:$A$284,0),6),)","v":0},{"$f":"IFERROR(INDEX(Base!$A$2:$H$284,MATCH(HOJA_CAPTURA!AB67,Base!$A$2:$A$284,0),7),)","v":0},{"$f":"IFERROR(INDEX(Base!$A$2:$H$284,MATCH(HOJA_CAPTURA!AB67,Base!$A$2:$A$284,0),8),)","v":0}]
["Instituto Nacional de Pediatría","Fondo: INP",null,null,null,null,null,null,null,null,null,null,null,null,null,null,null,null,null,null,null,null,null,null,null," ",{"$f":"MID(G68,LEN(Z68)+2, 80)","v":""}," ","",{"$f":"IF(I68>0,MID(I68,1,FIND(\" \",H68,1)+1),\" \")","v":" "},{"$f":"IF(LEFT(I68,6)=\"N/A\", \"N/A\", IFERROR(RIGHT(I68, LEN(I68) - FIND(\" \", I68)), \"\"))","v":""},{"$f":"IFERROR(INDEX(Base!$A$2:$H$284,MATCH(HOJA_CAPTURA!AB68,Base!$A$2:$A$284,0),3),)","v":0},{"$f":"IFERROR(INDEX(Base!$A$2:$H$284,MATCH(HOJA_CAPTURA!AB68,Base!$A$2:$A$284,0),4),)","v":0},{"$f":"IFERROR(INDEX(Base!$A$2:$H$284,MATCH(HOJA_CAPTURA!AB68,Base!$A$2:$A$284,0),5),)","v":0},{"$f":"IFERROR(INDEX(Base!$A$2:$H$284,MATCH(HOJA_CAPTURA!AB68,Base!$A$2:$A$284,0),6),)","v":0},{"$f":"IFERROR(INDEX(Base!$A$2:$H$284,MATCH(HOJA_CAPTURA!AB68,Base!$A$2:$A$284,0),7),)","v":0},{"$f":"IFERROR(INDEX(Base!$A$2:$H$284,MATCH(HOJA_CAPTURA!AB68,Base!$A$2:$A$284,0),8),)","v":0}]
["Instituto Nacional de Pediatría","Fondo: INP",null,null,null,null,null,null,null,null,null,null,null,null,null,null,null,null,null,null,null,null,null,null,null," ",""," ",""," ","",{"$f":"IFERROR(INDEX(Base!$A$2:$H$284,MATCH(HOJA_CAPTURA!AB69,Base!$A$2:$A$284,0),3),)","v":0},{"$f":"IFERROR(INDEX(Base!$A$2:$H$284,MATCH(HOJA_CAPTURA!AB69,Base!$A$2:$A$284,0),4),)","v":0},{"$f":"IFERROR(INDEX(Base!$A$2:$H$284,MATCH(HOJA_CAPTURA!AB69,Base!$A$2:$A$284,0),5),)","v":0},{"$f":"IFERROR(INDEX(Base!$A$2:$H$284,MATCH(HOJA_CAPTURA!AB69,Base!$A$2:$A$284,0),6),)","v":0},{"$f":"IFERROR(INDEX(Base!$A$2:$H$284,MATCH(HOJA_CAPTURA!AB69,Base!$A$2:$A$284,0),7),)","v":0},{"$f":"IFERROR(INDEX(Base!$A$2:$H$284,MATCH(HOJA_CAPTURA!AB69,Base!$A$2:$A$284,0),8),)","v":0}]
["Instituto Nacional de Pediatría","Fondo: INP",null,null,null,null,null,null,null,null,null,null,null,null,null,null,null,null,null,null,null,null,null,null,null," ",""," ",""," ","",{"$f":"IFERROR(INDEX(Base!$A$2:$H$284,MATCH(HOJA_CAPTURA!AB70,Base!$A$2:$A$284,0),3),)","v":0},{"$f":"IFERROR(INDEX(Base!$A$2:$H$284,MATCH(HOJA_CAPTURA!AB70,Base!$A$2:$A$284,0),4),)","v":0},{"$f":"IFERROR(INDEX(Base!$A$2:$H$284,MATCH(HOJA_CAPTURA!AB70,Base!$A$2:$A$284,0),5),)","v":0},{"$f":"IFERROR(INDEX(Base!$A$2:$H$284,MATCH(HOJA_CAPTURA!AB70,Base!$A$2:$A$284,0),6),)","v":0},{"$f":"IFERROR(INDEX(Base!$A$2:$H$284,MATCH(HOJA_CAPTURA!AB70,Base!$A$2:$A$284,0),7),)","v":0},{"$f":"IFERROR(INDEX(Base!$A$2:$H$284,MATCH(HOJA_CAPTURA!AB70,Base!$A$2:$A$284,0),8),)","v":0}]
["Instituto Nacional de Pediatría","Fondo: INP",null,null,null,null,null,null,null,null,null,null,null,null,null,null,null,null,null,null,null,null,null,null,null,{"$f":"IF(G71>0, MID(G71,1,FIND(\" \",G71,1)-1), \" \")","v":" "},"",{"$f":"IF(H71>0, MID(H71,1,FIND(\" \",H71,1)-1), \" \")","v":" "},""," ","",{"$f":"IFERROR(INDEX(Base!$A$2:$H$284,MATCH(HOJA_CAPTURA!AB71,Base!$A$2:$A$284,0),3),)","v":0},{"$f":"IFERROR(INDEX(Base!$A$2:$H$284,MATCH(HOJA_CAPTURA!AB71,Base!$A$2:$A$284,0),4),)","v":0},{"$f":"IFERROR(INDEX(Base!$A$2:$H$284,MATCH(HOJA_CAPTURA!AB71,Base!$A$2:$A$284,0),5),)","v":0},{"$f":"IFERROR(INDEX(Base!$A$2:$H$284,MATCH(HOJA_CAPTURA!AB71,Base!$A$2:$A$284,0),6),)","v":0},{"$f":"IFERROR(INDEX(Base!$A$2:$H$284,MATCH(HOJA_CAPTURA!AB71,Base!$A$2:$A$284,0),7),)","v":0},{"$f":"IFERROR(INDEX(Base!$A$2:$H$284,MATCH(HOJA_CAPTURA!AB71,Base!$A$2:$A$284,0),8),)","v":0}]
["Instituto Nacional de Pediatría","Fondo: INP",null,null,null,null,null,null,null,null,null,null,null,null,null,null,null,null,null,null,null,null,null,null,null," ",""," ",{"$f":"MID(H72,LEN(AB72)+2, 80)","v":""}," ","",{"$f":"IFERROR(INDEX(Base!$A$2:$H$284,MATCH(HOJA_CAPTURA!AB72,Base!$A$2:$A$284,0),3),)","v":0},{"$f":"IFERROR(INDEX(Base!$A$2:$H$284,MATCH(HOJA_CAPTURA!AB72,Base!$A$2:$A$284,0),4),)","v":0},{"$f":"IFERROR(INDEX(Base!$A$2:$H$284,MATCH(HOJA_CAPTURA!AB72,Base!$A$2:$A$284,0),5),)","v":0},{"$f":"IFERROR(INDEX(Base!$A$2:$H$284,MATCH(HOJA_CAPTURA!AB72,Base!$A$2:$A$284,0),6),)","v":0},{"$f":"IFERROR(INDEX(Base!$A$2:$H$284,MATCH(HOJA_CAPTURA!AB72,Base!$A$2:$A$284,0),7),)","v":0},{"$f":"IFERROR(INDEX(Base!$A$2:$H$284,MATCH(HOJA_CAPTURA!AB72,Base!$A$2:$A$284,0),8),)","v":0}]
["Instituto Nacional de Pediatría","Fondo: INP",null,null,null,null,null,null,null,null,null,null,null,null,null,null,null,null,null,null,null,null,null,null,null," ",""," ",""," ","",{"$f":"IFERROR(INDEX(Base!$A$2:$H$284,MATCH(HOJA_CAPTURA!AB73,Base!$A$2:$A$284,0),3),)","v":0},{"$f":"IFERROR(INDEX(Base!$A$2:$H$284,MATCH(HOJA_CAPTURA!AB73,Base!$A$2:$A$284,0),4),)","v":0},{"$f":"IFERROR(INDEX(Base!$A$2:$H$284,MATCH(HOJA_CAPTURA!AB73,Base!$A$2:$A$284,0),5),)","v":0},{"$f":"IFERROR(INDEX(Base!$A$2:$H$284,MATCH(HOJA_CAPTURA!AB73,Base!$A$2:$A$284,0),6),)","v":0},{"$f":"IFERROR(INDEX(Base!$A$2:$H$284,MATCH(HOJA_CAPTURA!AB73,Base!$A$2:$A$284,0),7),)","v":0},{"$f":"IFERROR(INDEX(Base!$A$2:$H$284,MATCH(HOJA_CAPTURA!AB73,Base!$A$2:$A$284,0),8),)","v":0}]
["Instituto Nacional de Pediatría","Fondo: INP",null,null,null,null,null,null,null,null,null,null,null,null,null,null,null,null,null,null,null,null,null,null,null," ",""," ",""," ","",{"$f":"IFERROR(INDEX(Base!$A$2:$H$284,MATCH(HOJA_CAPTURA!AB74,Base!$A$2:$A$284,0),3),)","v":0},{"$f":"IFERROR(INDEX(Base!$A$2:$H$284,MATCH(HOJA_CAPTURA!AB74,Base!$A$2:$A$284,0),4),)","v":0},{"$f":"IFERROR(INDEX(Base!$A$2:$H$284,MATCH(HOJA_CAPTURA!AB74,Base!$A$2:$A$284,0),5),)","v":0},{"$f":"IFERROR(INDEX(Base!$A$2:$H$284,MATCH(HOJA_CAPTURA!AB74,Base!$A$2:$A$284,0),6),)","v":0},{"$f":"IFERROR(INDEX(Base!$A$2:$H$284,MATCH(HOJA_CAPTURA!AB74,Base!$A$2:$A$284,0),7),)","v":0},{"$f":"IFERROR(INDEX(Base!$A$2:$H$284,MATCH(HOJA_CAPTURA!AB74,Base!$A$2:$A$284,0),8),)","v":0}]
["Instituto Nacional de Pediatría","Fondo: INP",null,null,null,null,null,null,null,null,null,null,null,null,null,null,null,null,null,null,null,null,null,null,null," ",""," ",""," ","",{"$f":"IFERROR(INDEX(Base!$A$2:$H$284,MATCH(HOJA_CAPTURA!AB75,Base!$A$2:$A$284,0),3),)","v":0},{"$f":"IFERROR(INDEX(Base!$A$2:$H$284,MATCH(HOJA_CAPTURA!AB75,Base!$A$2:$A$284,0),4),)","v":0},{"$f":"IFERROR(INDEX(Base!$A$2:$H$284,MATCH(HOJA_CAPTURA!AB75,Base!$A$2:$A$284,0),5),)","v":0},{"$f":"IFERROR(INDEX(Base!$A$2:$H$284,MATCH(HOJA_CAPTURA!AB75,Base!$A$2:$A$284,0),6),)","v":0},{"$f":"IFERROR(INDEX(Base!$A$2:$H$284,MATCH(HOJA_CAPTURA!AB75,Base!$A$2:$A$284,0),7),)","v":0},{"$f":"IFERROR(INDEX(Base!$A$2:$H$284,MATCH(HOJA_CAPTURA!AB75,Base!$A$2:$A$284,0),8),)","v":0}]
["Instituto Nacional de Pediatría","Fondo: INP",null,null,null,null,null,null,null,null,null,null,null,null,null,null,null,null,null,null,null,null,null,null,null," ",""," ",""," ","",{"$f":"IFERROR(INDEX(Base!$A$2:$H$284,MATCH(HOJA_CAPTURA!AB76,Base!$A$2:$A$284,0),3),)","v":0},{"$f":"IFERROR(INDEX(Base!$A$2:$H$284,MATCH(HOJA_CAPTURA!AB76,Base!$A$2:$A$284,0),4),)","v":0},{"$f":"IFERROR(INDEX(Base!$A$2:$H$284,MATCH(HOJA_CAPTURA!AB76,Base!$A$2:$A$284,0),5),)","v":0},{"$f":"IFERROR(INDEX(Base!$A$2:$H$284,MATCH(HOJA_CAPTURA!AB76,Base!$A$2:$A$284,0),6),)","v":0},{"$f":"IFERROR(INDEX(Base!$A$2:$H$284,MATCH(HOJA_CAPTURA!AB76,Base!$A$2:$A$284,0),7),)","v":0},{"$f":"IFERROR(INDEX(Base!$A$2:$H$284,MATCH(HOJA_CAPTURA!AB76,Base!$A$2:$A$284,0),8),)","v":0}]
["Instituto Nacional de Pediatría","Fondo: INP",null,null,null,null,null,null,null,null,null,null,null,null,null,null,null,null,null,null,null,null,null,null,null," ",""," ",""," ","",{"$f":"IFERROR(INDEX(Base!$A$2:$H$284,MATCH(HOJA_CAPTURA!AB77,Base!$A$2:$A$284,0),3),)","v":0},{"$f":"IFERROR(INDEX(Base!$A$2:$H$284,MATCH(HOJA_CAPTURA!AB77,Base!$A$2:$A$284,0),4),)","v":0},{"$f":"IFERROR(INDEX(Base!$A$2:$H$284,MATCH(HOJA_CAPTURA!AB77,Base!$A$2:$A$284,0),5),)","v":0},{"$f":"IFERROR(INDEX(Base!$A$2:$H$284,MATCH(HOJA_CAPTURA!AB77,Base!$A$2:$A$284,0),6),)","v":0},{"$f":"IFERROR(INDEX(Base!$A$2:$H$284,MATCH(HOJA_CAPTURA!AB77,Base!$A$2:$A$284,0),7),)","v":0},{"$f":"IFERROR(INDEX(Base!$A$2:$H$284,MATCH(HOJA_CAPTURA!AB77,Base!$A$2:$A$284,0),8),)","v":0}]
["Instituto Nacional de Pediatría","Fondo: INP",null,null,null,null,null,null,null,null,null,null,null,null,null,null,null,null,null,null,null,null,null,null,null," ",""," ",""," ","",{"$f":"IFERROR(INDEX(Base!$A$2:$H$284,MATCH(HOJA_CAPTURA!AB78,Base!$A$2:$A$284,0),3),)","v":0},{"$f":"IFERROR(INDEX(Base!$A$2:$H$284,MATCH(HOJA_CAPTURA!AB78,Base!$A$2:$A$284,0),4),)","v":0},{"$f":"IFERROR(INDEX(Base!$A$2:$H$284,MATCH(HOJA_CAPTURA!AB78,Base!$A$2:$A$284,0),5),)","v":0},{"$f":"IFERROR(INDEX(Base!$A$2:$H$284,MATCH(HOJA_CAPTURA!AB78,Base!$A$2:$A$284,0),6),)","v":0},{"$f":"IFERROR(INDEX(Base!$A$2:$H$284,MATCH(HOJA_CAPTURA!AB78,Base!$A$2:$A$284,0),7),)","v":0},{"$f":"IFERROR(INDEX(Base!$A$2:$H$284,MATCH(HOJA_CAPTURA!AB78,Base!$A$2:$A$284,0),8),)","v":0}]
["Instituto Nacional de Pediatría","Fondo: INP",null,null,null,null,null,null,null,null,null,null,null,null,null,null,null,null,null,null,null,null,null,null,null," ",""," ",""," ","",{"$f":"IFERROR(INDEX(Base!$A$2:$H$284,MATCH(HOJA_CAPTURA!AB79,Base!$A$2:$A$284,0),3),)","v":0},{"$f":"IFERROR(INDEX(Base!$A$2:$H$284,MATCH(HOJA_CAPTURA!AB79,Base!$A$2:$A$284,0),4),)","v":0},{"$f":"IFERROR(INDEX(Base!$A$2:$H$284,MATCH(HOJA_CAPTURA!AB79,Base!$A$2:$A$284,0),5),)","v":0},{"$f":"IFERROR(INDEX(Base!$A$2:$H$284,MATCH(HOJA_CAPTURA!AB79,Base!$A$2:$A$284,0),6),)","v":0},{"$f":"IFERROR(INDEX(Base!$A$2:$H$284,MATCH(HOJA_CAPTURA!AB79,Base!$A$2:$A$284,0),7),)","v":0},{"$f":"IFERROR(INDEX(Base!$A$2:$H$284,MATCH(HOJA_CAPTURA!AB79,Base!$A$2:$A$284,0),8),)","v":0}]
["Instituto Nacional de Pediatría","Fondo: INP",null,null,null,null,null,null,null,null,null,null,null,null,null,null,null,null,null,null,null,null,null,null,null," ",""," ",""," ","",{"$f":"IFERROR(INDEX(Base!$A$2:$H$284,MATCH(HOJA_CAPTURA!AB80,Base!$A$2:$A$284,0),3),)","v":0},{"$f":"IFERROR(INDEX(Base!$A$2:$H$284,MATCH(HOJA_CAPTURA!AB80,Base!$A$2:$A$284,0),4),)","v":0},{"$f":"IFERROR(INDEX(Base!$A$2:$H$284,MATCH(HOJA_CAPTURA!AB80,Base!$A$2:$A$284,0),5),)","v":0},{"$f":"IFERROR(INDEX(Base!$A$2:$H$284,MATCH(HOJA_CAPTURA!AB80,Base!$A$2:$A$284,0),6),)","v":0},{"$f":"IFERROR(INDEX(Base!$A$2:$H$284,MATCH(HOJA_CAPTURA!AB80,Base!$A$2:$A$284,0),7),)","v":0},{"$f":"IFERROR(INDEX(Base!$A$2:$H$284,MATCH(HOJA_CAPTURA!AB80,Base!$A$2:$A$284,0),8),)","v":0}]
["Instituto Nacional de Pediatría","Fondo: INP",null,null,null,null,null,null,null,null,null,null,null,null,null,null,null,null,null,null,null,null,null,null,null," ",""," ",""," ","",{"$f":"IFERROR(INDEX(Base!$A$2:$H$284,MATCH(HOJA_CAPTURA!AB81,Base!$A$2:$A$284,0),3),)","v":0},{"$f":"IFERROR(INDEX(Base!$A$2:$H$284,MATCH(HOJA_CAPTURA!AB81,Base!$A$2:$A$284,0),4),)","v":0},{"$f":"IFERROR(INDEX(Base!$A$2:$H$284,MATCH(HOJA_CAPTURA!AB81,Base!$A$2:$A$284,0),5),)","v":0},{"$f":"IFERROR(INDEX(Base!$A$2:$H$284,MATCH(HOJA_CAPTURA!AB81,Base!$A$2:$A$284,0),6),)","v":0},{"$f":"IFERROR(INDEX(Base!$A$2:$H$284,MATCH(HOJA_CAPTURA!AB81,Base!$A$2:$A$284,0),7),)","v":0},{"$f":"IFERROR(INDEX(Base!$A$2:$H$284,MATCH(HOJA_CAPTURA!AB81,Base!$A$2:$A$284,0),8),)","v":0}]
["Instituto Nacional de Pediatría","Fondo: INP",null,null,null,null,null,null,null,null,null,null,null,null,null,null,null,null,null,null,null,null,null,null,null," ",""," ",""," ","",{"$f":"IFERROR(INDEX(Base!$A$2:$H$284,MATCH(HOJA_CAPTURA!AB82,Base!$A$2:$A$284,0),3),)","v":0},{"$f":"IFERROR(INDEX(Base!$A$2:$H$284,MATCH(HOJA_CAPTURA!AB82,Base!$A$2:$A$284,0),4),)","v":0},{"$f":"IFERROR(INDEX(Base!$A$2:$H$284,MATCH(HOJA_CAPTURA!AB82,Base!$A$2:$A$284,0),5),)","v":0},{"$f":"IFERROR(INDEX(Base!$A$2:$H$284,MATCH(HOJA_CAPTURA!AB82,Base!$A$2:$A$284,0),6),)","v":0},{"$f":"IFERROR(INDEX(Base!$A$2:$H$284,MATCH(HOJA_CAPTURA!AB82,Base!$A$2:$A$284,0),7),)","v":0},{"$f":"IFERROR(INDEX(Base!$A$2:$H$284,MATCH(HOJA_CAPTURA!AB82,Base!$A$2:$A$284,0),8),)","v":0}]
["Instituto Nacional de Pediatría","Fondo: INP",null,null,null,null,null,null,null,null,null,null,null,null,null,null,null,null,null,null,null,null,null,null,null," ",""," ",""," ","",{"$f":"IFERROR(INDEX(Base!$A$2:$H$284,MATCH(HOJA_CAPTURA!AB83,Base!$A$2:$A$284,0),3),)","v":0},{"$f":"IFERROR(INDEX(Base!$A$2:$H$284,MATCH(HOJA_CAPTURA!AB83,Base!$A$2:$A$284,0),4),)","v":0},{"$f":"IFERROR(INDEX(Base!$A$2:$H$284,MATCH(HOJA_CAPTURA!AB83,Base!$A$2:$A$284,0),5),)","v":0},{"$f":"IFERROR(INDEX(Base!$A$2:$H$284,MATCH(HOJA_CAPTURA!AB83,Base!$A$2:$A$284,0),6),)","v":0},{"$f":"IFERROR(INDEX(Base!$A$2:$H$284,MATCH(HOJA_CAPTURA!AB83,Base!$A$2:$A$284,0),7),)","v":0},{"$f":"IFERROR(INDEX(Base!$A$2:$H$284,MATCH(HOJA_CAPTURA!AB83,Base!$A$2:$A$284,0),8),)","v":0}]
["Instituto Nacional de Pediatría","Fondo: INP",null,null,null,null,null,null,null,null,null,null,null,null,null,null,null,null,null,null,null,null,null,null,null," ",""," ",""," ","",{"$f":"IFERROR(INDEX(Base!$A$2:$H$284,MATCH(HOJA_CAPTURA!AB84,Base!$A$2:$A$284,0),3),)","v":0},{"$f":"IFERROR(INDEX(Base!$A$2:$H$284,MATCH(HOJA_CAPTURA!AB84,Base!$A$2:$A$284,0),4),)","v":0},{"$f":"IFERROR(INDEX(Base!$A$2:$H$284,MATCH(HOJA_CAPTURA!AB84,Base!$A$2:$A$284,0),5),)","v":0},{"$f":"IFERROR(INDEX(Base!$A$2:$H$284,MATCH(HOJA_CAPTURA!AB84,Base!$A$2:$A$284,0),6),)","v":0},{"$f":"IFERROR(INDEX(Base!$A$2:$H$284,MATCH(HOJA_CAPTURA!AB84,Base!$A$2:$A$284,0),7),)","v":0},{"$f":"IFERROR(INDEX(Base!$A$2:$H$284,MATCH(HOJA_CAPTURA!AB84,Base!$A$2:$A$284,0),8),)","v":0}]
["Instituto Nacional de Pediatría","Fondo: INP",null,null,null,null,null,null,null,null,null,null,null,null,null,null,null,null,null,null,null,null,null,null,null," ",""," ",""," ","",{"$f":"IFERROR(INDEX(Base!$A$2:$H$284,MATCH(HOJA_CAPTURA!AB85,Base!$A$2:$A$284,0),3),)","v":0},{"$f":"IFERROR(INDEX(Base!$A$2:$H$284,MATCH(HOJA_CAPTURA!AB85,Base!$A$2:$A$284,0),4),)","v":0},{"$f":"IFERROR(INDEX(Base!$A$2:$H$284,MATCH(HOJA_CAPTURA!AB85,Base!$A$2:$A$284,0),5),)","v":0},{"$f":"IFERROR(INDEX(Base!$A$2:$H$284,MATCH(HOJA_CAPTURA!AB85,Base!$A$2:$A$284,0),6),)","v":0},{"$f":"IFERROR(INDEX(Base!$A$2:$H$284,MATCH(HOJA_CAPTURA!AB85,Base!$A$2:$A$284,0),7),)","v":0},{"$f":"IFERROR(INDEX(Base!$A$2:$H$284,MATCH(HOJA_CAPTURA!AB85,Base!$A$2:$A$284,0),8),)","v":0}]
["Instituto Nacional de Pediatría","Fondo: INP",null,null,null,null,null,null,null,null,null,null,null,null,null,null,null,null,null,null,null,null,null,null,null," ",""," ",""," ","",{"$f":"IFERROR(INDEX(Base!$A$2:$H$284,MATCH(HOJA_CAPTURA!AB86,Base!$A$2:$A$284,0),3),)","v":0},{"$f":"IFERROR(INDEX(Base!$A$2:$H$284,MATCH(HOJA_CAPTURA!AB86,Base!$A$2:$A$284,0),4),)","v":0},{"$f":"IFERROR(INDEX(Base!$A$2:$H$284,MATCH(HOJA_CAPTURA!AB86,Base!$A$2:$A$284,0),5),)","v":0},{"$f":"IFERROR(INDEX(Base!$A$2:$H$284,MATCH(HOJA_CAPTURA!AB86,Base!$A$2:$A$284,0),6),)","v":0},{"$f":"IFERROR(INDEX(Base!$A$2:$H$284,MATCH(HOJA_CAPTURA!AB86,Base!$A$2:$A$284,0),7),)","v":0},{"$f":"IFERROR(INDEX(Base!$A$2:$H$284,MATCH(HOJA_CAPTURA!AB86,Base!$A$2:$A$284,0),8),)","v":0}]
["Instituto Nacional de Pediatría","Fondo: INP",null,null,null,null,null,null,null,null,null,null,null,null,null,null,null,null,null,null,null,null,null,null,null," ",""," ",""," ","",{"$f":"IFERROR(INDEX(Base!$A$2:$H$284,MATCH(HOJA_CAPTURA!AB87,Base!$A$2:$A$284,0),3),)","v":0},{"$f":"IFERROR(INDEX(Base!$A$2:$H$284,MATCH(HOJA_CAPTURA!AB87,Base!$A$2:$A$284,0),4),)","v":0},{"$f":"IFERROR(INDEX(Base!$A$2:$H$284,MATCH(HOJA_CAPTURA!AB87,Base!$A$2:$A$284,0),5),)","v":0},{"$f":"IFERROR(INDEX(Base!$A$2:$H$284,MATCH(HOJA_CAPTURA!AB87,Base!$A$2:$A$284,0),6),)","v":0},{"$f":"IFERROR(INDEX(Base!$A$2:$H$284,MATCH(HOJA_CAPTURA!AB87,Base!$A$2:$A$284,0),7),)","v":0},{"$f":"IFERROR(INDEX(Base!$A$2:$H$284,MATCH(HOJA_CAPTURA!AB87,Base!$A$2:$A$284,0),8),)","v":0}]
["Instituto Nacional de Pediatría","Fondo: INP",null,null,null,null,null,null,null,null,null,null,null,null,null,null,null,null,null,null,null,null,null,null,null," ",""," ",""," ","",{"$f":"IFERROR(INDEX(Base!$A$2:$H$284,MATCH(HOJA_CAPTURA!AB88,Base!$A$2:$A$284,0),3),)","v":0},{"$f":"IFERROR(INDEX(Base!$A$2:$H$284,MATCH(HOJA_CAPTURA!AB88,Base!$A$2:$A$284,0),4),)","v":0},{"$f":"IFERROR(INDEX(Base!$A$2:$H$284,MATCH(HOJA_CAPTURA!AB88,Base!$A$2:$A$284,0),5),)","v":0},{"$f":"IFERROR(INDEX(Base!$A$2:$H$284,MATCH(HOJA_CAPTURA!AB88,Base!$A$2:$A$284,0),6),)","v":0},{"$f":"IFERROR(INDEX(Base!$A$2:$H$284,MATCH(HOJA_CAPTURA!AB88,Base!$A$2:$A$284,0),7),)","v":0},{"$f":"IFERROR(INDEX(Base!$A$2:$H$284,MATCH(HOJA_CAPTURA!AB88,Base!$A$2:$A$284,0),8),)","v":0}]
["Instituto Nacional de Pediatría","Fondo: INP",null,null,null,null,null,null,null,null,null,null,null,null,null,null,null,null,null,null,null,null,null,null,null," ",""," ",""," ","",{"$f":"IFERROR(INDEX(Base!$A$2:$H$284,MATCH(HOJA_CAPTURA!AB89,Base!$A$2:$A$284,0),3),)","v":0},{"$f":"IFERROR(INDEX(Base!$A$2:$H$284,MATCH(HOJA_CAPTURA!AB89,Base!$A$2:$A$284,0),4),)","v":0},{"$f":"IFERROR(INDEX(Base!$A$2:$H$284,MATCH(HOJA_CAPTURA!AB89,Base!$A$2:$A$284,0),5),)","v":0},{"$f":"IFERROR(INDEX(Base!$A$2:$H$284,MATCH(HOJA_CAPTURA!AB89,Base!$A$2:$A$284,0),6),)","v":0},{"$f":"IFERROR(INDEX(Base!$A$2:$H$284,MATCH(HOJA_CAPTURA!AB89,Base!$A$2:$A$284,0),7),)","v":0},{"$f":"IFERROR(INDEX(Base!$A$2:$H$284,MATCH(HOJA_CAPTURA!AB89,Base!$A$2:$A$284,0),8),)","v":0}]
["Instituto Nacional de Pediatría","Fondo: INP",null,null,null,null,null,null,null,null,null,null,null,null,null,null,null,null,null,null,null,null,null,null,null," ",""," ",""," ","",{"$f":"IFERROR(INDEX(Base!$A$2:$H$284,MATCH(HOJA_CAPTURA!AB90,Base!$A$2:$A$284,0),3),)","v":0},{"$f":"IFERROR(INDEX(Base!$A$2:$H$284,MATCH(HOJA_CAPTURA!AB90,Base!$A$2:$A$284,0),4),)","v":0},{"$f":"IFERROR(INDEX(Base!$A$2:$H$284,MATCH(HOJA_CAPTURA!AB90,Base!$A$2:$A$284,0),5),)","v":0},{"$f":"IFERROR(INDEX(Base!$A$2:$H$284,MATCH(HOJA_CAPTURA!AB90,Base!$A$2:$A$284,0),6),)","v":0},{"$f":"IFERROR(INDEX(Base!$A$2:$H$284,MATCH(HOJA_CAPTURA!AB90,Base!$A$2:$A$284,0),7),)","v":0},{"$f":"IFERROR(INDEX(Base!$A$2:$H$284,MATCH(HOJA_CAPTURA!AB90,Base!$A$2:$A$284,0),8),)","v":0}]
["Instituto Nacional de Pediatría","Fondo: INP",null,null,null,null,null,null,null,null,null,null,null,null,null,null,null,null,null,null,null,null,null,null,null," ",""," ",""," ","",{"$f":"IFERROR(INDEX(Base!$A$2:$H$284,MATCH(HOJA_CAPTURA!AB91,Base!$A$2:$A$284,0),3),)","v":0},{"$f":"IFERROR(INDEX(Base!$A$2:$H$284,MATCH(HOJA_CAPTURA!AB91,Base!$A$2:$A$284,0),4),)","v":0},{"$f":"IFERROR(INDEX(Base!$A$2:$H$284,MATCH(HOJA_CAPTURA!AB91,Base!$A$2:$A$284,0),5),)","v":0},{"$f":"IFERROR(INDEX(Base!$A$2:$H$284,MATCH(HOJA_CAPTURA!AB91,Base!$A$2:$A$284,0),6),)","v":0},{"$f":"IFERROR(INDEX(Base!$A$2:$H$284,MATCH(HOJA_CAPTURA!AB91,Base!$A$2:$A$284,0),7),)","v":0},{"$f":"IFERROR(INDEX(Base!$A$2:$H$284,MATCH(HOJA_CAPTURA!AB91,Base!$A$2:$A$284,0),8),)","v":0}]
["Instituto Nacional de Pediatría","Fondo: INP",null,null,null,null,null,null,null,null,null,null,null,null,null,null,null,null,null,null,null,null,null,null,null," ",""," ",""," ","",{"$f":"IFERROR(INDEX(Base!$A$2:$H$284,MATCH(HOJA_CAPTURA!AB92,Base!$A$2:$A$284,0),3),)","v":0},{"$f":"IFERROR(INDEX(Base!$A$2:$H$284,MATCH(HOJA_CAPTURA!AB92,Base!$A$2:$A$284,0),4),)","v":0},{"$f":"IFERROR(INDEX(Base!$A$2:$H$284,MATCH(HOJA_CAPTURA!AB92,Base!$A$2:$A$284,0),5),)","v":0},{"$f":"IFERROR(INDEX(Base!$A$2:$H$284,MATCH(HOJA_CAPTURA!AB92,Base!$A$2:$A$284,0),6),)","v":0},{"$f":"IFERROR(INDEX(Base!$A$2:$H$284,MATCH(HOJA_CAPTURA!AB92,Base!$A$2:$A$284,0),7),)","v":0},{"$f":"IFERROR(INDEX(Base!$A$2:$H$284,MATCH(HOJA_CAPTURA!AB92,Base!$A$2:$A$284,0),8),)","v":0}]
["Instituto Nacional de Pediatría","Fondo: INP",null,null,null,null,null,null,null,null,null,null,null,null,null,null,null,null,null,null,null,null,null,null,null," ",""," ",""," ","",{"$f":"IFERROR(INDEX(Base!$A$2:$H$284,MATCH(HOJA_CAPTURA!AB93,Base!$A$2:$A$284,0),3),)","v":0},{"$f":"IFERROR(INDEX(Base!$A$2:$H$284,MATCH(HOJA_CAPTURA!AB93,Base!$A$2:$A$284,0),4),)","v":0},{"$f":"IFERROR(INDEX(Base!$A$2:$H$284,MATCH(HOJA_CAPTURA!AB93,Base!$A$2:$A$284,0),5),)","v":0},{"$f":"IFERROR(INDEX(Base!$A$2:$H$284,MATCH(HOJA_CAPTURA!AB93,Base!$A$2:$A$284,0),6),)","v":0},{"$f":"IFERROR(INDEX(Base!$A$2:$H$284,MATCH(HOJA_CAPTURA!AB93,Base!$A$2:$A$284,0),7),)","v":0},{"$f":"IFERROR(INDEX(Base!$A$2:$H$284,MATCH(HOJA_CAPTURA!AB93,Base!$A$2:$A$284,0),8),)","v":0}]
["Instituto Nacional de Pediatría","Fondo: INP",null,null,null,null,null,null,null,null,null,null,null,null,null,null,null,null,null,null,null,null,null,null,null," ",""," ",""," ","",{"$f":"IFERROR(INDEX(Base!$A$2:$H$284,MATCH(HOJA_CAPTURA!AB94,Base!$A$2:$A$284,0),3),)","v":0},{"$f":"IFERROR(INDEX(Base!$A$2:$H$284,MATCH(HOJA_CAPTURA!AB94,Base!$A$2:$A$284,0),4),)","v":0},{"$f":"IFERROR(INDEX(Base!$A$2:$H$284,MATCH(HOJA_CAPTURA!AB94,Base!$A$2:$A$284,0),5),)","v":0},{"$f":"IFERROR(INDEX(Base!$A$2:$H$284,MATCH(HOJA_CAPTURA!AB94,Base!$A$2:$A$284,0),6),)","v":0},{"$f":"IFERROR(INDEX(Base!$A$2:$H$284,MATCH(HOJA_CAPTURA!AB94,Base!$A$2:$A$284,0),7),)","v":0},{"$f":"IFERROR(INDEX(Base!$A$2:$H$284,MATCH(HOJA_CAPTURA!AB94,Base!$A$2:$A$284,0),8),)","v":0}]
["Instituto Nacional de Pediatría","Fondo: INP",null,null,null,null,null,null,null,null,null,null,null,null,null,null,null,null,null,null,null,null,null,null,null," ",""," ",""," ","",{"$f":"IFERROR(INDEX(Base!$A$2:$H$284,MATCH(HOJA_CAPTURA!AB95,Base!$A$2:$A$284,0),3),)","v":0},{"$f":"IFERROR(INDEX(Base!$A$2:$H$284,MATCH(HOJA_CAPTURA!AB95,Base!$A$2:$A$284,0),4),)","v":0},{"$f":"IFERROR(INDEX(Base!$A$2:$H$284,MATCH(HOJA_CAPTURA!AB95,Base!$A$2:$A$284,0),5),)","v":0},{"$f":"IFERROR(INDEX(Base!$A$2:$H$284,MATCH(HOJA_CAPTURA!AB95,Base!$A$2:$A$284,0),6),)","v":0},{"$f":"IFERROR(INDEX(Base!$A$2:$H$284,MATCH(HOJA_CAPTURA!AB95,Base!$A$2:$A$284,0),7),)","v":0},{"$f":"IFERROR(INDEX(Base!$A$2:$H$284,MATCH(HOJA_CAPTURA!AB95,Base!$A$2:$A$284,0),8),)","v":0}]
["Instituto Nacional de Pediatría","Fondo: INP",null,null,null,null,null,null,null,null,null,null,null,null,null,null,null,null,null,null,null,null,null,null,null," ",""," ",""," ","",{"$f":"IFERROR(INDEX(Base!$A$2:$H$284,MATCH(HOJA_CAPTURA!AB96,Base!$A$2:$A$284,0),3),)","v":0},{"$f":"IFERROR(INDEX(Base!$A$2:$H$284,MATCH(HOJA_CAPTURA!AB96,Base!$A$2:$A$284,0),4),)","v":0},{"$f":"IFERROR(INDEX(Base!$A$2:$H$284,MATCH(HOJA_CAPTURA!AB96,Base!$A$2:$A$284,0),5),)","v":0},{"$f":"IFERROR(INDEX(Base!$A$2:$H$284,MATCH(HOJA_CAPTURA!AB96,Base!$A$2:$A$284,0),6),)","v":0},{"$f":"IFERROR(INDEX(Base!$A$2:$H$284,MATCH(HOJA_CAPTURA!AB96,Base!$A$2:$A$284,0),7),)","v":0},{"$f":"IFERROR(INDEX(Base!$A$2:$H$284,MATCH(HOJA_CAPTURA!AB96,Base!$A$2:$A$284,0),8),)","v":0}]
["Instituto Nacional de Pediatría","Fondo: INP",null,null,null,null,null,null,null,null,null,null,null,null,null,null,null,null,null,null,null,null,null,null,null," ",""," ",""," ","",{"$f":"IFERROR(INDEX(Base!$A$2:$H$284,MATCH(HOJA_CAPTURA!AB97,Base!$A$2:$A$284,0),3),)","v":0},{"$f":"IFERROR(INDEX(Base!$A$2:$H$284,MATCH(HOJA_CAPTURA!AB97,Base!$A$2:$A$284,0),4),)","v":0},{"$f":"IFERROR(INDEX(Base!$A$2:$H$284,MATCH(HOJA_CAPTURA!AB97,Base!$A$2:$A$284,0),5),)","v":0},{"$f":"IFERROR(INDEX(Base!$A$2:$H$284,MATCH(HOJA_CAPTURA!AB97,Base!$A$2:$A$284,0),6),)","v":0},{"$f":"IFERROR(INDEX(Base!$A$2:$H$284,MATCH(HOJA_CAPTURA!AB97,Base!$A$2:$A$284,0),7),)","v":0},{"$f":"IFERROR(INDEX(Base!$A$2:$H$284,MATCH(HOJA_CAPTURA!AB97,Base!$A$2:$A$284,0),8),)","v":0}]
["Instituto Nacional de Pediatría","Fondo: INP",null,null,null,null,null,null,null,null,null,null,null,null,null,null,null,null,null,null,null,null,null,null,null," ",""," ",""," ","",{"$f":"IFERROR(INDEX(Base!$A$2:$H$284,MATCH(HOJA_CAPTURA!AB98,Base!$A$2:$A$284,0),3),)","v":0},{"$f":"IFERROR(INDEX(Base!$A$2:$H$284,MATCH(HOJA_CAPTURA!AB98,Base!$A$2:$A$284,0),4),)","v":0},{"$f":"IFERROR(INDEX(Base!$A$2:$H$284,MATCH(HOJA_CAPTURA!AB98,Base!$A$2:$A$284,0),5),)","v":0},{"$f":"IFERROR(INDEX(Base!$A$2:$H$284,MATCH(HOJA_CAPTURA!AB98,Base!$A$2:$A$284,0),6),)","v":0},{"$f":"IFERROR(INDEX(Base!$A$2:$H$284,MATCH(HOJA_CAPTURA!AB98,Base!$A$2:$A$284,0),7),)","v":0},{"$f":"IFERROR(INDEX(Base!$A$2:$H$284,MATCH(HOJA_CAPTURA!AB98,Base!$A$2:$A$284,0),8),)","v":0}]
["Instituto Nacional de Pediatría","Fondo: INP",null,null,null,null,null,null,null,null,null,null,null,null,null,null,null,null,null,null,null,null,null,null,null," ",""," ",""," ","",{"$f":"IFERROR(INDEX(Base!$A$2:$H$284,MATCH(HOJA_CAPTURA!AB99,Base!$A$2:$A$284,0),3),)","v":0},{"$f":"IFERROR(INDEX(Base!$A$2:$H$284,MATCH(HOJA_CAPTURA!AB99,Base!$A$2:$A$284,0),4),)","v":0},{"$f":"IFERROR(INDEX(Base!$A$2:$H$284,MATCH(HOJA_CAPTURA!AB99,Base!$A$2:$A$284,0),5),)","v":0},{"$f":"IFERROR(INDEX(Base!$A$2:$H$284,MATCH(HOJA_CAPTURA!AB99,Base!$A$2:$A$284,0),6),)","v":0},{"$f":"IFERROR(INDEX(Base!$A$2:$H$284,MATCH(HOJA_CAPTURA!AB99,Base!$A$2:$A$284,0),7),)","v":0},{"$f":"IFERROR(INDEX(Base!$A$2:$H$284,MATCH(HOJA_CAPTURA!AB99,Base!$A$2:$A$284,0),8),)","v":0}]
["Instituto Nacional de Pediatría","Fondo: INP",null,null,null,null,null,null,null,null,null,null,null,null,null,null,null,null,null,null,null,null,null,null,null," ",""," ",""," ","",{"$f":"IFERROR(INDEX(Base!$A$2:$H$284,MATCH(HOJA_CAPTURA!AB100,Base!$A$2:$A$284,0),3),)","v":0},{"$f":"IFERROR(INDEX(Base!$A$2:$H$284,MATCH(HOJA_CAPTURA!AB100,Base!$A$2:$A$284,0),4),)","v":0},{"$f":"IFERROR(INDEX(Base!$A$2:$H$284,MATCH(HOJA_CAPTURA!AB100,Base!$A$2:$A$284,0),5),)","v":0},{"$f":"IFERROR(INDEX(Base!$A$2:$H$284,MATCH(HOJA_CAPTURA!AB100,Base!$A$2:$A$284,0),6),)","v":0},{"$f":"IFERROR(INDEX(Base!$A$2:$H$284,MATCH(HOJA_CAPTURA!AB100,Base!$A$2:$A$284,0),7),)","v":0},{"$f":"IFERROR(INDEX(Base!$A$2:$H$284,MATCH(HOJA_CAPTURA!AB100,Base!$A$2:$A$284,0),8),)","v":0}]
["Instituto Nacional de Pediatría","Fondo: INP",null,null,null,null,null,null,null,null,null,null,null,null,null,null,null,null,null,null,null,null,null,null,null," ",""," ",""," ","",{"$f":"IFERROR(INDEX(Base!$A$2:$H$284,MATCH(HOJA_CAPTURA!AB101,Base!$A$2:$A$284,0),3),)","v":0},{"$f":"IFERROR(INDEX(Base!$A$2:$H$284,MATCH(HOJA_CAPTURA!AB101,Base!$A$2:$A$284,0),4),)","v":0},{"$f":"IFERROR(INDEX(Base!$A$2:$H$284,MATCH(HOJA_CAPTURA!AB101,Base!$A$2:$A$284,0),5),)","v":0},{"$f":"IFERROR(INDEX(Base!$A$2:$H$284,MATCH(HOJA_CAPTURA!AB101,Base!$A$2:$A$284,0),6),)","v":0},{"$f":"IFERROR(INDEX(Base!$A$2:$H$284,MATCH(HOJA_CAPTURA!AB101,Base!$A$2:$A$284,0),7),)","v":0},{"$f":"IFERROR(INDEX(Base!$A$2:$H$284,MATCH(HOJA_CAPTURA!AB101,Base!$A$2:$A$284,0),8),)","v":0}]
["Instituto Nacional de Pediatría","Fondo: INP",null,null,null,null,null,null,null,null,null,null,null,null,null,null,null,null,null,null,null,null,null,null,null,{"$f":"IF(G102>0, MID(G102,1,FIND(\" \",G102,1)-1), \" \")","v":" "},"",{"$f":"IF(H102>0, MID(H102,1,FIND(\" \",H102,1)-1), \" \")","v":" "},""," ","",{"$f":"IFERROR(INDEX(Base!$A$2:$H$284,MATCH(HOJA_CAPTURA!AB102,Base!$A$2:$A$284,0),3),)","v":0},{"$f":"IFERROR(INDEX(Base!$A$2:$H$284,MATCH(HOJA_CAPTURA!AB102,Base!$A$2:$A$284,0),4),)","v":0},{"$f":"IFERROR(INDEX(Base!$A$2:$H$284,MATCH(HOJA_CAPTURA!AB102,Base!$A$2:$A$284,0),5),)","v":0},{"$f":"IFERROR(INDEX(Base!$A$2:$H$284,MATCH(HOJA_CAPTURA!AB102,Base!$A$2:$A$284,0),6),)","v":0},{"$f":"IFERROR(INDEX(Base!$A$2:$H$284,MATCH(HOJA_CAPTURA!AB102,Base!$A$2:$A$284,0),7),)","v":0},{"$f":"IFERROR(INDEX(Base!$A$2:$H$284,MATCH(HOJA_CAPTURA!AB102,Base!$A$2:$A$284,0),8),)","v":0}]
["Instituto Nacional de Pediatría","Fondo: INP",null,null,null,null,null,null,null,null,null,null,null,null,null,null,null,null,null,null,null,null,null,null,null," ",""," ",""," ","",{"$f":"IFERROR(INDEX(Base!$A$2:$H$284,MATCH(HOJA_CAPTURA!AB103,Base!$A$2:$A$284,0),3),)","v":0},{"$f":"IFERROR(INDEX(Base!$A$2:$H$284,MATCH(HOJA_CAPTURA!AB103,Base!$A$2:$A$284,0),4),)","v":0},{"$f":"IFERROR(INDEX(Base!$A$2:$H$284,MATCH(HOJA_CAPTURA!AB103,Base!$A$2:$A$284,0),5),)","v":0},{"$f":"IFERROR(INDEX(Base!$A$2:$H$284,MATCH(HOJA_CAPTURA!AB103,Base!$A$2:$A$284,0),6),)","v":0},{"$f":"IFERROR(INDEX(Base!$A$2:$H$284,MATCH(HOJA_CAPTURA!AB103,Base!$A$2:$A$284,0),7),)","v":0},{"$f":"IFERROR(INDEX(Base!$A$2:$H$284,MATCH(HOJA_CAPTURA!AB103,Base!$A$2:$A$284,0),8),)","v":0}]
["Instituto Nacional de Pediatría","Fondo: INP",null,null,null,null,null,null,null,null,null,null,null,null,null,null,null,null,null,null,null,null,null,null,null," ",""," ",""," ","",{"$f":"IFERROR(INDEX(Base!$A$2:$H$284,MATCH(HOJA_CAPTURA!AB104,Base!$A$2:$A$284,0),3),)","v":0},{"$f":"IFERROR(INDEX(Base!$A$2:$H$284,MATCH(HOJA_CAPTURA!AB104,Base!$A$2:$A$284,0),4),)","v":0},{"$f":"IFERROR(INDEX(Base!$A$2:$H$284,MATCH(HOJA_CAPTURA!AB104,Base!$A$2:$A$284,0),5),)","v":0},{"$f":"IFERROR(INDEX(Base!$A$2:$H$284,MATCH(HOJA_CAPTURA!AB104,Base!$A$2:$A$284,0),6),)","v":0},{"$f":"IFERROR(INDEX(Base!$A$2:$H$284,MATCH(HOJA_CAPTURA!AB104,Base!$A$2:$A$284,0),7),)","v":0},{"$f":"IFERROR(INDEX(Base!$A$2:$H$284,MATCH(HOJA_CAPTURA!AB104,Base!$A$2:$A$284,0),8),)","v":0}]
["Instituto Nacional de Pediatría","Fondo: INP",null,null,null,null,null,null,null,null,null,null,null,null,null,null,null,null,null,null,null,null,null,null,null," ",""," ",""," ","",{"$f":"IFERROR(INDEX(Base!$A$2:$H$284,MATCH(HOJA_CAPTURA!AB105,Base!$A$2:$A$284,0),3),)","v":0},{"$f":"IFERROR(INDEX(Base!$A$2:$H$284,MATCH(HOJA_CAPTURA!AB105,Base!$A$2:$A$284,0),4),)","v":0},{"$f":"IFERROR(INDEX(Base!$A$2:$H$284,MATCH(HOJA_CAPTURA!AB105,Base!$A$2:$A$284,0),5),)","v":0},{"$f":"IFERROR(INDEX(Base!$A$2:$H$284,MATCH(HOJA_CAPTURA!AB105,Base!$A$2:$A$284,0),6),)","v":0},{"$f":"IFERROR(INDEX(Base!$A$2:$H$284,MATCH(HOJA_CAPTURA!AB105,Base!$A$2:$A$284,0),7),)","v":0},{"$f":"IFERROR(INDEX(Base!$A$2:$H$284,MATCH(HOJA_CAPTURA!AB105,Base!$A$2:$A$284,0),8),)","v":0}]
["Instituto Nacional de Pediatría","Fondo: INP",null,null,null,null,null,null,null,null,null,null,null,null,null,null,null,null,null,null,null,null,null,null,null," ",""," ",""," ","",{"$f":"IFERROR(INDEX(Base!$A$2:$H$284,MATCH(HOJA_CAPTURA!AB106,Base!$A$2:$A$284,0),3),)","v":0},{"$f":"IFERROR(INDEX(Base!$A$2:$H$284,MATCH(HOJA_CAPTURA!AB106,Base!$A$2:$A$284,0),4),)","v":0},{"$f":"IFERROR(INDEX(Base!$A$2:$H$284,MATCH(HOJA_CAPTURA!AB106,Base!$A$2:$A$284,0),5),)","v":0},{"$f":"IFERROR(INDEX(Base!$A$2:$H$284,MATCH(HOJA_CAPTURA!AB106,Base!$A$2:$A$284,0),6),)","v":0},{"$f":"IFERROR(INDEX(Base!$A$2:$H$284,MATCH(HOJA_CAPTURA!AB106,Base!$A$2:$A$284,0),7),)","v":0},{"$f":"IFERROR(INDEX(Base!$A$2:$H$284,MATCH(HOJA_CAPTURA!AB106,Base!$A$2:$A$284,0),8),)","v":0}]
["Instituto Nacional de Pediatría","Fondo: INP",null,null,null,null,null,null,null,null,null,null,null,null,null,null,null,null,null,null,null,null,null,null,null," ",""," ",""," ","",{"$f":"IFERROR(INDEX(Base!$A$2:$H$284,MATCH(HOJA_CAPTURA!AB107,Base!$A$2:$A$284,0),3),)","v":0},{"$f":"IFERROR(INDEX(Base!$A$2:$H$284,MATCH(HOJA_CAPTURA!AB107,Base!$A$2:$A$284,0),4),)","v":0},{"$f":"IFERROR(INDEX(Base!$A$2:$H$284,MATCH(HOJA_CAPTURA!AB107,Base!$A$2:$A$284,0),5),)","v":0},{"$f":"IFERROR(INDEX(Base!$A$2:$H$284,MATCH(HOJA_CAPTURA!AB107,Base!$A$2:$A$284,0),6),)","v":0},{"$f":"IFERROR(INDEX(Base!$A$2:$H$284,MATCH(HOJA_CAPTURA!AB107,Base!$A$2:$A$284,0),7),)","v":0},{"$f":"IFERROR(INDEX(Base!$A$2:$H$284,MATCH(HOJA_CAPTURA!AB107,Base!$A$2:$A$284,0),8),)","v":0}]
["Instituto Nacional de Pediatría","Fondo: INP",null,null,null,null,null,null,null,null,null,null,null,null,null,null,null,null,null,null,null,null,null,null,null," ",""," ",""," ","",{"$f":"IFERROR(INDEX(Base!$A$2:$H$284,MATCH(HOJA_CAPTURA!AB108,Base!$A$2:$A$284,0),3),)","v":0},{"$f":"IFERROR(INDEX(Base!$A$2:$H$284,MATCH(HOJA_CAPTURA!AB108,Base!$A$2:$A$284,0),4),)","v":0},{"$f":"IFERROR(INDEX(Base!$A$2:$H$284,MATCH(HOJA_CAPTURA!AB108,Base!$A$2:$A$284,0),5),)","v":0},{"$f":"IFERROR(INDEX(Base!$A$2:$H$284,MATCH(HOJA_CAPTURA!AB108,Base!$A$2:$A$284,0),6),)","v":0},{"$f":"IFERROR(INDEX(Base!$A$2:$H$284,MATCH(HOJA_CAPTURA!AB108,Base!$A$2:$A$284,0),7),)","v":0},{"$f":"IFERROR(INDEX(Base!$A$2:$H$284,MATCH(HOJA_CAPTURA!AB108,Base!$A$2:$A$284,0),8),)","v":0}]
["Instituto Nacional de Pediatría","Fondo: INP",null,null,null,null,null,null,null,null,null,null,null,null,null,null,null,null,null,null,null,null,null,null,null," ",""," ",""," ","",{"$f":"IFERROR(INDEX(Base!$A$2:$H$284,MATCH(HOJA_CAPTURA!AB109,Base!$A$2:$A$284,0),3),)","v":0},{"$f":"IFERROR(INDEX(Base!$A$2:$H$284,MATCH(HOJA_CAPTURA!AB109,Base!$A$2:$A$284,0),4),)","v":0},{"$f":"IFERROR(INDEX(Base!$A$2:$H$284,MATCH(HOJA_CAPTURA!AB109,Base!$A$2:$A$284,0),5),)","v":0},{"$f":"IFERROR(INDEX(Base!$A$2:$H$284,MATCH(HOJA_CAPTURA!AB109,Base!$A$2:$A$284,0),6),)","v":0},{"$f":"IFERROR(INDEX(Base!$A$2:$H$284,MATCH(HOJA_CAPTURA!AB109,Base!$A$2:$A$284,0),7),)","v":0},{"$f":"IFERROR(INDEX(Base!$A$2:$H$284,MATCH(HOJA_CAPTURA!AB109,Base!$A$2:$A$284,0),8),)","v":0}]
["Instituto Nacional de Pediatría","Fondo: INP",null,null,null,null,null,null,null,null,null,null,null,null,null,null,null,null,null,null,null,null,null,null,null," ",""," ",""," ","",{"$f":"IFERROR(INDEX(Base!$A$2:$H$284,MATCH(HOJA_CAPTURA!AB110,Base!$A$2:$A$284,0),3),)","v":0},{"$f":"IFERROR(INDEX(Base!$A$2:$H$284,MATCH(HOJA_CAPTURA!AB110,Base!$A$2:$A$284,0),4),)","v":0},{"$f":"IFERROR(INDEX(Base!$A$2:$H$284,MATCH(HOJA_CAPTURA!AB110,Base!$A$2:$A$284,0),5),)","v":0},{"$f":"IFERROR(INDEX(Base!$A$2:$H$284,MATCH(HOJA_CAPTURA!AB110,Base!$A$2:$A$284,0),6),)","v":0},{"$f":"IFERROR(INDEX(Base!$A$2:$H$284,MATCH(HOJA_CAPTURA!AB110,Base!$A$2:$A$284,0),7),)","v":0},{"$f":"IFERROR(INDEX(Base!$A$2:$H$284,MATCH(HOJA_CAPTURA!AB110,Base!$A$2:$A$284,0),8),)","v":0}]
["Instituto Nacional de Pediatría","Fondo: INP",null,null,null,null,null,null,null,null,null,null,null,null,null,null,null,null,null,null,null,null,null,null,null," ",""," ",""," ","",{"$f":"IFERROR(INDEX(Base!$A$2:$H$284,MATCH(HOJA_CAPTURA!AB111,Base!$A$2:$A$284,0),3),)","v":0},{"$f":"IFERROR(INDEX(Base!$A$2:$H$284,MATCH(HOJA_CAPTURA!AB111,Base!$A$2:$A$284,0),4),)","v":0},{"$f":"IFERROR(INDEX(Base!$A$2:$H$284,MATCH(HOJA_CAPTURA!AB111,Base!$A$2:$A$284,0),5),)","v":0},{"$f":"IFERROR(INDEX(Base!$A$2:$H$284,MATCH(HOJA_CAPTURA!AB111,Base!$A$2:$A$284,0),6),)","v":0},{"$f":"IFERROR(INDEX(Base!$A$2:$H$284,MATCH(HOJA_CAPTURA!AB111,Base!$A$2:$A$284,0),7),)","v":0},{"$f":"IFERROR(INDEX(Base!$A$2:$H$284,MATCH(HOJA_CAPTURA!AB111,Base!$A$2:$A$284,0),8),)","v":0}]
["Instituto Nacional de Pediatría","Fondo: INP",null,null,null,null,null,null,null,null,null,null,null,null,null,null,null,null,null,null,null,null,null,null,null," ",""," ",""," ","",{"$f":"IFERROR(INDEX(Base!$A$2:$H$284,MATCH(HOJA_CAPTURA!AB112,Base!$A$2:$A$284,0),3),)","v":0},{"$f":"IFERROR(INDEX(Base!$A$2:$H$284,MATCH(HOJA_CAPTURA!AB112,Base!$A$2:$A$284,0),4),)","v":0},{"$f":"IFERROR(INDEX(Base!$A$2:$H$284,MATCH(HOJA_CAPTURA!AB112,Base!$A$2:$A$284,0),5),)","v":0},{"$f":"IFERROR(INDEX(Base!$A$2:$H$284,MATCH(HOJA_CAPTURA!AB112,Base!$A$2:$A$284,0),6),)","v":0},{"$f":"IFERROR(INDEX(Base!$A$2:$H$284,MATCH(HOJA_CAPTURA!AB112,Base!$A$2:$A$284,0),7),)","v":0},{"$f":"IFERROR(INDEX(Base!$A$2:$H$284,MATCH(HOJA_CAPTURA!AB112,Base!$A$2:$A$284,0),8),)","v":0}]
["Instituto Nacional de Pediatría","Fondo: INP",null,null,null,null,null,null,null,null,null,null,null,null,null,null,null,null,null,null,null,null,null,null,null," ",""," ",""," ","",{"$f":"IFERROR(INDEX(Base!$A$2:$H$284,MATCH(HOJA_CAPTURA!AB113,Base!$A$2:$A$284,0),3),)","v":0},{"$f":"IFERROR(INDEX(Base!$A$2:$H$284,MATCH(HOJA_CAPTURA!AB113,Base!$A$2:$A$284,0),4),)","v":0},{"$f":"IFERROR(INDEX(Base!$A$2:$H$284,MATCH(HOJA_CAPTURA!AB113,Base!$A$2:$A$284,0),5),)","v":0},{"$f":"IFERROR(INDEX(Base!$A$2:$H$284,MATCH(HOJA_CAPTURA!AB113,Base!$A$2:$A$284,0),6),)","v":0},{"$f":"IFERROR(INDEX(Base!$A$2:$H$284,MATCH(HOJA_CAPTURA!AB113,Base!$A$2:$A$284,0),7),)","v":0},{"$f":"IFERROR(INDEX(Base!$A$2:$H$284,MATCH(HOJA_CAPTURA!AB113,Base!$A$2:$A$284,0),8),)","v":0}]
["Instituto Nacional de Pediatría","Fondo: INP",null,null,null,null,null,null,null,null,null,null,null,null,null,null,null,null,null,null,null,null,null,null,null," ",""," ",""," ","",{"$f":"IFERROR(INDEX(Base!$A$2:$H$284,MATCH(HOJA_CAPTURA!AB114,Base!$A$2:$A$284,0),3),)","v":0},{"$f":"IFERROR(INDEX(Base!$A$2:$H$284,MATCH(HOJA_CAPTURA!AB114,Base!$A$2:$A$284,0),4),)","v":0},{"$f":"IFERROR(INDEX(Base!$A$2:$H$284,MATCH(HOJA_CAPTURA!AB114,Base!$A$2:$A$284,0),5),)","v":0},{"$f":"IFERROR(INDEX(Base!$A$2:$H$284,MATCH(HOJA_CAPTURA!AB114,Base!$A$2:$A$284,0),6),)","v":0},{"$f":"IFERROR(INDEX(Base!$A$2:$H$284,MATCH(HOJA_CAPTURA!AB114,Base!$A$2:$A$284,0),7),)","v":0},{"$f":"IFERROR(INDEX(Base!$A$2:$H$284,MATCH(HOJA_CAPTURA!AB114,Base!$A$2:$A$284,0),8),)","v":0}]
["Instituto Nacional de Pediatría","Fondo: INP",null,null,null,null,null,null,null,null,null,null,null,null,null,null,null,null,null,null,null,null,null,null,null," ",""," ",""," ","",{"$f":"IFERROR(INDEX(Base!$A$2:$H$284,MATCH(HOJA_CAPTURA!AB115,Base!$A$2:$A$284,0),3),)","v":0},{"$f":"IFERROR(INDEX(Base!$A$2:$H$284,MATCH(HOJA_CAPTURA!AB115,Base!$A$2:$A$284,0),4),)","v":0},{"$f":"IFERROR(INDEX(Base!$A$2:$H$284,MATCH(HOJA_CAPTURA!AB115,Base!$A$2:$A$284,0),5),)","v":0},{"$f":"IFERROR(INDEX(Base!$A$2:$H$284,MATCH(HOJA_CAPTURA!AB115,Base!$A$2:$A$284,0),6),)","v":0},{"$f":"IFERROR(INDEX(Base!$A$2:$H$284,MATCH(HOJA_CAPTURA!AB115,Base!$A$2:$A$284,0),7),)","v":0},{"$f":"IFERROR(INDEX(Base!$A$2:$H$284,MATCH(HOJA_CAPTURA!AB115,Base!$A$2:$A$284,0),8),)","v":0}]
["Instituto Nacional de Pediatría","Fondo: INP",null,null,null,null,null,null,null,null,null,null,null,null,null,null,null,null,null,null,null,null,null,null,null," ",""," ",""," ","",{"$f":"IFERROR(INDEX(Base!$A$2:$H$284,MATCH(HOJA_CAPTURA!AB116,Base!$A$2:$A$284,0),3),)","v":0},{"$f":"IFERROR(INDEX(Base!$A$2:$H$284,MATCH(HOJA_CAPTURA!AB116,Base!$A$2:$A$284,0),4),)","v":0},{"$f":"IFERROR(INDEX(Base!$A$2:$H$284,MATCH(HOJA_CAPTURA!AB116,Base!$A$2:$A$284,0),5),)","v":0},{"$f":"IFERROR(INDEX(Base!$A$2:$H$284,MATCH(HOJA_CAPTURA!AB116,Base!$A$2:$A$284,0),6),)","v":0},{"$f":"IFERROR(INDEX(Base!$A$2:$H$284,MATCH(HOJA_CAPTURA!AB116,Base!$A$2:$A$284,0),7),)","v":0},{"$f":"IFERROR(INDEX(Base!$A$2:$H$284,MATCH(HOJA_CAPTURA!AB116,Base!$A$2:$A$284,0),8),)","v":0}]
["Instituto Nacional de Pediatría","Fondo: INP",null,null,null,null,null,null,null,null,null,null,null,null,null,null,null,null,null,null,null,null,null,null,null," ",""," ",""," ","",{"$f":"IFERROR(INDEX(Base!$A$2:$H$284,MATCH(HOJA_CAPTURA!AB117,Base!$A$2:$A$284,0),3),)","v":0},{"$f":"IFERROR(INDEX(Base!$A$2:$H$284,MATCH(HOJA_CAPTURA!AB117,Base!$A$2:$A$284,0),4),)","v":0},{"$f":"IFERROR(INDEX(Base!$A$2:$H$284,MATCH(HOJA_CAPTURA!AB117,Base!$A$2:$A$284,0),5),)","v":0},{"$f":"IFERROR(INDEX(Base!$A$2:$H$284,MATCH(HOJA_CAPTURA!AB117,Base!$A$2:$A$284,0),6),)","v":0},{"$f":"IFERROR(INDEX(Base!$A$2:$H$284,MATCH(HOJA_CAPTURA!AB117,Base!$A$2:$A$284,0),7),)","v":0},{"$f":"IFERROR(INDEX(Base!$A$2:$H$284,MATCH(HOJA_CAPTURA!AB117,Base!$A$2:$A$284,0),8),)","v":0}]
["Instituto Nacional de Pediatría","Fondo: INP",null,null,null,null,null,null,null,null,null,null,null,null,null,null,null,null,null,null,null,null,null,null,null," ",""," ",""," ","",{"$f":"IFERROR(INDEX(Base!$A$2:$H$284,MATCH(HOJA_CAPTURA!AB118,Base!$A$2:$A$284,0),3),)","v":0},{"$f":"IFERROR(INDEX(Base!$A$2:$H$284,MATCH(HOJA_CAPTURA!AB118,Base!$A$2:$A$284,0),4),)","v":0},{"$f":"IFERROR(INDEX(Base!$A$2:$H$284,MATCH(HOJA_CAPTURA!AB118,Base!$A$2:$A$284,0),5),)","v":0},{"$f":"IFERROR(INDEX(Base!$A$2:$H$284,MATCH(HOJA_CAPTURA!AB118,Base!$A$2:$A$284,0),6),)","v":0},{"$f":"IFERROR(INDEX(Base!$A$2:$H$284,MATCH(HOJA_CAPTURA!AB118,Base!$A$2:$A$284,0),7),)","v":0},{"$f":"IFERROR(INDEX(Base!$A$2:$H$284,MATCH(HOJA_CAPTURA!AB118,Base!$A$2:$A$284,0),8),)","v":0}]
["Instituto Nacional de Pediatría","Fondo: INP",null,null,null,null,null,null,null,null,null,null,null,null,null,null,null,null,null,null,null,null,null,null,null,{"$f":"IF(G119>0, MID(G119,1,FIND(\" \",G119,1)-1), \" \")","v":" "},"",{"$f":"IF(H119>0, MID(H119,1,FIND(\" \",H119,1)-1), \" \")","v":" "},""," ","",{"$f":"IFERROR(INDEX(Base!$A$2:$H$284,MATCH(HOJA_CAPTURA!AB119,Base!$A$2:$A$284,0),3),)","v":0},{"$f":"IFERROR(INDEX(Base!$A$2:$H$284,MATCH(HOJA_CAPTURA!AB119,Base!$A$2:$A$284,0),4),)","v":0},{"$f":"IFERROR(INDEX(Base!$A$2:$H$284,MATCH(HOJA_CAPTURA!AB119,Base!$A$2:$A$284,0),5),)","v":0},{"$f":"IFERROR(INDEX(Base!$A$2:$H$284,MATCH(HOJA_CAPTURA!AB119,Base!$A$2:$A$284,0),6),)","v":0},{"$f":"IFERROR(INDEX(Base!$A$2:$H$284,MATCH(HOJA_CAPTURA!AB119,Base!$A$2:$A$284,0),7),)","v":0},{"$f":"IFERROR(INDEX(Base!$A$2:$H$284,MATCH(HOJA_CAPTURA!AB119,Base!$A$2:$A$284,0),8),)","v":0}]
["Instituto Nacional de Pediatría","Fondo: INP",null,null,null,null,null,null,null,null,null,null,null,null,null,null,null,null,null,null,null,null,null,null,null," ",""," ",""," ","",{"$f":"IFERROR(INDEX(Base!$A$2:$H$284,MATCH(HOJA_CAPTURA!AB120,Base!$A$2:$A$284,0),3),)","v":0},{"$f":"IFERROR(INDEX(Base!$A$2:$H$284,MATCH(HOJA_CAPTURA!AB120,Base!$A$2:$A$284,0),4),)","v":0},{"$f":"IFERROR(INDEX(Base!$A$2:$H$284,MATCH(HOJA_CAPTURA!AB120,Base!$A$2:$A$284,0),5),)","v":0},{"$f":"IFERROR(INDEX(Base!$A$2:$H$284,MATCH(HOJA_CAPTURA!AB120,Base!$A$2:$A$284,0),6),)","v":0},{"$f":"IFERROR(INDEX(Base!$A$2:$H$284,MATCH(HOJA_CAPTURA!AB120,Base!$A$2:$A$284,0),7),)","v":0},{"$f":"IFERROR(INDEX(Base!$A$2:$H$284,MATCH(HOJA_CAPTURA!AB120,Base!$A$2:$A$284,0),8),)","v":0}]
["Instituto Nacional de Pediatría","Fondo: INP",null,null,null,null,null,null,null,null,null,null,null,null,null,null,null,null,null,null,null,null,null,null,null," ",""," ",""," ","",{"$f":"IFERROR(INDEX(Base!$A$2:$H$284,MATCH(HOJA_CAPTURA!AB121,Base!$A$2:$A$284,0),3),)","v":0},{"$f":"IFERROR(INDEX(Base!$A$2:$H$284,MATCH(HOJA_CAPTURA!AB121,Base!$A$2:$A$284,0),4),)","v":0},{"$f":"IFERROR(INDEX(Base!$A$2:$H$284,MATCH(HOJA_CAPTURA!AB121,Base!$A$2:$A$284,0),5),)","v":0},{"$f":"IFERROR(INDEX(Base!$A$2:$H$284,MATCH(HOJA_CAPTURA!AB121,Base!$A$2:$A$284,0),6),)","v":0},{"$f":"IFERROR(INDEX(Base!$A$2:$H$284,MATCH(HOJA_CAPTURA!AB121,Base!$A$2:$A$284,0),7),)","v":0},{"$f":"IFERROR(INDEX(Base!$A$2:$H$284,MATCH(HOJA_CAPTURA!AB121,Base!$A$2:$A$284,0),8),)","v":0}]
["Instituto Nacional de Pediatría","Fondo: INP",null,null,null,null,null,null,null,null,null,null,null,null,null,null,null,null,null,null,null,null,null,null,null," ",""," ",""," ","",{"$f":"IFERROR(INDEX(Base!$A$2:$H$284,MATCH(HOJA_CAPTURA!AB122,Base!$A$2:$A$284,0),3),)","v":0},{"$f":"IFERROR(INDEX(Base!$A$2:$H$284,MATCH(HOJA_CAPTURA!AB122,Base!$A$2:$A$284,0),4),)","v":0},{"$f":"IFERROR(INDEX(Base!$A$2:$H$284,MATCH(HOJA_CAPTURA!AB122,Base!$A$2:$A$284,0),5),)","v":0},{"$f":"IFERROR(INDEX(Base!$A$2:$H$284,MATCH(HOJA_CAPTURA!AB122,Base!$A$2:$A$284,0),6),)","v":0},{"$f":"IFERROR(INDEX(Base!$A$2:$H$284,MATCH(HOJA_CAPTURA!AB122,Base!$A$2:$A$284,0),7),)","v":0},{"$f":"IFERROR(INDEX(Base!$A$2:$H$284,MATCH(HOJA_CAPTURA!AB122,Base!$A$2:$A$284,0),8),)","v":0}]
["Instituto Nacional de Pediatría","Fondo: INP",null,null,null,null,null,null,null,null,null,null,null,null,null,null,null,null,null,null,null,null,null,null,null," ",""," ",""," ","",{"$f":"IFERROR(INDEX(Base!$A$2:$H$284,MATCH(HOJA_CAPTURA!AB123,Base!$A$2:$A$284,0),3),)","v":0},{"$f":"IFERROR(INDEX(Base!$A$2:$H$284,MATCH(HOJA_CAPTURA!AB123,Base!$A$2:$A$284,0),4),)","v":0},{"$f":"IFERROR(INDEX(Base!$A$2:$H$284,MATCH(HOJA_CAPTURA!AB123,Base!$A$2:$A$284,0),5),)","v":0},{"$f":"IFERROR(INDEX(Base!$A$2:$H$284,MATCH(HOJA_CAPTURA!AB123,Base!$A$2:$A$284,0),6),)","v":0},{"$f":"IFERROR(INDEX(Base!$A$2:$H$284,MATCH(HOJA_CAPTURA!AB123,Base!$A$2:$A$284,0),7),)","v":0},{"$f":"IFERROR(INDEX(Base!$A$2:$H$284,MATCH(HOJA_CAPTURA!AB123,Base!$A$2:$A$284,0),8),)","v":0}]
["Instituto Nacional de Pediatría","Fondo: INP",null,null,null,null,null,null,null,null,null,null,null,null,null,null,null,null,null,null,null,null,null,null,null," ",""," ",""," ","",{"$f":"IFERROR(INDEX(Base!$A$2:$H$284,MATCH(HOJA_CAPTURA!AB124,Base!$A$2:$A$284,0),3),)","v":0},{"$f":"IFERROR(INDEX(Base!$A$2:$H$284,MATCH(HOJA_CAPTURA!AB124,Base!$A$2:$A$284,0),4),)","v":0},{"$f":"IFERROR(INDEX(Base!$A$2:$H$284,MATCH(HOJA_CAPTURA!AB124,Base!$A$2:$A$284,0),5),)","v":0},{"$f":"IFERROR(INDEX(Base!$A$2:$H$284,MATCH(HOJA_CAPTURA!AB124,Base!$A$2:$A$284,0),6),)","v":0},{"$f":"IFERROR(INDEX(Base!$A$2:$H$284,MATCH(HOJA_CAPTURA!AB124,Base!$A$2:$A$284,0),7),)","v":0},{"$f":"IFERROR(INDEX(Base!$A$2:$H$284,MATCH(HOJA_CAPTURA!AB124,Base!$A$2:$A$284,0),8),)","v":0}]
["Instituto Nacional de Pediatría","Fondo: INP",null,null,null,null,null,null,null,null,null,null,null,null,null,null,null,null,null,null,null,null,null,null,null," ",""," ",""," ","",{"$f":"IFERROR(INDEX(Base!$A$2:$H$284,MATCH(HOJA_CAPTURA!AB125,Base!$A$2:$A$284,0),3),)","v":0},{"$f":"IFERROR(INDEX(Base!$A$2:$H$284,MATCH(HOJA_CAPTURA!AB125,Base!$A$2:$A$284,0),4),)","v":0},{"$f":"IFERROR(INDEX(Base!$A$2:$H$284,MATCH(HOJA_CAPTURA!AB125,Base!$A$2:$A$284,0),5),)","v":0},{"$f":"IFERROR(INDEX(Base!$A$2:$H$284,MATCH(HOJA_CAPTURA!AB125,Base!$A$2:$A$284,0),6),)","v":0},{"$f":"IFERROR(INDEX(Base!$A$2:$H$284,MATCH(HOJA_CAPTURA!AB125,Base!$A$2:$A$284,0),7),)","v":0},{"$f":"IFERROR(INDEX(Base!$A$2:$H$284,MATCH(HOJA_CAPTURA!AB125,Base!$A$2:$A$284,0),8),)","v":0}]
["Instituto Nacional de Pediatría","Fondo: INP",null,null,null,null,null,null,null,null,null,null,null,null,null,null,null,null,null,null,null,null,null,null,null," ",""," ",""," ","",{"$f":"IFERROR(INDEX(Base!$A$2:$H$284,MATCH(HOJA_CAPTURA!AB126,Base!$A$2:$A$284,0),3),)","v":0},{"$f":"IFERROR(INDEX(Base!$A$2:$H$284,MATCH(HOJA_CAPTURA!AB126,Base!$A$2:$A$284,0),4),)","v":0},{"$f":"IFERROR(INDEX(Base!$A$2:$H$284,MATCH(HOJA_CAPTURA!AB126,Base!$A$2:$A$284,0),5),)","v":0},{"$f":"IFERROR(INDEX(Base!$A$2:$H$284,MATCH(HOJA_CAPTURA!AB126,Base!$A$2:$A$284,0),6),)","v":0},{"$f":"IFERROR(INDEX(Base!$A$2:$H$284,MATCH(HOJA_CAPTURA!AB126,Base!$A$2:$A$284,0),7),)","v":0},{"$f":"IFERROR(INDEX(Base!$A$2:$H$284,MATCH(HOJA_CAPTURA!AB126,Base!$A$2:$A$284,0),8),)","v":0}]
["Instituto Nacional de Pediatría","Fondo: INP",null,null,null,null,null,null,null,null,null,null,null,null,null,null,null,null,null,null,null,null,null,null,null," ",""," ",""," ","",{"$f":"IFERROR(INDEX(Base!$A$2:$H$284,MATCH(HOJA_CAPTURA!AB127,Base!$A$2:$A$284,0),3),)","v":0},{"$f":"IFERROR(INDEX(Base!$A$2:$H$284,MATCH(HOJA_CAPTURA!AB127,Base!$A$2:$A$284,0),4),)","v":0},{"$f":"IFERROR(INDEX(Base!$A$2:$H$284,MATCH(HOJA_CAPTURA!AB127,Base!$A$2:$A$284,0),5),)","v":0},{"$f":"IFERROR(INDEX(Base!$A$2:$H$284,MATCH(HOJA_CAPTURA!AB127,Base!$A$2:$A$284,0),6),)","v":0},{"$f":"IFERROR(INDEX(Base!$A$2:$H$284,MATCH(HOJA_CAPTURA!AB127,Base!$A$2:$A$284,0),7),)","v":0},{"$f":"IFERROR(INDEX(Base!$A$2:$H$284,MATCH(HOJA_CAPTURA!AB127,Base!$A$2:$A$284,0),8),)","v":0}]
["Instituto Nacional de Pediatría","Fondo: INP",null,null,null,null,null,null,null,null,null,null,null,null,null,null,null,null,null,null,null,null,null,null,null," ",""," ",""," ","",{"$f":"IFERROR(INDEX(Base!$A$2:$H$284,MATCH(HOJA_CAPTURA!AB128,Base!$A$2:$A$284,0),3),)","v":0},{"$f":"IFERROR(INDEX(Base!$A$2:$H$284,MATCH(HOJA_CAPTURA!AB128,Base!$A$2:$A$284,0),4),)","v":0},{"$f":"IFERROR(INDEX(Base!$A$2:$H$284,MATCH(HOJA_CAPTURA!AB128,Base!$A$2:$A$284,0),5),)","v":0},{"$f":"IFERROR(INDEX(Base!$A$2:$H$284,MATCH(HOJA_CAPTURA!AB128,Base!$A$2:$A$284,0),6),)","v":0},{"$f":"IFERROR(INDEX(Base!$A$2:$H$284,MATCH(HOJA_CAPTURA!AB128,Base!$A$2:$A$284,0),7),)","v":0},{"$f":"IFERROR(INDEX(Base!$A$2:$H$284,MATCH(HOJA_CAPTURA!AB128,Base!$A$2:$A$284,0),8),)","v":0}]
["Instituto Nacional de Pediatría","Fondo: INP",null,null,null,null,null,null,null,null,null,null,null,null,null,null,null,null,null,null,null,null,null,null,null," ",""," ",""," ","",{"$f":"IFERROR(INDEX(Base!$A$2:$H$284,MATCH(HOJA_CAPTURA!AB129,Base!$A$2:$A$284,0),3),)","v":0},{"$f":"IFERROR(INDEX(Base!$A$2:$H$284,MATCH(HOJA_CAPTURA!AB129,Base!$A$2:$A$284,0),4),)","v":0},{"$f":"IFERROR(INDEX(Base!$A$2:$H$284,MATCH(HOJA_CAPTURA!AB129,Base!$A$2:$A$284,0),5),)","v":0},{"$f":"IFERROR(INDEX(Base!$A$2:$H$284,MATCH(HOJA_CAPTURA!AB129,Base!$A$2:$A$284,0),6),)","v":0},{"$f":"IFERROR(INDEX(Base!$A$2:$H$284,MATCH(HOJA_CAPTURA!AB129,Base!$A$2:$A$284,0),7),)","v":0},{"$f":"IFERROR(INDEX(Base!$A$2:$H$284,MATCH(HOJA_CAPTURA!AB129,Base!$A$2:$A$284,0),8),)","v":0}]
["Instituto Nacional de Pediatría","Fondo: INP",null,null,null,null,null,null,null,null,null,null,null,null,null,null,null,null,null,null,null,null,null,null,null," ",""," ",""," ","",{"$f":"IFERROR(INDEX(Base!$A$2:$H$284,MATCH(HOJA_CAPTURA!AB130,Base!$A$2:$A$284,0),3),)","v":0},{"$f":"IFERROR(INDEX(Base!$A$2:$H$284,MATCH(HOJA_CAPTURA!AB130,Base!$A$2:$A$284,0),4),)","v":0},{"$f":"IFERROR(INDEX(Base!$A$2:$H$284,MATCH(HOJA_CAPTURA!AB130,Base!$A$2:$A$284,0),5),)","v":0},{"$f":"IFERROR(INDEX(Base!$A$2:$H$284,MATCH(HOJA_CAPTURA!AB130,Base!$A$2:$A$284,0),6),)","v":0},{"$f":"IFERROR(INDEX(Base!$A$2:$H$284,MATCH(HOJA_CAPTURA!AB130,Base!$A$2:$A$284,0),7),)","v":0},{"$f":"IFERROR(INDEX(Base!$A$2:$H$284,MATCH(HOJA_CAPTURA!AB130,Base!$A$2:$A$284,0),8),)","v":0}]
["Instituto Nacional de Pediatría","Fondo: INP",null,null,null,null,null,null,null,null,null,null,null,null,null,null,null,null,null,null,null,null,null,null,null," ",""," ",""," ","",{"$f":"IFERROR(INDEX(Base!$A$2:$H$284,MATCH(HOJA_CAPTURA!AB131,Base!$A$2:$A$284,0),3),)","v":0},{"$f":"IFERROR(INDEX(Base!$A$2:$H$284,MATCH(HOJA_CAPTURA!AB131,Base!$A$2:$A$284,0),4),)","v":0},{"$f":"IFERROR(INDEX(Base!$A$2:$H$284,MATCH(HOJA_CAPTURA!AB131,Base!$A$2:$A$284,0),5),)","v":0},{"$f":"IFERROR(INDEX(Base!$A$2:$H$284,MATCH(HOJA_CAPTURA!AB131,Base!$A$2:$A$284,0),6),)","v":0},{"$f":"IFERROR(INDEX(Base!$A$2:$H$284,MATCH(HOJA_CAPTURA!AB131,Base!$A$2:$A$284,0),7),)","v":0},{"$f":"IFERROR(INDEX(Base!$A$2:$H$284,MATCH(HOJA_CAPTURA!AB131,Base!$A$2:$A$284,0),8),)","v":0}]
["Instituto Nacional de Pediatría","Fondo: INP",null,null,null,null,null,null,null,null,null,null,null,null,null,null,null,null,null,null,null,null,null,null,null," ",{"$f":"MID(G132,LEN(Z132)+2, 80)","v":""}," ","",{"$f":"IF(I132>0,MID(I132,1,FIND(\" \",H132,1)+1),\" \")","v":" "},{"$f":"IF(LEFT(I132,6)=\"N/A\", \"N/A\", IFERROR(RIGHT(I132, LEN(I132) - FIND(\" \", I132)), \"\"))","v":""},{"$f":"IFERROR(INDEX(Base!$A$2:$H$284,MATCH(HOJA_CAPTURA!AB132,Base!$A$2:$A$284,0),3),)","v":0},{"$f":"IFERROR(INDEX(Base!$A$2:$H$284,MATCH(HOJA_CAPTURA!AB132,Base!$A$2:$A$284,0),4),)","v":0},{"$f":"IFERROR(INDEX(Base!$A$2:$H$284,MATCH(HOJA_CAPTURA!AB132,Base!$A$2:$A$284,0),5),)","v":0},{"$f":"IFERROR(INDEX(Base!$A$2:$H$284,MATCH(HOJA_CAPTURA!AB132,Base!$A$2:$A$284,0),6),)","v":0},{"$f":"IFERROR(INDEX(Base!$A$2:$H$284,MATCH(HOJA_CAPTURA!AB132,Base!$A$2:$A$284,0),7),)","v":0},{"$f":"IFERROR(INDEX(Base!$A$2:$H$284,MATCH(HOJA_CAPTURA!AB132,Base!$A$2:$A$284,0),8),)","v":0}]
["Instituto Nacional de Pediatría","Fondo: INP",null,null,null,null,null,null,null,null,null,null,null,null,null,null,null,null,null,null,null,null,null,null,null," ",""," ",""," ","",{"$f":"IFERROR(INDEX(Base!$A$2:$H$284,MATCH(HOJA_CAPTURA!AB133,Base!$A$2:$A$284,0),3),)","v":0},{"$f":"IFERROR(INDEX(Base!$A$2:$H$284,MATCH(HOJA_CAPTURA!AB133,Base!$A$2:$A$284,0),4),)","v":0},{"$f":"IFERROR(INDEX(Base!$A$2:$H$284,MATCH(HOJA_CAPTURA!AB133,Base!$A$2:$A$284,0),5),)","v":0},{"$f":"IFERROR(INDEX(Base!$A$2:$H$284,MATCH(HOJA_CAPTURA!AB133,Base!$A$2:$A$284,0),6),)","v":0},{"$f":"IFERROR(INDEX(Base!$A$2:$H$284,MATCH(HOJA_CAPTURA!AB133,Base!$A$2:$A$284,0),7),)","v":0},{"$f":"IFERROR(INDEX(Base!$A$2:$H$284,MATCH(HOJA_CAPTURA!AB133,Base!$A$2:$A$284,0),8),)","v":0}]
["Instituto Nacional de Pediatría","Fondo: INP",null,null,null,null,null,null,null,null,null,null,null,null,null,null,null,null,null,null,null,null,null,null,null," ",""," ",""," ","",{"$f":"IFERROR(INDEX(Base!$A$2:$H$284,MATCH(HOJA_CAPTURA!AB134,Base!$A$2:$A$284,0),3),)","v":0},{"$f":"IFERROR(INDEX(Base!$A$2:$H$284,MATCH(HOJA_CAPTURA!AB134,Base!$A$2:$A$284,0),4),)","v":0},{"$f":"IFERROR(INDEX(Base!$A$2:$H$284,MATCH(HOJA_CAPTURA!AB134,Base!$A$2:$A$284,0),5),)","v":0},{"$f":"IFERROR(INDEX(Base!$A$2:$H$284,MATCH(HOJA_CAPTURA!AB134,Base!$A$2:$A$284,0),6),)","v":0},{"$f":"IFERROR(INDEX(Base!$A$2:$H$284,MATCH(HOJA_CAPTURA!AB134,Base!$A$2:$A$284,0),7),)","v":0},{"$f":"IFERROR(INDEX(Base!$A$2:$H$284,MATCH(HOJA_CAPTURA!AB134,Base!$A$2:$A$284,0),8),)","v":0}]
["Instituto Nacional de Pediatría","Fondo: INP",null,null,null,null,null,null,null,null,null,null,null,null,null,null,null,null,null,null,null,null,null,null,null," ",""," ",""," ","",{"$f":"IFERROR(INDEX(Base!$A$2:$H$284,MATCH(HOJA_CAPTURA!AB135,Base!$A$2:$A$284,0),3),)","v":0},{"$f":"IFERROR(INDEX(Base!$A$2:$H$284,MATCH(HOJA_CAPTURA!AB135,Base!$A$2:$A$284,0),4),)","v":0},{"$f":"IFERROR(INDEX(Base!$A$2:$H$284,MATCH(HOJA_CAPTURA!AB135,Base!$A$2:$A$284,0),5),)","v":0},{"$f":"IFERROR(INDEX(Base!$A$2:$H$284,MATCH(HOJA_CAPTURA!AB135,Base!$A$2:$A$284,0),6),)","v":0},{"$f":"IFERROR(INDEX(Base!$A$2:$H$284,MATCH(HOJA_CAPTURA!AB135,Base!$A$2:$A$284,0),7),)","v":0},{"$f":"IFERROR(INDEX(Base!$A$2:$H$284,MATCH(HOJA_CAPTURA!AB135,Base!$A$2:$A$284,0),8),)","v":0}]
["Instituto Nacional de Pediatría","Fondo: INP",null,null,null,null,null,null,null,null,null,null,null,null,null,null,null,null,null,null,null,null,null,null,null," ",""," ",{"$f":"MID(H136,LEN(AB136)+2, 80)","v":""}," ","",{"$f":"IFERROR(INDEX(Base!$A$2:$H$284,MATCH(HOJA_CAPTURA!AB136,Base!$A$2:$A$284,0),3),)","v":0},{"$f":"IFERROR(INDEX(Base!$A$2:$H$284,MATCH(HOJA_CAPTURA!AB136,Base!$A$2:$A$284,0),4),)","v":0},{"$f":"IFERROR(INDEX(Base!$A$2:$H$284,MATCH(HOJA_CAPTURA!AB136,Base!$A$2:$A$284,0),5),)","v":0},{"$f":"IFERROR(INDEX(Base!$A$2:$H$284,MATCH(HOJA_CAPTURA!AB136,Base!$A$2:$A$284,0),6),)","v":0},{"$f":"IFERROR(INDEX(Base!$A$2:$H$284,MATCH(HOJA_CAPTURA!AB136,Base!$A$2:$A$284,0),7),)","v":0},{"$f":"IFERROR(INDEX(Base!$A$2:$H$284,MATCH(HOJA_CAPTURA!AB136,Base!$A$2:$A$284,0),8),)","v":0}]
["Instituto Nacional de Pediatría","Fondo: INP",null,null,null,null,null,null,null,null,null,null,null,null,null,null,null,null,null,null,null,null,null,null,null," ",""," ",""," ","",{"$f":"IFERROR(INDEX(Base!$A$2:$H$284,MATCH(HOJA_CAPTURA!AB137,Base!$A$2:$A$284,0),3),)","v":0},{"$f":"IFERROR(INDEX(Base!$A$2:$H$284,MATCH(HOJA_CAPTURA!AB137,Base!$A$2:$A$284,0),4),)","v":0},{"$f":"IFERROR(INDEX(Base!$A$2:$H$284,MATCH(HOJA_CAPTURA!AB137,Base!$A$2:$A$284,0),5),)","v":0},{"$f":"IFERROR(INDEX(Base!$A$2:$H$284,MATCH(HOJA_CAPTURA!AB137,Base!$A$2:$A$284,0),6),)","v":0},{"$f":"IFERROR(INDEX(Base!$A$2:$H$284,MATCH(HOJA_CAPTURA!AB137,Base!$A$2:$A$284,0),7),)","v":0},{"$f":"IFERROR(INDEX(Base!$A$2:$H$284,MATCH(HOJA_CAPTURA!AB137,Base!$A$2:$A$284,0),8),)","v":0}]
["Instituto Nacional de Pediatría","Fondo: INP",null,null,null,null,null,null,null,null,null,null,null,null,null,null,null,null,null,null,null,null,null,null,null," ",""," ",""," ","",{"$f":"IFERROR(INDEX(Base!$A$2:$H$284,MATCH(HOJA_CAPTURA!AB138,Base!$A$2:$A$284,0),3),)","v":0},{"$f":"IFERROR(INDEX(Base!$A$2:$H$284,MATCH(HOJA_CAPTURA!AB138,Base!$A$2:$A$284,0),4),)","v":0},{"$f":"IFERROR(INDEX(Base!$A$2:$H$284,MATCH(HOJA_CAPTURA!AB138,Base!$A$2:$A$284,0),5),)","v":0},{"$f":"IFERROR(INDEX(Base!$A$2:$H$284,MATCH(HOJA_CAPTURA!AB138,Base!$A$2:$A$284,0),6),)","v":0},{"$f":"IFERROR(INDEX(Base!$A$2:$H$284,MATCH(HOJA_CAPTURA!AB138,Base!$A$2:$A$284,0),7),)","v":0},{"$f":"IFERROR(INDEX(Base!$A$2:$H$284,MATCH(HOJA_CAPTURA!AB138,Base!$A$2:$A$284,0),8),)","v":0}]
["Instituto Nacional de Pediatría","Fondo: INP",null,null,null,null,null,null,null,null,null,null,null,null,null,null,null,null,null,null,null,null,null,null,null," ",""," ",""," ","",{"$f":"IFERROR(INDEX(Base!$A$2:$H$284,MATCH(HOJA_CAPTURA!AB139,Base!$A$2:$A$284,0),3),)","v":0},{"$f":"IFERROR(INDEX(Base!$A$2:$H$284,MATCH(HOJA_CAPTURA!AB139,Base!$A$2:$A$284,0),4),)","v":0},{"$f":"IFERROR(INDEX(Base!$A$2:$H$284,MATCH(HOJA_CAPTURA!AB139,Base!$A$2:$A$284,0),5),)","v":0},{"$f":"IFERROR(INDEX(Base!$A$2:$H$284,MATCH(HOJA_CAPTURA!AB139,Base!$A$2:$A$284,0),6),)","v":0},{"$f":"IFERROR(INDEX(Base!$A$2:$H$284,MATCH(HOJA_CAPTURA!AB139,Base!$A$2:$A$284,0),7),)","v":0},{"$f":"IFERROR(INDEX(Base!$A$2:$H$284,MATCH(HOJA_CAPTURA!AB139,Base!$A$2:$A$284,0),8),)","v":0}]
["Instituto Nacional de Pediatría","Fondo: INP",null,null,null,null,null,null,null,null,null,null,null,null,null,null,null,null,null,null,null,null,null,null,null," ",""," ",""," ","",{"$f":"IFERROR(INDEX(Base!$A$2:$H$284,MATCH(HOJA_CAPTURA!AB140,Base!$A$2:$A$284,0),3),)","v":0},{"$f":"IFERROR(INDEX(Base!$A$2:$H$284,MATCH(HOJA_CAPTURA!AB140,Base!$A$2:$A$284,0),4),)","v":0},{"$f":"IFERROR(INDEX(Base!$A$2:$H$284,MATCH(HOJA_CAPTURA!AB140,Base!$A$2:$A$284,0),5),)","v":0},{"$f":"IFERROR(INDEX(Base!$A$2:$H$284,MATCH(HOJA_CAPTURA!AB140,Base!$A$2:$A$284,0),6),)","v":0},{"$f":"IFERROR(INDEX(Base!$A$2:$H$284,MATCH(HOJA_CAPTURA!AB140,Base!$A$2:$A$284,0),7),)","v":0},{"$f":"IFERROR(INDEX(Base!$A$2:$H$284,MATCH(HOJA_CAPTURA!AB140,Base!$A$2:$A$284,0),8),)","v":0}]
["Instituto Nacional de Pediatría","Fondo: INP",null,null,null,null,null,null,null,null,null,null,null,null,null,null,null,null,null,null,null,null,null,null,null," ",""," ",""," ","",{"$f":"IFERROR(INDEX(Base!$A$2:$H$284,MATCH(HOJA_CAPTURA!AB141,Base!$A$2:$A$284,0),3),)","v":0},{"$f":"IFERROR(INDEX(Base!$A$2:$H$284,MATCH(HOJA_CAPTURA!AB141,Base!$A$2:$A$284,0),4),)","v":0},{"$f":"IFERROR(INDEX(Base!$A$2:$H$284,MATCH(HOJA_CAPTURA!AB141,Base!$A$2:$A$284,0),5),)","v":0},{"$f":"IFERROR(INDEX(Base!$A$2:$H$284,MATCH(HOJA_CAPTURA!AB141,Base!$A$2:$A$284,0),6),)","v":0},{"$f":"IFERROR(INDEX(Base!$A$2:$H$284,MATCH(HOJA_CAPTURA!AB141,Base!$A$2:$A$284,0),7),)","v":0},{"$f":"IFERROR(INDEX(Base!$A$2:$H$284,MATCH(HOJA_CAPTURA!AB141,Base!$A$2:$A$284,0),8),)","v":0}]
["Instituto Nacional de Pediatría","Fondo: INP",null,null,null,null,null,null,null,null,null,null,null,null,null,null,null,null,null,null,null,null,null,null,null," ",""," ",""," ","",{"$f":"IFERROR(INDEX(Base!$A$2:$H$284,MATCH(HOJA_CAPTURA!AB142,Base!$A$2:$A$284,0),3),)","v":0},{"$f":"IFERROR(INDEX(Base!$A$2:$H$284,MATCH(HOJA_CAPTURA!AB142,Base!$A$2:$A$284,0),4),)","v":0},{"$f":"IFERROR(INDEX(Base!$A$2:$H$284,MATCH(HOJA_CAPTURA!AB142,Base!$A$2:$A$284,0),5),)","v":0},{"$f":"IFERROR(INDEX(Base!$A$2:$H$284,MATCH(HOJA_CAPTURA!AB142,Base!$A$2:$A$284,0),6),)","v":0},{"$f":"IFERROR(INDEX(Base!$A$2:$H$284,MATCH(HOJA_CAPTURA!AB142,Base!$A$2:$A$284,0),7),)","v":0},{"$f":"IFERROR(INDEX(Base!$A$2:$H$284,MATCH(HOJA_CAPTURA!AB142,Base!$A$2:$A$284,0),8),)","v":0}]
["Instituto Nacional de Pediatría","Fondo: INP",null,null,null,null,null,null,null,null,null,null,null,null,null,null,null,null,null,null,null,null,null,null,null," ",""," ",""," ","",{"$f":"IFERROR(INDEX(Base!$A$2:$H$284,MATCH(HOJA_CAPTURA!AB143,Base!$A$2:$A$284,0),3),)","v":0},{"$f":"IFERROR(INDEX(Base!$A$2:$H$284,MATCH(HOJA_CAPTURA!AB143,Base!$A$2:$A$284,0),4),)","v":0},{"$f":"IFERROR(INDEX(Base!$A$2:$H$284,MATCH(HOJA_CAPTURA!AB143,Base!$A$2:$A$284,0),5),)","v":0},{"$f":"IFERROR(INDEX(Base!$A$2:$H$284,MATCH(HOJA_CAPTURA!AB143,Base!$A$2:$A$284,0),6),)","v":0},{"$f":"IFERROR(INDEX(Base!$A$2:$H$284,MATCH(HOJA_CAPTURA!AB143,Base!$A$2:$A$284,0),7),)","v":0},{"$f":"IFERROR(INDEX(Base!$A$2:$H$284,MATCH(HOJA_CAPTURA!AB143,Base!$A$2:$A$284,0),8),)","v":0}]
["Instituto Nacional de Pediatría","Fondo: INP",null,null,null,null,null,null,null,null,null,null,null,null,null,null,null,null,null,null,null,null,null,null,null," ",""," ",""," ","",{"$f":"IFERROR(INDEX(Base!$A$2:$H$284,MATCH(HOJA_CAPTURA!AB144,Base!$A$2:$A$284,0),3),)","v":0},{"$f":"IFERROR(INDEX(Base!$A$2:$H$284,MATCH(HOJA_CAPTURA!AB144,Base!$A$2:$A$284,0),4),)","v":0},{"$f":"IFERROR(INDEX(Base!$A$2:$H$284,MATCH(HOJA_CAPTURA!AB144,Base!$A$2:$A$284,0),5),)","v":0},{"$f":"IFERROR(INDEX(Base!$A$2:$H$284,MATCH(HOJA_CAPTURA!AB144,Base!$A$2:$A$284,0),6),)","v":0},{"$f":"IFERROR(INDEX(Base!$A$2:$H$284,MATCH(HOJA_CAPTURA!AB144,Base!$A$2:$A$284,0),7),)","v":0},{"$f":"IFERROR(INDEX(Base!$A$2:$H$284,MATCH(HOJA_CAPTURA!AB144,Base!$A$2:$A$284,0),8),)","v":0}]
["Instituto Nacional de Pediatría","Fondo: INP",null,null,null,null,null,null,null,null,null,null,null,null,null,null,null,null,null,null,null,null,null,null,null," ",""," ",""," ","",{"$f":"IFERROR(INDEX(Base!$A$2:$H$284,MATCH(HOJA_CAPTURA!AB145,Base!$A$2:$A$284,0),3),)","v":0},{"$f":"IFERROR(INDEX(Base!$A$2:$H$284,MATCH(HOJA_CAPTURA!AB145,Base!$A$2:$A$284,0),4),)","v":0},{"$f":"IFERROR(INDEX(Base!$A$2:$H$284,MATCH(HOJA_CAPTURA!AB145,Base!$A$2:$A$284,0),5),)","v":0},{"$f":"IFERROR(INDEX(Base!$A$2:$H$284,MATCH(HOJA_CAPTURA!AB145,Base!$A$2:$A$284,0),6),)","v":0},{"$f":"IFERROR(INDEX(Base!$A$2:$H$284,MATCH(HOJA_CAPTURA!AB145,Base!$A$2:$A$284,0),7),)","v":0},{"$f":"IFERROR(INDEX(Base!$A$2:$H$284,MATCH(HOJA_CAPTURA!AB145,Base!$A$2:$A$284,0),8),)","v":0}]
["Instituto Nacional de Pediatría","Fondo: INP",null,null,null,null,null,null,null,null,null,null,null,null,null,null,null,null,null,null,null,null,null,null,null," ",""," ",""," ","",{"$f":"IFERROR(INDEX(Base!$A$2:$H$284,MATCH(HOJA_CAPTURA!AB146,Base!$A$2:$A$284,0),3),)","v":0},{"$f":"IFERROR(INDEX(Base!$A$2:$H$284,MATCH(HOJA_CAPTURA!AB146,Base!$A$2:$A$284,0),4),)","v":0},{"$f":"IFERROR(INDEX(Base!$A$2:$H$284,MATCH(HOJA_CAPTURA!AB146,Base!$A$2:$A$284,0),5),)","v":0},{"$f":"IFERROR(INDEX(Base!$A$2:$H$284,MATCH(HOJA_CAPTURA!AB146,Base!$A$2:$A$284,0),6),)","v":0},{"$f":"IFERROR(INDEX(Base!$A$2:$H$284,MATCH(HOJA_CAPTURA!AB146,Base!$A$2:$A$284,0),7),)","v":0},{"$f":"IFERROR(INDEX(Base!$A$2:$H$284,MATCH(HOJA_CAPTURA!AB146,Base!$A$2:$A$284,0),8),)","v":0}]
["Instituto Nacional de Pediatría","Fondo: INP",null,null,null,null,null,null,null,null,null,null,null,null,null,null,null,null,null,null,null,null,null,null,null," ",""," ",""," ","",{"$f":"IFERROR(INDEX(Base!$A$2:$H$284,MATCH(HOJA_CAPTURA!AB147,Base!$A$2:$A$284,0),3),)","v":0},{"$f":"IFERROR(INDEX(Base!$A$2:$H$284,MATCH(HOJA_CAPTURA!AB147,Base!$A$2:$A$284,0),4),)","v":0},{"$f":"IFERROR(INDEX(Base!$A$2:$H$284,MATCH(HOJA_CAPTURA!AB147,Base!$A$2:$A$284,0),5),)","v":0},{"$f":"IFERROR(INDEX(Base!$A$2:$H$284,MATCH(HOJA_CAPTURA!AB147,Base!$A$2:$A$284,0),6),)","v":0},{"$f":"IFERROR(INDEX(Base!$A$2:$H$284,MATCH(HOJA_CAPTURA!AB147,Base!$A$2:$A$284,0),7),)","v":0},{"$f":"IFERROR(INDEX(Base!$A$2:$H$284,MATCH(HOJA_CAPTURA!AB147,Base!$A$2:$A$284,0),8),)","v":0}]
["Instituto Nacional de Pediatría","Fondo: INP",null,null,null,null,null,null,null,null,null,null,null,null,null,null,null,null,null,null,null,null,null,null,null," ",""," ",""," ","",{"$f":"IFERROR(INDEX(Base!$A$2:$H$284,MATCH(HOJA_CAPTURA!AB148,Base!$A$2:$A$284,0),3),)","v":0},{"$f":"IFERROR(INDEX(Base!$A$2:$H$284,MATCH(HOJA_CAPTURA!AB148,Base!$A$2:$A$284,0),4),)","v":0},{"$f":"IFERROR(INDEX(Base!$A$2:$H$284,MATCH(HOJA_CAPTURA!AB148,Base!$A$2:$A$284,0),5),)","v":0},{"$f":"IFERROR(INDEX(Base!$A$2:$H$284,MATCH(HOJA_CAPTURA!AB148,Base!$A$2:$A$284,0),6),)","v":0},{"$f":"IFERROR(INDEX(Base!$A$2:$H$284,MATCH(HOJA_CAPTURA!AB148,Base!$A$2:$A$284,0),7),)","v":0},{"$f":"IFERROR(INDEX(Base!$A$2:$H$284,MATCH(HOJA_CAPTURA!AB148,Base!$A$2:$A$284,0),8),)","v":0}]
["Instituto Nacional de Pediatría","Fondo: INP",null,null,null,null,null,null,null,null,null,null,null,null,null,null,null,null,null,null,null,null,null,null,null," ",""," ",""," ","",{"$f":"IFERROR(INDEX(Base!$A$2:$H$284,MATCH(HOJA_CAPTURA!AB149,Base!$A$2:$A$284,0),3),)","v":0},{"$f":"IFERROR(INDEX(Base!$A$2:$H$284,MATCH(HOJA_CAPTURA!AB149,Base!$A$2:$A$284,0),4),)","v":0},{"$f":"IFERROR(INDEX(Base!$A$2:$H$284,MATCH(HOJA_CAPTURA!AB149,Base!$A$2:$A$284,0),5),)","v":0},{"$f":"IFERROR(INDEX(Base!$A$2:$H$284,MATCH(HOJA_CAPTURA!AB149,Base!$A$2:$A$284,0),6),)","v":0},{"$f":"IFERROR(INDEX(Base!$A$2:$H$284,MATCH(HOJA_CAPTURA!AB149,Base!$A$2:$A$284,0),7),)","v":0},{"$f":"IFERROR(INDEX(Base!$A$2:$H$284,MATCH(HOJA_CAPTURA!AB149,Base!$A$2:$A$284,0),8),)","v":0}]
["Instituto Nacional de Pediatría","Fondo: INP",null,null,null,null,null,null,null,null,null,null,null,null,null,null,null,null,null,null,null,null,null,null,null," ",""," ",""," ","",{"$f":"IFERROR(INDEX(Base!$A$2:$H$284,MATCH(HOJA_CAPTURA!AB150,Base!$A$2:$A$284,0),3),)","v":0},{"$f":"IFERROR(INDEX(Base!$A$2:$H$284,MATCH(HOJA_CAPTURA!AB150,Base!$A$2:$A$284,0),4),)","v":0},{"$f":"IFERROR(INDEX(Base!$A$2:$H$284,MATCH(HOJA_CAPTURA!AB150,Base!$A$2:$A$284,0),5),)","v":0},{"$f":"IFERROR(INDEX(Base!$A$2:$H$284,MATCH(HOJA_CAPTURA!AB150,Base!$A$2:$A$284,0),6),)","v":0},{"$f":"IFERROR(INDEX(Base!$A$2:$H$284,MATCH(HOJA_CAPTURA!AB150,Base!$A$2:$A$284,0),7),)","v":0},{"$f":"IFERROR(INDEX(Base!$A$2:$H$284,MATCH(HOJA_CAPTURA!AB150,Base!$A$2:$A$284,0),8),)","v":0}]
["Instituto Nacional de Pediatría","Fondo: INP",null,null,null,null,null,null,null,null,null,null,null,null,null,null,null,null,null,null,null,null,null,null,null," ",""," ",""," ","",{"$f":"IFERROR(INDEX(Base!$A$2:$H$284,MATCH(HOJA_CAPTURA!AB151,Base!$A$2:$A$284,0),3),)","v":0},{"$f":"IFERROR(INDEX(Base!$A$2:$H$284,MATCH(HOJA_CAPTURA!AB151,Base!$A$2:$A$284,0),4),)","v":0},{"$f":"IFERROR(INDEX(Base!$A$2:$H$284,MATCH(HOJA_CAPTURA!AB151,Base!$A$2:$A$284,0),5),)","v":0},{"$f":"IFERROR(INDEX(Base!$A$2:$H$284,MATCH(HOJA_CAPTURA!AB151,Base!$A$2:$A$284,0),6),)","v":0},{"$f":"IFERROR(INDEX(Base!$A$2:$H$284,MATCH(HOJA_CAPTURA!AB151,Base!$A$2:$A$284,0),7),)","v":0},{"$f":"IFERROR(INDEX(Base!$A$2:$H$284,MATCH(HOJA_CAPTURA!AB151,Base!$A$2:$A$284,0),8),)","v":0}]
["Instituto Nacional de Pediatría","Fondo: INP",null,null,null,null,null,null,null,null,null,null,null,null,null,null,null,null,null,null,null,null,null,null,null," ",""," ",""," ","",{"$f":"IFERROR(INDEX(Base!$A$2:$H$284,MATCH(HOJA_CAPTURA!AB152,Base!$A$2:$A$284,0),3),)","v":0},{"$f":"IFERROR(INDEX(Base!$A$2:$H$284,MATCH(HOJA_CAPTURA!AB152,Base!$A$2:$A$284,0),4),)","v":0},{"$f":"IFERROR(INDEX(Base!$A$2:$H$284,MATCH(HOJA_CAPTURA!AB152,Base!$A$2:$A$284,0),5),)","v":0},{"$f":"IFERROR(INDEX(Base!$A$2:$H$284,MATCH(HOJA_CAPTURA!AB152,Base!$A$2:$A$284,0),6),)","v":0},{"$f":"IFERROR(INDEX(Base!$A$2:$H$284,MATCH(HOJA_CAPTURA!AB152,Base!$A$2:$A$284,0),7),)","v":0},{"$f":"IFERROR(INDEX(Base!$A$2:$H$284,MATCH(HOJA_CAPTURA!AB152,Base!$A$2:$A$284,0),8),)","v":0}]
["Instituto Nacional de Pediatría","Fondo: INP",null,null,null,null,null,null,null,null,null,null,null,null,null,null,null,null,null,null,null,null,null,null,null," ",""," ",""," ","",{"$f":"IFERROR(INDEX(Base!$A$2:$H$284,MATCH(HOJA_CAPTURA!AB153,Base!$A$2:$A$284,0),3),)","v":0},{"$f":"IFERROR(INDEX(Base!$A$2:$H$284,MATCH(HOJA_CAPTURA!AB153,Base!$A$2:$A$284,0),4),)","v":0},{"$f":"IFERROR(INDEX(Base!$A$2:$H$284,MATCH(HOJA_CAPTURA!AB153,Base!$A$2:$A$284,0),5),)","v":0},{"$f":"IFERROR(INDEX(Base!$A$2:$H$284,MATCH(HOJA_CAPTURA!AB153,Base!$A$2:$A$284,0),6),)","v":0},{"$f":"IFERROR(INDEX(Base!$A$2:$H$284,MATCH(HOJA_CAPTURA!AB153,Base!$A$2:$A$284,0),7),)","v":0},{"$f":"IFERROR(INDEX(Base!$A$2:$H$284,MATCH(HOJA_CAPTURA!AB153,Base!$A$2:$A$284,0),8),)","v":0}]
["Instituto Nacional de Pediatría","Fondo: INP",null,null,null,null,null,null,null,null,null,null,null,null,null,null,null,null,null,null,null,null,null,null,null," ",""," ",""," ","",{"$f":"IFERROR(INDEX(Base!$A$2:$H$284,MATCH(HOJA_CAPTURA!AB154,Base!$A$2:$A$284,0),3),)","v":0},{"$f":"IFERROR(INDEX(Base!$A$2:$H$284,MATCH(HOJA_CAPTURA!AB154,Base!$A$2:$A$284,0),4),)","v":0},{"$f":"IFERROR(INDEX(Base!$A$2:$H$284,MATCH(HOJA_CAPTURA!AB154,Base!$A$2:$A$284,0),5),)","v":0},{"$f":"IFERROR(INDEX(Base!$A$2:$H$284,MATCH(HOJA_CAPTURA!AB154,Base!$A$2:$A$284,0),6),)","v":0},{"$f":"IFERROR(INDEX(Base!$A$2:$H$284,MATCH(HOJA_CAPTURA!AB154,Base!$A$2:$A$284,0),7),)","v":0},{"$f":"IFERROR(INDEX(Base!$A$2:$H$284,MATCH(HOJA_CAPTURA!AB154,Base!$A$2:$A$284,0),8),)","v":0}]
["Instituto Nacional de Pediatría","Fondo: INP",null,null,null,null,null,null,null,null,null,null,null,null,null,null,null,null,null,null,null,null,null,null,null," ",""," ",""," ","",{"$f":"IFERROR(INDEX(Base!$A$2:$H$284,MATCH(HOJA_CAPTURA!AB155,Base!$A$2:$A$284,0),3),)","v":0},{"$f":"IFERROR(INDEX(Base!$A$2:$H$284,MATCH(HOJA_CAPTURA!AB155,Base!$A$2:$A$284,0),4),)","v":0},{"$f":"IFERROR(INDEX(Base!$A$2:$H$284,MATCH(HOJA_CAPTURA!AB155,Base!$A$2:$A$284,0),5),)","v":0},{"$f":"IFERROR(INDEX(Base!$A$2:$H$284,MATCH(HOJA_CAPTURA!AB155,Base!$A$2:$A$284,0),6),)","v":0},{"$f":"IFERROR(INDEX(Base!$A$2:$H$284,MATCH(HOJA_CAPTURA!AB155,Base!$A$2:$A$284,0),7),)","v":0},{"$f":"IFERROR(INDEX(Base!$A$2:$H$284,MATCH(HOJA_CAPTURA!AB155,Base!$A$2:$A$284,0),8),)","v":0}]
["Instituto Nacional de Pediatría","Fondo: INP",null,null,null,null,null,null,null,null,null,null,null,null,null,null,null,null,null,null,null,null,null,null,null," ",""," ",""," ","",{"$f":"IFERROR(INDEX(Base!$A$2:$H$284,MATCH(HOJA_CAPTURA!AB156,Base!$A$2:$A$284,0),3),)","v":0},{"$f":"IFERROR(INDEX(Base!$A$2:$H$284,MATCH(HOJA_CAPTURA!AB156,Base!$A$2:$A$284,0),4),)","v":0},{"$f":"IFERROR(INDEX(Base!$A$2:$H$284,MATCH(HOJA_CAPTURA!AB156,Base!$A$2:$A$284,0),5),)","v":0},{"$f":"IFERROR(INDEX(Base!$A$2:$H$284,MATCH(HOJA_CAPTURA!AB156,Base!$A$2:$A$284,0),6),)","v":0},{"$f":"IFERROR(INDEX(Base!$A$2:$H$284,MATCH(HOJA_CAPTURA!AB156,Base!$A$2:$A$284,0),7),)","v":0},{"$f":"IFERROR(INDEX(Base!$A$2:$H$284,MATCH(HOJA_CAPTURA!AB156,Base!$A$2:$A$284,0),8),)","v":0}]
["Instituto Nacional de Pediatría","Fondo: INP",null,null,null,null,null,null,null,null,null,null,null,null,null,null,null,null,null,null,null,null,null,null,null," ",""," ",""," ","",{"$f":"IFERROR(INDEX(Base!$A$2:$H$284,MATCH(HOJA_CAPTURA!AB157,Base!$A$2:$A$284,0),3),)","v":0},{"$f":"IFERROR(INDEX(Base!$A$2:$H$284,MATCH(HOJA_CAPTURA!AB157,Base!$A$2:$A$284,0),4),)","v":0},{"$f":"IFERROR(INDEX(Base!$A$2:$H$284,MATCH(HOJA_CAPTURA!AB157,Base!$A$2:$A$284,0),5),)","v":0},{"$f":"IFERROR(INDEX(Base!$A$2:$H$284,MATCH(HOJA_CAPTURA!AB157,Base!$A$2:$A$284,0),6),)","v":0},{"$f":"IFERROR(INDEX(Base!$A$2:$H$284,MATCH(HOJA_CAPTURA!AB157,Base!$A$2:$A$284,0),7),)","v":0},{"$f":"IFERROR(INDEX(Base!$A$2:$H$284,MATCH(HOJA_CAPTURA!AB157,Base!$A$2:$A$284,0),8),)","v":0}]
["Instituto Nacional de Pediatría","Fondo: INP",null,null,null,null,null,null,null,null,null,null,null,null,null,null,null,null,null,null,null,null,null,null,null," ",""," ",""," ","",{"$f":"IFERROR(INDEX(Base!$A$2:$H$284,MATCH(HOJA_CAPTURA!AB158,Base!$A$2:$A$284,0),3),)","v":0},{"$f":"IFERROR(INDEX(Base!$A$2:$H$284,MATCH(HOJA_CAPTURA!AB158,Base!$A$2:$A$284,0),4),)","v":0},{"$f":"IFERROR(INDEX(Base!$A$2:$H$284,MATCH(HOJA_CAPTURA!AB158,Base!$A$2:$A$284,0),5),)","v":0},{"$f":"IFERROR(INDEX(Base!$A$2:$H$284,MATCH(HOJA_CAPTURA!AB158,Base!$A$2:$A$284,0),6),)","v":0},{"$f":"IFERROR(INDEX(Base!$A$2:$H$284,MATCH(HOJA_CAPTURA!AB158,Base!$A$2:$A$284,0),7),)","v":0},{"$f":"IFERROR(INDEX(Base!$A$2:$H$284,MATCH(HOJA_CAPTURA!AB158,Base!$A$2:$A$284,0),8),)","v":0}]
["Instituto Nacional de Pediatría","Fondo: INP",null,null,null,null,null,null,null,null,null,null,null,null,null,null,null,null,null,null,null,null,null,null,null," ",""," ",""," ","",{"$f":"IFERROR(INDEX(Base!$A$2:$H$284,MATCH(HOJA_CAPTURA!AB159,Base!$A$2:$A$284,0),3),)","v":0},{"$f":"IFERROR(INDEX(Base!$A$2:$H$284,MATCH(HOJA_CAPTURA!AB159,Base!$A$2:$A$284,0),4),)","v":0},{"$f":"IFERROR(INDEX(Base!$A$2:$H$284,MATCH(HOJA_CAPTURA!AB159,Base!$A$2:$A$284,0),5),)","v":0},{"$f":"IFERROR(INDEX(Base!$A$2:$H$284,MATCH(HOJA_CAPTURA!AB159,Base!$A$2:$A$284,0),6),)","v":0},{"$f":"IFERROR(INDEX(Base!$A$2:$H$284,MATCH(HOJA_CAPTURA!AB159,Base!$A$2:$A$284,0),7),)","v":0},{"$f":"IFERROR(INDEX(Base!$A$2:$H$284,MATCH(HOJA_CAPTURA!AB159,Base!$A$2:$A$284,0),8),)","v":0}]
["Instituto Nacional de Pediatría","Fondo: INP",null,null,null,null,null,null,null,null,null,null,null,null,null,null,null,null,null,null,null,null,null,null,null," ",""," ",""," ","",{"$f":"IFERROR(INDEX(Base!$A$2:$H$284,MATCH(HOJA_CAPTURA!AB160,Base!$A$2:$A$284,0),3),)","v":0},{"$f":"IFERROR(INDEX(Base!$A$2:$H$284,MATCH(HOJA_CAPTURA!AB160,Base!$A$2:$A$284,0),4),)","v":0},{"$f":"IFERROR(INDEX(Base!$A$2:$H$284,MATCH(HOJA_CAPTURA!AB160,Base!$A$2:$A$284,0),5),)","v":0},{"$f":"IFERROR(INDEX(Base!$A$2:$H$284,MATCH(HOJA_CAPTURA!AB160,Base!$A$2:$A$284,0),6),)","v":0},{"$f":"IFERROR(INDEX(Base!$A$2:$H$284,MATCH(HOJA_CAPTURA!AB160,Base!$A$2:$A$284,0),7),)","v":0},{"$f":"IFERROR(INDEX(Base!$A$2:$H$284,MATCH(HOJA_CAPTURA!AB160,Base!$A$2:$A$284,0),8),)","v":0}]
["Instituto Nacional de Pediatría","Fondo: INP",null,null,null,null,null,null,null,null,null,null,null,null,null,null,null,null,null,null,null,null,null,null,null," ",""," ",""," ","",{"$f":"IFERROR(INDEX(Base!$A$2:$H$284,MATCH(HOJA_CAPTURA!AB161,Base!$A$2:$A$284,0),3),)","v":0},{"$f":"IFERROR(INDEX(Base!$A$2:$H$284,MATCH(HOJA_CAPTURA!AB161,Base!$A$2:$A$284,0),4),)","v":0},{"$f":"IFERROR(INDEX(Base!$A$2:$H$284,MATCH(HOJA_CAPTURA!AB161,Base!$A$2:$A$284,0),5),)","v":0},{"$f":"IFERROR(INDEX(Base!$A$2:$H$284,MATCH(HOJA_CAPTURA!AB161,Base!$A$2:$A$284,0),6),)","v":0},{"$f":"IFERROR(INDEX(Base!$A$2:$H$284,MATCH(HOJA_CAPTURA!AB161,Base!$A$2:$A$284,0),7),)","v":0},{"$f":"IFERROR(INDEX(Base!$A$2:$H$284,MATCH(HOJA_CAPTURA!AB161,Base!$A$2:$A$284,0),8),)","v":0}]
["Instituto Nacional de Pediatría","Fondo: INP",null,null,null,null,null,null,null,null,null,null,null,null,null,null,null,null,null,null,null,null,null,null,null," ",""," ",""," ","",{"$f":"IFERROR(INDEX(Base!$A$2:$H$284,MATCH(HOJA_CAPTURA!AB162,Base!$A$2:$A$284,0),3),)","v":0},{"$f":"IFERROR(INDEX(Base!$A$2:$H$284,MATCH(HOJA_CAPTURA!AB162,Base!$A$2:$A$284,0),4),)","v":0},{"$f":"IFERROR(INDEX(Base!$A$2:$H$284,MATCH(HOJA_CAPTURA!AB162,Base!$A$2:$A$284,0),5),)","v":0},{"$f":"IFERROR(INDEX(Base!$A$2:$H$284,MATCH(HOJA_CAPTURA!AB162,Base!$A$2:$A$284,0),6),)","v":0},{"$f":"IFERROR(INDEX(Base!$A$2:$H$284,MATCH(HOJA_CAPTURA!AB162,Base!$A$2:$A$284,0),7),)","v":0},{"$f":"IFERROR(INDEX(Base!$A$2:$H$284,MATCH(HOJA_CAPTURA!AB162,Base!$A$2:$A$284,0),8),)","v":0}]
["Instituto Nacional de Pediatría","Fondo: INP",null,null,null,null,null,null,null,null,null,null,null,null,null,null,null,null,null,null,null,null,null,null,null," ",""," ",""," ","",{"$f":"IFERROR(INDEX(Base!$A$2:$H$284,MATCH(HOJA_CAPTURA!AB163,Base!$A$2:$A$284,0),3),)","v":0},{"$f":"IFERROR(INDEX(Base!$A$2:$H$284,MATCH(HOJA_CAPTURA!AB163,Base!$A$2:$A$284,0),4),)","v":0},{"$f":"IFERROR(INDEX(Base!$A$2:$H$284,MATCH(HOJA_CAPTURA!AB163,Base!$A$2:$A$284,0),5),)","v":0},{"$f":"IFERROR(INDEX(Base!$A$2:$H$284,MATCH(HOJA_CAPTURA!AB163,Base!$A$2:$A$284,0),6),)","v":0},{"$f":"IFERROR(INDEX(Base!$A$2:$H$284,MATCH(HOJA_CAPTURA!AB163,Base!$A$2:$A$284,0),7),)","v":0},{"$f":"IFERROR(INDEX(Base!$A$2:$H$284,MATCH(HOJA_CAPTURA!AB163,Base!$A$2:$A$284,0),8),)","v":0}]
["Instituto Nacional de Pediatría","Fondo: INP",null,null,null,null,null,null,null,null,null,null,null,null,null,null,null,null,null,null,null,null,null,null,null," ",""," ",""," ","",{"$f":"IFERROR(INDEX(Base!$A$2:$H$284,MATCH(HOJA_CAPTURA!AB164,Base!$A$2:$A$284,0),3),)","v":0},{"$f":"IFERROR(INDEX(Base!$A$2:$H$284,MATCH(HOJA_CAPTURA!AB164,Base!$A$2:$A$284,0),4),)","v":0},{"$f":"IFERROR(INDEX(Base!$A$2:$H$284,MATCH(HOJA_CAPTURA!AB164,Base!$A$2:$A$284,0),5),)","v":0},{"$f":"IFERROR(INDEX(Base!$A$2:$H$284,MATCH(HOJA_CAPTURA!AB164,Base!$A$2:$A$284,0),6),)","v":0},{"$f":"IFERROR(INDEX(Base!$A$2:$H$284,MATCH(HOJA_CAPTURA!AB164,Base!$A$2:$A$284,0),7),)","v":0},{"$f":"IFERROR(INDEX(Base!$A$2:$H$284,MATCH(HOJA_CAPTURA!AB164,Base!$A$2:$A$284,0),8),)","v":0}]
["Instituto Nacional de Pediatría","Fondo: INP",null,null,null,null,null,null,null,null,null,null,null,null,null,null,null,null,null,null,null,null,null,null,null," ",""," ",""," ","",{"$f":"IFERROR(INDEX(Base!$A$2:$H$284,MATCH(HOJA_CAPTURA!AB165,Base!$A$2:$A$284,0),3),)","v":0},{"$f":"IFERROR(INDEX(Base!$A$2:$H$284,MATCH(HOJA_CAPTURA!AB165,Base!$A$2:$A$284,0),4),)","v":0},{"$f":"IFERROR(INDEX(Base!$A$2:$H$284,MATCH(HOJA_CAPTURA!AB165,Base!$A$2:$A$284,0),5),)","v":0},{"$f":"IFERROR(INDEX(Base!$A$2:$H$284,MATCH(HOJA_CAPTURA!AB165,Base!$A$2:$A$284,0),6),)","v":0},{"$f":"IFERROR(INDEX(Base!$A$2:$H$284,MATCH(HOJA_CAPTURA!AB165,Base!$A$2:$A$284,0),7),)","v":0},{"$f":"IFERROR(INDEX(Base!$A$2:$H$284,MATCH(HOJA_CAPTURA!AB165,Base!$A$2:$A$284,0),8),)","v":0}]
["Instituto Nacional de Pediatría","Fondo: INP",null,null,null,null,null,null,null,null,null,null,null,null,null,null,null,null,null,null,null,null,null,null,null," ",""," ",""," ","",{"$f":"IFERROR(INDEX(Base!$A$2:$H$284,MATCH(HOJA_CAPTURA!AB166,Base!$A$2:$A$284,0),3),)","v":0},{"$f":"IFERROR(INDEX(Base!$A$2:$H$284,MATCH(HOJA_CAPTURA!AB166,Base!$A$2:$A$284,0),4),)","v":0},{"$f":"IFERROR(INDEX(Base!$A$2:$H$284,MATCH(HOJA_CAPTURA!AB166,Base!$A$2:$A$284,0),5),)","v":0},{"$f":"IFERROR(INDEX(Base!$A$2:$H$284,MATCH(HOJA_CAPTURA!AB166,Base!$A$2:$A$284,0),6),)","v":0},{"$f":"IFERROR(INDEX(Base!$A$2:$H$284,MATCH(HOJA_CAPTURA!AB166,Base!$A$2:$A$284,0),7),)","v":0},{"$f":"IFERROR(INDEX(Base!$A$2:$H$284,MATCH(HOJA_CAPTURA!AB166,Base!$A$2:$A$284,0),8),)","v":0}]
["Instituto Nacional de Pediatría","Fondo: INP",null,null,null,null,null,null,null,null,null,null,null,null,null,null,null,null,null,null,null,null,null,null,null," ",""," ",""," ","",{"$f":"IFERROR(INDEX(Base!$A$2:$H$284,MATCH(HOJA_CAPTURA!AB167,Base!$A$2:$A$284,0),3),)","v":0},{"$f":"IFERROR(INDEX(Base!$A$2:$H$284,MATCH(HOJA_CAPTURA!AB167,Base!$A$2:$A$284,0),4),)","v":0},{"$f":"IFERROR(INDEX(Base!$A$2:$H$284,MATCH(HOJA_CAPTURA!AB167,Base!$A$2:$A$284,0),5),)","v":0},{"$f":"IFERROR(INDEX(Base!$A$2:$H$284,MATCH(HOJA_CAPTURA!AB167,Base!$A$2:$A$284,0),6),)","v":0},{"$f":"IFERROR(INDEX(Base!$A$2:$H$284,MATCH(HOJA_CAPTURA!AB167,Base!$A$2:$A$284,0),7),)","v":0},{"$f":"IFERROR(INDEX(Base!$A$2:$H$284,MATCH(HOJA_CAPTURA!AB167,Base!$A$2:$A$284,0),8),)","v":0}]
["Instituto Nacional de Pediatría","Fondo: INP",null,null,null,null,null,null,null,null,null,null,null,null,null,null,null,null,null,null,null,null,null,null,null," ",""," ",""," ","",{"$f":"IFERROR(INDEX(Base!$A$2:$H$284,MATCH(HOJA_CAPTURA!AB168,Base!$A$2:$A$284,0),3),)","v":0},{"$f":"IFERROR(INDEX(Base!$A$2:$H$284,MATCH(HOJA_CAPTURA!AB168,Base!$A$2:$A$284,0),4),)","v":0},{"$f":"IFERROR(INDEX(Base!$A$2:$H$284,MATCH(HOJA_CAPTURA!AB168,Base!$A$2:$A$284,0),5),)","v":0},{"$f":"IFERROR(INDEX(Base!$A$2:$H$284,MATCH(HOJA_CAPTURA!AB168,Base!$A$2:$A$284,0),6),)","v":0},{"$f":"IFERROR(INDEX(Base!$A$2:$H$284,MATCH(HOJA_CAPTURA!AB168,Base!$A$2:$A$284,0),7),)","v":0},{"$f":"IFERROR(INDEX(Base!$A$2:$H$284,MATCH(HOJA_CAPTURA!AB168,Base!$A$2:$A$284,0),8),)","v":0}]
["Instituto Nacional de Pediatría","Fondo: INP",null,null,null,null,null,null,null,null,null,null,null,null,null,null,null,null,null,null,null,null,null,null,null," ",""," ",""," ","",{"$f":"IFERROR(INDEX(Base!$A$2:$H$284,MATCH(HOJA_CAPTURA!AB169,Base!$A$2:$A$284,0),3),)","v":0},{"$f":"IFERROR(INDEX(Base!$A$2:$H$284,MATCH(HOJA_CAPTURA!AB169,Base!$A$2:$A$284,0),4),)","v":0},{"$f":"IFERROR(INDEX(Base!$A$2:$H$284,MATCH(HOJA_CAPTURA!AB169,Base!$A$2:$A$284,0),5),)","v":0},{"$f":"IFERROR(INDEX(Base!$A$2:$H$284,MATCH(HOJA_CAPTURA!AB169,Base!$A$2:$A$284,0),6),)","v":0},{"$f":"IFERROR(INDEX(Base!$A$2:$H$284,MATCH(HOJA_CAPTURA!AB169,Base!$A$2:$A$284,0),7),)","v":0},{"$f":"IFERROR(INDEX(Base!$A$2:$H$284,MATCH(HOJA_CAPTURA!AB169,Base!$A$2:$A$284,0),8),)","v":0}]
["Instituto Nacional de Pediatría","Fondo: INP",null,null,null,null,null,null,null,null,null,null,null,null,null,null,null,null,null,null,null,null,null,null,null," ",""," ",""," ","",{"$f":"IFERROR(INDEX(Base!$A$2:$H$284,MATCH(HOJA_CAPTURA!AB170,Base!$A$2:$A$284,0),3),)","v":0},{"$f":"IFERROR(INDEX(Base!$A$2:$H$284,MATCH(HOJA_CAPTURA!AB170,Base!$A$2:$A$284,0),4),)","v":0},{"$f":"IFERROR(INDEX(Base!$A$2:$H$284,MATCH(HOJA_CAPTURA!AB170,Base!$A$2:$A$284,0),5),)","v":0},{"$f":"IFERROR(INDEX(Base!$A$2:$H$284,MATCH(HOJA_CAPTURA!AB170,Base!$A$2:$A$284,0),6),)","v":0},{"$f":"IFERROR(INDEX(Base!$A$2:$H$284,MATCH(HOJA_CAPTURA!AB170,Base!$A$2:$A$284,0),7),)","v":0},{"$f":"IFERROR(INDEX(Base!$A$2:$H$284,MATCH(HOJA_CAPTURA!AB170,Base!$A$2:$A$284,0),8),)","v":0}]
["Instituto Nacional de Pediatría","Fondo: INP",null,null,null,null,null,null,null,null,null,null,null,null,null,null,null,null,null,null,null,null,null,null,null," ",""," ",""," ","",{"$f":"IFERROR(INDEX(Base!$A$2:$H$284,MATCH(HOJA_CAPTURA!AB171,Base!$A$2:$A$284,0),3),)","v":0},{"$f":"IFERROR(INDEX(Base!$A$2:$H$284,MATCH(HOJA_CAPTURA!AB171,Base!$A$2:$A$284,0),4),)","v":0},{"$f":"IFERROR(INDEX(Base!$A$2:$H$284,MATCH(HOJA_CAPTURA!AB171,Base!$A$2:$A$284,0),5),)","v":0},{"$f":"IFERROR(INDEX(Base!$A$2:$H$284,MATCH(HOJA_CAPTURA!AB171,Base!$A$2:$A$284,0),6),)","v":0},{"$f":"IFERROR(INDEX(Base!$A$2:$H$284,MATCH(HOJA_CAPTURA!AB171,Base!$A$2:$A$284,0),7),)","v":0},{"$f":"IFERROR(INDEX(Base!$A$2:$H$284,MATCH(HOJA_CAPTURA!AB171,Base!$A$2:$A$284,0),8),)","v":0}]
["Instituto Nacional de Pediatría","Fondo: INP",null,null,null,null,null,null,null,null,null,null,null,null,null,null,null,null,null,null,null,null,null,null,null," ",""," ",""," ","",{"$f":"IFERROR(INDEX(Base!$A$2:$H$284,MATCH(HOJA_CAPTURA!AB172,Base!$A$2:$A$284,0),3),)","v":0},{"$f":"IFERROR(INDEX(Base!$A$2:$H$284,MATCH(HOJA_CAPTURA!AB172,Base!$A$2:$A$284,0),4),)","v":0},{"$f":"IFERROR(INDEX(Base!$A$2:$H$284,MATCH(HOJA_CAPTURA!AB172,Base!$A$2:$A$284,0),5),)","v":0},{"$f":"IFERROR(INDEX(Base!$A$2:$H$284,MATCH(HOJA_CAPTURA!AB172,Base!$A$2:$A$284,0),6),)","v":0},{"$f":"IFERROR(INDEX(Base!$A$2:$H$284,MATCH(HOJA_CAPTURA!AB172,Base!$A$2:$A$284,0),7),)","v":0},{"$f":"IFERROR(INDEX(Base!$A$2:$H$284,MATCH(HOJA_CAPTURA!AB172,Base!$A$2:$A$284,0),8),)","v":0}]
["Instituto Nacional de Pediatría","Fondo: INP",null,null,null,null,null,null,null,null,null,null,null,null,null,null,null,null,null,null,null,null,null,null,null," ",""," ",""," ","",{"$f":"IFERROR(INDEX(Base!$A$2:$H$284,MATCH(HOJA_CAPTURA!AB173,Base!$A$2:$A$284,0),3),)","v":0},{"$f":"IFERROR(INDEX(Base!$A$2:$H$284,MATCH(HOJA_CAPTURA!AB173,Base!$A$2:$A$284,0),4),)","v":0},{"$f":"IFERROR(INDEX(Base!$A$2:$H$284,MATCH(HOJA_CAPTURA!AB173,Base!$A$2:$A$284,0),5),)","v":0},{"$f":"IFERROR(INDEX(Base!$A$2:$H$284,MATCH(HOJA_CAPTURA!AB173,Base!$A$2:$A$284,0),6),)","v":0},{"$f":"IFERROR(INDEX(Base!$A$2:$H$284,MATCH(HOJA_CAPTURA!AB173,Base!$A$2:$A$284,0),7),)","v":0},{"$f":"IFERROR(INDEX(Base!$A$2:$H$284,MATCH(HOJA_CAPTURA!AB173,Base!$A$2:$A$284,0),8),)","v":0}]
["Instituto Nacional de Pediatría","Fondo: INP",null,null,null,null,null,null,null,null,null,null,null,null,null,null,null,null,null,null,null,null,null,null,null," ",""," ",""," ","",{"$f":"IFERROR(INDEX(Base!$A$2:$H$284,MATCH(HOJA_CAPTURA!AB174,Base!$A$2:$A$284,0),3),)","v":0},{"$f":"IFERROR(INDEX(Base!$A$2:$H$284,MATCH(HOJA_CAPTURA!AB174,Base!$A$2:$A$284,0),4),)","v":0},{"$f":"IFERROR(INDEX(Base!$A$2:$H$284,MATCH(HOJA_CAPTURA!AB174,Base!$A$2:$A$284,0),5),)","v":0},{"$f":"IFERROR(INDEX(Base!$A$2:$H$284,MATCH(HOJA_CAPTURA!AB174,Base!$A$2:$A$284,0),6),)","v":0},{"$f":"IFERROR(INDEX(Base!$A$2:$H$284,MATCH(HOJA_CAPTURA!AB174,Base!$A$2:$A$284,0),7),)","v":0},{"$f":"IFERROR(INDEX(Base!$A$2:$H$284,MATCH(HOJA_CAPTURA!AB174,Base!$A$2:$A$284,0),8),)","v":0}]
["Instituto Nacional de Pediatría","Fondo: INP",null,null,null,null,null,null,null,null,null,null,null,null,null,null,null,null,null,null,null,null,null,null,null," ",""," ",""," ","",{"$f":"IFERROR(INDEX(Base!$A$2:$H$284,MATCH(HOJA_CAPTURA!AB175,Base!$A$2:$A$284,0),3),)","v":0},{"$f":"IFERROR(INDEX(Base!$A$2:$H$284,MATCH(HOJA_CAPTURA!AB175,Base!$A$2:$A$284,0),4),)","v":0},{"$f":"IFERROR(INDEX(Base!$A$2:$H$284,MATCH(HOJA_CAPTURA!AB175,Base!$A$2:$A$284,0),5),)","v":0},{"$f":"IFERROR(INDEX(Base!$A$2:$H$284,MATCH(HOJA_CAPTURA!AB175,Base!$A$2:$A$284,0),6),)","v":0},{"$f":"IFERROR(INDEX(Base!$A$2:$H$284,MATCH(HOJA_CAPTURA!AB175,Base!$A$2:$A$284,0),7),)","v":0},{"$f":"IFERROR(INDEX(Base!$A$2:$H$284,MATCH(HOJA_CAPTURA!AB175,Base!$A$2:$A$284,0),8),)","v":0}]
["Instituto Nacional de Pediatría","Fondo: INP",null,null,null,null,null,null,null,null,null,null,null,null,null,null,null,null,null,null,null,null,null,null,null," ",""," ",""," ","",{"$f":"IFERROR(INDEX(Base!$A$2:$H$284,MATCH(HOJA_CAPTURA!AB176,Base!$A$2:$A$284,0),3),)","v":0},{"$f":"IFERROR(INDEX(Base!$A$2:$H$284,MATCH(HOJA_CAPTURA!AB176,Base!$A$2:$A$284,0),4),)","v":0},{"$f":"IFERROR(INDEX(Base!$A$2:$H$284,MATCH(HOJA_CAPTURA!AB176,Base!$A$2:$A$284,0),5),)","v":0},{"$f":"IFERROR(INDEX(Base!$A$2:$H$284,MATCH(HOJA_CAPTURA!AB176,Base!$A$2:$A$284,0),6),)","v":0},{"$f":"IFERROR(INDEX(Base!$A$2:$H$284,MATCH(HOJA_CAPTURA!AB176,Base!$A$2:$A$284,0),7),)","v":0},{"$f":"IFERROR(INDEX(Base!$A$2:$H$284,MATCH(HOJA_CAPTURA!AB176,Base!$A$2:$A$284,0),8),)","v":0}]
["Instituto Nacional de Pediatría","Fondo: INP",null,null,null,null,null,null,null,null,null,null,null,null,null,null,null,null,null,null,null,null,null,null,null," ",""," ",""," ","",{"$f":"IFERROR(INDEX(Base!$A$2:$H$284,MATCH(HOJA_CAPTURA!AB177,Base!$A$2:$A$284,0),3),)","v":0},{"$f":"IFERROR(INDEX(Base!$A$2:$H$284,MATCH(HOJA_CAPTURA!AB177,Base!$A$2:$A$284,0),4),)","v":0},{"$f":"IFERROR(INDEX(Base!$A$2:$H$284,MATCH(HOJA_CAPTURA!AB177,Base!$A$2:$A$284,0),5),)","v":0},{"$f":"IFERROR(INDEX(Base!$A$2:$H$284,MATCH(HOJA_CAPTURA!AB177,Base!$A$2:$A$284,0),6),)","v":0},{"$f":"IFERROR(INDEX(Base!$A$2:$H$284,MATCH(HOJA_CAPTURA!AB177,Base!$A$2:$A$284,0),7),)","v":0},{"$f":"IFERROR(INDEX(Base!$A$2:$H$284,MATCH(HOJA_CAPTURA!AB177,Base!$A$2:$A$284,0),8),)","v":0}]
["Instituto Nacional de Pediatría","Fondo: INP",null,null,null,null,null,null,null,null,null,null,null,null,null,null,null,null,null,null,null,null,null,null,null," ",""," ",""," ","",{"$f":"IFERROR(INDEX(Base!$A$2:$H$284,MATCH(HOJA_CAPTURA!AB178,Base!$A$2:$A$284,0),3),)","v":0},{"$f":"IFERROR(INDEX(Base!$A$2:$H$284,MATCH(HOJA_CAPTURA!AB178,Base!$A$2:$A$284,0),4),)","v":0},{"$f":"IFERROR(INDEX(Base!$A$2:$H$284,MATCH(HOJA_CAPTURA!AB178,Base!$A$2:$A$284,0),5),)","v":0},{"$f":"IFERROR(INDEX(Base!$A$2:$H$284,MATCH(HOJA_CAPTURA!AB178,Base!$A$2:$A$284,0),6),)","v":0},{"$f":"IFERROR(INDEX(Base!$A$2:$H$284,MATCH(HOJA_CAPTURA!AB178,Base!$A$2:$A$284,0),7),)","v":0},{"$f":"IFERROR(INDEX(Base!$A$2:$H$284,MATCH(HOJA_CAPTURA!AB178,Base!$A$2:$A$284,0),8),)","v":0}]
["Instituto Nacional de Pediatría","Fondo: INP",null,null,null,null,null,null,null,null,null,null,null,null,null,null,null,null,null,null,null,null,null,null,null," ",""," ",""," ","",{"$f":"IFERROR(INDEX(Base!$A$2:$H$284,MATCH(HOJA_CAPTURA!AB179,Base!$A$2:$A$284,0),3),)","v":0},{"$f":"IFERROR(INDEX(Base!$A$2:$H$284,MATCH(HOJA_CAPTURA!AB179,Base!$A$2:$A$284,0),4),)","v":0},{"$f":"IFERROR(INDEX(Base!$A$2:$H$284,MATCH(HOJA_CAPTURA!AB179,Base!$A$2:$A$284,0),5),)","v":0},{"$f":"IFERROR(INDEX(Base!$A$2:$H$284,MATCH(HOJA_CAPTURA!AB179,Base!$A$2:$A$284,0),6),)","v":0},{"$f":"IFERROR(INDEX(Base!$A$2:$H$284,MATCH(HOJA_CAPTURA!AB179,Base!$A$2:$A$284,0),7),)","v":0},{"$f":"IFERROR(INDEX(Base!$A$2:$H$284,MATCH(HOJA_CAPTURA!AB179,Base!$A$2:$A$284,0),8),)","v":0}]
["Instituto Nacional de Pediatría","Fondo: INP",null,null,null,null,null,null,null,null,null,null,null,null,null,null,null,null,null,null,null,null,null,null,null," ",""," ",""," ","",{"$f":"IFERROR(INDEX(Base!$A$2:$H$284,MATCH(HOJA_CAPTURA!AB180,Base!$A$2:$A$284,0),3),)","v":0},{"$f":"IFERROR(INDEX(Base!$A$2:$H$284,MATCH(HOJA_CAPTURA!AB180,Base!$A$2:$A$284,0),4),)","v":0},{"$f":"IFERROR(INDEX(Base!$A$2:$H$284,MATCH(HOJA_CAPTURA!AB180,Base!$A$2:$A$284,0),5),)","v":0},{"$f":"IFERROR(INDEX(Base!$A$2:$H$284,MATCH(HOJA_CAPTURA!AB180,Base!$A$2:$A$284,0),6),)","v":0},{"$f":"IFERROR(INDEX(Base!$A$2:$H$284,MATCH(HOJA_CAPTURA!AB180,Base!$A$2:$A$284,0),7),)","v":0},{"$f":"IFERROR(INDEX(Base!$A$2:$H$284,MATCH(HOJA_CAPTURA!AB180,Base!$A$2:$A$284,0),8),)","v":0}]
["Instituto Nacional de Pediatría","Fondo: INP",null,null,null,null,null,null,null,null,null,null,null,null,null,null,null,null,null,null,null,null,null,null,null," ",""," ",""," ","",{"$f":"IFERROR(INDEX(Base!$A$2:$H$284,MATCH(HOJA_CAPTURA!AB181,Base!$A$2:$A$284,0),3),)","v":0},{"$f":"IFERROR(INDEX(Base!$A$2:$H$284,MATCH(HOJA_CAPTURA!AB181,Base!$A$2:$A$284,0),4),)","v":0},{"$f":"IFERROR(INDEX(Base!$A$2:$H$284,MATCH(HOJA_CAPTURA!AB181,Base!$A$2:$A$284,0),5),)","v":0},{"$f":"IFERROR(INDEX(Base!$A$2:$H$284,MATCH(HOJA_CAPTURA!AB181,Base!$A$2:$A$284,0),6),)","v":0},{"$f":"IFERROR(INDEX(Base!$A$2:$H$284,MATCH(HOJA_CAPTURA!AB181,Base!$A$2:$A$284,0),7),)","v":0},{"$f":"IFERROR(INDEX(Base!$A$2:$H$284,MATCH(HOJA_CAPTURA!AB181,Base!$A$2:$A$284,0),8),)","v":0}]
["Instituto Nacional de Pediatría","Fondo: INP",null,null,null,null,null,null,null,null,null,null,null,null,null,null,null,null,null,null,null,null,null,null,null," ",""," ",""," ","",{"$f":"IFERROR(INDEX(Base!$A$2:$H$284,MATCH(HOJA_CAPTURA!AB182,Base!$A$2:$A$284,0),3),)","v":0},{"$f":"IFERROR(INDEX(Base!$A$2:$H$284,MATCH(HOJA_CAPTURA!AB182,Base!$A$2:$A$284,0),4),)","v":0},{"$f":"IFERROR(INDEX(Base!$A$2:$H$284,MATCH(HOJA_CAPTURA!AB182,Base!$A$2:$A$284,0),5),)","v":0},{"$f":"IFERROR(INDEX(Base!$A$2:$H$284,MATCH(HOJA_CAPTURA!AB182,Base!$A$2:$A$284,0),6),)","v":0},{"$f":"IFERROR(INDEX(Base!$A$2:$H$284,MATCH(HOJA_CAPTURA!AB182,Base!$A$2:$A$284,0),7),)","v":0},{"$f":"IFERROR(INDEX(Base!$A$2:$H$284,MATCH(HOJA_CAPTURA!AB182,Base!$A$2:$A$284,0),8),)","v":0}]
["Instituto Nacional de Pediatría","Fondo: INP",null,null,null,null,null,null,null,null,null,null,null,null,null,null,null,null,null,null,null,null,null,null,null,{"$f":"IF(G183>0, MID(G183,1,FIND(\" \",G183,1)-1), \" \")","v":" "},"",{"$f":"IF(H183>0, MID(H183,1,FIND(\" \",H183,1)-1), \" \")","v":" "},""," ","",{"$f":"IFERROR(INDEX(Base!$A$2:$H$284,MATCH(HOJA_CAPTURA!AB183,Base!$A$2:$A$284,0),3),)","v":0},{"$f":"IFERROR(INDEX(Base!$A$2:$H$284,MATCH(HOJA_CAPTURA!AB183,Base!$A$2:$A$284,0),4),)","v":0},{"$f":"IFERROR(INDEX(Base!$A$2:$H$284,MATCH(HOJA_CAPTURA!AB183,Base!$A$2:$A$284,0),5),)","v":0},{"$f":"IFERROR(INDEX(Base!$A$2:$H$284,MATCH(HOJA_CAPTURA!AB183,Base!$A$2:$A$284,0),6),)","v":0},{"$f":"IFERROR(INDEX(Base!$A$2:$H$284,MATCH(HOJA_CAPTURA!AB183,Base!$A$2:$A$284,0),7),)","v":0},{"$f":"IFERROR(INDEX(Base!$A$2:$H$284,MATCH(HOJA_CAPTURA!AB183,Base!$A$2:$A$284,0),8),)","v":0}]
["Instituto Nacional de Pediatría","Fondo: INP",null,null,null,null,null,null,null,null,null,null,null,null,null,null,null,null,null,null,null,null,null,null,null," ",""," ",""," ","",{"$f":"IFERROR(INDEX(Base!$A$2:$H$284,MATCH(HOJA_CAPTURA!AB184,Base!$A$2:$A$284,0),3),)","v":0},{"$f":"IFERROR(INDEX(Base!$A$2:$H$284,MATCH(HOJA_CAPTURA!AB184,Base!$A$2:$A$284,0),4),)","v":0},{"$f":"IFERROR(INDEX(Base!$A$2:$H$284,MATCH(HOJA_CAPTURA!AB184,Base!$A$2:$A$284,0),5),)","v":0},{"$f":"IFERROR(INDEX(Base!$A$2:$H$284,MATCH(HOJA_CAPTURA!AB184,Base!$A$2:$A$284,0),6),)","v":0},{"$f":"IFERROR(INDEX(Base!$A$2:$H$284,MATCH(HOJA_CAPTURA!AB184,Base!$A$2:$A$284,0),7),)","v":0},{"$f":"IFERROR(INDEX(Base!$A$2:$H$284,MATCH(HOJA_CAPTURA!AB184,Base!$A$2:$A$284,0),8),)","v":0}]
["Instituto Nacional de Pediatría","Fondo: INP",null,null,null,null,null,null,null,null,null,null,null,null,null,null,null,null,null,null,null,null,null,null,null," ",""," ",""," ","",{"$f":"IFERROR(INDEX(Base!$A$2:$H$284,MATCH(HOJA_CAPTURA!AB185,Base!$A$2:$A$284,0),3),)","v":0},{"$f":"IFERROR(INDEX(Base!$A$2:$H$284,MATCH(HOJA_CAPTURA!AB185,Base!$A$2:$A$284,0),4),)","v":0},{"$f":"IFERROR(INDEX(Base!$A$2:$H$284,MATCH(HOJA_CAPTURA!AB185,Base!$A$2:$A$284,0),5),)","v":0},{"$f":"IFERROR(INDEX(Base!$A$2:$H$284,MATCH(HOJA_CAPTURA!AB185,Base!$A$2:$A$284,0),6),)","v":0},{"$f":"IFERROR(INDEX(Base!$A$2:$H$284,MATCH(HOJA_CAPTURA!AB185,Base!$A$2:$A$284,0),7),)","v":0},{"$f":"IFERROR(INDEX(Base!$A$2:$H$284,MATCH(HOJA_CAPTURA!AB185,Base!$A$2:$A$284,0),8),)","v":0}]
["Instituto Nacional de Pediatría","Fondo: INP",null,null,null,null,null,null,null,null,null,null,null,null,null,null,null,null,null,null,null,null,null,null,null," ",""," ",""," ","",{"$f":"IFERROR(INDEX(Base!$A$2:$H$284,MATCH(HOJA_CAPTURA!AB186,Base!$A$2:$A$284,0),3),)","v":0},{"$f":"IFERROR(INDEX(Base!$A$2:$H$284,MATCH(HOJA_CAPTURA!AB186,Base!$A$2:$A$284,0),4),)","v":0},{"$f":"IFERROR(INDEX(Base!$A$2:$H$284,MATCH(HOJA_CAPTURA!AB186,Base!$A$2:$A$284,0),5),)","v":0},{"$f":"IFERROR(INDEX(Base!$A$2:$H$284,MATCH(HOJA_CAPTURA!AB186,Base!$A$2:$A$284,0),6),)","v":0},{"$f":"IFERROR(INDEX(Base!$A$2:$H$284,MATCH(HOJA_CAPTURA!AB186,Base!$A$2:$A$284,0),7),)","v":0},{"$f":"IFERROR(INDEX(Base!$A$2:$H$284,MATCH(HOJA_CAPTURA!AB186,Base!$A$2:$A$284,0),8),)","v":0}]
["Instituto Nacional de Pediatría","Fondo: INP",null,null,null,null,null,null,null,null,null,null,null,null,null,null,null,null,null,null,null,null,null,null,null," ",""," ",""," ","",{"$f":"IFERROR(INDEX(Base!$A$2:$H$284,MATCH(HOJA_CAPTURA!AB187,Base!$A$2:$A$284,0),3),)","v":0},{"$f":"IFERROR(INDEX(Base!$A$2:$H$284,MATCH(HOJA_CAPTURA!AB187,Base!$A$2:$A$284,0),4),)","v":0},{"$f":"IFERROR(INDEX(Base!$A$2:$H$284,MATCH(HOJA_CAPTURA!AB187,Base!$A$2:$A$284,0),5),)","v":0},{"$f":"IFERROR(INDEX(Base!$A$2:$H$284,MATCH(HOJA_CAPTURA!AB187,Base!$A$2:$A$284,0),6),)","v":0},{"$f":"IFERROR(INDEX(Base!$A$2:$H$284,MATCH(HOJA_CAPTURA!AB187,Base!$A$2:$A$284,0),7),)","v":0},{"$f":"IFERROR(INDEX(Base!$A$2:$H$284,MATCH(HOJA_CAPTURA!AB187,Base!$A$2:$A$284,0),8),)","v":0}]
["Instituto Nacional de Pediatría","Fondo: INP",null,null,null,null,null,null,null,null,null,null,null,null,null,null,null,null,null,null,null,null,null,null,null," ",""," ",""," ","",{"$f":"IFERROR(INDEX(Base!$A$2:$H$284,MATCH(HOJA_CAPTURA!AB188,Base!$A$2:$A$284,0),3),)","v":0},{"$f":"IFERROR(INDEX(Base!$A$2:$H$284,MATCH(HOJA_CAPTURA!AB188,Base!$A$2:$A$284,0),4),)","v":0},{"$f":"IFERROR(INDEX(Base!$A$2:$H$284,MATCH(HOJA_CAPTURA!AB188,Base!$A$2:$A$284,0),5),)","v":0},{"$f":"IFERROR(INDEX(Base!$A$2:$H$284,MATCH(HOJA_CAPTURA!AB188,Base!$A$2:$A$284,0),6),)","v":0},{"$f":"IFERROR(INDEX(Base!$A$2:$H$284,MATCH(HOJA_CAPTURA!AB188,Base!$A$2:$A$284,0),7),)","v":0},{"$f":"IFERROR(INDEX(Base!$A$2:$H$284,MATCH(HOJA_CAPTURA!AB188,Base!$A$2:$A$284,0),8),)","v":0}]
["Instituto Nacional de Pediatría","Fondo: INP",null,null,null,null,null,null,null,null,null,null,null,null,null,null,null,null,null,null,null,null,null,null,null," ",""," ",""," ","",{"$f":"IFERROR(INDEX(Base!$A$2:$H$284,MATCH(HOJA_CAPTURA!AB189,Base!$A$2:$A$284,0),3),)","v":0},{"$f":"IFERROR(INDEX(Base!$A$2:$H$284,MATCH(HOJA_CAPTURA!AB189,Base!$A$2:$A$284,0),4),)","v":0},{"$f":"IFERROR(INDEX(Base!$A$2:$H$284,MATCH(HOJA_CAPTURA!AB189,Base!$A$2:$A$284,0),5),)","v":0},{"$f":"IFERROR(INDEX(Base!$A$2:$H$284,MATCH(HOJA_CAPTURA!AB189,Base!$A$2:$A$284,0),6),)","v":0},{"$f":"IFERROR(INDEX(Base!$A$2:$H$284,MATCH(HOJA_CAPTURA!AB189,Base!$A$2:$A$284,0),7),)","v":0},{"$f":"IFERROR(INDEX(Base!$A$2:$H$284,MATCH(HOJA_CAPTURA!AB189,Base!$A$2:$A$284,0),8),)","v":0}]
["Instituto Nacional de Pediatría","Fondo: INP",null,null,null,null,null,null,null,null,null,null,null,null,null,null,null,null,null,null,null,null,null,null,null," ",""," ",""," ","",{"$f":"IFERROR(INDEX(Base!$A$2:$H$284,MATCH(HOJA_CAPTURA!AB190,Base!$A$2:$A$284,0),3),)","v":0},{"$f":"IFERROR(INDEX(Base!$A$2:$H$284,MATCH(HOJA_CAPTURA!AB190,Base!$A$2:$A$284,0),4),)","v":0},{"$f":"IFERROR(INDEX(Base!$A$2:$H$284,MATCH(HOJA_CAPTURA!AB190,Base!$A$2:$A$284,0),5),)","v":0},{"$f":"IFERROR(INDEX(Base!$A$2:$H$284,MATCH(HOJA_CAPTURA!AB190,Base!$A$2:$A$284,0),6),)","v":0},{"$f":"IFERROR(INDEX(Base!$A$2:$H$284,MATCH(HOJA_CAPTURA!AB190,Base!$A$2:$A$284,0),7),)","v":0},{"$f":"IFERROR(INDEX(Base!$A$2:$H$284,MATCH(HOJA_CAPTURA!AB190,Base!$A$2:$A$284,0),8),)","v":0}]
["Instituto Nacional de Pediatría","Fondo: INP",null,null,null,null,null,null,null,null,null,null,null,null,null,null,null,null,null,null,null,null,null,null,null," ",""," ",""," ","",{"$f":"IFERROR(INDEX(Base!$A$2:$H$284,MATCH(HOJA_CAPTURA!AB191,Base!$A$2:$A$284,0),3),)","v":0},{"$f":"IFERROR(INDEX(Base!$A$2:$H$284,MATCH(HOJA_CAPTURA!AB191,Base!$A$2:$A$284,0),4),)","v":0},{"$f":"IFERROR(INDEX(Base!$A$2:$H$284,MATCH(HOJA_CAPTURA!AB191,Base!$A$2:$A$284,0),5),)","v":0},{"$f":"IFERROR(INDEX(Base!$A$2:$H$284,MATCH(HOJA_CAPTURA!AB191,Base!$A$2:$A$284,0),6),)","v":0},{"$f":"IFERROR(INDEX(Base!$A$2:$H$284,MATCH(HOJA_CAPTURA!AB191,Base!$A$2:$A$284,0),7),)","v":0},{"$f":"IFERROR(INDEX(Base!$A$2:$H$284,MATCH(HOJA_CAPTURA!AB191,Base!$A$2:$A$284,0),8),)","v":0}]
["Instituto Nacional de Pediatría","Fondo: INP",null,null,null,null,null,null,null,null,null,null,null,null,null,null,null,null,null,null,null,null,null,null,null," ",""," ",""," ","",{"$f":"IFERROR(INDEX(Base!$A$2:$H$284,MATCH(HOJA_CAPTURA!AB192,Base!$A$2:$A$284,0),3),)","v":0},{"$f":"IFERROR(INDEX(Base!$A$2:$H$284,MATCH(HOJA_CAPTURA!AB192,Base!$A$2:$A$284,0),4),)","v":0},{"$f":"IFERROR(INDEX(Base!$A$2:$H$284,MATCH(HOJA_CAPTURA!AB192,Base!$A$2:$A$284,0),5),)","v":0},{"$f":"IFERROR(INDEX(Base!$A$2:$H$284,MATCH(HOJA_CAPTURA!AB192,Base!$A$2:$A$284,0),6),)","v":0},{"$f":"IFERROR(INDEX(Base!$A$2:$H$284,MATCH(HOJA_CAPTURA!AB192,Base!$A$2:$A$284,0),7),)","v":0},{"$f":"IFERROR(INDEX(Base!$A$2:$H$284,MATCH(HOJA_CAPTURA!AB192,Base!$A$2:$A$284,0),8),)","v":0}]
["Instituto Nacional de Pediatría","Fondo: INP",null,null,null,null,null,null,null,null,null,null,null,null,null,null,null,null,null,null,null,null,null,null,null," ",""," ",""," ","",{"$f":"IFERROR(INDEX(Base!$A$2:$H$284,MATCH(HOJA_CAPTURA!AB193,Base!$A$2:$A$284,0),3),)","v":0},{"$f":"IFERROR(INDEX(Base!$A$2:$H$284,MATCH(HOJA_CAPTURA!AB193,Base!$A$2:$A$284,0),4),)","v":0},{"$f":"IFERROR(INDEX(Base!$A$2:$H$284,MATCH(HOJA_CAPTURA!AB193,Base!$A$2:$A$284,0),5),)","v":0},{"$f":"IFERROR(INDEX(Base!$A$2:$H$284,MATCH(HOJA_CAPTURA!AB193,Base!$A$2:$A$284,0),6),)","v":0},{"$f":"IFERROR(INDEX(Base!$A$2:$H$284,MATCH(HOJA_CAPTURA!AB193,Base!$A$2:$A$284,0),7),)","v":0},{"$f":"IFERROR(INDEX(Base!$A$2:$H$284,MATCH(HOJA_CAPTURA!AB193,Base!$A$2:$A$284,0),8),)","v":0}]
["Instituto Nacional de Pediatría","Fondo: INP",null,null,null,null,null,null,null,null,null,null,null,null,null,null,null,null,null,null,null,null,null,null,null," ",""," ",""," ","",{"$f":"IFERROR(INDEX(Base!$A$2:$H$284,MATCH(HOJA_CAPTURA!AB194,Base!$A$2:$A$284,0),3),)","v":0},{"$f":"IFERROR(INDEX(Base!$A$2:$H$284,MATCH(HOJA_CAPTURA!AB194,Base!$A$2:$A$284,0),4),)","v":0},{"$f":"IFERROR(INDEX(Base!$A$2:$H$284,MATCH(HOJA_CAPTURA!AB194,Base!$A$2:$A$284,0),5),)","v":0},{"$f":"IFERROR(INDEX(Base!$A$2:$H$284,MATCH(HOJA_CAPTURA!AB194,Base!$A$2:$A$284,0),6),)","v":0},{"$f":"IFERROR(INDEX(Base!$A$2:$H$284,MATCH(HOJA_CAPTURA!AB194,Base!$A$2:$A$284,0),7),)","v":0},{"$f":"IFERROR(INDEX(Base!$A$2:$H$284,MATCH(HOJA_CAPTURA!AB194,Base!$A$2:$A$284,0),8),)","v":0}]
["Instituto Nacional de Pediatría","Fondo: INP",null,null,null,null,null,null,null,null,null,null,null,null,null,null,null,null,null,null,null,null,null,null,null," ",""," ","",{"$f":"IF(I195>0,MID(I195,1,FIND(\" \",H195,1)+1),\" \")","v":" "},"",{"$f":"IFERROR(INDEX(Base!$A$2:$H$284,MATCH(HOJA_CAPTURA!AB195,Base!$A$2:$A$284,0),3),)","v":0},{"$f":"IFERROR(INDEX(Base!$A$2:$H$284,MATCH(HOJA_CAPTURA!AB195,Base!$A$2:$A$284,0),4),)","v":0},{"$f":"IFERROR(INDEX(Base!$A$2:$H$284,MATCH(HOJA_CAPTURA!AB195,Base!$A$2:$A$284,0),5),)","v":0},{"$f":"IFERROR(INDEX(Base!$A$2:$H$284,MATCH(HOJA_CAPTURA!AB195,Base!$A$2:$A$284,0),6),)","v":0},{"$f":"IFERROR(INDEX(Base!$A$2:$H$284,MATCH(HOJA_CAPTURA!AB195,Base!$A$2:$A$284,0),7),)","v":0},{"$f":"IFERROR(INDEX(Base!$A$2:$H$284,MATCH(HOJA_CAPTURA!AB195,Base!$A$2:$A$284,0),8),)","v":0}]
["Instituto Nacional de Pediatría","Fondo: INP",null,null,null,null,null,null,null,null,null,null,null,null,null,null,null,null,null,null,null,null,null,null,null," ",{"$f":"MID(G196,LEN(Z196)+2, 80)","v":""}," ","",{"$f":"IF(I196>0,MID(I196,1,FIND(\" \",H196,1)+1),\" \")","v":" "},{"$f":"IF(LEFT(I196,6)=\"N/A\", \"N/A\", IFERROR(RIGHT(I196, LEN(I196) - FIND(\" \", I196)), \"\"))","v":""},{"$f":"IFERROR(INDEX(Base!$A$2:$H$284,MATCH(HOJA_CAPTURA!AB196,Base!$A$2:$A$284,0),3),)","v":0},{"$f":"IFERROR(INDEX(Base!$A$2:$H$284,MATCH(HOJA_CAPTURA!AB196,Base!$A$2:$A$284,0),4),)","v":0},{"$f":"IFERROR(INDEX(Base!$A$2:$H$284,MATCH(HOJA_CAPTURA!AB196,Base!$A$2:$A$284,0),5),)","v":0},{"$f":"IFERROR(INDEX(Base!$A$2:$H$284,MATCH(HOJA_CAPTURA!AB196,Base!$A$2:$A$284,0),6),)","v":0},{"$f":"IFERROR(INDEX(Base!$A$2:$H$284,MATCH(HOJA_CAPTURA!AB196,Base!$A$2:$A$284,0),7),)","v":0},{"$f":"IFERROR(INDEX(Base!$A$2:$H$284,MATCH(HOJA_CAPTURA!AB196,Base!$A$2:$A$284,0),8),)","v":0}]
["Instituto Nacional de Pediatría","Fondo: INP",null,null,null,null,null,null,null,null,null,null,null,null,null,null,null,null,null,null,null,null,null,null,null," ",""," ",""," ","",{"$f":"IFERROR(INDEX(Base!$A$2:$H$284,MATCH(HOJA_CAPTURA!AB197,Base!$A$2:$A$284,0),3),)","v":0},{"$f":"IFERROR(INDEX(Base!$A$2:$H$284,MATCH(HOJA_CAPTURA!AB197,Base!$A$2:$A$284,0),4),)","v":0},{"$f":"IFERROR(INDEX(Base!$A$2:$H$284,MATCH(HOJA_CAPTURA!AB197,Base!$A$2:$A$284,0),5),)","v":0},{"$f":"IFERROR(INDEX(Base!$A$2:$H$284,MATCH(HOJA_CAPTURA!AB197,Base!$A$2:$A$284,0),6),)","v":0},{"$f":"IFERROR(INDEX(Base!$A$2:$H$284,MATCH(HOJA_CAPTURA!AB197,Base!$A$2:$A$284,0),7),)","v":0},{"$f":"IFERROR(INDEX(Base!$A$2:$H$284,MATCH(HOJA_CAPTURA!AB197,Base!$A$2:$A$284,0),8),)","v":0}]
["Instituto Nacional de Pediatría","Fondo: INP",null,null,null,null,null,null,null,null,null,null,null,null,null,null,null,null,null,null,null,null,null,null,null," ",""," ",""," ","",{"$f":"IFERROR(INDEX(Base!$A$2:$H$284,MATCH(HOJA_CAPTURA!AB198,Base!$A$2:$A$284,0),3),)","v":0},{"$f":"IFERROR(INDEX(Base!$A$2:$H$284,MATCH(HOJA_CAPTURA!AB198,Base!$A$2:$A$284,0),4),)","v":0},{"$f":"IFERROR(INDEX(Base!$A$2:$H$284,MATCH(HOJA_CAPTURA!AB198,Base!$A$2:$A$284,0),5),)","v":0},{"$f":"IFERROR(INDEX(Base!$A$2:$H$284,MATCH(HOJA_CAPTURA!AB198,Base!$A$2:$A$284,0),6),)","v":0},{"$f":"IFERROR(INDEX(Base!$A$2:$H$284,MATCH(HOJA_CAPTURA!AB198,Base!$A$2:$A$284,0),7),)","v":0},{"$f":"IFERROR(INDEX(Base!$A$2:$H$284,MATCH(HOJA_CAPTURA!AB198,Base!$A$2:$A$284,0),8),)","v":0}]
["Instituto Nacional de Pediatría","Fondo: INP",null,null,null,null,null,null,null,null,null,null,null,null,null,null,null,null,null,null,null,null,null,null,null," ",""," ",""," ","",{"$f":"IFERROR(INDEX(Base!$A$2:$H$284,MATCH(HOJA_CAPTURA!AB199,Base!$A$2:$A$284,0),3),)","v":0},{"$f":"IFERROR(INDEX(Base!$A$2:$H$284,MATCH(HOJA_CAPTURA!AB199,Base!$A$2:$A$284,0),4),)","v":0},{"$f":"IFERROR(INDEX(Base!$A$2:$H$284,MATCH(HOJA_CAPTURA!AB199,Base!$A$2:$A$284,0),5),)","v":0},{"$f":"IFERROR(INDEX(Base!$A$2:$H$284,MATCH(HOJA_CAPTURA!AB199,Base!$A$2:$A$284,0),6),)","v":0},{"$f":"IFERROR(INDEX(Base!$A$2:$H$284,MATCH(HOJA_CAPTURA!AB199,Base!$A$2:$A$284,0),7),)","v":0},{"$f":"IFERROR(INDEX(Base!$A$2:$H$284,MATCH(HOJA_CAPTURA!AB199,Base!$A$2:$A$284,0),8),)","v":0}]
["Instituto Nacional de Pediatría","Fondo: INP",null,null,null,null,null,null,null,null,null,null,null,null,null,null,null,null,null,null,null,null,null,null,null," ",""," ",{"$f":"MID(H200,LEN(AB200)+2, 80)","v":""}," ","",{"$f":"IFERROR(INDEX(Base!$A$2:$H$284,MATCH(HOJA_CAPTURA!AB200,Base!$A$2:$A$284,0),3),)","v":0},{"$f":"IFERROR(INDEX(Base!$A$2:$H$284,MATCH(HOJA_CAPTURA!AB200,Base!$A$2:$A$284,0),4),)","v":0},{"$f":"IFERROR(INDEX(Base!$A$2:$H$284,MATCH(HOJA_CAPTURA!AB200,Base!$A$2:$A$284,0),5),)","v":0},{"$f":"IFERROR(INDEX(Base!$A$2:$H$284,MATCH(HOJA_CAPTURA!AB200,Base!$A$2:$A$284,0),6),)","v":0},{"$f":"IFERROR(INDEX(Base!$A$2:$H$284,MATCH(HOJA_CAPTURA!AB200,Base!$A$2:$A$284,0),7),)","v":0},{"$f":"IFERROR(INDEX(Base!$A$2:$H$284,MATCH(HOJA_CAPTURA!AB200,Base!$A$2:$A$284,0),8),)","v":0}]
["Instituto Nacional de Pediatría","Fondo: INP",null,null,null,null,null,null,null,null,null,null,null,null,null,null,null,null,null,null,null,null,null,null,null,{"$f":"IF(G201>0, MID(G201,1,FIND(\" \",G201,1)-1), \" \")","v":" "},""," ",""," ","",{"$f":"IFERROR(INDEX(Base!$A$2:$H$284,MATCH(HOJA_CAPTURA!AB201,Base!$A$2:$A$284,0),3),)","v":0},{"$f":"IFERROR(INDEX(Base!$A$2:$H$284,MATCH(HOJA_CAPTURA!AB201,Base!$A$2:$A$284,0),4),)","v":0},{"$f":"IFERROR(INDEX(Base!$A$2:$H$284,MATCH(HOJA_CAPTURA!AB201,Base!$A$2:$A$284,0),5),)","v":0},{"$f":"IFERROR(INDEX(Base!$A$2:$H$284,MATCH(HOJA_CAPTURA!AB201,Base!$A$2:$A$284,0),6),)","v":0},{"$f":"IFERROR(INDEX(Base!$A$2:$H$284,MATCH(HOJA_CAPTURA!AB201,Base!$A$2:$A$284,0),7),)","v":0},{"$f":"IFERROR(INDEX(Base!$A$2:$H$284,MATCH(HOJA_CAPTURA!AB201,Base!$A$2:$A$284,0),8),)","v":0}]
["Instituto Nacional de Pediatría","Fondo: INP",null,null,null,null,null,null,null,null,null,null,null,null,null,null,null,null,null,null,null,null,null,null,null,{"$f":"IF(G202>0, MID(G202,1,FIND(\" \",G202,1)-1), \" \")","v":" "},"",{"$f":"IF(H202>0, MID(H202,1,FIND(\" \",H202,1)-1), \" \")","v":" "},"",{"$f":"IF(I202>0,MID(I202,1,FIND(\" \",H202,1)+1),\" \")","v":" "},"",{"$f":"IFERROR(INDEX(Base!$A$2:$H$284,MATCH(HOJA_CAPTURA!AB202,Base!$A$2:$A$284,0),3),)","v":0},{"$f":"IFERROR(INDEX(Base!$A$2:$H$284,MATCH(HOJA_CAPTURA!AB202,Base!$A$2:$A$284,0),4),)","v":0},{"$f":"IFERROR(INDEX(Base!$A$2:$H$284,MATCH(HOJA_CAPTURA!AB202,Base!$A$2:$A$284,0),5),)","v":0},{"$f":"IFERROR(INDEX(Base!$A$2:$H$284,MATCH(HOJA_CAPTURA!AB202,Base!$A$2:$A$284,0),6),)","v":0},{"$f":"IFERROR(INDEX(Base!$A$2:$H$284,MATCH(HOJA_CAPTURA!AB202,Base!$A$2:$A$284,0),7),)","v":0},{"$f":"IFERROR(INDEX(Base!$A$2:$H$284,MATCH(HOJA_CAPTURA!AB202,Base!$A$2:$A$284,0),8),)","v":0}]
["Instituto Nacional de Pediatría","Fondo: INP",null,null,null,null,null,null,null,null,null,null,null,null,null,null,null,null,null,null,null,null,null,null,null,{"$f":"IF(G203>0, MID(G203,1,FIND(\" \",G203,1)-1), \" \")","v":" "},"",{"$f":"IF(H203>0, MID(H203,1,FIND(\" \",H203,1)-1), \" \")","v":" "},"",{"$f":"IF(I203>0,MID(I203,1,FIND(\" \",H203,1)+1),\" \")","v":" "},"",{"$f":"IFERROR(INDEX(Base!$A$2:$H$284,MATCH(HOJA_CAPTURA!AB203,Base!$A$2:$A$284,0),3),)","v":0},{"$f":"IFERROR(INDEX(Base!$A$2:$H$284,MATCH(HOJA_CAPTURA!AB203,Base!$A$2:$A$284,0),4),)","v":0},{"$f":"IFERROR(INDEX(Base!$A$2:$H$284,MATCH(HOJA_CAPTURA!AB203,Base!$A$2:$A$284,0),5),)","v":0},{"$f":"IFERROR(INDEX(Base!$A$2:$H$284,MATCH(HOJA_CAPTURA!AB203,Base!$A$2:$A$284,0),6),)","v":0},{"$f":"IFERROR(INDEX(Base!$A$2:$H$284,MATCH(HOJA_CAPTURA!AB203,Base!$A$2:$A$284,0),7),)","v":0},{"$f":"IFERROR(INDEX(Base!$A$2:$H$284,MATCH(HOJA_CAPTURA!AB203,Base!$A$2:$A$284,0),8),)","v":0}]
["Instituto Nacional de Pediatría","Fondo: INP",null,null,null,null,null,null,null,null,null,null,null,null,null,null,null,null,null,null,null,null,null,null,null," ",""," ",""," ","",{"$f":"IFERROR(INDEX(Base!$A$2:$H$284,MATCH(HOJA_CAPTURA!AB204,Base!$A$2:$A$284,0),3),)","v":0},{"$f":"IFERROR(INDEX(Base!$A$2:$H$284,MATCH(HOJA_CAPTURA!AB204,Base!$A$2:$A$284,0),4),)","v":0},{"$f":"IFERROR(INDEX(Base!$A$2:$H$284,MATCH(HOJA_CAPTURA!AB204,Base!$A$2:$A$284,0),5),)","v":0},{"$f":"IFERROR(INDEX(Base!$A$2:$H$284,MATCH(HOJA_CAPTURA!AB204,Base!$A$2:$A$284,0),6),)","v":0},{"$f":"IFERROR(INDEX(Base!$A$2:$H$284,MATCH(HOJA_CAPTURA!AB204,Base!$A$2:$A$284,0),7),)","v":0},{"$f":"IFERROR(INDEX(Base!$A$2:$H$284,MATCH(HOJA_CAPTURA!AB204,Base!$A$2:$A$284,0),8),)","v":0}]
["Instituto Nacional de Pediatría","Fondo: INP",null,null,null,null,null,null,null,null,null,null,null,null,null,null,null,null,null,null,null,null,null,null,null,{"$f":"IF(G205>0, MID(G205,1,FIND(\" \",G205,1)-1), \" \")","v":" "},"",{"$f":"IF(H205>0, MID(H205,1,FIND(\" \",H205,1)-1), \" \")","v":" "},"",{"$f":"IF(I205>0,MID(I205,1,FIND(\" \",H205,1)+1),\" \")","v":" "},"",{"$f":"IFERROR(INDEX(Base!$A$2:$H$284,MATCH(HOJA_CAPTURA!AB205,Base!$A$2:$A$284,0),3),)","v":0},{"$f":"IFERROR(INDEX(Base!$A$2:$H$284,MATCH(HOJA_CAPTURA!AB205,Base!$A$2:$A$284,0),4),)","v":0},{"$f":"IFERROR(INDEX(Base!$A$2:$H$284,MATCH(HOJA_CAPTURA!AB205,Base!$A$2:$A$284,0),5),)","v":0},{"$f":"IFERROR(INDEX(Base!$A$2:$H$284,MATCH(HOJA_CAPTURA!AB205,Base!$A$2:$A$284,0),6),)","v":0},{"$f":"IFERROR(INDEX(Base!$A$2:$H$284,MATCH(HOJA_CAPTURA!AB205,Base!$A$2:$A$284,0),7),)","v":0},{"$f":"IFERROR(INDEX(Base!$A$2:$H$284,MATCH(HOJA_CAPTURA!AB205,Base!$A$2:$A$284,0),8),)","v":0}]
["Instituto Nacional de Pediatría","Fondo: INP",null,null,null,null,null,null,null,null,null,null,null,null,null,null,null,null,null,null,null,null,null,null,null,{"$f":"IF(G206>0, MID(G206,1,FIND(\" \",G206,1)-1), \" \")","v":" "},"",{"$f":"IF(H206>0, MID(H206,1,FIND(\" \",H206,1)-1), \" \")","v":" "},"",{"$f":"IF(I206>0,MID(I206,1,FIND(\" \",H206,1)+1),\" \")","v":" "},"",{"$f":"IFERROR(INDEX(Base!$A$2:$H$284,MATCH(HOJA_CAPTURA!AB206,Base!$A$2:$A$284,0),3),)","v":0},{"$f":"IFERROR(INDEX(Base!$A$2:$H$284,MATCH(HOJA_CAPTURA!AB206,Base!$A$2:$A$284,0),4),)","v":0},{"$f":"IFERROR(INDEX(Base!$A$2:$H$284,MATCH(HOJA_CAPTURA!AB206,Base!$A$2:$A$284,0),5),)","v":0},{"$f":"IFERROR(INDEX(Base!$A$2:$H$284,MATCH(HOJA_CAPTURA!AB206,Base!$A$2:$A$284,0),6),)","v":0},{"$f":"IFERROR(INDEX(Base!$A$2:$H$284,MATCH(HOJA_CAPTURA!AB206,Base!$A$2:$A$284,0),7),)","v":0},{"$f":"IFERROR(INDEX(Base!$A$2:$H$284,MATCH(HOJA_CAPTURA!AB206,Base!$A$2:$A$284,0),8),)","v":0}]
["Instituto Nacional de Pediatría","Fondo: INP",null,null,null,null,null,null,null,null,null,null,null,null,null,null,null,null,null,null,null,null,null,null,null,{"$f":"IF(G207>0, MID(G207,1,FIND(\" \",G207,1)-1), \" \")","v":" "},""," ",""," ","",{"$f":"IFERROR(INDEX(Base!$A$2:$H$284,MATCH(HOJA_CAPTURA!AB207,Base!$A$2:$A$284,0),3),)","v":0},{"$f":"IFERROR(INDEX(Base!$A$2:$H$284,MATCH(HOJA_CAPTURA!AB207,Base!$A$2:$A$284,0),4),)","v":0},{"$f":"IFERROR(INDEX(Base!$A$2:$H$284,MATCH(HOJA_CAPTURA!AB207,Base!$A$2:$A$284,0),5),)","v":0},{"$f":"IFERROR(INDEX(Base!$A$2:$H$284,MATCH(HOJA_CAPTURA!AB207,Base!$A$2:$A$284,0),6),)","v":0},{"$f":"IFERROR(INDEX(Base!$A$2:$H$284,MATCH(HOJA_CAPTURA!AB207,Base!$A$2:$A$284,0),7),)","v":0},{"$f":"IFERROR(INDEX(Base!$A$2:$H$284,MATCH(HOJA_CAPTURA!AB207,Base!$A$2:$A$284,0),8),)","v":0}]
["Instituto Nacional de Pediatría","Fondo: INP",null,null,null,null,null,null,null,null,null,null,null,null,null,null,null,null,null,null,null,null,null,null,null,{"$f":"IF(G208>0, MID(G208,1,FIND(\" \",G208,1)-1), \" \")","v":" "},""," ",""," ","",{"$f":"IFERROR(INDEX(Base!$A$2:$H$284,MATCH(HOJA_CAPTURA!AB208,Base!$A$2:$A$284,0),3),)","v":0},{"$f":"IFERROR(INDEX(Base!$A$2:$H$284,MATCH(HOJA_CAPTURA!AB208,Base!$A$2:$A$284,0),4),)","v":0},{"$f":"IFERROR(INDEX(Base!$A$2:$H$284,MATCH(HOJA_CAPTURA!AB208,Base!$A$2:$A$284,0),5),)","v":0},{"$f":"IFERROR(INDEX(Base!$A$2:$H$284,MATCH(HOJA_CAPTURA!AB208,Base!$A$2:$A$284,0),6),)","v":0},{"$f":"IFERROR(INDEX(Base!$A$2:$H$284,MATCH(HOJA_CAPTURA!AB208,Base!$A$2:$A$284,0),7),)","v":0},{"$f":"IFERROR(INDEX(Base!$A$2:$H$284,MATCH(HOJA_CAPTURA!AB208,Base!$A$2:$A$284,0),8),)","v":0}]
["Instituto Nacional de Pediatría","Fondo: INP",null,null,null,null,null,null,null,null,null,null,null,null,null,null,null,null,null,null,null,null,null,null,null," ",""," ",""," ","",{"$f":"IFERROR(INDEX(Base!$A$2:$H$284,MATCH(HOJA_CAPTURA!AB209,Base!$A$2:$A$284,0),3),)","v":0},{"$f":"IFERROR(INDEX(Base!$A$2:$H$284,MATCH(HOJA_CAPTURA!AB209,Base!$A$2:$A$284,0),4),)","v":0},{"$f":"IFERROR(INDEX(Base!$A$2:$H$284,MATCH(HOJA_CAPTURA!AB209,Base!$A$2:$A$284,0),5),)","v":0},{"$f":"IFERROR(INDEX(Base!$A$2:$H$284,MATCH(HOJA_CAPTURA!AB209,Base!$A$2:$A$284,0),6),)","v":0},{"$f":"IFERROR(INDEX(Base!$A$2:$H$284,MATCH(HOJA_CAPTURA!AB209,Base!$A$2:$A$284,0),7),)","v":0},{"$f":"IFERROR(INDEX(Base!$A$2:$H$284,MATCH(HOJA_CAPTURA!AB209,Base!$A$2:$A$284,0),8),)","v":0}]
["Instituto Nacional de Pediatría","Fondo: INP",null,null,null,null,null,null,null,null,null,null,null,null,null,null,null,null,null,null,null,null,null,null,null," ",""," ",""," ","",{"$f":"IFERROR(INDEX(Base!$A$2:$H$284,MATCH(HOJA_CAPTURA!AB210,Base!$A$2:$A$284,0),3),)","v":0},{"$f":"IFERROR(INDEX(Base!$A$2:$H$284,MATCH(HOJA_CAPTURA!AB210,Base!$A$2:$A$284,0),4),)","v":0},{"$f":"IFERROR(INDEX(Base!$A$2:$H$284,MATCH(HOJA_CAPTURA!AB210,Base!$A$2:$A$284,0),5),)","v":0},{"$f":"IFERROR(INDEX(Base!$A$2:$H$284,MATCH(HOJA_CAPTURA!AB210,Base!$A$2:$A$284,0),6),)","v":0},{"$f":"IFERROR(INDEX(Base!$A$2:$H$284,MATCH(HOJA_CAPTURA!AB210,Base!$A$2:$A$284,0),7),)","v":0},{"$f":"IFERROR(INDEX(Base!$A$2:$H$284,MATCH(HOJA_CAPTURA!AB210,Base!$A$2:$A$284,0),8),)","v":0}]
["Instituto Nacional de Pediatría","Fondo: INP",null,null,null,null,null,null,null,null,null,null,null,null,null,null,null,null,null,null,null,null,null,null,null," ",""," ",""," ","",{"$f":"IFERROR(INDEX(Base!$A$2:$H$284,MATCH(HOJA_CAPTURA!AB211,Base!$A$2:$A$284,0),3),)","v":0},{"$f":"IFERROR(INDEX(Base!$A$2:$H$284,MATCH(HOJA_CAPTURA!AB211,Base!$A$2:$A$284,0),4),)","v":0},{"$f":"IFERROR(INDEX(Base!$A$2:$H$284,MATCH(HOJA_CAPTURA!AB211,Base!$A$2:$A$284,0),5),)","v":0},{"$f":"IFERROR(INDEX(Base!$A$2:$H$284,MATCH(HOJA_CAPTURA!AB211,Base!$A$2:$A$284,0),6),)","v":0},{"$f":"IFERROR(INDEX(Base!$A$2:$H$284,MATCH(HOJA_CAPTURA!AB211,Base!$A$2:$A$284,0),7),)","v":0},{"$f":"IFERROR(INDEX(Base!$A$2:$H$284,MATCH(HOJA_CAPTURA!AB211,Base!$A$2:$A$284,0),8),)","v":0}]
["Instituto Nacional de Pediatría","Fondo: INP",null,null,null,null,null,null,null,null,null,null,null,null,null,null,null,null,null,null,null,null,null,null,null," ",""," ",""," ","",{"$f":"IFERROR(INDEX(Base!$A$2:$H$284,MATCH(HOJA_CAPTURA!AB212,Base!$A$2:$A$284,0),3),)","v":0},{"$f":"IFERROR(INDEX(Base!$A$2:$H$284,MATCH(HOJA_CAPTURA!AB212,Base!$A$2:$A$284,0),4),)","v":0},{"$f":"IFERROR(INDEX(Base!$A$2:$H$284,MATCH(HOJA_CAPTURA!AB212,Base!$A$2:$A$284,0),5),)","v":0},{"$f":"IFERROR(INDEX(Base!$A$2:$H$284,MATCH(HOJA_CAPTURA!AB212,Base!$A$2:$A$284,0),6),)","v":0},{"$f":"IFERROR(INDEX(Base!$A$2:$H$284,MATCH(HOJA_CAPTURA!AB212,Base!$A$2:$A$284,0),7),)","v":0},{"$f":"IFERROR(INDEX(Base!$A$2:$H$284,MATCH(HOJA_CAPTURA!AB212,Base!$A$2:$A$284,0),8),)","v":0}]
["Instituto Nacional de Pediatría","Fondo: INP",null,null,null,null,null,null,null,null,null,null,null,null,null,null,null,null,null,null,null,null,null,null,null," ",""," ",""," ","",{"$f":"IFERROR(INDEX(Base!$A$2:$H$284,MATCH(HOJA_CAPTURA!AB213,Base!$A$2:$A$284,0),3),)","v":0},{"$f":"IFERROR(INDEX(Base!$A$2:$H$284,MATCH(HOJA_CAPTURA!AB213,Base!$A$2:$A$284,0),4),)","v":0},{"$f":"IFERROR(INDEX(Base!$A$2:$H$284,MATCH(HOJA_CAPTURA!AB213,Base!$A$2:$A$284,0),5),)","v":0},{"$f":"IFERROR(INDEX(Base!$A$2:$H$284,MATCH(HOJA_CAPTURA!AB213,Base!$A$2:$A$284,0),6),)","v":0},{"$f":"IFERROR(INDEX(Base!$A$2:$H$284,MATCH(HOJA_CAPTURA!AB213,Base!$A$2:$A$284,0),7),)","v":0},{"$f":"IFERROR(INDEX(Base!$A$2:$H$284,MATCH(HOJA_CAPTURA!AB213,Base!$A$2:$A$284,0),8),)","v":0}]
["Instituto Nacional de Pediatría","Fondo: INP",null,null,null,null,null,null,null,null,null,null,null,null,null,null,null,null,null,null,null,null,null,null,null," ",""," ",""," ","",{"$f":"IFERROR(INDEX(Base!$A$2:$H$284,MATCH(HOJA_CAPTURA!AB214,Base!$A$2:$A$284,0),3),)","v":0},{"$f":"IFERROR(INDEX(Base!$A$2:$H$284,MATCH(HOJA_CAPTURA!AB214,Base!$A$2:$A$284,0),4),)","v":0},{"$f":"IFERROR(INDEX(Base!$A$2:$H$284,MATCH(HOJA_CAPTURA!AB214,Base!$A$2:$A$284,0),5),)","v":0},{"$f":"IFERROR(INDEX(Base!$A$2:$H$284,MATCH(HOJA_CAPTURA!AB214,Base!$A$2:$A$284,0),6),)","v":0},{"$f":"IFERROR(INDEX(Base!$A$2:$H$284,MATCH(HOJA_CAPTURA!AB214,Base!$A$2:$A$284,0),7),)","v":0},{"$f":"IFERROR(INDEX(Base!$A$2:$H$284,MATCH(HOJA_CAPTURA!AB214,Base!$A$2:$A$284,0),8),)","v":0}]
["Instituto Nacional de Pediatría","Fondo: INP",null,null,null,null,null,null,null,null,null,null,null,null,null,null,null,null,null,null,null,null,null,null,null," ",""," ",""," ","",{"$f":"IFERROR(INDEX(Base!$A$2:$H$284,MATCH(HOJA_CAPTURA!AB215,Base!$A$2:$A$284,0),3),)","v":0},{"$f":"IFERROR(INDEX(Base!$A$2:$H$284,MATCH(HOJA_CAPTURA!AB215,Base!$A$2:$A$284,0),4),)","v":0},{"$f":"IFERROR(INDEX(Base!$A$2:$H$284,MATCH(HOJA_CAPTURA!AB215,Base!$A$2:$A$284,0),5),)","v":0},{"$f":"IFERROR(INDEX(Base!$A$2:$H$284,MATCH(HOJA_CAPTURA!AB215,Base!$A$2:$A$284,0),6),)","v":0},{"$f":"IFERROR(INDEX(Base!$A$2:$H$284,MATCH(HOJA_CAPTURA!AB215,Base!$A$2:$A$284,0),7),)","v":0},{"$f":"IFERROR(INDEX(Base!$A$2:$H$284,MATCH(HOJA_CAPTURA!AB215,Base!$A$2:$A$284,0),8),)","v":0}]
["Instituto Nacional de Pediatría","Fondo: INP",null,null,null,null,null,null,null,null,null,null,null,null,null,null,null,null,null,null,null,null,null,null,null," ",""," ",""," ","",{"$f":"IFERROR(INDEX(Base!$A$2:$H$284,MATCH(HOJA_CAPTURA!AB216,Base!$A$2:$A$284,0),3),)","v":0},{"$f":"IFERROR(INDEX(Base!$A$2:$H$284,MATCH(HOJA_CAPTURA!AB216,Base!$A$2:$A$284,0),4),)","v":0},{"$f":"IFERROR(INDEX(Base!$A$2:$H$284,MATCH(HOJA_CAPTURA!AB216,Base!$A$2:$A$284,0),5),)","v":0},{"$f":"IFERROR(INDEX(Base!$A$2:$H$284,MATCH(HOJA_CAPTURA!AB216,Base!$A$2:$A$284,0),6),)","v":0},{"$f":"IFERROR(INDEX(Base!$A$2:$H$284,MATCH(HOJA_CAPTURA!AB216,Base!$A$2:$A$284,0),7),)","v":0},{"$f":"IFERROR(INDEX(Base!$A$2:$H$284,MATCH(HOJA_CAPTURA!AB216,Base!$A$2:$A$284,0),8),)","v":0}]
["Instituto Nacional de Pediatría","Fondo: INP",null,null,null,null,null,null,null,null,null,null,null,null,null,null,null,null,null,null,null,null,null,null,null," ",""," ",""," ","",{"$f":"IFERROR(INDEX(Base!$A$2:$H$284,MATCH(HOJA_CAPTURA!AB217,Base!$A$2:$A$284,0),3),)","v":0},{"$f":"IFERROR(INDEX(Base!$A$2:$H$284,MATCH(HOJA_CAPTURA!AB217,Base!$A$2:$A$284,0),4),)","v":0},{"$f":"IFERROR(INDEX(Base!$A$2:$H$284,MATCH(HOJA_CAPTURA!AB217,Base!$A$2:$A$284,0),5),)","v":0},{"$f":"IFERROR(INDEX(Base!$A$2:$H$284,MATCH(HOJA_CAPTURA!AB217,Base!$A$2:$A$284,0),6),)","v":0},{"$f":"IFERROR(INDEX(Base!$A$2:$H$284,MATCH(HOJA_CAPTURA!AB217,Base!$A$2:$A$284,0),7),)","v":0},{"$f":"IFERROR(INDEX(Base!$A$2:$H$284,MATCH(HOJA_CAPTURA!AB217,Base!$A$2:$A$284,0),8),)","v":0}]
["Instituto Nacional de Pediatría","Fondo: INP",null,null,null,null,null,null,null,null,null,null,null,null,null,null,null,null,null,null,null,null,null,null,null," ",""," ",""," ","",{"$f":"IFERROR(INDEX(Base!$A$2:$H$284,MATCH(HOJA_CAPTURA!AB218,Base!$A$2:$A$284,0),3),)","v":0},{"$f":"IFERROR(INDEX(Base!$A$2:$H$284,MATCH(HOJA_CAPTURA!AB218,Base!$A$2:$A$284,0),4),)","v":0},{"$f":"IFERROR(INDEX(Base!$A$2:$H$284,MATCH(HOJA_CAPTURA!AB218,Base!$A$2:$A$284,0),5),)","v":0},{"$f":"IFERROR(INDEX(Base!$A$2:$H$284,MATCH(HOJA_CAPTURA!AB218,Base!$A$2:$A$284,0),6),)","v":0},{"$f":"IFERROR(INDEX(Base!$A$2:$H$284,MATCH(HOJA_CAPTURA!AB218,Base!$A$2:$A$284,0),7),)","v":0},{"$f":"IFERROR(INDEX(Base!$A$2:$H$284,MATCH(HOJA_CAPTURA!AB218,Base!$A$2:$A$284,0),8),)","v":0}]
["Instituto Nacional de Pediatría","Fondo: INP",null,null,null,null,null,null,null,null,null,null,null,null,null,null,null,null,null,null,null,null,null,null,null," ",""," ",""," ","",{"$f":"IFERROR(INDEX(Base!$A$2:$H$284,MATCH(HOJA_CAPTURA!AB219,Base!$A$2:$A$284,0),3),)","v":0},{"$f":"IFERROR(INDEX(Base!$A$2:$H$284,MATCH(HOJA_CAPTURA!AB219,Base!$A$2:$A$284,0),4),)","v":0},{"$f":"IFERROR(INDEX(Base!$A$2:$H$284,MATCH(HOJA_CAPTURA!AB219,Base!$A$2:$A$284,0),5),)","v":0},{"$f":"IFERROR(INDEX(Base!$A$2:$H$284,MATCH(HOJA_CAPTURA!AB219,Base!$A$2:$A$284,0),6),)","v":0},{"$f":"IFERROR(INDEX(Base!$A$2:$H$284,MATCH(HOJA_CAPTURA!AB219,Base!$A$2:$A$284,0),7),)","v":0},{"$f":"IFERROR(INDEX(Base!$A$2:$H$284,MATCH(HOJA_CAPTURA!AB219,Base!$A$2:$A$284,0),8),)","v":0}]
["Instituto Nacional de Pediatría","Fondo: INP",null,null,null,null,null,null,null,null,null,null,null,null,null,null,null,null,null,null,null,null,null,null,null," ",""," ",""," ","",{"$f":"IFERROR(INDEX(Base!$A$2:$H$284,MATCH(HOJA_CAPTURA!AB220,Base!$A$2:$A$284,0),3),)","v":0},{"$f":"IFERROR(INDEX(Base!$A$2:$H$284,MATCH(HOJA_CAPTURA!AB220,Base!$A$2:$A$284,0),4),)","v":0},{"$f":"IFERROR(INDEX(Base!$A$2:$H$284,MATCH(HOJA_CAPTURA!AB220,Base!$A$2:$A$284,0),5),)","v":0},{"$f":"IFERROR(INDEX(Base!$A$2:$H$284,MATCH(HOJA_CAPTURA!AB220,Base!$A$2:$A$284,0),6),)","v":0},{"$f":"IFERROR(INDEX(Base!$A$2:$H$284,MATCH(HOJA_CAPTURA!AB220,Base!$A$2:$A$284,0),7),)","v":0},{"$f":"IFERROR(INDEX(Base!$A$2:$H$284,MATCH(HOJA_CAPTURA!AB220,Base!$A$2:$A$284,0),8),)","v":0}]
["Instituto Nacional de Pediatría","Fondo: INP",null,null,null,null,null,null,null,null,null,null,null,null,null,null,null,null,null,null,null,null,null,null,null," ","",{"$f":"IF(H221>0, MID(H221,1,FIND(\" \",H221,1)-1), \" \")","v":" "},"",{"$f":"IF(I221>0,MID(I221,1,FIND(\" \",H222,1)+1),\" \")","v":" "},"",{"$f":"IFERROR(INDEX(Base!$A$2:$H$284,MATCH(HOJA_CAPTURA!AB221,Base!$A$2:$A$284,0),3),)","v":0},{"$f":"IFERROR(INDEX(Base!$A$2:$H$284,MATCH(HOJA_CAPTURA!AB221,Base!$A$2:$A$284,0),4),)","v":0},{"$f":"IFERROR(INDEX(Base!$A$2:$H$284,MATCH(HOJA_CAPTURA!AB221,Base!$A$2:$A$284,0),5),)","v":0},{"$f":"IFERROR(INDEX(Base!$A$2:$H$284,MATCH(HOJA_CAPTURA!AB221,Base!$A$2:$A$284,0),6),)","v":0},{"$f":"IFERROR(INDEX(Base!$A$2:$H$284,MATCH(HOJA_CAPTURA!AB221,Base!$A$2:$A$284,0),7),)","v":0},{"$f":"IFERROR(INDEX(Base!$A$2:$H$284,MATCH(HOJA_CAPTURA!AB221,Base!$A$2:$A$284,0),8),)","v":0}]
["Instituto Nacional de Pediatría","Fondo: INP",null,null,null,null,null,null,null,null,null,null,null,null,null,null,null,null,null,null,null,null,null,null,null," ","",{"$f":"IF(H222>0, MID(H222,1,FIND(\" \",H222,1)-1), \" \")","v":" "},"",{"$f":"IF(I222>0,MID(I222,1,FIND(\" \",#REF!,1)+1),\" \")","v":" "},"",{"$f":"IFERROR(INDEX(Base!$A$2:$H$284,MATCH(HOJA_CAPTURA!AB222,Base!$A$2:$A$284,0),3),)","v":0},{"$f":"IFERROR(INDEX(Base!$A$2:$H$284,MATCH(HOJA_CAPTURA!AB222,Base!$A$2:$A$284,0),4),)","v":0},{"$f":"IFERROR(INDEX(Base!$A$2:$H$284,MATCH(HOJA_CAPTURA!AB222,Base!$A$2:$A$284,0),5),)","v":0},{"$f":"IFERROR(INDEX(Base!$A$2:$H$284,MATCH(HOJA_CAPTURA!AB222,Base!$A$2:$A$284,0),6),)","v":0},{"$f":"IFERROR(INDEX(Base!$A$2:$H$284,MATCH(HOJA_CAPTURA!AB222,Base!$A$2:$A$284,0),7),)","v":0},{"$f":"IFERROR(INDEX(Base!$A$2:$H$284,MATCH(HOJA_CAPTURA!AB222,Base!$A$2:$A$284,0),8),)","v":0}]
["Instituto Nacional de Pediatría","Fondo: INP",null,null,null,null,null,null,null,null,null,null,null,null,null,null,null,null,null,null,null,null,null,null,null," ","",{"$f":"IF(H223>0, MID(H223,1,FIND(\" \",H223,1)-1), \" \")","v":" "},""," ","",{"$f":"IFERROR(INDEX(Base!$A$2:$H$284,MATCH(HOJA_CAPTURA!AB223,Base!$A$2:$A$284,0),3),)","v":0},{"$f":"IFERROR(INDEX(Base!$A$2:$H$284,MATCH(HOJA_CAPTURA!AB223,Base!$A$2:$A$284,0),4),)","v":0},{"$f":"IFERROR(INDEX(Base!$A$2:$H$284,MATCH(HOJA_CAPTURA!AB223,Base!$A$2:$A$284,0),5),)","v":0},{"$f":"IFERROR(INDEX(Base!$A$2:$H$284,MATCH(HOJA_CAPTURA!AB223,Base!$A$2:$A$284,0),6),)","v":0},{"$f":"IFERROR(INDEX(Base!$A$2:$H$284,MATCH(HOJA_CAPTURA!AB223,Base!$A$2:$A$284,0),7),)","v":0},{"$f":"IFERROR(INDEX(Base!$A$2:$H$284,MATCH(HOJA_CAPTURA!AB223,Base!$A$2:$A$284,0),8),)","v":0}]
["Instituto Nacional de Pediatría","Fondo: INP",null,null,null,null,null,null,null,null,null,null,null,null,null,null,null,null,null,null,null,null,null,null,null," ",""," ",""," ","",{"$f":"IFERROR(INDEX(Base!$A$2:$H$284,MATCH(HOJA_CAPTURA!AB224,Base!$A$2:$A$284,0),3),)","v":0},{"$f":"IFERROR(INDEX(Base!$A$2:$H$284,MATCH(HOJA_CAPTURA!AB224,Base!$A$2:$A$284,0),4),)","v":0},{"$f":"IFERROR(INDEX(Base!$A$2:$H$284,MATCH(HOJA_CAPTURA!AB224,Base!$A$2:$A$284,0),5),)","v":0},{"$f":"IFERROR(INDEX(Base!$A$2:$H$284,MATCH(HOJA_CAPTURA!AB224,Base!$A$2:$A$284,0),6),)","v":0},{"$f":"IFERROR(INDEX(Base!$A$2:$H$284,MATCH(HOJA_CAPTURA!AB224,Base!$A$2:$A$284,0),7),)","v":0},{"$f":"IFERROR(INDEX(Base!$A$2:$H$284,MATCH(HOJA_CAPTURA!AB224,Base!$A$2:$A$284,0),8),)","v":0}]
["Instituto Nacional de Pediatría","Fondo: INP",null,null,null,null,null,null,null,null,null,null,null,null,null,null,null,null,null,null,null,null,null,null,null," ",""," ",""," ","",{"$f":"IFERROR(INDEX(Base!$A$2:$H$284,MATCH(HOJA_CAPTURA!AB225,Base!$A$2:$A$284,0),3),)","v":0},{"$f":"IFERROR(INDEX(Base!$A$2:$H$284,MATCH(HOJA_CAPTURA!AB225,Base!$A$2:$A$284,0),4),)","v":0},{"$f":"IFERROR(INDEX(Base!$A$2:$H$284,MATCH(HOJA_CAPTURA!AB225,Base!$A$2:$A$284,0),5),)","v":0},{"$f":"IFERROR(INDEX(Base!$A$2:$H$284,MATCH(HOJA_CAPTURA!AB225,Base!$A$2:$A$284,0),6),)","v":0},{"$f":"IFERROR(INDEX(Base!$A$2:$H$284,MATCH(HOJA_CAPTURA!AB225,Base!$A$2:$A$284,0),7),)","v":0},{"$f":"IFERROR(INDEX(Base!$A$2:$H$284,MATCH(HOJA_CAPTURA!AB225,Base!$A$2:$A$284,0),8),)","v":0}]
["Instituto Nacional de Pediatría","Fondo: INP",null,null,null,null,null,null,null,null,null,null,null,null,null,null,null,null,null,null,null,null,null,null,null," ",""," ",""," ","",{"$f":"IFERROR(INDEX(Base!$A$2:$H$284,MATCH(HOJA_CAPTURA!AB226,Base!$A$2:$A$284,0),3),)","v":0},{"$f":"IFERROR(INDEX(Base!$A$2:$H$284,MATCH(HOJA_CAPTURA!AB226,Base!$A$2:$A$284,0),4),)","v":0},{"$f":"IFERROR(INDEX(Base!$A$2:$H$284,MATCH(HOJA_CAPTURA!AB226,Base!$A$2:$A$284,0),5),)","v":0},{"$f":"IFERROR(INDEX(Base!$A$2:$H$284,MATCH(HOJA_CAPTURA!AB226,Base!$A$2:$A$284,0),6),)","v":0},{"$f":"IFERROR(INDEX(Base!$A$2:$H$284,MATCH(HOJA_CAPTURA!AB226,Base!$A$2:$A$284,0),7),)","v":0},{"$f":"IFERROR(INDEX(Base!$A$2:$H$284,MATCH(HOJA_CAPTURA!AB226,Base!$A$2:$A$284,0),8),)","v":0}]
["Instituto Nacional de Pediatría","Fondo: INP",null,null,null,null,null,null,null,null,null,null,null,null,null,null,null,null,null,null,null,null,null,null,null," ",""," ",""," ","",{"$f":"IFERROR(INDEX(Base!$A$2:$H$284,MATCH(HOJA_CAPTURA!AB227,Base!$A$2:$A$284,0),3),)","v":0},{"$f":"IFERROR(INDEX(Base!$A$2:$H$284,MATCH(HOJA_CAPTURA!AB227,Base!$A$2:$A$284,0),4),)","v":0},{"$f":"IFERROR(INDEX(Base!$A$2:$H$284,MATCH(HOJA_CAPTURA!AB227,Base!$A$2:$A$284,0),5),)","v":0},{"$f":"IFERROR(INDEX(Base!$A$2:$H$284,MATCH(HOJA_CAPTURA!AB227,Base!$A$2:$A$284,0),6),)","v":0},{"$f":"IFERROR(INDEX(Base!$A$2:$H$284,MATCH(HOJA_CAPTURA!AB227,Base!$A$2:$A$284,0),7),)","v":0},{"$f":"IFERROR(INDEX(Base!$A$2:$H$284,MATCH(HOJA_CAPTURA!AB227,Base!$A$2:$A$284,0),8),)","v":0}]
["Instituto Nacional de Pediatría","Fondo: INP",null,null,null,null,null,null,null,null,null,null,null,null,null,null,null,null,null,null,null,null,null,null,null," ",""," ",""," ","",{"$f":"IFERROR(INDEX(Base!$A$2:$H$284,MATCH(HOJA_CAPTURA!AB228,Base!$A$2:$A$284,0),3),)","v":0},{"$f":"IFERROR(INDEX(Base!$A$2:$H$284,MATCH(HOJA_CAPTURA!AB228,Base!$A$2:$A$284,0),4),)","v":0},{"$f":"IFERROR(INDEX(Base!$A$2:$H$284,MATCH(HOJA_CAPTURA!AB228,Base!$A$2:$A$284,0),5),)","v":0},{"$f":"IFERROR(INDEX(Base!$A$2:$H$284,MATCH(HOJA_CAPTURA!AB228,Base!$A$2:$A$284,0),6),)","v":0},{"$f":"IFERROR(INDEX(Base!$A$2:$H$284,MATCH(HOJA_CAPTURA!AB228,Base!$A$2:$A$284,0),7),)","v":0},{"$f":"IFERROR(INDEX(Base!$A$2:$H$284,MATCH(HOJA_CAPTURA!AB228,Base!$A$2:$A$284,0),8),)","v":0}]
["Instituto Nacional de Pediatría","Fondo: INP",null,null,null,null,null,null,null,null,null,null,null,null,null,null,null,null,null,null,null,null,null,null,null," ",""," ",""," ","",{"$f":"IFERROR(INDEX(Base!$A$2:$H$284,MATCH(HOJA_CAPTURA!AB229,Base!$A$2:$A$284,0),3),)","v":0},{"$f":"IFERROR(INDEX(Base!$A$2:$H$284,MATCH(HOJA_CAPTURA!AB229,Base!$A$2:$A$284,0),4),)","v":0},{"$f":"IFERROR(INDEX(Base!$A$2:$H$284,MATCH(HOJA_CAPTURA!AB229,Base!$A$2:$A$284,0),5),)","v":0},{"$f":"IFERROR(INDEX(Base!$A$2:$H$284,MATCH(HOJA_CAPTURA!AB229,Base!$A$2:$A$284,0),6),)","v":0},{"$f":"IFERROR(INDEX(Base!$A$2:$H$284,MATCH(HOJA_CAPTURA!AB229,Base!$A$2:$A$284,0),7),)","v":0},{"$f":"IFERROR(INDEX(Base!$A$2:$H$284,MATCH(HOJA_CAPTURA!AB229,Base!$A$2:$A$284,0),8),)","v":0}]
["Instituto Nacional de Pediatría","Fondo: INP",null,null,null,null,null,null,null,null,null,null,null,null,null,null,null,null,null,null,null,null,null,null,null," ",""," ",""," ","",{"$f":"IFERROR(INDEX(Base!$A$2:$H$284,MATCH(HOJA_CAPTURA!AB230,Base!$A$2:$A$284,0),3),)","v":0},{"$f":"IFERROR(INDEX(Base!$A$2:$H$284,MATCH(HOJA_CAPTURA!AB230,Base!$A$2:$A$284,0),4),)","v":0},{"$f":"IFERROR(INDEX(Base!$A$2:$H$284,MATCH(HOJA_CAPTURA!AB230,Base!$A$2:$A$284,0),5),)","v":0},{"$f":"IFERROR(INDEX(Base!$A$2:$H$284,MATCH(HOJA_CAPTURA!AB230,Base!$A$2:$A$284,0),6),)","v":0},{"$f":"IFERROR(INDEX(Base!$A$2:$H$284,MATCH(HOJA_CAPTURA!AB230,Base!$A$2:$A$284,0),7),)","v":0},{"$f":"IFERROR(INDEX(Base!$A$2:$H$284,MATCH(HOJA_CAPTURA!AB230,Base!$A$2:$A$284,0),8),)","v":0}]
["Instituto Nacional de Pediatría","Fondo: INP",null,null,null,null,null,null,null,null,null,null,null,null,null,null,null,null,null,null,null,null,null,null,null," ",""," ",""," ","",{"$f":"IFERROR(INDEX(Base!$A$2:$H$284,MATCH(HOJA_CAPTURA!AB231,Base!$A$2:$A$284,0),3),)","v":0},{"$f":"IFERROR(INDEX(Base!$A$2:$H$284,MATCH(HOJA_CAPTURA!AB231,Base!$A$2:$A$284,0),4),)","v":0},{"$f":"IFERROR(INDEX(Base!$A$2:$H$284,MATCH(HOJA_CAPTURA!AB231,Base!$A$2:$A$284,0),5),)","v":0},{"$f":"IFERROR(INDEX(Base!$A$2:$H$284,MATCH(HOJA_CAPTURA!AB231,Base!$A$2:$A$284,0),6),)","v":0},{"$f":"IFERROR(INDEX(Base!$A$2:$H$284,MATCH(HOJA_CAPTURA!AB231,Base!$A$2:$A$284,0),7),)","v":0},{"$f":"IFERROR(INDEX(Base!$A$2:$H$284,MATCH(HOJA_CAPTURA!AB231,Base!$A$2:$A$284,0),8),)","v":0}]
["Instituto Nacional de Pediatría","Fondo: INP",null,null,null,null,null,null,null,null,null,null,null,null,null,null,null,null,null,null,null,null,null,null,null," ",""," ",""," ","",{"$f":"IFERROR(INDEX(Base!$A$2:$H$284,MATCH(HOJA_CAPTURA!AB232,Base!$A$2:$A$284,0),3),)","v":0},{"$f":"IFERROR(INDEX(Base!$A$2:$H$284,MATCH(HOJA_CAPTURA!AB232,Base!$A$2:$A$284,0),4),)","v":0},{"$f":"IFERROR(INDEX(Base!$A$2:$H$284,MATCH(HOJA_CAPTURA!AB232,Base!$A$2:$A$284,0),5),)","v":0},{"$f":"IFERROR(INDEX(Base!$A$2:$H$284,MATCH(HOJA_CAPTURA!AB232,Base!$A$2:$A$284,0),6),)","v":0},{"$f":"IFERROR(INDEX(Base!$A$2:$H$284,MATCH(HOJA_CAPTURA!AB232,Base!$A$2:$A$284,0),7),)","v":0},{"$f":"IFERROR(INDEX(Base!$A$2:$H$284,MATCH(HOJA_CAPTURA!AB232,Base!$A$2:$A$284,0),8),)","v":0}]
["Instituto Nacional de Pediatría","Fondo: INP",null,null,null,null,null,null,null,null,null,null,null,null,null,null,null,null,null,null,null,null,null,null,null," ",""," ",""," ","",{"$f":"IFERROR(INDEX(Base!$A$2:$H$284,MATCH(HOJA_CAPTURA!AB233,Base!$A$2:$A$284,0),3),)","v":0},{"$f":"IFERROR(INDEX(Base!$A$2:$H$284,MATCH(HOJA_CAPTURA!AB233,Base!$A$2:$A$284,0),4),)","v":0},{"$f":"IFERROR(INDEX(Base!$A$2:$H$284,MATCH(HOJA_CAPTURA!AB233,Base!$A$2:$A$284,0),5),)","v":0},{"$f":"IFERROR(INDEX(Base!$A$2:$H$284,MATCH(HOJA_CAPTURA!AB233,Base!$A$2:$A$284,0),6),)","v":0},{"$f":"IFERROR(INDEX(Base!$A$2:$H$284,MATCH(HOJA_CAPTURA!AB233,Base!$A$2:$A$284,0),7),)","v":0},{"$f":"IFERROR(INDEX(Base!$A$2:$H$284,MATCH(HOJA_CAPTURA!AB233,Base!$A$2:$A$284,0),8),)","v":0}]
["Instituto Nacional de Pediatría","Fondo: INP",null,null,null,null,null,null,null,null,null,null,null,null,null,null,null,null,null,null,null,null,null,null,null," ",""," ",""," ","",{"$f":"IFERROR(INDEX(Base!$A$2:$H$284,MATCH(HOJA_CAPTURA!AB234,Base!$A$2:$A$284,0),3),)","v":0},{"$f":"IFERROR(INDEX(Base!$A$2:$H$284,MATCH(HOJA_CAPTURA!AB234,Base!$A$2:$A$284,0),4),)","v":0},{"$f":"IFERROR(INDEX(Base!$A$2:$H$284,MATCH(HOJA_CAPTURA!AB234,Base!$A$2:$A$284,0),5),)","v":0},{"$f":"IFERROR(INDEX(Base!$A$2:$H$284,MATCH(HOJA_CAPTURA!AB234,Base!$A$2:$A$284,0),6),)","v":0},{"$f":"IFERROR(INDEX(Base!$A$2:$H$284,MATCH(HOJA_CAPTURA!AB234,Base!$A$2:$A$284,0),7),)","v":0},{"$f":"IFERROR(INDEX(Base!$A$2:$H$284,MATCH(HOJA_CAPTURA!AB234,Base!$A$2:$A$284,0),8),)","v":0}]
["Instituto Nacional de Pediatría","Fondo: INP",null,null,null,null,null,null,null,null,null,null,null,null,null,null,null,null,null,null,null,null,null,null,null," ",""," ",""," ","",{"$f":"IFERROR(INDEX(Base!$A$2:$H$284,MATCH(HOJA_CAPTURA!AB235,Base!$A$2:$A$284,0),3),)","v":0},{"$f":"IFERROR(INDEX(Base!$A$2:$H$284,MATCH(HOJA_CAPTURA!AB235,Base!$A$2:$A$284,0),4),)","v":0},{"$f":"IFERROR(INDEX(Base!$A$2:$H$284,MATCH(HOJA_CAPTURA!AB235,Base!$A$2:$A$284,0),5),)","v":0},{"$f":"IFERROR(INDEX(Base!$A$2:$H$284,MATCH(HOJA_CAPTURA!AB235,Base!$A$2:$A$284,0),6),)","v":0},{"$f":"IFERROR(INDEX(Base!$A$2:$H$284,MATCH(HOJA_CAPTURA!AB235,Base!$A$2:$A$284,0),7),)","v":0},{"$f":"IFERROR(INDEX(Base!$A$2:$H$284,MATCH(HOJA_CAPTURA!AB235,Base!$A$2:$A$284,0),8),)","v":0}]
["Instituto Nacional de Pediatría","Fondo: INP",null,null,null,null,null,null,null,null,null,null,null,null,null,null,null,null,null,null,null,null,null,null,null," ",""," ",""," ","",{"$f":"IFERROR(INDEX(Base!$A$2:$H$284,MATCH(HOJA_CAPTURA!AB236,Base!$A$2:$A$284,0),3),)","v":0},{"$f":"IFERROR(INDEX(Base!$A$2:$H$284,MATCH(HOJA_CAPTURA!AB236,Base!$A$2:$A$284,0),4),)","v":0},{"$f":"IFERROR(INDEX(Base!$A$2:$H$284,MATCH(HOJA_CAPTURA!AB236,Base!$A$2:$A$284,0),5),)","v":0},{"$f":"IFERROR(INDEX(Base!$A$2:$H$284,MATCH(HOJA_CAPTURA!AB236,Base!$A$2:$A$284,0),6),)","v":0},{"$f":"IFERROR(INDEX(Base!$A$2:$H$284,MATCH(HOJA_CAPTURA!AB236,Base!$A$2:$A$284,0),7),)","v":0},{"$f":"IFERROR(INDEX(Base!$A$2:$H$284,MATCH(HOJA_CAPTURA!AB236,Base!$A$2:$A$284,0),8),)","v":0}]
["Instituto Nacional de Pediatría","Fondo: INP",null,null,null,null,null,null,null,null,null,null,null,null,null,null,null,null,null,null,null,null,null,null,null," ",""," ",""," ","",{"$f":"IFERROR(INDEX(Base!$A$2:$H$284,MATCH(HOJA_CAPTURA!AB237,Base!$A$2:$A$284,0),3),)","v":0},{"$f":"IFERROR(INDEX(Base!$A$2:$H$284,MATCH(HOJA_CAPTURA!AB237,Base!$A$2:$A$284,0),4),)","v":0},{"$f":"IFERROR(INDEX(Base!$A$2:$H$284,MATCH(HOJA_CAPTURA!AB237,Base!$A$2:$A$284,0),5),)","v":0},{"$f":"IFERROR(INDEX(Base!$A$2:$H$284,MATCH(HOJA_CAPTURA!AB237,Base!$A$2:$A$284,0),6),)","v":0},{"$f":"IFERROR(INDEX(Base!$A$2:$H$284,MATCH(HOJA_CAPTURA!AB237,Base!$A$2:$A$284,0),7),)","v":0},{"$f":"IFERROR(INDEX(Base!$A$2:$H$284,MATCH(HOJA_CAPTURA!AB237,Base!$A$2:$A$284,0),8),)","v":0}]
["Instituto Nacional de Pediatría","Fondo: INP",null,null,null,null,null,null,null,null,null,null,null,null,null,null,null,null,null,null,null,null,null,null,null," ",""," ",""," ","",{"$f":"IFERROR(INDEX(Base!$A$2:$H$284,MATCH(HOJA_CAPTURA!AB238,Base!$A$2:$A$284,0),3),)","v":0},{"$f":"IFERROR(INDEX(Base!$A$2:$H$284,MATCH(HOJA_CAPTURA!AB238,Base!$A$2:$A$284,0),4),)","v":0},{"$f":"IFERROR(INDEX(Base!$A$2:$H$284,MATCH(HOJA_CAPTURA!AB238,Base!$A$2:$A$284,0),5),)","v":0},{"$f":"IFERROR(INDEX(Base!$A$2:$H$284,MATCH(HOJA_CAPTURA!AB238,Base!$A$2:$A$284,0),6),)","v":0},{"$f":"IFERROR(INDEX(Base!$A$2:$H$284,MATCH(HOJA_CAPTURA!AB238,Base!$A$2:$A$284,0),7),)","v":0},{"$f":"IFERROR(INDEX(Base!$A$2:$H$284,MATCH(HOJA_CAPTURA!AB238,Base!$A$2:$A$284,0),8),)","v":0}]
["Instituto Nacional de Pediatría","Fondo: INP",null,null,null,null,null,null,null,null,null,null,null,null,null,null,null,null,null,null,null,null,null,null,null," ",""," ",""," ","",{"$f":"IFERROR(INDEX(Base!$A$2:$H$284,MATCH(HOJA_CAPTURA!AB239,Base!$A$2:$A$284,0),3),)","v":0},{"$f":"IFERROR(INDEX(Base!$A$2:$H$284,MATCH(HOJA_CAPTURA!AB239,Base!$A$2:$A$284,0),4),)","v":0},{"$f":"IFERROR(INDEX(Base!$A$2:$H$284,MATCH(HOJA_CAPTURA!AB239,Base!$A$2:$A$284,0),5),)","v":0},{"$f":"IFERROR(INDEX(Base!$A$2:$H$284,MATCH(HOJA_CAPTURA!AB239,Base!$A$2:$A$284,0),6),)","v":0},{"$f":"IFERROR(INDEX(Base!$A$2:$H$284,MATCH(HOJA_CAPTURA!AB239,Base!$A$2:$A$284,0),7),)","v":0},{"$f":"IFERROR(INDEX(Base!$A$2:$H$284,MATCH(HOJA_CAPTURA!AB239,Base!$A$2:$A$284,0),8),)","v":0}]
["Instituto Nacional de Pediatría","Fondo: INP",null,null,null,null,null,null,null,null,null,null,null,null,null,null,null,null,null,null,null,null,null,null,null," ",""," ",""," ","",{"$f":"IFERROR(INDEX(Base!$A$2:$H$284,MATCH(HOJA_CAPTURA!AB240,Base!$A$2:$A$284,0),3),)","v":0},{"$f":"IFERROR(INDEX(Base!$A$2:$H$284,MATCH(HOJA_CAPTURA!AB240,Base!$A$2:$A$284,0),4),)","v":0},{"$f":"IFERROR(INDEX(Base!$A$2:$H$284,MATCH(HOJA_CAPTURA!AB240,Base!$A$2:$A$284,0),5),)","v":0},{"$f":"IFERROR(INDEX(Base!$A$2:$H$284,MATCH(HOJA_CAPTURA!AB240,Base!$A$2:$A$284,0),6),)","v":0},{"$f":"IFERROR(INDEX(Base!$A$2:$H$284,MATCH(HOJA_CAPTURA!AB240,Base!$A$2:$A$284,0),7),)","v":0},{"$f":"IFERROR(INDEX(Base!$A$2:$H$284,MATCH(HOJA_CAPTURA!AB240,Base!$A$2:$A$284,0),8),)","v":0}]
["Instituto Nacional de Pediatría","Fondo: INP",null,null,null,null,null,null,null,null,null,null,null,null,null,null,null,null,null,null,null,null,null,null,null," ",""," ",""," ","",{"$f":"IFERROR(INDEX(Base!$A$2:$H$284,MATCH(HOJA_CAPTURA!AB241,Base!$A$2:$A$284,0),3),)","v":0},{"$f":"IFERROR(INDEX(Base!$A$2:$H$284,MATCH(HOJA_CAPTURA!AB241,Base!$A$2:$A$284,0),4),)","v":0},{"$f":"IFERROR(INDEX(Base!$A$2:$H$284,MATCH(HOJA_CAPTURA!AB241,Base!$A$2:$A$284,0),5),)","v":0},{"$f":"IFERROR(INDEX(Base!$A$2:$H$284,MATCH(HOJA_CAPTURA!AB241,Base!$A$2:$A$284,0),6),)","v":0},{"$f":"IFERROR(INDEX(Base!$A$2:$H$284,MATCH(HOJA_CAPTURA!AB241,Base!$A$2:$A$284,0),7),)","v":0},{"$f":"IFERROR(INDEX(Base!$A$2:$H$284,MATCH(HOJA_CAPTURA!AB241,Base!$A$2:$A$284,0),8),)","v":0}]
["Instituto Nacional de Pediatría","Fondo: INP",null,null,null,null,null,null,null,null,null,null,null,null,null,null,null,null,null,null,null,null,null,null,null," ",""," ",""," ","",{"$f":"IFERROR(INDEX(Base!$A$2:$H$284,MATCH(HOJA_CAPTURA!AB242,Base!$A$2:$A$284,0),3),)","v":0},{"$f":"IFERROR(INDEX(Base!$A$2:$H$284,MATCH(HOJA_CAPTURA!AB242,Base!$A$2:$A$284,0),4),)","v":0},{"$f":"IFERROR(INDEX(Base!$A$2:$H$284,MATCH(HOJA_CAPTURA!AB242,Base!$A$2:$A$284,0),5),)","v":0},{"$f":"IFERROR(INDEX(Base!$A$2:$H$284,MATCH(HOJA_CAPTURA!AB242,Base!$A$2:$A$284,0),6),)","v":0},{"$f":"IFERROR(INDEX(Base!$A$2:$H$284,MATCH(HOJA_CAPTURA!AB242,Base!$A$2:$A$284,0),7),)","v":0},{"$f":"IFERROR(INDEX(Base!$A$2:$H$284,MATCH(HOJA_CAPTURA!AB242,Base!$A$2:$A$284,0),8),)","v":0}]
["Instituto Nacional de Pediatría","Fondo: INP",null,null,null,null,null,null,null,null,null,null,null,null,null,null,null,null,null,null,null,null,null,null,null," ",""," ",""," ","",{"$f":"IFERROR(INDEX(Base!$A$2:$H$284,MATCH(HOJA_CAPTURA!AB243,Base!$A$2:$A$284,0),3),)","v":0},{"$f":"IFERROR(INDEX(Base!$A$2:$H$284,MATCH(HOJA_CAPTURA!AB243,Base!$A$2:$A$284,0),4),)","v":0},{"$f":"IFERROR(INDEX(Base!$A$2:$H$284,MATCH(HOJA_CAPTURA!AB243,Base!$A$2:$A$284,0),5),)","v":0},{"$f":"IFERROR(INDEX(Base!$A$2:$H$284,MATCH(HOJA_CAPTURA!AB243,Base!$A$2:$A$284,0),6),)","v":0},{"$f":"IFERROR(INDEX(Base!$A$2:$H$284,MATCH(HOJA_CAPTURA!AB243,Base!$A$2:$A$284,0),7),)","v":0},{"$f":"IFERROR(INDEX(Base!$A$2:$H$284,MATCH(HOJA_CAPTURA!AB243,Base!$A$2:$A$284,0),8),)","v":0}]
["Instituto Nacional de Pediatría","Fondo: INP",null,null,null,null,null,null,null,null,null,null,null,null,null,null,null,null,null,null,null,null,null,null,null," ",""," ",""," ","",{"$f":"IFERROR(INDEX(Base!$A$2:$H$284,MATCH(HOJA_CAPTURA!AB244,Base!$A$2:$A$284,0),3),)","v":0},{"$f":"IFERROR(INDEX(Base!$A$2:$H$284,MATCH(HOJA_CAPTURA!AB244,Base!$A$2:$A$284,0),4),)","v":0},{"$f":"IFERROR(INDEX(Base!$A$2:$H$284,MATCH(HOJA_CAPTURA!AB244,Base!$A$2:$A$284,0),5),)","v":0},{"$f":"IFERROR(INDEX(Base!$A$2:$H$284,MATCH(HOJA_CAPTURA!AB244,Base!$A$2:$A$284,0),6),)","v":0},{"$f":"IFERROR(INDEX(Base!$A$2:$H$284,MATCH(HOJA_CAPTURA!AB244,Base!$A$2:$A$284,0),7),)","v":0},{"$f":"IFERROR(INDEX(Base!$A$2:$H$284,MATCH(HOJA_CAPTURA!AB244,Base!$A$2:$A$284,0),8),)","v":0}]
["Instituto Nacional de Pediatría","Fondo: INP",null,null,null,null,null,null,null,null,null,null,null,null,null,null,null,null,null,null,null,null,null,null,null," ",""," ",""," ","",{"$f":"IFERROR(INDEX(Base!$A$2:$H$284,MATCH(HOJA_CAPTURA!AB245,Base!$A$2:$A$284,0),3),)","v":0},{"$f":"IFERROR(INDEX(Base!$A$2:$H$284,MATCH(HOJA_CAPTURA!AB245,Base!$A$2:$A$284,0),4),)","v":0},{"$f":"IFERROR(INDEX(Base!$A$2:$H$284,MATCH(HOJA_CAPTURA!AB245,Base!$A$2:$A$284,0),5),)","v":0},{"$f":"IFERROR(INDEX(Base!$A$2:$H$284,MATCH(HOJA_CAPTURA!AB245,Base!$A$2:$A$284,0),6),)","v":0},{"$f":"IFERROR(INDEX(Base!$A$2:$H$284,MATCH(HOJA_CAPTURA!AB245,Base!$A$2:$A$284,0),7),)","v":0},{"$f":"IFERROR(INDEX(Base!$A$2:$H$284,MATCH(HOJA_CAPTURA!AB245,Base!$A$2:$A$284,0),8),)","v":0}]
["Instituto Nacional de Pediatría","Fondo: INP",null,null,null,null,null,null,null,null,null,null,null,null,null,null,null,null,null,null,null,null,null,null,null," ",""," ",""," ","",{"$f":"IFERROR(INDEX(Base!$A$2:$H$284,MATCH(HOJA_CAPTURA!AB246,Base!$A$2:$A$284,0),3),)","v":0},{"$f":"IFERROR(INDEX(Base!$A$2:$H$284,MATCH(HOJA_CAPTURA!AB246,Base!$A$2:$A$284,0),4),)","v":0},{"$f":"IFERROR(INDEX(Base!$A$2:$H$284,MATCH(HOJA_CAPTURA!AB246,Base!$A$2:$A$284,0),5),)","v":0},{"$f":"IFERROR(INDEX(Base!$A$2:$H$284,MATCH(HOJA_CAPTURA!AB246,Base!$A$2:$A$284,0),6),)","v":0},{"$f":"IFERROR(INDEX(Base!$A$2:$H$284,MATCH(HOJA_CAPTURA!AB246,Base!$A$2:$A$284,0),7),)","v":0},{"$f":"IFERROR(INDEX(Base!$A$2:$H$284,MATCH(HOJA_CAPTURA!AB246,Base!$A$2:$A$284,0),8),)","v":0}]
["Instituto Nacional de Pediatría","Fondo: INP",null,null,null,null,null,null,null,null,null,null,null,null,null,null,null,null,null,null,null,null,null,null,null," ",""," ",""," ","",{"$f":"IFERROR(INDEX(Base!$A$2:$H$284,MATCH(HOJA_CAPTURA!AB247,Base!$A$2:$A$284,0),3),)","v":0},{"$f":"IFERROR(INDEX(Base!$A$2:$H$284,MATCH(HOJA_CAPTURA!AB247,Base!$A$2:$A$284,0),4),)","v":0},{"$f":"IFERROR(INDEX(Base!$A$2:$H$284,MATCH(HOJA_CAPTURA!AB247,Base!$A$2:$A$284,0),5),)","v":0},{"$f":"IFERROR(INDEX(Base!$A$2:$H$284,MATCH(HOJA_CAPTURA!AB247,Base!$A$2:$A$284,0),6),)","v":0},{"$f":"IFERROR(INDEX(Base!$A$2:$H$284,MATCH(HOJA_CAPTURA!AB247,Base!$A$2:$A$284,0),7),)","v":0},{"$f":"IFERROR(INDEX(Base!$A$2:$H$284,MATCH(HOJA_CAPTURA!AB247,Base!$A$2:$A$284,0),8),)","v":0}]
["Instituto Nacional de Pediatría","Fondo: INP",null,null,null,null,null,null,null,null,null,null,null,null,null,null,null,null,null,null,null,null,null,null,null," ",""," ",""," ","",{"$f":"IFERROR(INDEX(Base!$A$2:$H$284,MATCH(HOJA_CAPTURA!AB248,Base!$A$2:$A$284,0),3),)","v":0},{"$f":"IFERROR(INDEX(Base!$A$2:$H$284,MATCH(HOJA_CAPTURA!AB248,Base!$A$2:$A$284,0),4),)","v":0},{"$f":"IFERROR(INDEX(Base!$A$2:$H$284,MATCH(HOJA_CAPTURA!AB248,Base!$A$2:$A$284,0),5),)","v":0},{"$f":"IFERROR(INDEX(Base!$A$2:$H$284,MATCH(HOJA_CAPTURA!AB248,Base!$A$2:$A$284,0),6),)","v":0},{"$f":"IFERROR(INDEX(Base!$A$2:$H$284,MATCH(HOJA_CAPTURA!AB248,Base!$A$2:$A$284,0),7),)","v":0},{"$f":"IFERROR(INDEX(Base!$A$2:$H$284,MATCH(HOJA_CAPTURA!AB248,Base!$A$2:$A$284,0),8),)","v":0}]
["Instituto Nacional de Pediatría","Fondo: INP",null,null,null,null,null,null,null,null,null,null,null,null,null,null,null,null,null,null,null,null,null,null,null," ",""," ",""," ","",{"$f":"IFERROR(INDEX(Base!$A$2:$H$284,MATCH(HOJA_CAPTURA!AB249,Base!$A$2:$A$284,0),3),)","v":0},{"$f":"IFERROR(INDEX(Base!$A$2:$H$284,MATCH(HOJA_CAPTURA!AB249,Base!$A$2:$A$284,0),4),)","v":0},{"$f":"IFERROR(INDEX(Base!$A$2:$H$284,MATCH(HOJA_CAPTURA!AB249,Base!$A$2:$A$284,0),5),)","v":0},{"$f":"IFERROR(INDEX(Base!$A$2:$H$284,MATCH(HOJA_CAPTURA!AB249,Base!$A$2:$A$284,0),6),)","v":0},{"$f":"IFERROR(INDEX(Base!$A$2:$H$284,MATCH(HOJA_CAPTURA!AB249,Base!$A$2:$A$284,0),7),)","v":0},{"$f":"IFERROR(INDEX(Base!$A$2:$H$284,MATCH(HOJA_CAPTURA!AB249,Base!$A$2:$A$284,0),8),)","v":0}]
["Instituto Nacional de Pediatría","Fondo: INP",null,null,null,null,null,null,null,null,null,null,null,null,null,null,null,null,null,null,null,null,null,null,null," ",""," ",""," ","",{"$f":"IFERROR(INDEX(Base!$A$2:$H$284,MATCH(HOJA_CAPTURA!AB250,Base!$A$2:$A$284,0),3),)","v":0},{"$f":"IFERROR(INDEX(Base!$A$2:$H$284,MATCH(HOJA_CAPTURA!AB250,Base!$A$2:$A$284,0),4),)","v":0},{"$f":"IFERROR(INDEX(Base!$A$2:$H$284,MATCH(HOJA_CAPTURA!AB250,Base!$A$2:$A$284,0),5),)","v":0},{"$f":"IFERROR(INDEX(Base!$A$2:$H$284,MATCH(HOJA_CAPTURA!AB250,Base!$A$2:$A$284,0),6),)","v":0},{"$f":"IFERROR(INDEX(Base!$A$2:$H$284,MATCH(HOJA_CAPTURA!AB250,Base!$A$2:$A$284,0),7),)","v":0},{"$f":"IFERROR(INDEX(Base!$A$2:$H$284,MATCH(HOJA_CAPTURA!AB250,Base!$A$2:$A$284,0),8),)","v":0}]
["Instituto Nacional de Pediatría","Fondo: INP",null,null,null,null,null,null,null,null,null,null,null,null,null,null,null,null,null,null,null,null,null,null,null," ",""," ",""," ","",{"$f":"IFERROR(INDEX(Base!$A$2:$H$284,MATCH(HOJA_CAPTURA!AB251,Base!$A$2:$A$284,0),3),)","v":0},{"$f":"IFERROR(INDEX(Base!$A$2:$H$284,MATCH(HOJA_CAPTURA!AB251,Base!$A$2:$A$284,0),4),)","v":0},{"$f":"IFERROR(INDEX(Base!$A$2:$H$284,MATCH(HOJA_CAPTURA!AB251,Base!$A$2:$A$284,0),5),)","v":0},{"$f":"IFERROR(INDEX(Base!$A$2:$H$284,MATCH(HOJA_CAPTURA!AB251,Base!$A$2:$A$284,0),6),)","v":0},{"$f":"IFERROR(INDEX(Base!$A$2:$H$284,MATCH(HOJA_CAPTURA!AB251,Base!$A$2:$A$284,0),7),)","v":0},{"$f":"IFERROR(INDEX(Base!$A$2:$H$284,MATCH(HOJA_CAPTURA!AB251,Base!$A$2:$A$284,0),8),)","v":0}]
["Instituto Nacional de Pediatría","Fondo: INP",null,null,null,null,null,null,null,null,null,null,null,null,null,null,null,null,null,null,null,null,null,null,null," ",""," ",""," ","",{"$f":"IFERROR(INDEX(Base!$A$2:$H$284,MATCH(HOJA_CAPTURA!AB252,Base!$A$2:$A$284,0),3),)","v":0},{"$f":"IFERROR(INDEX(Base!$A$2:$H$284,MATCH(HOJA_CAPTURA!AB252,Base!$A$2:$A$284,0),4),)","v":0},{"$f":"IFERROR(INDEX(Base!$A$2:$H$284,MATCH(HOJA_CAPTURA!AB252,Base!$A$2:$A$284,0),5),)","v":0},{"$f":"IFERROR(INDEX(Base!$A$2:$H$284,MATCH(HOJA_CAPTURA!AB252,Base!$A$2:$A$284,0),6),)","v":0},{"$f":"IFERROR(INDEX(Base!$A$2:$H$284,MATCH(HOJA_CAPTURA!AB252,Base!$A$2:$A$284,0),7),)","v":0},{"$f":"IFERROR(INDEX(Base!$A$2:$H$284,MATCH(HOJA_CAPTURA!AB252,Base!$A$2:$A$284,0),8),)","v":0}]
["Instituto Nacional de Pediatría","Fondo: INP",null,null,null,null,null,null,null,null,null,null,null,null,null,null,null,null,null,null,null,null,null,null,null," ",""," ",""," ","",{"$f":"IFERROR(INDEX(Base!$A$2:$H$284,MATCH(HOJA_CAPTURA!AB253,Base!$A$2:$A$284,0),3),)","v":0},{"$f":"IFERROR(INDEX(Base!$A$2:$H$284,MATCH(HOJA_CAPTURA!AB253,Base!$A$2:$A$284,0),4),)","v":0},{"$f":"IFERROR(INDEX(Base!$A$2:$H$284,MATCH(HOJA_CAPTURA!AB253,Base!$A$2:$A$284,0),5),)","v":0},{"$f":"IFERROR(INDEX(Base!$A$2:$H$284,MATCH(HOJA_CAPTURA!AB253,Base!$A$2:$A$284,0),6),)","v":0},{"$f":"IFERROR(INDEX(Base!$A$2:$H$284,MATCH(HOJA_CAPTURA!AB253,Base!$A$2:$A$284,0),7),)","v":0},{"$f":"IFERROR(INDEX(Base!$A$2:$H$284,MATCH(HOJA_CAPTURA!AB253,Base!$A$2:$A$284,0),8),)","v":0}]
["Instituto Nacional de Pediatría","Fondo: INP",null,null,null,null,null,null,null,null,null,null,null,null,null,null,null,null,null,null,null,null,null,null,null," ",""," ",""," ","",{"$f":"IFERROR(INDEX(Base!$A$2:$H$284,MATCH(HOJA_CAPTURA!AB254,Base!$A$2:$A$284,0),3),)","v":0},{"$f":"IFERROR(INDEX(Base!$A$2:$H$284,MATCH(HOJA_CAPTURA!AB254,Base!$A$2:$A$284,0),4),)","v":0},{"$f":"IFERROR(INDEX(Base!$A$2:$H$284,MATCH(HOJA_CAPTURA!AB254,Base!$A$2:$A$284,0),5),)","v":0},{"$f":"IFERROR(INDEX(Base!$A$2:$H$284,MATCH(HOJA_CAPTURA!AB254,Base!$A$2:$A$284,0),6),)","v":0},{"$f":"IFERROR(INDEX(Base!$A$2:$H$284,MATCH(HOJA_CAPTURA!AB254,Base!$A$2:$A$284,0),7),)","v":0},{"$f":"IFERROR(INDEX(Base!$A$2:$H$284,MATCH(HOJA_CAPTURA!AB254,Base!$A$2:$A$284,0),8),)","v":0}]
["Instituto Nacional de Pediatría","Fondo: INP",null,null,null,null,null,null,null,null,null,null,null,null,null,null,null,null,null,null,null,null,null,null,null," ",""," ",""," ","",{"$f":"IFERROR(INDEX(Base!$A$2:$H$284,MATCH(HOJA_CAPTURA!AB255,Base!$A$2:$A$284,0),3),)","v":0},{"$f":"IFERROR(INDEX(Base!$A$2:$H$284,MATCH(HOJA_CAPTURA!AB255,Base!$A$2:$A$284,0),4),)","v":0},{"$f":"IFERROR(INDEX(Base!$A$2:$H$284,MATCH(HOJA_CAPTURA!AB255,Base!$A$2:$A$284,0),5),)","v":0},{"$f":"IFERROR(INDEX(Base!$A$2:$H$284,MATCH(HOJA_CAPTURA!AB255,Base!$A$2:$A$284,0),6),)","v":0},{"$f":"IFERROR(INDEX(Base!$A$2:$H$284,MATCH(HOJA_CAPTURA!AB255,Base!$A$2:$A$284,0),7),)","v":0},{"$f":"IFERROR(INDEX(Base!$A$2:$H$284,MATCH(HOJA_CAPTURA!AB255,Base!$A$2:$A$284,0),8),)","v":0}]
["Instituto Nacional de Pediatría","Fondo: INP",null,null,null,null,null,null,null,null,null,null,null,null,null,null,null,null,null,null,null,null,null,null,null," ",""," ",""," ","",{"$f":"IFERROR(INDEX(Base!$A$2:$H$284,MATCH(HOJA_CAPTURA!AB256,Base!$A$2:$A$284,0),3),)","v":0},{"$f":"IFERROR(INDEX(Base!$A$2:$H$284,MATCH(HOJA_CAPTURA!AB256,Base!$A$2:$A$284,0),4),)","v":0},{"$f":"IFERROR(INDEX(Base!$A$2:$H$284,MATCH(HOJA_CAPTURA!AB256,Base!$A$2:$A$284,0),5),)","v":0},{"$f":"IFERROR(INDEX(Base!$A$2:$H$284,MATCH(HOJA_CAPTURA!AB256,Base!$A$2:$A$284,0),6),)","v":0},{"$f":"IFERROR(INDEX(Base!$A$2:$H$284,MATCH(HOJA_CAPTURA!AB256,Base!$A$2:$A$284,0),7),)","v":0},{"$f":"IFERROR(INDEX(Base!$A$2:$H$284,MATCH(HOJA_CAPTURA!AB256,Base!$A$2:$A$284,0),8),)","v":0}]
["Instituto Nacional de Pediatría","Fondo: INP",null,null,null,null,null,null,null,null,null,null,null,null,null,null,null,null,null,null,null,null,null,null,null," ",""," ",""," ","",{"$f":"IFERROR(INDEX(Base!$A$2:$H$284,MATCH(HOJA_CAPTURA!AB257,Base!$A$2:$A$284,0),3),)","v":0},{"$f":"IFERROR(INDEX(Base!$A$2:$H$284,MATCH(HOJA_CAPTURA!AB257,Base!$A$2:$A$284,0),4),)","v":0},{"$f":"IFERROR(INDEX(Base!$A$2:$H$284,MATCH(HOJA_CAPTURA!AB257,Base!$A$2:$A$284,0),5),)","v":0},{"$f":"IFERROR(INDEX(Base!$A$2:$H$284,MATCH(HOJA_CAPTURA!AB257,Base!$A$2:$A$284,0),6),)","v":0},{"$f":"IFERROR(INDEX(Base!$A$2:$H$284,MATCH(HOJA_CAPTURA!AB257,Base!$A$2:$A$284,0),7),)","v":0},{"$f":"IFERROR(INDEX(Base!$A$2:$H$284,MATCH(HOJA_CAPTURA!AB257,Base!$A$2:$A$284,0),8),)","v":0}]
["Instituto Nacional de Pediatría","Fondo: INP",null,null,null,null,null,null,null,null,null,null,null,null,null,null,null,null,null,null,null,null,null,null,null," ",""," ",""," ","",{"$f":"IFERROR(INDEX(Base!$A$2:$H$284,MATCH(HOJA_CAPTURA!AB258,Base!$A$2:$A$284,0),3),)","v":0},{"$f":"IFERROR(INDEX(Base!$A$2:$H$284,MATCH(HOJA_CAPTURA!AB258,Base!$A$2:$A$284,0),4),)","v":0},{"$f":"IFERROR(INDEX(Base!$A$2:$H$284,MATCH(HOJA_CAPTURA!AB258,Base!$A$2:$A$284,0),5),)","v":0},{"$f":"IFERROR(INDEX(Base!$A$2:$H$284,MATCH(HOJA_CAPTURA!AB258,Base!$A$2:$A$284,0),6),)","v":0},{"$f":"IFERROR(INDEX(Base!$A$2:$H$284,MATCH(HOJA_CAPTURA!AB258,Base!$A$2:$A$284,0),7),)","v":0},{"$f":"IFERROR(INDEX(Base!$A$2:$H$284,MATCH(HOJA_CAPTURA!AB258,Base!$A$2:$A$284,0),8),)","v":0}]
["Instituto Nacional de Pediatría","Fondo: INP",null,null,null,null,null,null,null,null,null,null,null,null,null,null,null,null,null,null,null,null,null,null,null," ",""," ",""," ","",{"$f":"IFERROR(INDEX(Base!$A$2:$H$284,MATCH(HOJA_CAPTURA!AB259,Base!$A$2:$A$284,0),3),)","v":0},{"$f":"IFERROR(INDEX(Base!$A$2:$H$284,MATCH(HOJA_CAPTURA!AB259,Base!$A$2:$A$284,0),4),)","v":0},{"$f":"IFERROR(INDEX(Base!$A$2:$H$284,MATCH(HOJA_CAPTURA!AB259,Base!$A$2:$A$284,0),5),)","v":0},{"$f":"IFERROR(INDEX(Base!$A$2:$H$284,MATCH(HOJA_CAPTURA!AB259,Base!$A$2:$A$284,0),6),)","v":0},{"$f":"IFERROR(INDEX(Base!$A$2:$H$284,MATCH(HOJA_CAPTURA!AB259,Base!$A$2:$A$284,0),7),)","v":0},{"$f":"IFERROR(INDEX(Base!$A$2:$H$284,MATCH(HOJA_CAPTURA!AB259,Base!$A$2:$A$284,0),8),)","v":0}]
["Instituto Nacional de Pediatría","Fondo: INP",null,null,null,null,null,null,null,null,null,null,null,null,null,null,null,null,null,null,null,null,null,null,null," ",{"$f":"MID(G260,LEN(Z260)+2, 80)","v":""}," ",""," ",{"$f":"IF(LEFT(I260,6)=\"N/A\", \"N/A\", IFERROR(RIGHT(I260, LEN(I260) - FIND(\" \", I260)), \"\"))","v":""},{"$f":"IFERROR(INDEX(Base!$A$2:$H$284,MATCH(HOJA_CAPTURA!AB260,Base!$A$2:$A$284,0),3),)","v":0},{"$f":"IFERROR(INDEX(Base!$A$2:$H$284,MATCH(HOJA_CAPTURA!AB260,Base!$A$2:$A$284,0),4),)","v":0},{"$f":"IFERROR(INDEX(Base!$A$2:$H$284,MATCH(HOJA_CAPTURA!AB260,Base!$A$2:$A$284,0),5),)","v":0},{"$f":"IFERROR(INDEX(Base!$A$2:$H$284,MATCH(HOJA_CAPTURA!AB260,Base!$A$2:$A$284,0),6),)","v":0},{"$f":"IFERROR(INDEX(Base!$A$2:$H$284,MATCH(HOJA_CAPTURA!AB260,Base!$A$2:$A$284,0),7),)","v":0},{"$f":"IFERROR(INDEX(Base!$A$2:$H$284,MATCH(HOJA_CAPTURA!AB260,Base!$A$2:$A$284,0),8),)","v":0}]
["Instituto Nacional de Pediatría","Fondo: INP",null,null,null,null,null,null,null,null,null,null,null,null,null,null,null,null,null,null,null,null,null,null,null," ",""," ",""," ","",{"$f":"IFERROR(INDEX(Base!$A$2:$H$284,MATCH(HOJA_CAPTURA!AB261,Base!$A$2:$A$284,0),3),)","v":0},{"$f":"IFERROR(INDEX(Base!$A$2:$H$284,MATCH(HOJA_CAPTURA!AB261,Base!$A$2:$A$284,0),4),)","v":0},{"$f":"IFERROR(INDEX(Base!$A$2:$H$284,MATCH(HOJA_CAPTURA!AB261,Base!$A$2:$A$284,0),5),)","v":0},{"$f":"IFERROR(INDEX(Base!$A$2:$H$284,MATCH(HOJA_CAPTURA!AB261,Base!$A$2:$A$284,0),6),)","v":0},{"$f":"IFERROR(INDEX(Base!$A$2:$H$284,MATCH(HOJA_CAPTURA!AB261,Base!$A$2:$A$284,0),7),)","v":0},{"$f":"IFERROR(INDEX(Base!$A$2:$H$284,MATCH(HOJA_CAPTURA!AB261,Base!$A$2:$A$284,0),8),)","v":0}]
["Instituto Nacional de Pediatría","Fondo: INP",null,null,null,null,null,null,null,null,null,null,null,null,null,null,null,null,null,null,null,null,null,null,null," ",""," ",""," ","",{"$f":"IFERROR(INDEX(Base!$A$2:$H$284,MATCH(HOJA_CAPTURA!AB262,Base!$A$2:$A$284,0),3),)","v":0},{"$f":"IFERROR(INDEX(Base!$A$2:$H$284,MATCH(HOJA_CAPTURA!AB262,Base!$A$2:$A$284,0),4),)","v":0},{"$f":"IFERROR(INDEX(Base!$A$2:$H$284,MATCH(HOJA_CAPTURA!AB262,Base!$A$2:$A$284,0),5),)","v":0},{"$f":"IFERROR(INDEX(Base!$A$2:$H$284,MATCH(HOJA_CAPTURA!AB262,Base!$A$2:$A$284,0),6),)","v":0},{"$f":"IFERROR(INDEX(Base!$A$2:$H$284,MATCH(HOJA_CAPTURA!AB262,Base!$A$2:$A$284,0),7),)","v":0},{"$f":"IFERROR(INDEX(Base!$A$2:$H$284,MATCH(HOJA_CAPTURA!AB262,Base!$A$2:$A$284,0),8),)","v":0}]
["Instituto Nacional de Pediatría","Fondo: INP",null,null,null,null,null,null,null,null,null,null,null,null,null,null,null,null,null,null,null,null,null,null,null," ",""," ",""," ","",{"$f":"IFERROR(INDEX(Base!$A$2:$H$284,MATCH(HOJA_CAPTURA!AB263,Base!$A$2:$A$284,0),3),)","v":0},{"$f":"IFERROR(INDEX(Base!$A$2:$H$284,MATCH(HOJA_CAPTURA!AB263,Base!$A$2:$A$284,0),4),)","v":0},{"$f":"IFERROR(INDEX(Base!$A$2:$H$284,MATCH(HOJA_CAPTURA!AB263,Base!$A$2:$A$284,0),5),)","v":0},{"$f":"IFERROR(INDEX(Base!$A$2:$H$284,MATCH(HOJA_CAPTURA!AB263,Base!$A$2:$A$284,0),6),)","v":0},{"$f":"IFERROR(INDEX(Base!$A$2:$H$284,MATCH(HOJA_CAPTURA!AB263,Base!$A$2:$A$284,0),7),)","v":0},{"$f":"IFERROR(INDEX(Base!$A$2:$H$284,MATCH(HOJA_CAPTURA!AB263,Base!$A$2:$A$284,0),8),)","v":0}]
["Instituto Nacional de Pediatría","Fondo: INP",null,null,null,null,null,null,null,null,null,null,null,null,null,null,null,null,null,null,null,null,null,null,null," ",""," ",{"$f":"MID(H264,LEN(AB264)+2, 80)","v":""}," ","",{"$f":"IFERROR(INDEX(Base!$A$2:$H$284,MATCH(HOJA_CAPTURA!AB264,Base!$A$2:$A$284,0),3),)","v":0},{"$f":"IFERROR(INDEX(Base!$A$2:$H$284,MATCH(HOJA_CAPTURA!AB264,Base!$A$2:$A$284,0),4),)","v":0},{"$f":"IFERROR(INDEX(Base!$A$2:$H$284,MATCH(HOJA_CAPTURA!AB264,Base!$A$2:$A$284,0),5),)","v":0},{"$f":"IFERROR(INDEX(Base!$A$2:$H$284,MATCH(HOJA_CAPTURA!AB264,Base!$A$2:$A$284,0),6),)","v":0},{"$f":"IFERROR(INDEX(Base!$A$2:$H$284,MATCH(HOJA_CAPTURA!AB264,Base!$A$2:$A$284,0),7),)","v":0},{"$f":"IFERROR(INDEX(Base!$A$2:$H$284,MATCH(HOJA_CAPTURA!AB264,Base!$A$2:$A$284,0),8),)","v":0}]
["Instituto Nacional de Pediatría","Fondo: INP",null,null,null,null,null,null,null,null,null,null,null,null,null,null,null,null,null,null,null,null,null,null,null," ",""," ",""," ","",{"$f":"IFERROR(INDEX(Base!$A$2:$H$284,MATCH(HOJA_CAPTURA!AB265,Base!$A$2:$A$284,0),3),)","v":0},{"$f":"IFERROR(INDEX(Base!$A$2:$H$284,MATCH(HOJA_CAPTURA!AB265,Base!$A$2:$A$284,0),4),)","v":0},{"$f":"IFERROR(INDEX(Base!$A$2:$H$284,MATCH(HOJA_CAPTURA!AB265,Base!$A$2:$A$284,0),5),)","v":0},{"$f":"IFERROR(INDEX(Base!$A$2:$H$284,MATCH(HOJA_CAPTURA!AB265,Base!$A$2:$A$284,0),6),)","v":0},{"$f":"IFERROR(INDEX(Base!$A$2:$H$284,MATCH(HOJA_CAPTURA!AB265,Base!$A$2:$A$284,0),7),)","v":0},{"$f":"IFERROR(INDEX(Base!$A$2:$H$284,MATCH(HOJA_CAPTURA!AB265,Base!$A$2:$A$284,0),8),)","v":0}]
["Instituto Nacional de Pediatría","Fondo: INP",null,null,null,null,null,null,null,null,null,null,null,null,null,null,null,null,null,null,null,null,null,null,null," ",""," ",""," ","",{"$f":"IFERROR(INDEX(Base!$A$2:$H$284,MATCH(HOJA_CAPTURA!AB266,Base!$A$2:$A$284,0),3),)","v":0},{"$f":"IFERROR(INDEX(Base!$A$2:$H$284,MATCH(HOJA_CAPTURA!AB266,Base!$A$2:$A$284,0),4),)","v":0},{"$f":"IFERROR(INDEX(Base!$A$2:$H$284,MATCH(HOJA_CAPTURA!AB266,Base!$A$2:$A$284,0),5),)","v":0},{"$f":"IFERROR(INDEX(Base!$A$2:$H$284,MATCH(HOJA_CAPTURA!AB266,Base!$A$2:$A$284,0),6),)","v":0},{"$f":"IFERROR(INDEX(Base!$A$2:$H$284,MATCH(HOJA_CAPTURA!AB266,Base!$A$2:$A$284,0),7),)","v":0},{"$f":"IFERROR(INDEX(Base!$A$2:$H$284,MATCH(HOJA_CAPTURA!AB266,Base!$A$2:$A$284,0),8),)","v":0}]
["Instituto Nacional de Pediatría","Fondo: INP",null,null,null,null,null,null,null,null,null,null,null,null,null,null,null,null,null,null,null,null,null,null,null," ",""," ",""," ","",{"$f":"IFERROR(INDEX(Base!$A$2:$H$284,MATCH(HOJA_CAPTURA!AB267,Base!$A$2:$A$284,0),3),)","v":0},{"$f":"IFERROR(INDEX(Base!$A$2:$H$284,MATCH(HOJA_CAPTURA!AB267,Base!$A$2:$A$284,0),4),)","v":0},{"$f":"IFERROR(INDEX(Base!$A$2:$H$284,MATCH(HOJA_CAPTURA!AB267,Base!$A$2:$A$284,0),5),)","v":0},{"$f":"IFERROR(INDEX(Base!$A$2:$H$284,MATCH(HOJA_CAPTURA!AB267,Base!$A$2:$A$284,0),6),)","v":0},{"$f":"IFERROR(INDEX(Base!$A$2:$H$284,MATCH(HOJA_CAPTURA!AB267,Base!$A$2:$A$284,0),7),)","v":0},{"$f":"IFERROR(INDEX(Base!$A$2:$H$284,MATCH(HOJA_CAPTURA!AB267,Base!$A$2:$A$284,0),8),)","v":0}]
["Instituto Nacional de Pediatría","Fondo: INP",null,null,null,null,null,null,null,null,null,null,null,null,null,null,null,null,null,null,null,null,null,null,null,{"$f":"IF(G268>0, MID(G268,1,FIND(\" \",G268,1)-1), \" \")","v":" "},""," ",""," ","",{"$f":"IFERROR(INDEX(Base!$A$2:$H$284,MATCH(HOJA_CAPTURA!AB268,Base!$A$2:$A$284,0),3),)","v":0},{"$f":"IFERROR(INDEX(Base!$A$2:$H$284,MATCH(HOJA_CAPTURA!AB268,Base!$A$2:$A$284,0),4),)","v":0},{"$f":"IFERROR(INDEX(Base!$A$2:$H$284,MATCH(HOJA_CAPTURA!AB268,Base!$A$2:$A$284,0),5),)","v":0},{"$f":"IFERROR(INDEX(Base!$A$2:$H$284,MATCH(HOJA_CAPTURA!AB268,Base!$A$2:$A$284,0),6),)","v":0},{"$f":"IFERROR(INDEX(Base!$A$2:$H$284,MATCH(HOJA_CAPTURA!AB268,Base!$A$2:$A$284,0),7),)","v":0},{"$f":"IFERROR(INDEX(Base!$A$2:$H$284,MATCH(HOJA_CAPTURA!AB268,Base!$A$2:$A$284,0),8),)","v":0}]
["Instituto Nacional de Pediatría","Fondo: INP",null,null,null,null,null,null,null,null,null,null,null,null,null,null,null,null,null,null,null,null,null,null,null,{"$f":"IF(G269>0, MID(G269,1,FIND(\" \",G269,1)-1), \" \")","v":" "},""," ",""," ","",{"$f":"IFERROR(INDEX(Base!$A$2:$H$284,MATCH(HOJA_CAPTURA!AB269,Base!$A$2:$A$284,0),3),)","v":0},{"$f":"IFERROR(INDEX(Base!$A$2:$H$284,MATCH(HOJA_CAPTURA!AB269,Base!$A$2:$A$284,0),4),)","v":0},{"$f":"IFERROR(INDEX(Base!$A$2:$H$284,MATCH(HOJA_CAPTURA!AB269,Base!$A$2:$A$284,0),5),)","v":0},{"$f":"IFERROR(INDEX(Base!$A$2:$H$284,MATCH(HOJA_CAPTURA!AB269,Base!$A$2:$A$284,0),6),)","v":0},{"$f":"IFERROR(INDEX(Base!$A$2:$H$284,MATCH(HOJA_CAPTURA!AB269,Base!$A$2:$A$284,0),7),)","v":0},{"$f":"IFERROR(INDEX(Base!$A$2:$H$284,MATCH(HOJA_CAPTURA!AB269,Base!$A$2:$A$284,0),8),)","v":0}]
["Instituto Nacional de Pediatría","Fondo: INP",null,null,null,null,null,null,null,null,null,null,null,null,null,null,null,null,null,null,null,null,null,null,null,{"$f":"IF(G270>0, MID(G270,1,FIND(\" \",G270,1)-1), \" \")","v":" "},"",{"$f":"IF(H270>0, MID(H270,1,FIND(\" \",H270,1)-1), \" \")","v":" "},"",{"$f":"IF(I270>0,MID(I270,1,FIND(\" \",H270,1)+1),\" \")","v":" "},"",{"$f":"IFERROR(INDEX(Base!$A$2:$H$284,MATCH(HOJA_CAPTURA!AB270,Base!$A$2:$A$284,0),3),)","v":0},{"$f":"IFERROR(INDEX(Base!$A$2:$H$284,MATCH(HOJA_CAPTURA!AB270,Base!$A$2:$A$284,0),4),)","v":0},{"$f":"IFERROR(INDEX(Base!$A$2:$H$284,MATCH(HOJA_CAPTURA!AB270,Base!$A$2:$A$284,0),5),)","v":0},{"$f":"IFERROR(INDEX(Base!$A$2:$H$284,MATCH(HOJA_CAPTURA!AB270,Base!$A$2:$A$284,0),6),)","v":0},{"$f":"IFERROR(INDEX(Base!$A$2:$H$284,MATCH(HOJA_CAPTURA!AB270,Base!$A$2:$A$284,0),7),)","v":0},{"$f":"IFERROR(INDEX(Base!$A$2:$H$284,MATCH(HOJA_CAPTURA!AB270,Base!$A$2:$A$284,0),8),)","v":0}]
["Instituto Nacional de Pediatría","Fondo: INP",null,null,null,null,null,null,null,null,null,null,null,null,null,null,null,null,null,null,null,null,null,null,null,{"$f":"IF(G271>0, MID(G271,1,FIND(\" \",G271,1)-1), \" \")","v":" "},""," ",""," ","",{"$f":"IFERROR(INDEX(Base!$A$2:$H$284,MATCH(HOJA_CAPTURA!AB271,Base!$A$2:$A$284,0),3),)","v":0},{"$f":"IFERROR(INDEX(Base!$A$2:$H$284,MATCH(HOJA_CAPTURA!AB271,Base!$A$2:$A$284,0),4),)","v":0},{"$f":"IFERROR(INDEX(Base!$A$2:$H$284,MATCH(HOJA_CAPTURA!AB271,Base!$A$2:$A$284,0),5),)","v":0},{"$f":"IFERROR(INDEX(Base!$A$2:$H$284,MATCH(HOJA_CAPTURA!AB271,Base!$A$2:$A$284,0),6),)","v":0},{"$f":"IFERROR(INDEX(Base!$A$2:$H$284,MATCH(HOJA_CAPTURA!AB271,Base!$A$2:$A$284,0),7),)","v":0},{"$f":"IFERROR(INDEX(Base!$A$2:$H$284,MATCH(HOJA_CAPTURA!AB271,Base!$A$2:$A$284,0),8),)","v":0}]
["Instituto Nacional de Pediatría","Fondo: INP",null,null,null,null,null,null,null,null,null,null,null,null,null,null,null,null,null,null,null,null,null,null,null,{"$f":"IF(G272>0, MID(G272,1,FIND(\" \",G272,1)-1), \" \")","v":" "},""," ",""," ","",{"$f":"IFERROR(INDEX(Base!$A$2:$H$284,MATCH(HOJA_CAPTURA!AB272,Base!$A$2:$A$284,0),3),)","v":0},{"$f":"IFERROR(INDEX(Base!$A$2:$H$284,MATCH(HOJA_CAPTURA!AB272,Base!$A$2:$A$284,0),4),)","v":0},{"$f":"IFERROR(INDEX(Base!$A$2:$H$284,MATCH(HOJA_CAPTURA!AB272,Base!$A$2:$A$284,0),5),)","v":0},{"$f":"IFERROR(INDEX(Base!$A$2:$H$284,MATCH(HOJA_CAPTURA!AB272,Base!$A$2:$A$284,0),6),)","v":0},{"$f":"IFERROR(INDEX(Base!$A$2:$H$284,MATCH(HOJA_CAPTURA!AB272,Base!$A$2:$A$284,0),7),)","v":0},{"$f":"IFERROR(INDEX(Base!$A$2:$H$284,MATCH(HOJA_CAPTURA!AB272,Base!$A$2:$A$284,0),8),)","v":0}]
["Instituto Nacional de Pediatría","Fondo: INP",null,null,null,null,null,null,null,null,null,null,null,null,null,null,null,null,null,null,null,null,null,null,null," ",""," ",""," ","",{"$f":"IFERROR(INDEX(Base!$A$2:$H$284,MATCH(HOJA_CAPTURA!AB273,Base!$A$2:$A$284,0),3),)","v":0},{"$f":"IFERROR(INDEX(Base!$A$2:$H$284,MATCH(HOJA_CAPTURA!AB273,Base!$A$2:$A$284,0),4),)","v":0},{"$f":"IFERROR(INDEX(Base!$A$2:$H$284,MATCH(HOJA_CAPTURA!AB273,Base!$A$2:$A$284,0),5),)","v":0},{"$f":"IFERROR(INDEX(Base!$A$2:$H$284,MATCH(HOJA_CAPTURA!AB273,Base!$A$2:$A$284,0),6),)","v":0},{"$f":"IFERROR(INDEX(Base!$A$2:$H$284,MATCH(HOJA_CAPTURA!AB273,Base!$A$2:$A$284,0),7),)","v":0},{"$f":"IFERROR(INDEX(Base!$A$2:$H$284,MATCH(HOJA_CAPTURA!AB273,Base!$A$2:$A$284,0),8),)","v":0}]
["Instituto Nacional de Pediatría","Fondo: INP",null,null,null,null,null,null,null,null,null,null,null,null,null,null,null,null,null,null,null,null,null,null,null," ",""," ",""," ","",{"$f":"IFERROR(INDEX(Base!$A$2:$H$284,MATCH(HOJA_CAPTURA!AB274,Base!$A$2:$A$284,0),3),)","v":0},{"$f":"IFERROR(INDEX(Base!$A$2:$H$284,MATCH(HOJA_CAPTURA!AB274,Base!$A$2:$A$284,0),4),)","v":0},{"$f":"IFERROR(INDEX(Base!$A$2:$H$284,MATCH(HOJA_CAPTURA!AB274,Base!$A$2:$A$284,0),5),)","v":0},{"$f":"IFERROR(INDEX(Base!$A$2:$H$284,MATCH(HOJA_CAPTURA!AB274,Base!$A$2:$A$284,0),6),)","v":0},{"$f":"IFERROR(INDEX(Base!$A$2:$H$284,MATCH(HOJA_CAPTURA!AB274,Base!$A$2:$A$284,0),7),)","v":0},{"$f":"IFERROR(INDEX(Base!$A$2:$H$284,MATCH(HOJA_CAPTURA!AB274,Base!$A$2:$A$284,0),8),)","v":0}]
["Instituto Nacional de Pediatría","Fondo: INP",null,null,null,null,null,null,null,null,null,null,null,null,null,null,null,null,null,null,null,null,null,null,null," ",""," ",""," ","",{"$f":"IFERROR(INDEX(Base!$A$2:$H$284,MATCH(HOJA_CAPTURA!AB275,Base!$A$2:$A$284,0),3),)","v":0},{"$f":"IFERROR(INDEX(Base!$A$2:$H$284,MATCH(HOJA_CAPTURA!AB275,Base!$A$2:$A$284,0),4),)","v":0},{"$f":"IFERROR(INDEX(Base!$A$2:$H$284,MATCH(HOJA_CAPTURA!AB275,Base!$A$2:$A$284,0),5),)","v":0},{"$f":"IFERROR(INDEX(Base!$A$2:$H$284,MATCH(HOJA_CAPTURA!AB275,Base!$A$2:$A$284,0),6),)","v":0},{"$f":"IFERROR(INDEX(Base!$A$2:$H$284,MATCH(HOJA_CAPTURA!AB275,Base!$A$2:$A$284,0),7),)","v":0},{"$f":"IFERROR(INDEX(Base!$A$2:$H$284,MATCH(HOJA_CAPTURA!AB275,Base!$A$2:$A$284,0),8),)","v":0}]
["Instituto Nacional de Pediatría","Fondo: INP",null,null,null,null,null,null,null,null,null,null,null,null,null,null,null,null,null,null,null,null,null,null,null," ",""," ",""," ","",{"$f":"IFERROR(INDEX(Base!$A$2:$H$284,MATCH(HOJA_CAPTURA!AB276,Base!$A$2:$A$284,0),3),)","v":0},{"$f":"IFERROR(INDEX(Base!$A$2:$H$284,MATCH(HOJA_CAPTURA!AB276,Base!$A$2:$A$284,0),4),)","v":0},{"$f":"IFERROR(INDEX(Base!$A$2:$H$284,MATCH(HOJA_CAPTURA!AB276,Base!$A$2:$A$284,0),5),)","v":0},{"$f":"IFERROR(INDEX(Base!$A$2:$H$284,MATCH(HOJA_CAPTURA!AB276,Base!$A$2:$A$284,0),6),)","v":0},{"$f":"IFERROR(INDEX(Base!$A$2:$H$284,MATCH(HOJA_CAPTURA!AB276,Base!$A$2:$A$284,0),7),)","v":0},{"$f":"IFERROR(INDEX(Base!$A$2:$H$284,MATCH(HOJA_CAPTURA!AB276,Base!$A$2:$A$284,0),8),)","v":0}]
["Instituto Nacional de Pediatría","Fondo: INP",null,null,null,null,null,null,null,null,null,null,null,null,null,null,null,null,null,null,null,null,null,null,null," ",""," ",""," ","",{"$f":"IFERROR(INDEX(Base!$A$2:$H$284,MATCH(HOJA_CAPTURA!AB277,Base!$A$2:$A$284,0),3),)","v":0},{"$f":"IFERROR(INDEX(Base!$A$2:$H$284,MATCH(HOJA_CAPTURA!AB277,Base!$A$2:$A$284,0),4),)","v":0},{"$f":"IFERROR(INDEX(Base!$A$2:$H$284,MATCH(HOJA_CAPTURA!AB277,Base!$A$2:$A$284,0),5),)","v":0},{"$f":"IFERROR(INDEX(Base!$A$2:$H$284,MATCH(HOJA_CAPTURA!AB277,Base!$A$2:$A$284,0),6),)","v":0},{"$f":"IFERROR(INDEX(Base!$A$2:$H$284,MATCH(HOJA_CAPTURA!AB277,Base!$A$2:$A$284,0),7),)","v":0},{"$f":"IFERROR(INDEX(Base!$A$2:$H$284,MATCH(HOJA_CAPTURA!AB277,Base!$A$2:$A$284,0),8),)","v":0}]
["Instituto Nacional de Pediatría","Fondo: INP",null,null,null,null,null,null,null,null,null,null,null,null,null,null,null,null,null,null,null,null,null,null,null," ",""," ",""," ","",{"$f":"IFERROR(INDEX(Base!$A$2:$H$284,MATCH(HOJA_CAPTURA!AB278,Base!$A$2:$A$284,0),3),)","v":0},{"$f":"IFERROR(INDEX(Base!$A$2:$H$284,MATCH(HOJA_CAPTURA!AB278,Base!$A$2:$A$284,0),4),)","v":0},{"$f":"IFERROR(INDEX(Base!$A$2:$H$284,MATCH(HOJA_CAPTURA!AB278,Base!$A$2:$A$284,0),5),)","v":0},{"$f":"IFERROR(INDEX(Base!$A$2:$H$284,MATCH(HOJA_CAPTURA!AB278,Base!$A$2:$A$284,0),6),)","v":0},{"$f":"IFERROR(INDEX(Base!$A$2:$H$284,MATCH(HOJA_CAPTURA!AB278,Base!$A$2:$A$284,0),7),)","v":0},{"$f":"IFERROR(INDEX(Base!$A$2:$H$284,MATCH(HOJA_CAPTURA!AB278,Base!$A$2:$A$284,0),8),)","v":0}]
["Instituto Nacional de Pediatría","Fondo: INP",null,null,null,null,null,null,null,null,null,null,null,null,null,null,null,null,null,null,null,null,null,null,null," ",""," ",""," ","",{"$f":"IFERROR(INDEX(Base!$A$2:$H$284,MATCH(HOJA_CAPTURA!AB279,Base!$A$2:$A$284,0),3),)","v":0},{"$f":"IFERROR(INDEX(Base!$A$2:$H$284,MATCH(HOJA_CAPTURA!AB279,Base!$A$2:$A$284,0),4),)","v":0},{"$f":"IFERROR(INDEX(Base!$A$2:$H$284,MATCH(HOJA_CAPTURA!AB279,Base!$A$2:$A$284,0),5),)","v":0},{"$f":"IFERROR(INDEX(Base!$A$2:$H$284,MATCH(HOJA_CAPTURA!AB279,Base!$A$2:$A$284,0),6),)","v":0},{"$f":"IFERROR(INDEX(Base!$A$2:$H$284,MATCH(HOJA_CAPTURA!AB279,Base!$A$2:$A$284,0),7),)","v":0},{"$f":"IFERROR(INDEX(Base!$A$2:$H$284,MATCH(HOJA_CAPTURA!AB279,Base!$A$2:$A$284,0),8),)","v":0}]
["Instituto Nacional de Pediatría","Fondo: INP",null,null,null,null,null,null,null,null,null,null,null,null,null,null,null,null,null,null,null,null,null,null,null," ",""," ",""," ","",{"$f":"IFERROR(INDEX(Base!$A$2:$H$284,MATCH(HOJA_CAPTURA!AB280,Base!$A$2:$A$284,0),3),)","v":0},{"$f":"IFERROR(INDEX(Base!$A$2:$H$284,MATCH(HOJA_CAPTURA!AB280,Base!$A$2:$A$284,0),4),)","v":0},{"$f":"IFERROR(INDEX(Base!$A$2:$H$284,MATCH(HOJA_CAPTURA!AB280,Base!$A$2:$A$284,0),5),)","v":0},{"$f":"IFERROR(INDEX(Base!$A$2:$H$284,MATCH(HOJA_CAPTURA!AB280,Base!$A$2:$A$284,0),6),)","v":0},{"$f":"IFERROR(INDEX(Base!$A$2:$H$284,MATCH(HOJA_CAPTURA!AB280,Base!$A$2:$A$284,0),7),)","v":0},{"$f":"IFERROR(INDEX(Base!$A$2:$H$284,MATCH(HOJA_CAPTURA!AB280,Base!$A$2:$A$284,0),8),)","v":0}]
["Instituto Nacional de Pediatría","Fondo: INP",null,null,null,null,null,null,null,null,null,null,null,null,null,null,null,null,null,null,null,null,null,null,null," ",""," ",""," ","",{"$f":"IFERROR(INDEX(Base!$A$2:$H$284,MATCH(HOJA_CAPTURA!AB281,Base!$A$2:$A$284,0),3),)","v":0},{"$f":"IFERROR(INDEX(Base!$A$2:$H$284,MATCH(HOJA_CAPTURA!AB281,Base!$A$2:$A$284,0),4),)","v":0},{"$f":"IFERROR(INDEX(Base!$A$2:$H$284,MATCH(HOJA_CAPTURA!AB281,Base!$A$2:$A$284,0),5),)","v":0},{"$f":"IFERROR(INDEX(Base!$A$2:$H$284,MATCH(HOJA_CAPTURA!AB281,Base!$A$2:$A$284,0),6),)","v":0},{"$f":"IFERROR(INDEX(Base!$A$2:$H$284,MATCH(HOJA_CAPTURA!AB281,Base!$A$2:$A$284,0),7),)","v":0},{"$f":"IFERROR(INDEX(Base!$A$2:$H$284,MATCH(HOJA_CAPTURA!AB281,Base!$A$2:$A$284,0),8),)","v":0}]
["Instituto Nacional de Pediatría","Fondo: INP",null,null,null,null,null,null,null,null,null,null,null,null,null,null,null,null,null,null,null,null,null,null,null," ",""," ",""," ","",{"$f":"IFERROR(INDEX(Base!$A$2:$H$284,MATCH(HOJA_CAPTURA!AB282,Base!$A$2:$A$284,0),3),)","v":0},{"$f":"IFERROR(INDEX(Base!$A$2:$H$284,MATCH(HOJA_CAPTURA!AB282,Base!$A$2:$A$284,0),4),)","v":0},{"$f":"IFERROR(INDEX(Base!$A$2:$H$284,MATCH(HOJA_CAPTURA!AB282,Base!$A$2:$A$284,0),5),)","v":0},{"$f":"IFERROR(INDEX(Base!$A$2:$H$284,MATCH(HOJA_CAPTURA!AB282,Base!$A$2:$A$284,0),6),)","v":0},{"$f":"IFERROR(INDEX(Base!$A$2:$H$284,MATCH(HOJA_CAPTURA!AB282,Base!$A$2:$A$284,0),7),)","v":0},{"$f":"IFERROR(INDEX(Base!$A$2:$H$284,MATCH(HOJA_CAPTURA!AB282,Base!$A$2:$A$284,0),8),)","v":0}]
["Instituto Nacional de Pediatría","Fondo: INP",null,null,null,null,null,null,null,null,null,null,null,null,null,null,null,null,null,null,null,null,null,null,null," ",""," ",""," ","",{"$f":"IFERROR(INDEX(Base!$A$2:$H$284,MATCH(HOJA_CAPTURA!AB283,Base!$A$2:$A$284,0),3),)","v":0},{"$f":"IFERROR(INDEX(Base!$A$2:$H$284,MATCH(HOJA_CAPTURA!AB283,Base!$A$2:$A$284,0),4),)","v":0},{"$f":"IFERROR(INDEX(Base!$A$2:$H$284,MATCH(HOJA_CAPTURA!AB283,Base!$A$2:$A$284,0),5),)","v":0},{"$f":"IFERROR(INDEX(Base!$A$2:$H$284,MATCH(HOJA_CAPTURA!AB283,Base!$A$2:$A$284,0),6),)","v":0},{"$f":"IFERROR(INDEX(Base!$A$2:$H$284,MATCH(HOJA_CAPTURA!AB283,Base!$A$2:$A$284,0),7),)","v":0},{"$f":"IFERROR(INDEX(Base!$A$2:$H$284,MATCH(HOJA_CAPTURA!AB283,Base!$A$2:$A$284,0),8),)","v":0}]
["Instituto Nacional de Pediatría","Fondo: INP",null,null,null,null,null,null,null,null,null,null,null,null,null,null,null,null,null,null,null,null,null,null,null," ",""," ",""," ","",{"$f":"IFERROR(INDEX(Base!$A$2:$H$284,MATCH(HOJA_CAPTURA!AB284,Base!$A$2:$A$284,0),3),)","v":0},{"$f":"IFERROR(INDEX(Base!$A$2:$H$284,MATCH(HOJA_CAPTURA!AB284,Base!$A$2:$A$284,0),4),)","v":0},{"$f":"IFERROR(INDEX(Base!$A$2:$H$284,MATCH(HOJA_CAPTURA!AB284,Base!$A$2:$A$284,0),5),)","v":0},{"$f":"IFERROR(INDEX(Base!$A$2:$H$284,MATCH(HOJA_CAPTURA!AB284,Base!$A$2:$A$284,0),6),)","v":0},{"$f":"IFERROR(INDEX(Base!$A$2:$H$284,MATCH(HOJA_CAPTURA!AB284,Base!$A$2:$A$284,0),7),)","v":0},{"$f":"IFERROR(INDEX(Base!$A$2:$H$284,MATCH(HOJA_CAPTURA!AB284,Base!$A$2:$A$284,0),8),)","v":0}]
["Instituto Nacional de Pediatría","Fondo: INP",null,null,null,null,null,null,null,null,null,null,null,null,null,null,null,null,null,null,null,null,null,null,null," ",""," ",""," ","",{"$f":"IFERROR(INDEX(Base!$A$2:$H$284,MATCH(HOJA_CAPTURA!AB285,Base!$A$2:$A$284,0),3),)","v":0},{"$f":"IFERROR(INDEX(Base!$A$2:$H$284,MATCH(HOJA_CAPTURA!AB285,Base!$A$2:$A$284,0),4),)","v":0},{"$f":"IFERROR(INDEX(Base!$A$2:$H$284,MATCH(HOJA_CAPTURA!AB285,Base!$A$2:$A$284,0),5),)","v":0},{"$f":"IFERROR(INDEX(Base!$A$2:$H$284,MATCH(HOJA_CAPTURA!AB285,Base!$A$2:$A$284,0),6),)","v":0},{"$f":"IFERROR(INDEX(Base!$A$2:$H$284,MATCH(HOJA_CAPTURA!AB285,Base!$A$2:$A$284,0),7),)","v":0},{"$f":"IFERROR(INDEX(Base!$A$2:$H$284,MATCH(HOJA_CAPTURA!AB285,Base!$A$2:$A$284,0),8),)","v":0}]
["Instituto Nacional de Pediatría","Fondo: INP",null,null,null,null,null,null,null,null,null,null,null,null,null,null,null,null,null,null,null,null,null,null,null," ",""," ",""," ","",{"$f":"IFERROR(INDEX(Base!$A$2:$H$284,MATCH(HOJA_CAPTURA!AB286,Base!$A$2:$A$284,0),3),)","v":0},{"$f":"IFERROR(INDEX(Base!$A$2:$H$284,MATCH(HOJA_CAPTURA!AB286,Base!$A$2:$A$284,0),4),)","v":0},{"$f":"IFERROR(INDEX(Base!$A$2:$H$284,MATCH(HOJA_CAPTURA!AB286,Base!$A$2:$A$284,0),5),)","v":0},{"$f":"IFERROR(INDEX(Base!$A$2:$H$284,MATCH(HOJA_CAPTURA!AB286,Base!$A$2:$A$284,0),6),)","v":0},{"$f":"IFERROR(INDEX(Base!$A$2:$H$284,MATCH(HOJA_CAPTURA!AB286,Base!$A$2:$A$284,0),7),)","v":0},{"$f":"IFERROR(INDEX(Base!$A$2:$H$284,MATCH(HOJA_CAPTURA!AB286,Base!$A$2:$A$284,0),8),)","v":0}]
["Instituto Nacional de Pediatría","Fondo: INP",null,null,null,null,null,null,null,null,null,null,null,null,null,null,null,null,null,null,null,null,null,null,null," ",""," ",""," ","",{"$f":"IFERROR(INDEX(Base!$A$2:$H$284,MATCH(HOJA_CAPTURA!AB287,Base!$A$2:$A$284,0),3),)","v":0},{"$f":"IFERROR(INDEX(Base!$A$2:$H$284,MATCH(HOJA_CAPTURA!AB287,Base!$A$2:$A$284,0),4),)","v":0},{"$f":"IFERROR(INDEX(Base!$A$2:$H$284,MATCH(HOJA_CAPTURA!AB287,Base!$A$2:$A$284,0),5),)","v":0},{"$f":"IFERROR(INDEX(Base!$A$2:$H$284,MATCH(HOJA_CAPTURA!AB287,Base!$A$2:$A$284,0),6),)","v":0},{"$f":"IFERROR(INDEX(Base!$A$2:$H$284,MATCH(HOJA_CAPTURA!AB287,Base!$A$2:$A$284,0),7),)","v":0},{"$f":"IFERROR(INDEX(Base!$A$2:$H$284,MATCH(HOJA_CAPTURA!AB287,Base!$A$2:$A$284,0),8),)","v":0}]
["Instituto Nacional de Pediatría","Fondo: INP",null,null,null,null,null,null,null,null,null,null,null,null,null,null,null,null,null,null,null,null,null,null,null," ",""," ",""," ","",{"$f":"IFERROR(INDEX(Base!$A$2:$H$284,MATCH(HOJA_CAPTURA!AB288,Base!$A$2:$A$284,0),3),)","v":0},{"$f":"IFERROR(INDEX(Base!$A$2:$H$284,MATCH(HOJA_CAPTURA!AB288,Base!$A$2:$A$284,0),4),)","v":0},{"$f":"IFERROR(INDEX(Base!$A$2:$H$284,MATCH(HOJA_CAPTURA!AB288,Base!$A$2:$A$284,0),5),)","v":0},{"$f":"IFERROR(INDEX(Base!$A$2:$H$284,MATCH(HOJA_CAPTURA!AB288,Base!$A$2:$A$284,0),6),)","v":0},{"$f":"IFERROR(INDEX(Base!$A$2:$H$284,MATCH(HOJA_CAPTURA!AB288,Base!$A$2:$A$284,0),7),)","v":0},{"$f":"IFERROR(INDEX(Base!$A$2:$H$284,MATCH(HOJA_CAPTURA!AB288,Base!$A$2:$A$284,0),8),)","v":0}]
["Instituto Nacional de Pediatría","Fondo: INP",null,null,null,null,null,null,null,null,null,null,null,null,null,null,null,null,null,null,null,null,null,null,null," ",""," ",""," ","",{"$f":"IFERROR(INDEX(Base!$A$2:$H$284,MATCH(HOJA_CAPTURA!AB289,Base!$A$2:$A$284,0),3),)","v":0},{"$f":"IFERROR(INDEX(Base!$A$2:$H$284,MATCH(HOJA_CAPTURA!AB289,Base!$A$2:$A$284,0),4),)","v":0},{"$f":"IFERROR(INDEX(Base!$A$2:$H$284,MATCH(HOJA_CAPTURA!AB289,Base!$A$2:$A$284,0),5),)","v":0},{"$f":"IFERROR(INDEX(Base!$A$2:$H$284,MATCH(HOJA_CAPTURA!AB289,Base!$A$2:$A$284,0),6),)","v":0},{"$f":"IFERROR(INDEX(Base!$A$2:$H$284,MATCH(HOJA_CAPTURA!AB289,Base!$A$2:$A$284,0),7),)","v":0},{"$f":"IFERROR(INDEX(Base!$A$2:$H$284,MATCH(HOJA_CAPTURA!AB289,Base!$A$2:$A$284,0),8),)","v":0}]
["Instituto Nacional de Pediatría","Fondo: INP",null,null,null,null,null,null,null,null,null,null,null,null,null,null,null,null,null,null,null,null,null,null,null," ",""," ",""," ","",{"$f":"IFERROR(INDEX(Base!$A$2:$H$284,MATCH(HOJA_CAPTURA!AB290,Base!$A$2:$A$284,0),3),)","v":0},{"$f":"IFERROR(INDEX(Base!$A$2:$H$284,MATCH(HOJA_CAPTURA!AB290,Base!$A$2:$A$284,0),4),)","v":0},{"$f":"IFERROR(INDEX(Base!$A$2:$H$284,MATCH(HOJA_CAPTURA!AB290,Base!$A$2:$A$284,0),5),)","v":0},{"$f":"IFERROR(INDEX(Base!$A$2:$H$284,MATCH(HOJA_CAPTURA!AB290,Base!$A$2:$A$284,0),6),)","v":0},{"$f":"IFERROR(INDEX(Base!$A$2:$H$284,MATCH(HOJA_CAPTURA!AB290,Base!$A$2:$A$284,0),7),)","v":0},{"$f":"IFERROR(INDEX(Base!$A$2:$H$284,MATCH(HOJA_CAPTURA!AB290,Base!$A$2:$A$284,0),8),)","v":0}]
["Instituto Nacional de Pediatría","Fondo: INP",null,null,null,null,null,null,null,null,null,null,null,null,null,null,null,null,null,null,null,null,null,null,null," ",""," ",""," ","",{"$f":"IFERROR(INDEX(Base!$A$2:$H$284,MATCH(HOJA_CAPTURA!AB291,Base!$A$2:$A$284,0),3),)","v":0},{"$f":"IFERROR(INDEX(Base!$A$2:$H$284,MATCH(HOJA_CAPTURA!AB291,Base!$A$2:$A$284,0),4),)","v":0},{"$f":"IFERROR(INDEX(Base!$A$2:$H$284,MATCH(HOJA_CAPTURA!AB291,Base!$A$2:$A$284,0),5),)","v":0},{"$f":"IFERROR(INDEX(Base!$A$2:$H$284,MATCH(HOJA_CAPTURA!AB291,Base!$A$2:$A$284,0),6),)","v":0},{"$f":"IFERROR(INDEX(Base!$A$2:$H$284,MATCH(HOJA_CAPTURA!AB291,Base!$A$2:$A$284,0),7),)","v":0},{"$f":"IFERROR(INDEX(Base!$A$2:$H$284,MATCH(HOJA_CAPTURA!AB291,Base!$A$2:$A$284,0),8),)","v":0}]
["Instituto Nacional de Pediatría","Fondo: INP",null,null,null,null,null,null,null,null,null,null,null,null,null,null,null,null,null,null,null,null,null,null,null," ",""," ",""," ","",{"$f":"IFERROR(INDEX(Base!$A$2:$H$284,MATCH(HOJA_CAPTURA!AB292,Base!$A$2:$A$284,0),3),)","v":0},{"$f":"IFERROR(INDEX(Base!$A$2:$H$284,MATCH(HOJA_CAPTURA!AB292,Base!$A$2:$A$284,0),4),)","v":0},{"$f":"IFERROR(INDEX(Base!$A$2:$H$284,MATCH(HOJA_CAPTURA!AB292,Base!$A$2:$A$284,0),5),)","v":0},{"$f":"IFERROR(INDEX(Base!$A$2:$H$284,MATCH(HOJA_CAPTURA!AB292,Base!$A$2:$A$284,0),6),)","v":0},{"$f":"IFERROR(INDEX(Base!$A$2:$H$284,MATCH(HOJA_CAPTURA!AB292,Base!$A$2:$A$284,0),7),)","v":0},{"$f":"IFERROR(INDEX(Base!$A$2:$H$284,MATCH(HOJA_CAPTURA!AB292,Base!$A$2:$A$284,0),8),)","v":0}]
["Instituto Nacional de Pediatría","Fondo: INP",null,null,null,null,null,null,null,null,null,null,null,null,null,null,null,null,null,null,null,null,null,null,null," ",""," ",""," ","",{"$f":"IFERROR(INDEX(Base!$A$2:$H$284,MATCH(HOJA_CAPTURA!AB293,Base!$A$2:$A$284,0),3),)","v":0},{"$f":"IFERROR(INDEX(Base!$A$2:$H$284,MATCH(HOJA_CAPTURA!AB293,Base!$A$2:$A$284,0),4),)","v":0},{"$f":"IFERROR(INDEX(Base!$A$2:$H$284,MATCH(HOJA_CAPTURA!AB293,Base!$A$2:$A$284,0),5),)","v":0},{"$f":"IFERROR(INDEX(Base!$A$2:$H$284,MATCH(HOJA_CAPTURA!AB293,Base!$A$2:$A$284,0),6),)","v":0},{"$f":"IFERROR(INDEX(Base!$A$2:$H$284,MATCH(HOJA_CAPTURA!AB293,Base!$A$2:$A$284,0),7),)","v":0},{"$f":"IFERROR(INDEX(Base!$A$2:$H$284,MATCH(HOJA_CAPTURA!AB293,Base!$A$2:$A$284,0),8),)","v":0}]
["Instituto Nacional de Pediatría","Fondo: INP",null,null,null,null,null,null,null,null,null,null,null,null,null,null,null,null,null,null,null,null,null,null,null," ",""," ",""," ","",{"$f":"IFERROR(INDEX(Base!$A$2:$H$284,MATCH(HOJA_CAPTURA!AB294,Base!$A$2:$A$284,0),3),)","v":0},{"$f":"IFERROR(INDEX(Base!$A$2:$H$284,MATCH(HOJA_CAPTURA!AB294,Base!$A$2:$A$284,0),4),)","v":0},{"$f":"IFERROR(INDEX(Base!$A$2:$H$284,MATCH(HOJA_CAPTURA!AB294,Base!$A$2:$A$284,0),5),)","v":0},{"$f":"IFERROR(INDEX(Base!$A$2:$H$284,MATCH(HOJA_CAPTURA!AB294,Base!$A$2:$A$284,0),6),)","v":0},{"$f":"IFERROR(INDEX(Base!$A$2:$H$284,MATCH(HOJA_CAPTURA!AB294,Base!$A$2:$A$284,0),7),)","v":0},{"$f":"IFERROR(INDEX(Base!$A$2:$H$284,MATCH(HOJA_CAPTURA!AB294,Base!$A$2:$A$284,0),8),)","v":0}]
["Instituto Nacional de Pediatría","Fondo: INP",null,null,null,null,null,null,null,null,null,null,null,null,null,null,null,null,null,null,null,null,null,null,null," ",""," ",""," ","",{"$f":"IFERROR(INDEX(Base!$A$2:$H$284,MATCH(HOJA_CAPTURA!AB295,Base!$A$2:$A$284,0),3),)","v":0},{"$f":"IFERROR(INDEX(Base!$A$2:$H$284,MATCH(HOJA_CAPTURA!AB295,Base!$A$2:$A$284,0),4),)","v":0},{"$f":"IFERROR(INDEX(Base!$A$2:$H$284,MATCH(HOJA_CAPTURA!AB295,Base!$A$2:$A$284,0),5),)","v":0},{"$f":"IFERROR(INDEX(Base!$A$2:$H$284,MATCH(HOJA_CAPTURA!AB295,Base!$A$2:$A$284,0),6),)","v":0},{"$f":"IFERROR(INDEX(Base!$A$2:$H$284,MATCH(HOJA_CAPTURA!AB295,Base!$A$2:$A$284,0),7),)","v":0},{"$f":"IFERROR(INDEX(Base!$A$2:$H$284,MATCH(HOJA_CAPTURA!AB295,Base!$A$2:$A$284,0),8),)","v":0}]
["Instituto Nacional de Pediatría","Fondo: INP",null,null,null,null,null,null,null,null,null,null,null,null,null,null,null,null,null,null,null,null,null,null,null," ",""," ",""," ","",{"$f":"IFERROR(INDEX(Base!$A$2:$H$284,MATCH(HOJA_CAPTURA!AB296,Base!$A$2:$A$284,0),3),)","v":0},{"$f":"IFERROR(INDEX(Base!$A$2:$H$284,MATCH(HOJA_CAPTURA!AB296,Base!$A$2:$A$284,0),4),)","v":0},{"$f":"IFERROR(INDEX(Base!$A$2:$H$284,MATCH(HOJA_CAPTURA!AB296,Base!$A$2:$A$284,0),5),)","v":0},{"$f":"IFERROR(INDEX(Base!$A$2:$H$284,MATCH(HOJA_CAPTURA!AB296,Base!$A$2:$A$284,0),6),)","v":0},{"$f":"IFERROR(INDEX(Base!$A$2:$H$284,MATCH(HOJA_CAPTURA!AB296,Base!$A$2:$A$284,0),7),)","v":0},{"$f":"IFERROR(INDEX(Base!$A$2:$H$284,MATCH(HOJA_CAPTURA!AB296,Base!$A$2:$A$284,0),8),)","v":0}]
["Instituto Nacional de Pediatría","Fondo: INP",null,null,null,null,null,null,null,null,null,null,null,null,null,null,null,null,null,null,null,null,null,null,null," ",""," ",""," ","",{"$f":"IFERROR(INDEX(Base!$A$2:$H$284,MATCH(HOJA_CAPTURA!AB297,Base!$A$2:$A$284,0),3),)","v":0},{"$f":"IFERROR(INDEX(Base!$A$2:$H$284,MATCH(HOJA_CAPTURA!AB297,Base!$A$2:$A$284,0),4),)","v":0},{"$f":"IFERROR(INDEX(Base!$A$2:$H$284,MATCH(HOJA_CAPTURA!AB297,Base!$A$2:$A$284,0),5),)","v":0},{"$f":"IFERROR(INDEX(Base!$A$2:$H$284,MATCH(HOJA_CAPTURA!AB297,Base!$A$2:$A$284,0),6),)","v":0},{"$f":"IFERROR(INDEX(Base!$A$2:$H$284,MATCH(HOJA_CAPTURA!AB297,Base!$A$2:$A$284,0),7),)","v":0},{"$f":"IFERROR(INDEX(Base!$A$2:$H$284,MATCH(HOJA_CAPTURA!AB297,Base!$A$2:$A$284,0),8),)","v":0}]
["Instituto Nacional de Pediatría","Fondo: INP",null,null,null,null,null,null,null,null,null,null,null,null,null,null,null,null,null,null,null,null,null,null,null," ",""," ",""," ","",{"$f":"IFERROR(INDEX(Base!$A$2:$H$284,MATCH(HOJA_CAPTURA!AB298,Base!$A$2:$A$284,0),3),)","v":0},{"$f":"IFERROR(INDEX(Base!$A$2:$H$284,MATCH(HOJA_CAPTURA!AB298,Base!$A$2:$A$284,0),4),)","v":0},{"$f":"IFERROR(INDEX(Base!$A$2:$H$284,MATCH(HOJA_CAPTURA!AB298,Base!$A$2:$A$284,0),5),)","v":0},{"$f":"IFERROR(INDEX(Base!$A$2:$H$284,MATCH(HOJA_CAPTURA!AB298,Base!$A$2:$A$284,0),6),)","v":0},{"$f":"IFERROR(INDEX(Base!$A$2:$H$284,MATCH(HOJA_CAPTURA!AB298,Base!$A$2:$A$284,0),7),)","v":0},{"$f":"IFERROR(INDEX(Base!$A$2:$H$284,MATCH(HOJA_CAPTURA!AB298,Base!$A$2:$A$284,0),8),)","v":0}]
["Instituto Nacional de Pediatría","Fondo: INP",null,null,null,null,null,null,null,null,null,null,null,null,null,null,null,null,null,null,null,null,null,null,null," ",""," ",""," ","",{"$f":"IFERROR(INDEX(Base!$A$2:$H$284,MATCH(HOJA_CAPTURA!AB299,Base!$A$2:$A$284,0),3),)","v":0},{"$f":"IFERROR(INDEX(Base!$A$2:$H$284,MATCH(HOJA_CAPTURA!AB299,Base!$A$2:$A$284,0),4),)","v":0},{"$f":"IFERROR(INDEX(Base!$A$2:$H$284,MATCH(HOJA_CAPTURA!AB299,Base!$A$2:$A$284,0),5),)","v":0},{"$f":"IFERROR(INDEX(Base!$A$2:$H$284,MATCH(HOJA_CAPTURA!AB299,Base!$A$2:$A$284,0),6),)","v":0},{"$f":"IFERROR(INDEX(Base!$A$2:$H$284,MATCH(HOJA_CAPTURA!AB299,Base!$A$2:$A$284,0),7),)","v":0},{"$f":"IFERROR(INDEX(Base!$A$2:$H$284,MATCH(HOJA_CAPTURA!AB299,Base!$A$2:$A$284,0),8),)","v":0}]
["Instituto Nacional de Pediatría","Fondo: INP",null,null,null,null,null,null,null,null,null,null,null,null,null,null,null,null,null,null,null,null,null,null,null," ",""," ",""," ","",{"$f":"IFERROR(INDEX(Base!$A$2:$H$284,MATCH(HOJA_CAPTURA!AB300,Base!$A$2:$A$284,0),3),)","v":0},{"$f":"IFERROR(INDEX(Base!$A$2:$H$284,MATCH(HOJA_CAPTURA!AB300,Base!$A$2:$A$284,0),4),)","v":0},{"$f":"IFERROR(INDEX(Base!$A$2:$H$284,MATCH(HOJA_CAPTURA!AB300,Base!$A$2:$A$284,0),5),)","v":0},{"$f":"IFERROR(INDEX(Base!$A$2:$H$284,MATCH(HOJA_CAPTURA!AB300,Base!$A$2:$A$284,0),6),)","v":0},{"$f":"IFERROR(INDEX(Base!$A$2:$H$284,MATCH(HOJA_CAPTURA!AB300,Base!$A$2:$A$284,0),7),)","v":0},{"$f":"IFERROR(INDEX(Base!$A$2:$H$284,MATCH(HOJA_CAPTURA!AB300,Base!$A$2:$A$284,0),8),)","v":0}]
["Instituto Nacional de Pediatría","Fondo: INP",null,null,null,null,null,null,null,null,null,null,null,null,null,null,null,null,null,null,null,null,null,null,null," ",""," ",""," ","",{"$f":"IFERROR(INDEX(Base!$A$2:$H$284,MATCH(HOJA_CAPTURA!AB301,Base!$A$2:$A$284,0),3),)","v":0},{"$f":"IFERROR(INDEX(Base!$A$2:$H$284,MATCH(HOJA_CAPTURA!AB301,Base!$A$2:$A$284,0),4),)","v":0},{"$f":"IFERROR(INDEX(Base!$A$2:$H$284,MATCH(HOJA_CAPTURA!AB301,Base!$A$2:$A$284,0),5),)","v":0},{"$f":"IFERROR(INDEX(Base!$A$2:$H$284,MATCH(HOJA_CAPTURA!AB301,Base!$A$2:$A$284,0),6),)","v":0},{"$f":"IFERROR(INDEX(Base!$A$2:$H$284,MATCH(HOJA_CAPTURA!AB301,Base!$A$2:$A$284,0),7),)","v":0},{"$f":"IFERROR(INDEX(Base!$A$2:$H$284,MATCH(HOJA_CAPTURA!AB301,Base!$A$2:$A$284,0),8),)","v":0}]
["Instituto Nacional de Pediatría","Fondo: INP",null,null,null,null,null,null,null,null,null,null,null,null,null,null,null,null,null,null,null,null,null,null,null," ",""," ",""," ","",{"$f":"IFERROR(INDEX(Base!$A$2:$H$284,MATCH(HOJA_CAPTURA!AB302,Base!$A$2:$A$284,0),3),)","v":0},{"$f":"IFERROR(INDEX(Base!$A$2:$H$284,MATCH(HOJA_CAPTURA!AB302,Base!$A$2:$A$284,0),4),)","v":0},{"$f":"IFERROR(INDEX(Base!$A$2:$H$284,MATCH(HOJA_CAPTURA!AB302,Base!$A$2:$A$284,0),5),)","v":0},{"$f":"IFERROR(INDEX(Base!$A$2:$H$284,MATCH(HOJA_CAPTURA!AB302,Base!$A$2:$A$284,0),6),)","v":0},{"$f":"IFERROR(INDEX(Base!$A$2:$H$284,MATCH(HOJA_CAPTURA!AB302,Base!$A$2:$A$284,0),7),)","v":0},{"$f":"IFERROR(INDEX(Base!$A$2:$H$284,MATCH(HOJA_CAPTURA!AB302,Base!$A$2:$A$284,0),8),)","v":0}]
["Instituto Nacional de Pediatría","Fondo: INP",null,null,null,null,null,null,null,null,null,null,null,null,null,null,null,null,null,null,null,null,null,null,null," ",""," ",""," ","",{"$f":"IFERROR(INDEX(Base!$A$2:$H$284,MATCH(HOJA_CAPTURA!AB303,Base!$A$2:$A$284,0),3),)","v":0},{"$f":"IFERROR(INDEX(Base!$A$2:$H$284,MATCH(HOJA_CAPTURA!AB303,Base!$A$2:$A$284,0),4),)","v":0},{"$f":"IFERROR(INDEX(Base!$A$2:$H$284,MATCH(HOJA_CAPTURA!AB303,Base!$A$2:$A$284,0),5),)","v":0},{"$f":"IFERROR(INDEX(Base!$A$2:$H$284,MATCH(HOJA_CAPTURA!AB303,Base!$A$2:$A$284,0),6),)","v":0},{"$f":"IFERROR(INDEX(Base!$A$2:$H$284,MATCH(HOJA_CAPTURA!AB303,Base!$A$2:$A$284,0),7),)","v":0},{"$f":"IFERROR(INDEX(Base!$A$2:$H$284,MATCH(HOJA_CAPTURA!AB303,Base!$A$2:$A$284,0),8),)","v":0}]
["Instituto Nacional de Pediatría","Fondo: INP",null,null,null,null,null,null,null,null,null,null,null,null,null,null,null,null,null,null,null,null,null,null,null," ",""," ",""," ","",{"$f":"IFERROR(INDEX(Base!$A$2:$H$284,MATCH(HOJA_CAPTURA!AB304,Base!$A$2:$A$284,0),3),)","v":0},{"$f":"IFERROR(INDEX(Base!$A$2:$H$284,MATCH(HOJA_CAPTURA!AB304,Base!$A$2:$A$284,0),4),)","v":0},{"$f":"IFERROR(INDEX(Base!$A$2:$H$284,MATCH(HOJA_CAPTURA!AB304,Base!$A$2:$A$284,0),5),)","v":0},{"$f":"IFERROR(INDEX(Base!$A$2:$H$284,MATCH(HOJA_CAPTURA!AB304,Base!$A$2:$A$284,0),6),)","v":0},{"$f":"IFERROR(INDEX(Base!$A$2:$H$284,MATCH(HOJA_CAPTURA!AB304,Base!$A$2:$A$284,0),7),)","v":0},{"$f":"IFERROR(INDEX(Base!$A$2:$H$284,MATCH(HOJA_CAPTURA!AB304,Base!$A$2:$A$284,0),8),)","v":0}]
["Instituto Nacional de Pediatría","Fondo: INP",null,null,null,null,null,null,null,null,null,null,null,null,null,null,null,null,null,null,null,null,null,null,null," ",""," ",""," ","",{"$f":"IFERROR(INDEX(Base!$A$2:$H$284,MATCH(HOJA_CAPTURA!AB305,Base!$A$2:$A$284,0),3),)","v":0},{"$f":"IFERROR(INDEX(Base!$A$2:$H$284,MATCH(HOJA_CAPTURA!AB305,Base!$A$2:$A$284,0),4),)","v":0},{"$f":"IFERROR(INDEX(Base!$A$2:$H$284,MATCH(HOJA_CAPTURA!AB305,Base!$A$2:$A$284,0),5),)","v":0},{"$f":"IFERROR(INDEX(Base!$A$2:$H$284,MATCH(HOJA_CAPTURA!AB305,Base!$A$2:$A$284,0),6),)","v":0},{"$f":"IFERROR(INDEX(Base!$A$2:$H$284,MATCH(HOJA_CAPTURA!AB305,Base!$A$2:$A$284,0),7),)","v":0},{"$f":"IFERROR(INDEX(Base!$A$2:$H$284,MATCH(HOJA_CAPTURA!AB305,Base!$A$2:$A$284,0),8),)","v":0}]
["Instituto Nacional de Pediatría","Fondo: INP",null,null,null,null,null,null,null,null,null,null,null,null,null,null,null,null,null,null,null,null,null,null,null," ",""," ",""," ","",{"$f":"IFERROR(INDEX(Base!$A$2:$H$284,MATCH(HOJA_CAPTURA!AB306,Base!$A$2:$A$284,0),3),)","v":0},{"$f":"IFERROR(INDEX(Base!$A$2:$H$284,MATCH(HOJA_CAPTURA!AB306,Base!$A$2:$A$284,0),4),)","v":0},{"$f":"IFERROR(INDEX(Base!$A$2:$H$284,MATCH(HOJA_CAPTURA!AB306,Base!$A$2:$A$284,0),5),)","v":0},{"$f":"IFERROR(INDEX(Base!$A$2:$H$284,MATCH(HOJA_CAPTURA!AB306,Base!$A$2:$A$284,0),6),)","v":0},{"$f":"IFERROR(INDEX(Base!$A$2:$H$284,MATCH(HOJA_CAPTURA!AB306,Base!$A$2:$A$284,0),7),)","v":0},{"$f":"IFERROR(INDEX(Base!$A$2:$H$284,MATCH(HOJA_CAPTURA!AB306,Base!$A$2:$A$284,0),8),)","v":0}]
["Instituto Nacional de Pediatría","Fondo: INP",null,null,null,null,null,null,null,null,null,null,null,null,null,null,null,null,null,null,null,null,null,null,null," ",""," ",""," ","",{"$f":"IFERROR(INDEX(Base!$A$2:$H$284,MATCH(HOJA_CAPTURA!AB307,Base!$A$2:$A$284,0),3),)","v":0},{"$f":"IFERROR(INDEX(Base!$A$2:$H$284,MATCH(HOJA_CAPTURA!AB307,Base!$A$2:$A$284,0),4),)","v":0},{"$f":"IFERROR(INDEX(Base!$A$2:$H$284,MATCH(HOJA_CAPTURA!AB307,Base!$A$2:$A$284,0),5),)","v":0},{"$f":"IFERROR(INDEX(Base!$A$2:$H$284,MATCH(HOJA_CAPTURA!AB307,Base!$A$2:$A$284,0),6),)","v":0},{"$f":"IFERROR(INDEX(Base!$A$2:$H$284,MATCH(HOJA_CAPTURA!AB307,Base!$A$2:$A$284,0),7),)","v":0},{"$f":"IFERROR(INDEX(Base!$A$2:$H$284,MATCH(HOJA_CAPTURA!AB307,Base!$A$2:$A$284,0),8),)","v":0}]
["Instituto Nacional de Pediatría","Fondo: INP",null,null,null,null,null,null,null,null,null,null,null,null,null,null,null,null,null,null,null,null,null,null,null," ",""," ",""," ","",{"$f":"IFERROR(INDEX(Base!$A$2:$H$284,MATCH(HOJA_CAPTURA!AB308,Base!$A$2:$A$284,0),3),)","v":0},{"$f":"IFERROR(INDEX(Base!$A$2:$H$284,MATCH(HOJA_CAPTURA!AB308,Base!$A$2:$A$284,0),4),)","v":0},{"$f":"IFERROR(INDEX(Base!$A$2:$H$284,MATCH(HOJA_CAPTURA!AB308,Base!$A$2:$A$284,0),5),)","v":0},{"$f":"IFERROR(INDEX(Base!$A$2:$H$284,MATCH(HOJA_CAPTURA!AB308,Base!$A$2:$A$284,0),6),)","v":0},{"$f":"IFERROR(INDEX(Base!$A$2:$H$284,MATCH(HOJA_CAPTURA!AB308,Base!$A$2:$A$284,0),7),)","v":0},{"$f":"IFERROR(INDEX(Base!$A$2:$H$284,MATCH(HOJA_CAPTURA!AB308,Base!$A$2:$A$284,0),8),)","v":0}]
["Instituto Nacional de Pediatría","Fondo: INP",null,null,null,null,null,null,null,null,null,null,null,null,null,null,null,null,null,null,null,null,null,null,null," ",""," ",""," ","",{"$f":"IFERROR(INDEX(Base!$A$2:$H$284,MATCH(HOJA_CAPTURA!AB309,Base!$A$2:$A$284,0),3),)","v":0},{"$f":"IFERROR(INDEX(Base!$A$2:$H$284,MATCH(HOJA_CAPTURA!AB309,Base!$A$2:$A$284,0),4),)","v":0},{"$f":"IFERROR(INDEX(Base!$A$2:$H$284,MATCH(HOJA_CAPTURA!AB309,Base!$A$2:$A$284,0),5),)","v":0},{"$f":"IFERROR(INDEX(Base!$A$2:$H$284,MATCH(HOJA_CAPTURA!AB309,Base!$A$2:$A$284,0),6),)","v":0},{"$f":"IFERROR(INDEX(Base!$A$2:$H$284,MATCH(HOJA_CAPTURA!AB309,Base!$A$2:$A$284,0),7),)","v":0},{"$f":"IFERROR(INDEX(Base!$A$2:$H$284,MATCH(HOJA_CAPTURA!AB309,Base!$A$2:$A$284,0),8),)","v":0}]
["Instituto Nacional de Pediatría","Fondo: INP",null,null,null,null,null,null,null,null,null,null,null,null,null,null,null,null,null,null,null,null,null,null,null," ",""," ",""," ","",{"$f":"IFERROR(INDEX(Base!$A$2:$H$284,MATCH(HOJA_CAPTURA!AB310,Base!$A$2:$A$284,0),3),)","v":0},{"$f":"IFERROR(INDEX(Base!$A$2:$H$284,MATCH(HOJA_CAPTURA!AB310,Base!$A$2:$A$284,0),4),)","v":0},{"$f":"IFERROR(INDEX(Base!$A$2:$H$284,MATCH(HOJA_CAPTURA!AB310,Base!$A$2:$A$284,0),5),)","v":0},{"$f":"IFERROR(INDEX(Base!$A$2:$H$284,MATCH(HOJA_CAPTURA!AB310,Base!$A$2:$A$284,0),6),)","v":0},{"$f":"IFERROR(INDEX(Base!$A$2:$H$284,MATCH(HOJA_CAPTURA!AB310,Base!$A$2:$A$284,0),7),)","v":0},{"$f":"IFERROR(INDEX(Base!$A$2:$H$284,MATCH(HOJA_CAPTURA!AB310,Base!$A$2:$A$284,0),8),)","v":0}]
["Instituto Nacional de Pediatría","Fondo: INP",null,null,null,null,null,null,null,null,null,null,null,null,null,null,null,null,null,null,null,null,null,null,null," ",""," ",""," ","",{"$f":"IFERROR(INDEX(Base!$A$2:$H$284,MATCH(HOJA_CAPTURA!AB311,Base!$A$2:$A$284,0),3),)","v":0},{"$f":"IFERROR(INDEX(Base!$A$2:$H$284,MATCH(HOJA_CAPTURA!AB311,Base!$A$2:$A$284,0),4),)","v":0},{"$f":"IFERROR(INDEX(Base!$A$2:$H$284,MATCH(HOJA_CAPTURA!AB311,Base!$A$2:$A$284,0),5),)","v":0},{"$f":"IFERROR(INDEX(Base!$A$2:$H$284,MATCH(HOJA_CAPTURA!AB311,Base!$A$2:$A$284,0),6),)","v":0},{"$f":"IFERROR(INDEX(Base!$A$2:$H$284,MATCH(HOJA_CAPTURA!AB311,Base!$A$2:$A$284,0),7),)","v":0},{"$f":"IFERROR(INDEX(Base!$A$2:$H$284,MATCH(HOJA_CAPTURA!AB311,Base!$A$2:$A$284,0),8),)","v":0}]
["Instituto Nacional de Pediatría","Fondo: INP",null,null,null,null,null,null,null,null,null,null,null,null,null,null,null,null,null,null,null,null,null,null,null," ",""," ",""," ","",{"$f":"IFERROR(INDEX(Base!$A$2:$H$284,MATCH(HOJA_CAPTURA!AB312,Base!$A$2:$A$284,0),3),)","v":0},{"$f":"IFERROR(INDEX(Base!$A$2:$H$284,MATCH(HOJA_CAPTURA!AB312,Base!$A$2:$A$284,0),4),)","v":0},{"$f":"IFERROR(INDEX(Base!$A$2:$H$284,MATCH(HOJA_CAPTURA!AB312,Base!$A$2:$A$284,0),5),)","v":0},{"$f":"IFERROR(INDEX(Base!$A$2:$H$284,MATCH(HOJA_CAPTURA!AB312,Base!$A$2:$A$284,0),6),)","v":0},{"$f":"IFERROR(INDEX(Base!$A$2:$H$284,MATCH(HOJA_CAPTURA!AB312,Base!$A$2:$A$284,0),7),)","v":0},{"$f":"IFERROR(INDEX(Base!$A$2:$H$284,MATCH(HOJA_CAPTURA!AB312,Base!$A$2:$A$284,0),8),)","v":0}]
["Instituto Nacional de Pediatría","Fondo: INP",null,null,null,null,null,null,null,null,null,null,null,null,null,null,null,null,null,null,null,null,null,null,null," ",""," ",""," ","",{"$f":"IFERROR(INDEX(Base!$A$2:$H$284,MATCH(HOJA_CAPTURA!AB313,Base!$A$2:$A$284,0),3),)","v":0},{"$f":"IFERROR(INDEX(Base!$A$2:$H$284,MATCH(HOJA_CAPTURA!AB313,Base!$A$2:$A$284,0),4),)","v":0},{"$f":"IFERROR(INDEX(Base!$A$2:$H$284,MATCH(HOJA_CAPTURA!AB313,Base!$A$2:$A$284,0),5),)","v":0},{"$f":"IFERROR(INDEX(Base!$A$2:$H$284,MATCH(HOJA_CAPTURA!AB313,Base!$A$2:$A$284,0),6),)","v":0},{"$f":"IFERROR(INDEX(Base!$A$2:$H$284,MATCH(HOJA_CAPTURA!AB313,Base!$A$2:$A$284,0),7),)","v":0},{"$f":"IFERROR(INDEX(Base!$A$2:$H$284,MATCH(HOJA_CAPTURA!AB313,Base!$A$2:$A$284,0),8),)","v":0}]
["Instituto Nacional de Pediatría","Fondo: INP",null,null,null,null,null,null,null,null,null,null,null,null,null,null,null,null,null,null,null,null,null,null,null," ",""," ",""," ","",{"$f":"IFERROR(INDEX(Base!$A$2:$H$284,MATCH(HOJA_CAPTURA!AB314,Base!$A$2:$A$284,0),3),)","v":0},{"$f":"IFERROR(INDEX(Base!$A$2:$H$284,MATCH(HOJA_CAPTURA!AB314,Base!$A$2:$A$284,0),4),)","v":0},{"$f":"IFERROR(INDEX(Base!$A$2:$H$284,MATCH(HOJA_CAPTURA!AB314,Base!$A$2:$A$284,0),5),)","v":0},{"$f":"IFERROR(INDEX(Base!$A$2:$H$284,MATCH(HOJA_CAPTURA!AB314,Base!$A$2:$A$284,0),6),)","v":0},{"$f":"IFERROR(INDEX(Base!$A$2:$H$284,MATCH(HOJA_CAPTURA!AB314,Base!$A$2:$A$284,0),7),)","v":0},{"$f":"IFERROR(INDEX(Base!$A$2:$H$284,MATCH(HOJA_CAPTURA!AB314,Base!$A$2:$A$284,0),8),)","v":0}]
["Instituto Nacional de Pediatría","Fondo: INP",null,null,null,null,null,null,null,null,null,null,null,null,null,null,null,null,null,null,null,null,null,null,null," ",""," ",""," ","",{"$f":"IFERROR(INDEX(Base!$A$2:$H$284,MATCH(HOJA_CAPTURA!AB315,Base!$A$2:$A$284,0),3),)","v":0},{"$f":"IFERROR(INDEX(Base!$A$2:$H$284,MATCH(HOJA_CAPTURA!AB315,Base!$A$2:$A$284,0),4),)","v":0},{"$f":"IFERROR(INDEX(Base!$A$2:$H$284,MATCH(HOJA_CAPTURA!AB315,Base!$A$2:$A$284,0),5),)","v":0},{"$f":"IFERROR(INDEX(Base!$A$2:$H$284,MATCH(HOJA_CAPTURA!AB315,Base!$A$2:$A$284,0),6),)","v":0},{"$f":"IFERROR(INDEX(Base!$A$2:$H$284,MATCH(HOJA_CAPTURA!AB315,Base!$A$2:$A$284,0),7),)","v":0},{"$f":"IFERROR(INDEX(Base!$A$2:$H$284,MATCH(HOJA_CAPTURA!AB315,Base!$A$2:$A$284,0),8),)","v":0}]
["Instituto Nacional de Pediatría","Fondo: INP",null,null,null,null,null,null,null,null,null,null,null,null,null,null,null,null,null,null,null,null,null,null,null," ",""," ",""," ","",{"$f":"IFERROR(INDEX(Base!$A$2:$H$284,MATCH(HOJA_CAPTURA!AB316,Base!$A$2:$A$284,0),3),)","v":0},{"$f":"IFERROR(INDEX(Base!$A$2:$H$284,MATCH(HOJA_CAPTURA!AB316,Base!$A$2:$A$284,0),4),)","v":0},{"$f":"IFERROR(INDEX(Base!$A$2:$H$284,MATCH(HOJA_CAPTURA!AB316,Base!$A$2:$A$284,0),5),)","v":0},{"$f":"IFERROR(INDEX(Base!$A$2:$H$284,MATCH(HOJA_CAPTURA!AB316,Base!$A$2:$A$284,0),6),)","v":0},{"$f":"IFERROR(INDEX(Base!$A$2:$H$284,MATCH(HOJA_CAPTURA!AB316,Base!$A$2:$A$284,0),7),)","v":0},{"$f":"IFERROR(INDEX(Base!$A$2:$H$284,MATCH(HOJA_CAPTURA!AB316,Base!$A$2:$A$284,0),8),)","v":0}]
["Instituto Nacional de Pediatría","Fondo: INP",null,null,null,null,null,null,null,null,null,null,null,null,null,null,null,null,null,null,null,null,null,null,null," ",""," ",""," ","",{"$f":"IFERROR(INDEX(Base!$A$2:$H$284,MATCH(HOJA_CAPTURA!AB317,Base!$A$2:$A$284,0),3),)","v":0},{"$f":"IFERROR(INDEX(Base!$A$2:$H$284,MATCH(HOJA_CAPTURA!AB317,Base!$A$2:$A$284,0),4),)","v":0},{"$f":"IFERROR(INDEX(Base!$A$2:$H$284,MATCH(HOJA_CAPTURA!AB317,Base!$A$2:$A$284,0),5),)","v":0},{"$f":"IFERROR(INDEX(Base!$A$2:$H$284,MATCH(HOJA_CAPTURA!AB317,Base!$A$2:$A$284,0),6),)","v":0},{"$f":"IFERROR(INDEX(Base!$A$2:$H$284,MATCH(HOJA_CAPTURA!AB317,Base!$A$2:$A$284,0),7),)","v":0},{"$f":"IFERROR(INDEX(Base!$A$2:$H$284,MATCH(HOJA_CAPTURA!AB317,Base!$A$2:$A$284,0),8),)","v":0}]
["Instituto Nacional de Pediatría","Fondo: INP",null,null,null,null,null,null,null,null,null,null,null,null,null,null,null,null,null,null,null,null,null,null,null," ",""," ",""," ","",{"$f":"IFERROR(INDEX(Base!$A$2:$H$284,MATCH(HOJA_CAPTURA!AB318,Base!$A$2:$A$284,0),3),)","v":0},{"$f":"IFERROR(INDEX(Base!$A$2:$H$284,MATCH(HOJA_CAPTURA!AB318,Base!$A$2:$A$284,0),4),)","v":0},{"$f":"IFERROR(INDEX(Base!$A$2:$H$284,MATCH(HOJA_CAPTURA!AB318,Base!$A$2:$A$284,0),5),)","v":0},{"$f":"IFERROR(INDEX(Base!$A$2:$H$284,MATCH(HOJA_CAPTURA!AB318,Base!$A$2:$A$284,0),6),)","v":0},{"$f":"IFERROR(INDEX(Base!$A$2:$H$284,MATCH(HOJA_CAPTURA!AB318,Base!$A$2:$A$284,0),7),)","v":0},{"$f":"IFERROR(INDEX(Base!$A$2:$H$284,MATCH(HOJA_CAPTURA!AB318,Base!$A$2:$A$284,0),8),)","v":0}]
["Instituto Nacional de Pediatría","Fondo: INP",null,null,null,null,null,null,null,null,null,null,null,null,null,null,null,null,null,null,null,null,null,null,null," ",""," ",""," ","",{"$f":"IFERROR(INDEX(Base!$A$2:$H$284,MATCH(HOJA_CAPTURA!AB319,Base!$A$2:$A$284,0),3),)","v":0},{"$f":"IFERROR(INDEX(Base!$A$2:$H$284,MATCH(HOJA_CAPTURA!AB319,Base!$A$2:$A$284,0),4),)","v":0},{"$f":"IFERROR(INDEX(Base!$A$2:$H$284,MATCH(HOJA_CAPTURA!AB319,Base!$A$2:$A$284,0),5),)","v":0},{"$f":"IFERROR(INDEX(Base!$A$2:$H$284,MATCH(HOJA_CAPTURA!AB319,Base!$A$2:$A$284,0),6),)","v":0},{"$f":"IFERROR(INDEX(Base!$A$2:$H$284,MATCH(HOJA_CAPTURA!AB319,Base!$A$2:$A$284,0),7),)","v":0},{"$f":"IFERROR(INDEX(Base!$A$2:$H$284,MATCH(HOJA_CAPTURA!AB319,Base!$A$2:$A$284,0),8),)","v":0}]
["Instituto Nacional de Pediatría","Fondo: INP",null,null,null,null,null,null,null,null,null,null,null,null,null,null,null,null,null,null,null,null,null,null,null," ",""," ",""," ","",{"$f":"IFERROR(INDEX(Base!$A$2:$H$284,MATCH(HOJA_CAPTURA!AB320,Base!$A$2:$A$284,0),3),)","v":0},{"$f":"IFERROR(INDEX(Base!$A$2:$H$284,MATCH(HOJA_CAPTURA!AB320,Base!$A$2:$A$284,0),4),)","v":0},{"$f":"IFERROR(INDEX(Base!$A$2:$H$284,MATCH(HOJA_CAPTURA!AB320,Base!$A$2:$A$284,0),5),)","v":0},{"$f":"IFERROR(INDEX(Base!$A$2:$H$284,MATCH(HOJA_CAPTURA!AB320,Base!$A$2:$A$284,0),6),)","v":0},{"$f":"IFERROR(INDEX(Base!$A$2:$H$284,MATCH(HOJA_CAPTURA!AB320,Base!$A$2:$A$284,0),7),)","v":0},{"$f":"IFERROR(INDEX(Base!$A$2:$H$284,MATCH(HOJA_CAPTURA!AB320,Base!$A$2:$A$284,0),8),)","v":0}]
["Instituto Nacional de Pediatría","Fondo: INP",null,null,null,null,null,null,null,null,null,null,null,null,null,null,null,null,null,null,null,null,null,null,null," ",""," ",""," ","",{"$f":"IFERROR(INDEX(Base!$A$2:$H$284,MATCH(HOJA_CAPTURA!AB321,Base!$A$2:$A$284,0),3),)","v":0},{"$f":"IFERROR(INDEX(Base!$A$2:$H$284,MATCH(HOJA_CAPTURA!AB321,Base!$A$2:$A$284,0),4),)","v":0},{"$f":"IFERROR(INDEX(Base!$A$2:$H$284,MATCH(HOJA_CAPTURA!AB321,Base!$A$2:$A$284,0),5),)","v":0},{"$f":"IFERROR(INDEX(Base!$A$2:$H$284,MATCH(HOJA_CAPTURA!AB321,Base!$A$2:$A$284,0),6),)","v":0},{"$f":"IFERROR(INDEX(Base!$A$2:$H$284,MATCH(HOJA_CAPTURA!AB321,Base!$A$2:$A$284,0),7),)","v":0},{"$f":"IFERROR(INDEX(Base!$A$2:$H$284,MATCH(HOJA_CAPTURA!AB321,Base!$A$2:$A$284,0),8),)","v":0}]
["Instituto Nacional de Pediatría","Fondo: INP",null,null,null,null,null,null,null,null,null,null,null,null,null,null,null,null,null,null,null,null,null,null,null," ",""," ",""," ","",{"$f":"IFERROR(INDEX(Base!$A$2:$H$284,MATCH(HOJA_CAPTURA!AB322,Base!$A$2:$A$284,0),3),)","v":0},{"$f":"IFERROR(INDEX(Base!$A$2:$H$284,MATCH(HOJA_CAPTURA!AB322,Base!$A$2:$A$284,0),4),)","v":0},{"$f":"IFERROR(INDEX(Base!$A$2:$H$284,MATCH(HOJA_CAPTURA!AB322,Base!$A$2:$A$284,0),5),)","v":0},{"$f":"IFERROR(INDEX(Base!$A$2:$H$284,MATCH(HOJA_CAPTURA!AB322,Base!$A$2:$A$284,0),6),)","v":0},{"$f":"IFERROR(INDEX(Base!$A$2:$H$284,MATCH(HOJA_CAPTURA!AB322,Base!$A$2:$A$284,0),7),)","v":0},{"$f":"IFERROR(INDEX(Base!$A$2:$H$284,MATCH(HOJA_CAPTURA!AB322,Base!$A$2:$A$284,0),8),)","v":0}]
["Instituto Nacional de Pediatría","Fondo: INP",null,null,null,null,null,null,null,null,null,null,null,null,null,null,null,null,null,null,null,null,null,null,null," ",""," ",""," ","",{"$f":"IFERROR(INDEX(Base!$A$2:$H$284,MATCH(HOJA_CAPTURA!AB323,Base!$A$2:$A$284,0),3),)","v":0},{"$f":"IFERROR(INDEX(Base!$A$2:$H$284,MATCH(HOJA_CAPTURA!AB323,Base!$A$2:$A$284,0),4),)","v":0},{"$f":"IFERROR(INDEX(Base!$A$2:$H$284,MATCH(HOJA_CAPTURA!AB323,Base!$A$2:$A$284,0),5),)","v":0},{"$f":"IFERROR(INDEX(Base!$A$2:$H$284,MATCH(HOJA_CAPTURA!AB323,Base!$A$2:$A$284,0),6),)","v":0},{"$f":"IFERROR(INDEX(Base!$A$2:$H$284,MATCH(HOJA_CAPTURA!AB323,Base!$A$2:$A$284,0),7),)","v":0},{"$f":"IFERROR(INDEX(Base!$A$2:$H$284,MATCH(HOJA_CAPTURA!AB323,Base!$A$2:$A$284,0),8),)","v":0}]
["Instituto Nacional de Pediatría","Fondo: INP",null,null,null,null,null,null,null,null,null,null,null,null,null,null,null,null,null,null,null,null,null,null,null," ",{"$f":"MID(G324,LEN(Z324)+2, 80)","v":""}," ",""," ",{"$f":"IF(LEFT(I324,6)=\"N/A\", \"N/A\", IFERROR(RIGHT(I324, LEN(I324) - FIND(\" \", I324)), \"\"))","v":""},{"$f":"IFERROR(INDEX(Base!$A$2:$H$284,MATCH(HOJA_CAPTURA!AB324,Base!$A$2:$A$284,0),3),)","v":0},{"$f":"IFERROR(INDEX(Base!$A$2:$H$284,MATCH(HOJA_CAPTURA!AB324,Base!$A$2:$A$284,0),4),)","v":0},{"$f":"IFERROR(INDEX(Base!$A$2:$H$284,MATCH(HOJA_CAPTURA!AB324,Base!$A$2:$A$284,0),5),)","v":0},{"$f":"IFERROR(INDEX(Base!$A$2:$H$284,MATCH(HOJA_CAPTURA!AB324,Base!$A$2:$A$284,0),6),)","v":0},{"$f":"IFERROR(INDEX(Base!$A$2:$H$284,MATCH(HOJA_CAPTURA!AB324,Base!$A$2:$A$284,0),7),)","v":0},{"$f":"IFERROR(INDEX(Base!$A$2:$H$284,MATCH(HOJA_CAPTURA!AB324,Base!$A$2:$A$284,0),8),)","v":0}]
["Instituto Nacional de Pediatría","Fondo: INP",null,null,null,null,null,null,null,null,null,null,null,null,null,null,null,null,null,null,null,null,null,null,null," ",""," ",""," ","",{"$f":"IFERROR(INDEX(Base!$A$2:$H$284,MATCH(HOJA_CAPTURA!AB325,Base!$A$2:$A$284,0),3),)","v":0},{"$f":"IFERROR(INDEX(Base!$A$2:$H$284,MATCH(HOJA_CAPTURA!AB325,Base!$A$2:$A$284,0),4),)","v":0},{"$f":"IFERROR(INDEX(Base!$A$2:$H$284,MATCH(HOJA_CAPTURA!AB325,Base!$A$2:$A$284,0),5),)","v":0},{"$f":"IFERROR(INDEX(Base!$A$2:$H$284,MATCH(HOJA_CAPTURA!AB325,Base!$A$2:$A$284,0),6),)","v":0},{"$f":"IFERROR(INDEX(Base!$A$2:$H$284,MATCH(HOJA_CAPTURA!AB325,Base!$A$2:$A$284,0),7),)","v":0},{"$f":"IFERROR(INDEX(Base!$A$2:$H$284,MATCH(HOJA_CAPTURA!AB325,Base!$A$2:$A$284,0),8),)","v":0}]
["Instituto Nacional de Pediatría","Fondo: INP",null,null,null,null,null,null,null,null,null,null,null,null,null,null,null,null,null,null,null,null,null,null,null," ",""," ",""," ","",{"$f":"IFERROR(INDEX(Base!$A$2:$H$284,MATCH(HOJA_CAPTURA!AB326,Base!$A$2:$A$284,0),3),)","v":0},{"$f":"IFERROR(INDEX(Base!$A$2:$H$284,MATCH(HOJA_CAPTURA!AB326,Base!$A$2:$A$284,0),4),)","v":0},{"$f":"IFERROR(INDEX(Base!$A$2:$H$284,MATCH(HOJA_CAPTURA!AB326,Base!$A$2:$A$284,0),5),)","v":0},{"$f":"IFERROR(INDEX(Base!$A$2:$H$284,MATCH(HOJA_CAPTURA!AB326,Base!$A$2:$A$284,0),6),)","v":0},{"$f":"IFERROR(INDEX(Base!$A$2:$H$284,MATCH(HOJA_CAPTURA!AB326,Base!$A$2:$A$284,0),7),)","v":0},{"$f":"IFERROR(INDEX(Base!$A$2:$H$284,MATCH(HOJA_CAPTURA!AB326,Base!$A$2:$A$284,0),8),)","v":0}]
["Instituto Nacional de Pediatría","Fondo: INP",null,null,null,null,null,null,null,null,null,null,null,null,null,null,null,null,null,null,null,null,null,null,null," ",""," ",""," ","",{"$f":"IFERROR(INDEX(Base!$A$2:$H$284,MATCH(HOJA_CAPTURA!AB327,Base!$A$2:$A$284,0),3),)","v":0},{"$f":"IFERROR(INDEX(Base!$A$2:$H$284,MATCH(HOJA_CAPTURA!AB327,Base!$A$2:$A$284,0),4),)","v":0},{"$f":"IFERROR(INDEX(Base!$A$2:$H$284,MATCH(HOJA_CAPTURA!AB327,Base!$A$2:$A$284,0),5),)","v":0},{"$f":"IFERROR(INDEX(Base!$A$2:$H$284,MATCH(HOJA_CAPTURA!AB327,Base!$A$2:$A$284,0),6),)","v":0},{"$f":"IFERROR(INDEX(Base!$A$2:$H$284,MATCH(HOJA_CAPTURA!AB327,Base!$A$2:$A$284,0),7),)","v":0},{"$f":"IFERROR(INDEX(Base!$A$2:$H$284,MATCH(HOJA_CAPTURA!AB327,Base!$A$2:$A$284,0),8),)","v":0}]
["Instituto Nacional de Pediatría","Fondo: INP",null,null,null,null,null,null,null,null,null,null,null,null,null,null,null,null,null,null,null,null,null,null,null," ",""," ",{"$f":"MID(H328,LEN(AB328)+2, 80)","v":""}," ","",{"$f":"IFERROR(INDEX(Base!$A$2:$H$284,MATCH(HOJA_CAPTURA!AB328,Base!$A$2:$A$284,0),3),)","v":0},{"$f":"IFERROR(INDEX(Base!$A$2:$H$284,MATCH(HOJA_CAPTURA!AB328,Base!$A$2:$A$284,0),4),)","v":0},{"$f":"IFERROR(INDEX(Base!$A$2:$H$284,MATCH(HOJA_CAPTURA!AB328,Base!$A$2:$A$284,0),5),)","v":0},{"$f":"IFERROR(INDEX(Base!$A$2:$H$284,MATCH(HOJA_CAPTURA!AB328,Base!$A$2:$A$284,0),6),)","v":0},{"$f":"IFERROR(INDEX(Base!$A$2:$H$284,MATCH(HOJA_CAPTURA!AB328,Base!$A$2:$A$284,0),7),)","v":0},{"$f":"IFERROR(INDEX(Base!$A$2:$H$284,MATCH(HOJA_CAPTURA!AB328,Base!$A$2:$A$284,0),8),)","v":0}]
["Instituto Nacional de Pediatría","Fondo: INP",null,null,null,null,null,null,null,null,null,null,null,null,null,null,null,null,null,null,null,null,null,null,null," ",""," ",""," ","",{"$f":"IFERROR(INDEX(Base!$A$2:$H$284,MATCH(HOJA_CAPTURA!AB329,Base!$A$2:$A$284,0),3),)","v":0},{"$f":"IFERROR(INDEX(Base!$A$2:$H$284,MATCH(HOJA_CAPTURA!AB329,Base!$A$2:$A$284,0),4),)","v":0},{"$f":"IFERROR(INDEX(Base!$A$2:$H$284,MATCH(HOJA_CAPTURA!AB329,Base!$A$2:$A$284,0),5),)","v":0},{"$f":"IFERROR(INDEX(Base!$A$2:$H$284,MATCH(HOJA_CAPTURA!AB329,Base!$A$2:$A$284,0),6),)","v":0},{"$f":"IFERROR(INDEX(Base!$A$2:$H$284,MATCH(HOJA_CAPTURA!AB329,Base!$A$2:$A$284,0),7),)","v":0},{"$f":"IFERROR(INDEX(Base!$A$2:$H$284,MATCH(HOJA_CAPTURA!AB329,Base!$A$2:$A$284,0),8),)","v":0}]
["Instituto Nacional de Pediatría","Fondo: INP",null,null,null,null,null,null,null,null,null,null,null,null,null,null,null,null,null,null,null,null,null,null,null," ",""," ",""," ","",{"$f":"IFERROR(INDEX(Base!$A$2:$H$284,MATCH(HOJA_CAPTURA!AB330,Base!$A$2:$A$284,0),3),)","v":0},{"$f":"IFERROR(INDEX(Base!$A$2:$H$284,MATCH(HOJA_CAPTURA!AB330,Base!$A$2:$A$284,0),4),)","v":0},{"$f":"IFERROR(INDEX(Base!$A$2:$H$284,MATCH(HOJA_CAPTURA!AB330,Base!$A$2:$A$284,0),5),)","v":0},{"$f":"IFERROR(INDEX(Base!$A$2:$H$284,MATCH(HOJA_CAPTURA!AB330,Base!$A$2:$A$284,0),6),)","v":0},{"$f":"IFERROR(INDEX(Base!$A$2:$H$284,MATCH(HOJA_CAPTURA!AB330,Base!$A$2:$A$284,0),7),)","v":0},{"$f":"IFERROR(INDEX(Base!$A$2:$H$284,MATCH(HOJA_CAPTURA!AB330,Base!$A$2:$A$284,0),8),)","v":0}]
["Instituto Nacional de Pediatría","Fondo: INP",null,null,null,null,null,null,null,null,null,null,null,null,null,null,null,null,null,null,null,null,null,null,null," ",""," ",""," ","",{"$f":"IFERROR(INDEX(Base!$A$2:$H$284,MATCH(HOJA_CAPTURA!AB331,Base!$A$2:$A$284,0),3),)","v":0},{"$f":"IFERROR(INDEX(Base!$A$2:$H$284,MATCH(HOJA_CAPTURA!AB331,Base!$A$2:$A$284,0),4),)","v":0},{"$f":"IFERROR(INDEX(Base!$A$2:$H$284,MATCH(HOJA_CAPTURA!AB331,Base!$A$2:$A$284,0),5),)","v":0},{"$f":"IFERROR(INDEX(Base!$A$2:$H$284,MATCH(HOJA_CAPTURA!AB331,Base!$A$2:$A$284,0),6),)","v":0},{"$f":"IFERROR(INDEX(Base!$A$2:$H$284,MATCH(HOJA_CAPTURA!AB331,Base!$A$2:$A$284,0),7),)","v":0},{"$f":"IFERROR(INDEX(Base!$A$2:$H$284,MATCH(HOJA_CAPTURA!AB331,Base!$A$2:$A$284,0),8),)","v":0}]
["Instituto Nacional de Pediatría","Fondo: INP",null,null,null,null,null,null,null,null,null,null,null,null,null,null,null,null,null,null,null,null,null,null,null," ",""," ",""," ","",{"$f":"IFERROR(INDEX(Base!$A$2:$H$284,MATCH(HOJA_CAPTURA!AB332,Base!$A$2:$A$284,0),3),)","v":0},{"$f":"IFERROR(INDEX(Base!$A$2:$H$284,MATCH(HOJA_CAPTURA!AB332,Base!$A$2:$A$284,0),4),)","v":0},{"$f":"IFERROR(INDEX(Base!$A$2:$H$284,MATCH(HOJA_CAPTURA!AB332,Base!$A$2:$A$284,0),5),)","v":0},{"$f":"IFERROR(INDEX(Base!$A$2:$H$284,MATCH(HOJA_CAPTURA!AB332,Base!$A$2:$A$284,0),6),)","v":0},{"$f":"IFERROR(INDEX(Base!$A$2:$H$284,MATCH(HOJA_CAPTURA!AB332,Base!$A$2:$A$284,0),7),)","v":0},{"$f":"IFERROR(INDEX(Base!$A$2:$H$284,MATCH(HOJA_CAPTURA!AB332,Base!$A$2:$A$284,0),8),)","v":0}]
["Instituto Nacional de Pediatría","Fondo: INP",null,null,null,null,null,null,null,null,null,null,null,null,null,null,null,null,null,null,null,null,null,null,null," ",""," ",""," ","",{"$f":"IFERROR(INDEX(Base!$A$2:$H$284,MATCH(HOJA_CAPTURA!AB333,Base!$A$2:$A$284,0),3),)","v":0},{"$f":"IFERROR(INDEX(Base!$A$2:$H$284,MATCH(HOJA_CAPTURA!AB333,Base!$A$2:$A$284,0),4),)","v":0},{"$f":"IFERROR(INDEX(Base!$A$2:$H$284,MATCH(HOJA_CAPTURA!AB333,Base!$A$2:$A$284,0),5),)","v":0},{"$f":"IFERROR(INDEX(Base!$A$2:$H$284,MATCH(HOJA_CAPTURA!AB333,Base!$A$2:$A$284,0),6),)","v":0},{"$f":"IFERROR(INDEX(Base!$A$2:$H$284,MATCH(HOJA_CAPTURA!AB333,Base!$A$2:$A$284,0),7),)","v":0},{"$f":"IFERROR(INDEX(Base!$A$2:$H$284,MATCH(HOJA_CAPTURA!AB333,Base!$A$2:$A$284,0),8),)","v":0}]
["Instituto Nacional de Pediatría","Fondo: INP",null,null,null,null,null,null,null,null,null,null,null,null,null,null,null,null,null,null,null,null,null,null,null," ","",{"$f":"IF(H334>0, MID(H334,1,FIND(\" \",H334,1)-1), \" \")","v":" "},"",{"$f":"IF(I334>0,MID(I334,1,FIND(\" \",H334,1)+1),\" \")","v":" "},"",{"$f":"IFERROR(INDEX(Base!$A$2:$H$284,MATCH(HOJA_CAPTURA!AB334,Base!$A$2:$A$284,0),3),)","v":0},{"$f":"IFERROR(INDEX(Base!$A$2:$H$284,MATCH(HOJA_CAPTURA!AB334,Base!$A$2:$A$284,0),4),)","v":0},{"$f":"IFERROR(INDEX(Base!$A$2:$H$284,MATCH(HOJA_CAPTURA!AB334,Base!$A$2:$A$284,0),5),)","v":0},{"$f":"IFERROR(INDEX(Base!$A$2:$H$284,MATCH(HOJA_CAPTURA!AB334,Base!$A$2:$A$284,0),6),)","v":0},{"$f":"IFERROR(INDEX(Base!$A$2:$H$284,MATCH(HOJA_CAPTURA!AB334,Base!$A$2:$A$284,0),7),)","v":0},{"$f":"IFERROR(INDEX(Base!$A$2:$H$284,MATCH(HOJA_CAPTURA!AB334,Base!$A$2:$A$284,0),8),)","v":0}]
["Instituto Nacional de Pediatría","Fondo: INP",null,null,null,null,null,null,null,null,null,null,null,null,null,null,null,null,null,null,null,null,null,null,null," ",""," ",""," ","",{"$f":"IFERROR(INDEX(Base!$A$2:$H$284,MATCH(HOJA_CAPTURA!AB335,Base!$A$2:$A$284,0),3),)","v":0},{"$f":"IFERROR(INDEX(Base!$A$2:$H$284,MATCH(HOJA_CAPTURA!AB335,Base!$A$2:$A$284,0),4),)","v":0},{"$f":"IFERROR(INDEX(Base!$A$2:$H$284,MATCH(HOJA_CAPTURA!AB335,Base!$A$2:$A$284,0),5),)","v":0},{"$f":"IFERROR(INDEX(Base!$A$2:$H$284,MATCH(HOJA_CAPTURA!AB335,Base!$A$2:$A$284,0),6),)","v":0},{"$f":"IFERROR(INDEX(Base!$A$2:$H$284,MATCH(HOJA_CAPTURA!AB335,Base!$A$2:$A$284,0),7),)","v":0},{"$f":"IFERROR(INDEX(Base!$A$2:$H$284,MATCH(HOJA_CAPTURA!AB335,Base!$A$2:$A$284,0),8),)","v":0}]
["Instituto Nacional de Pediatría","Fondo: INP",null,null,null,null,null,null,null,null,null,null,null,null,null,null,null,null,null,null,null,null,null,null,null,{"$f":"IF(G336>0, MID(G336,1,FIND(\" \",G336,1)-1), \" \")","v":" "},""," ",""," ","",{"$f":"IFERROR(INDEX(Base!$A$2:$H$284,MATCH(HOJA_CAPTURA!AB336,Base!$A$2:$A$284,0),3),)","v":0},{"$f":"IFERROR(INDEX(Base!$A$2:$H$284,MATCH(HOJA_CAPTURA!AB336,Base!$A$2:$A$284,0),4),)","v":0},{"$f":"IFERROR(INDEX(Base!$A$2:$H$284,MATCH(HOJA_CAPTURA!AB336,Base!$A$2:$A$284,0),5),)","v":0},{"$f":"IFERROR(INDEX(Base!$A$2:$H$284,MATCH(HOJA_CAPTURA!AB336,Base!$A$2:$A$284,0),6),)","v":0},{"$f":"IFERROR(INDEX(Base!$A$2:$H$284,MATCH(HOJA_CAPTURA!AB336,Base!$A$2:$A$284,0),7),)","v":0},{"$f":"IFERROR(INDEX(Base!$A$2:$H$284,MATCH(HOJA_CAPTURA!AB336,Base!$A$2:$A$284,0),8),)","v":0}]
["Instituto Nacional de Pediatría","Fondo: INP",null,null,null,null,null,null,null,null,null,null,null,null,null,null,null,null,null,null,null,null,null,null,null," ",""," ",""," ","",{"$f":"IFERROR(INDEX(Base!$A$2:$H$284,MATCH(HOJA_CAPTURA!AB337,Base!$A$2:$A$284,0),3),)","v":0},{"$f":"IFERROR(INDEX(Base!$A$2:$H$284,MATCH(HOJA_CAPTURA!AB337,Base!$A$2:$A$284,0),4),)","v":0},{"$f":"IFERROR(INDEX(Base!$A$2:$H$284,MATCH(HOJA_CAPTURA!AB337,Base!$A$2:$A$284,0),5),)","v":0},{"$f":"IFERROR(INDEX(Base!$A$2:$H$284,MATCH(HOJA_CAPTURA!AB337,Base!$A$2:$A$284,0),6),)","v":0},{"$f":"IFERROR(INDEX(Base!$A$2:$H$284,MATCH(HOJA_CAPTURA!AB337,Base!$A$2:$A$284,0),7),)","v":0},{"$f":"IFERROR(INDEX(Base!$A$2:$H$284,MATCH(HOJA_CAPTURA!AB337,Base!$A$2:$A$284,0),8),)","v":0}]
["Instituto Nacional de Pediatría","Fondo: INP",null,null,null,null,null,null,null,null,null,null,null,null,null,null,null,null,null,null,null,null,null,null,null," ",""," ",""," ","",{"$f":"IFERROR(INDEX(Base!$A$2:$H$284,MATCH(HOJA_CAPTURA!AB338,Base!$A$2:$A$284,0),3),)","v":0},{"$f":"IFERROR(INDEX(Base!$A$2:$H$284,MATCH(HOJA_CAPTURA!AB338,Base!$A$2:$A$284,0),4),)","v":0},{"$f":"IFERROR(INDEX(Base!$A$2:$H$284,MATCH(HOJA_CAPTURA!AB338,Base!$A$2:$A$284,0),5),)","v":0},{"$f":"IFERROR(INDEX(Base!$A$2:$H$284,MATCH(HOJA_CAPTURA!AB338,Base!$A$2:$A$284,0),6),)","v":0},{"$f":"IFERROR(INDEX(Base!$A$2:$H$284,MATCH(HOJA_CAPTURA!AB338,Base!$A$2:$A$284,0),7),)","v":0},{"$f":"IFERROR(INDEX(Base!$A$2:$H$284,MATCH(HOJA_CAPTURA!AB338,Base!$A$2:$A$284,0),8),)","v":0}]
["Instituto Nacional de Pediatría","Fondo: INP",null,null,null,null,null,null,null,null,null,null,null,null,null,null,null,null,null,null,null,null,null,null,null," ",""," ",""," ","",{"$f":"IFERROR(INDEX(Base!$A$2:$H$284,MATCH(HOJA_CAPTURA!AB339,Base!$A$2:$A$284,0),3),)","v":0},{"$f":"IFERROR(INDEX(Base!$A$2:$H$284,MATCH(HOJA_CAPTURA!AB339,Base!$A$2:$A$284,0),4),)","v":0},{"$f":"IFERROR(INDEX(Base!$A$2:$H$284,MATCH(HOJA_CAPTURA!AB339,Base!$A$2:$A$284,0),5),)","v":0},{"$f":"IFERROR(INDEX(Base!$A$2:$H$284,MATCH(HOJA_CAPTURA!AB339,Base!$A$2:$A$284,0),6),)","v":0},{"$f":"IFERROR(INDEX(Base!$A$2:$H$284,MATCH(HOJA_CAPTURA!AB339,Base!$A$2:$A$284,0),7),)","v":0},{"$f":"IFERROR(INDEX(Base!$A$2:$H$284,MATCH(HOJA_CAPTURA!AB339,Base!$A$2:$A$284,0),8),)","v":0}]
["Instituto Nacional de Pediatría","Fondo: INP",null,null,null,null,null,null,null,null,null,null,null,null,null,null,null,null,null,null,null,null,null,null,null," ",""," ",""," ","",{"$f":"IFERROR(INDEX(Base!$A$2:$H$284,MATCH(HOJA_CAPTURA!AB340,Base!$A$2:$A$284,0),3),)","v":0},{"$f":"IFERROR(INDEX(Base!$A$2:$H$284,MATCH(HOJA_CAPTURA!AB340,Base!$A$2:$A$284,0),4),)","v":0},{"$f":"IFERROR(INDEX(Base!$A$2:$H$284,MATCH(HOJA_CAPTURA!AB340,Base!$A$2:$A$284,0),5),)","v":0},{"$f":"IFERROR(INDEX(Base!$A$2:$H$284,MATCH(HOJA_CAPTURA!AB340,Base!$A$2:$A$284,0),6),)","v":0},{"$f":"IFERROR(INDEX(Base!$A$2:$H$284,MATCH(HOJA_CAPTURA!AB340,Base!$A$2:$A$284,0),7),)","v":0},{"$f":"IFERROR(INDEX(Base!$A$2:$H$284,MATCH(HOJA_CAPTURA!AB340,Base!$A$2:$A$284,0),8),)","v":0}]
["Instituto Nacional de Pediatría","Fondo: INP",null,null,null,null,null,null,null,null,null,null,null,null,null,null,null,null,null,null,null,null,null,null,null," ",""," ",""," ","",{"$f":"IFERROR(INDEX(Base!$A$2:$H$284,MATCH(HOJA_CAPTURA!AB341,Base!$A$2:$A$284,0),3),)","v":0},{"$f":"IFERROR(INDEX(Base!$A$2:$H$284,MATCH(HOJA_CAPTURA!AB341,Base!$A$2:$A$284,0),4),)","v":0},{"$f":"IFERROR(INDEX(Base!$A$2:$H$284,MATCH(HOJA_CAPTURA!AB341,Base!$A$2:$A$284,0),5),)","v":0},{"$f":"IFERROR(INDEX(Base!$A$2:$H$284,MATCH(HOJA_CAPTURA!AB341,Base!$A$2:$A$284,0),6),)","v":0},{"$f":"IFERROR(INDEX(Base!$A$2:$H$284,MATCH(HOJA_CAPTURA!AB341,Base!$A$2:$A$284,0),7),)","v":0},{"$f":"IFERROR(INDEX(Base!$A$2:$H$284,MATCH(HOJA_CAPTURA!AB341,Base!$A$2:$A$284,0),8),)","v":0}]
["Instituto Nacional de Pediatría","Fondo: INP",null,null,null,null,null,null,null,null,null,null,null,null,null,null,null,null,null,null,null,null,null,null,null," ",""," ",""," ","",{"$f":"IFERROR(INDEX(Base!$A$2:$H$284,MATCH(HOJA_CAPTURA!AB342,Base!$A$2:$A$284,0),3),)","v":0},{"$f":"IFERROR(INDEX(Base!$A$2:$H$284,MATCH(HOJA_CAPTURA!AB342,Base!$A$2:$A$284,0),4),)","v":0},{"$f":"IFERROR(INDEX(Base!$A$2:$H$284,MATCH(HOJA_CAPTURA!AB342,Base!$A$2:$A$284,0),5),)","v":0},{"$f":"IFERROR(INDEX(Base!$A$2:$H$284,MATCH(HOJA_CAPTURA!AB342,Base!$A$2:$A$284,0),6),)","v":0},{"$f":"IFERROR(INDEX(Base!$A$2:$H$284,MATCH(HOJA_CAPTURA!AB342,Base!$A$2:$A$284,0),7),)","v":0},{"$f":"IFERROR(INDEX(Base!$A$2:$H$284,MATCH(HOJA_CAPTURA!AB342,Base!$A$2:$A$284,0),8),)","v":0}]
["Instituto Nacional de Pediatría","Fondo: INP",null,null,null,null,null,null,null,null,null,null,null,null,null,null,null,null,null,null,null,null,null,null,null," ",""," ",""," ","",{"$f":"IFERROR(INDEX(Base!$A$2:$H$284,MATCH(HOJA_CAPTURA!AB343,Base!$A$2:$A$284,0),3),)","v":0},{"$f":"IFERROR(INDEX(Base!$A$2:$H$284,MATCH(HOJA_CAPTURA!AB343,Base!$A$2:$A$284,0),4),)","v":0},{"$f":"IFERROR(INDEX(Base!$A$2:$H$284,MATCH(HOJA_CAPTURA!AB343,Base!$A$2:$A$284,0),5),)","v":0},{"$f":"IFERROR(INDEX(Base!$A$2:$H$284,MATCH(HOJA_CAPTURA!AB343,Base!$A$2:$A$284,0),6),)","v":0},{"$f":"IFERROR(INDEX(Base!$A$2:$H$284,MATCH(HOJA_CAPTURA!AB343,Base!$A$2:$A$284,0),7),)","v":0},{"$f":"IFERROR(INDEX(Base!$A$2:$H$284,MATCH(HOJA_CAPTURA!AB343,Base!$A$2:$A$284,0),8),)","v":0}]
["Instituto Nacional de Pediatría","Fondo: INP",null,null,null,null,null,null,null,null,null,null,null,null,null,null,null,null,null,null,null,null,null,null,null," ",""," ",""," ","",{"$f":"IFERROR(INDEX(Base!$A$2:$H$284,MATCH(HOJA_CAPTURA!AB344,Base!$A$2:$A$284,0),3),)","v":0},{"$f":"IFERROR(INDEX(Base!$A$2:$H$284,MATCH(HOJA_CAPTURA!AB344,Base!$A$2:$A$284,0),4),)","v":0},{"$f":"IFERROR(INDEX(Base!$A$2:$H$284,MATCH(HOJA_CAPTURA!AB344,Base!$A$2:$A$284,0),5),)","v":0},{"$f":"IFERROR(INDEX(Base!$A$2:$H$284,MATCH(HOJA_CAPTURA!AB344,Base!$A$2:$A$284,0),6),)","v":0},{"$f":"IFERROR(INDEX(Base!$A$2:$H$284,MATCH(HOJA_CAPTURA!AB344,Base!$A$2:$A$284,0),7),)","v":0},{"$f":"IFERROR(INDEX(Base!$A$2:$H$284,MATCH(HOJA_CAPTURA!AB344,Base!$A$2:$A$284,0),8),)","v":0}]
["Instituto Nacional de Pediatría","Fondo: INP",null,null,null,null,null,null,null,null,null,null,null,null,null,null,null,null,null,null,null,null,null,null,null," ",""," ",""," ","",{"$f":"IFERROR(INDEX(Base!$A$2:$H$284,MATCH(HOJA_CAPTURA!AB345,Base!$A$2:$A$284,0),3),)","v":0},{"$f":"IFERROR(INDEX(Base!$A$2:$H$284,MATCH(HOJA_CAPTURA!AB345,Base!$A$2:$A$284,0),4),)","v":0},{"$f":"IFERROR(INDEX(Base!$A$2:$H$284,MATCH(HOJA_CAPTURA!AB345,Base!$A$2:$A$284,0),5),)","v":0},{"$f":"IFERROR(INDEX(Base!$A$2:$H$284,MATCH(HOJA_CAPTURA!AB345,Base!$A$2:$A$284,0),6),)","v":0},{"$f":"IFERROR(INDEX(Base!$A$2:$H$284,MATCH(HOJA_CAPTURA!AB345,Base!$A$2:$A$284,0),7),)","v":0},{"$f":"IFERROR(INDEX(Base!$A$2:$H$284,MATCH(HOJA_CAPTURA!AB345,Base!$A$2:$A$284,0),8),)","v":0}]
["Instituto Nacional de Pediatría","Fondo: INP",null,null,null,null,null,null,null,null,null,null,null,null,null,null,null,null,null,null,null,null,null,null,null," ",""," ",""," ","",{"$f":"IFERROR(INDEX(Base!$A$2:$H$284,MATCH(HOJA_CAPTURA!AB346,Base!$A$2:$A$284,0),3),)","v":0},{"$f":"IFERROR(INDEX(Base!$A$2:$H$284,MATCH(HOJA_CAPTURA!AB346,Base!$A$2:$A$284,0),4),)","v":0},{"$f":"IFERROR(INDEX(Base!$A$2:$H$284,MATCH(HOJA_CAPTURA!AB346,Base!$A$2:$A$284,0),5),)","v":0},{"$f":"IFERROR(INDEX(Base!$A$2:$H$284,MATCH(HOJA_CAPTURA!AB346,Base!$A$2:$A$284,0),6),)","v":0},{"$f":"IFERROR(INDEX(Base!$A$2:$H$284,MATCH(HOJA_CAPTURA!AB346,Base!$A$2:$A$284,0),7),)","v":0},{"$f":"IFERROR(INDEX(Base!$A$2:$H$284,MATCH(HOJA_CAPTURA!AB346,Base!$A$2:$A$284,0),8),)","v":0}]
["Instituto Nacional de Pediatría","Fondo: INP",null,null,null,null,null,null,null,null,null,null,null,null,null,null,null,null,null,null,null,null,null,null,null," ",""," ",""," ","",{"$f":"IFERROR(INDEX(Base!$A$2:$H$284,MATCH(HOJA_CAPTURA!AB347,Base!$A$2:$A$284,0),3),)","v":0},{"$f":"IFERROR(INDEX(Base!$A$2:$H$284,MATCH(HOJA_CAPTURA!AB347,Base!$A$2:$A$284,0),4),)","v":0},{"$f":"IFERROR(INDEX(Base!$A$2:$H$284,MATCH(HOJA_CAPTURA!AB347,Base!$A$2:$A$284,0),5),)","v":0},{"$f":"IFERROR(INDEX(Base!$A$2:$H$284,MATCH(HOJA_CAPTURA!AB347,Base!$A$2:$A$284,0),6),)","v":0},{"$f":"IFERROR(INDEX(Base!$A$2:$H$284,MATCH(HOJA_CAPTURA!AB347,Base!$A$2:$A$284,0),7),)","v":0},{"$f":"IFERROR(INDEX(Base!$A$2:$H$284,MATCH(HOJA_CAPTURA!AB347,Base!$A$2:$A$284,0),8),)","v":0}]
["Instituto Nacional de Pediatría","Fondo: INP",null,null,null,null,null,null,null,null,null,null,null,null,null,null,null,null,null,null,null,null,null,null,null," ",""," ",""," ","",{"$f":"IFERROR(INDEX(Base!$A$2:$H$284,MATCH(HOJA_CAPTURA!AB348,Base!$A$2:$A$284,0),3),)","v":0},{"$f":"IFERROR(INDEX(Base!$A$2:$H$284,MATCH(HOJA_CAPTURA!AB348,Base!$A$2:$A$284,0),4),)","v":0},{"$f":"IFERROR(INDEX(Base!$A$2:$H$284,MATCH(HOJA_CAPTURA!AB348,Base!$A$2:$A$284,0),5),)","v":0},{"$f":"IFERROR(INDEX(Base!$A$2:$H$284,MATCH(HOJA_CAPTURA!AB348,Base!$A$2:$A$284,0),6),)","v":0},{"$f":"IFERROR(INDEX(Base!$A$2:$H$284,MATCH(HOJA_CAPTURA!AB348,Base!$A$2:$A$284,0),7),)","v":0},{"$f":"IFERROR(INDEX(Base!$A$2:$H$284,MATCH(HOJA_CAPTURA!AB348,Base!$A$2:$A$284,0),8),)","v":0}]
["Instituto Nacional de Pediatría","Fondo: INP",null,null,null,null,null,null,null,null,null,null,null,null,null,null,null,null,null,null,null,null,null,null,null," ",""," ",""," ","",{"$f":"IFERROR(INDEX(Base!$A$2:$H$284,MATCH(HOJA_CAPTURA!AB349,Base!$A$2:$A$284,0),3),)","v":0},{"$f":"IFERROR(INDEX(Base!$A$2:$H$284,MATCH(HOJA_CAPTURA!AB349,Base!$A$2:$A$284,0),4),)","v":0},{"$f":"IFERROR(INDEX(Base!$A$2:$H$284,MATCH(HOJA_CAPTURA!AB349,Base!$A$2:$A$284,0),5),)","v":0},{"$f":"IFERROR(INDEX(Base!$A$2:$H$284,MATCH(HOJA_CAPTURA!AB349,Base!$A$2:$A$284,0),6),)","v":0},{"$f":"IFERROR(INDEX(Base!$A$2:$H$284,MATCH(HOJA_CAPTURA!AB349,Base!$A$2:$A$284,0),7),)","v":0},{"$f":"IFERROR(INDEX(Base!$A$2:$H$284,MATCH(HOJA_CAPTURA!AB349,Base!$A$2:$A$284,0),8),)","v":0}]
["Instituto Nacional de Pediatría","Fondo: INP",null,null,null,null,null,null,null,null,null,null,null,null,null,null,null,null,null,null,null,null,null,null,null," ",""," ",""," ","",{"$f":"IFERROR(INDEX(Base!$A$2:$H$284,MATCH(HOJA_CAPTURA!AB350,Base!$A$2:$A$284,0),3),)","v":0},{"$f":"IFERROR(INDEX(Base!$A$2:$H$284,MATCH(HOJA_CAPTURA!AB350,Base!$A$2:$A$284,0),4),)","v":0},{"$f":"IFERROR(INDEX(Base!$A$2:$H$284,MATCH(HOJA_CAPTURA!AB350,Base!$A$2:$A$284,0),5),)","v":0},{"$f":"IFERROR(INDEX(Base!$A$2:$H$284,MATCH(HOJA_CAPTURA!AB350,Base!$A$2:$A$284,0),6),)","v":0},{"$f":"IFERROR(INDEX(Base!$A$2:$H$284,MATCH(HOJA_CAPTURA!AB350,Base!$A$2:$A$284,0),7),)","v":0},{"$f":"IFERROR(INDEX(Base!$A$2:$H$284,MATCH(HOJA_CAPTURA!AB350,Base!$A$2:$A$284,0),8),)","v":0}]
["Instituto Nacional de Pediatría","Fondo: INP",null,null,null,null,null,null,null,null,null,null,null,null,null,null,null,null,null,null,null,null,null,null,null," ",""," ",""," ","",{"$f":"IFERROR(INDEX(Base!$A$2:$H$284,MATCH(HOJA_CAPTURA!AB351,Base!$A$2:$A$284,0),3),)","v":0},{"$f":"IFERROR(INDEX(Base!$A$2:$H$284,MATCH(HOJA_CAPTURA!AB351,Base!$A$2:$A$284,0),4),)","v":0},{"$f":"IFERROR(INDEX(Base!$A$2:$H$284,MATCH(HOJA_CAPTURA!AB351,Base!$A$2:$A$284,0),5),)","v":0},{"$f":"IFERROR(INDEX(Base!$A$2:$H$284,MATCH(HOJA_CAPTURA!AB351,Base!$A$2:$A$284,0),6),)","v":0},{"$f":"IFERROR(INDEX(Base!$A$2:$H$284,MATCH(HOJA_CAPTURA!AB351,Base!$A$2:$A$284,0),7),)","v":0},{"$f":"IFERROR(INDEX(Base!$A$2:$H$284,MATCH(HOJA_CAPTURA!AB351,Base!$A$2:$A$284,0),8),)","v":0}]
["Instituto Nacional de Pediatría","Fondo: INP",null,null,null,null,null,null,null,null,null,null,null,null,null,null,null,null,null,null,null,null,null,null,null," ",""," ",""," ","",{"$f":"IFERROR(INDEX(Base!$A$2:$H$284,MATCH(HOJA_CAPTURA!AB352,Base!$A$2:$A$284,0),3),)","v":0},{"$f":"IFERROR(INDEX(Base!$A$2:$H$284,MATCH(HOJA_CAPTURA!AB352,Base!$A$2:$A$284,0),4),)","v":0},{"$f":"IFERROR(INDEX(Base!$A$2:$H$284,MATCH(HOJA_CAPTURA!AB352,Base!$A$2:$A$284,0),5),)","v":0},{"$f":"IFERROR(INDEX(Base!$A$2:$H$284,MATCH(HOJA_CAPTURA!AB352,Base!$A$2:$A$284,0),6),)","v":0},{"$f":"IFERROR(INDEX(Base!$A$2:$H$284,MATCH(HOJA_CAPTURA!AB352,Base!$A$2:$A$284,0),7),)","v":0},{"$f":"IFERROR(INDEX(Base!$A$2:$H$284,MATCH(HOJA_CAPTURA!AB352,Base!$A$2:$A$284,0),8),)","v":0}]
["Instituto Nacional de Pediatría","Fondo: INP",null,null,null,null,null,null,null,null,null,null,null,null,null,null,null,null,null,null,null,null,null,null,null," ",""," ",""," ","",{"$f":"IFERROR(INDEX(Base!$A$2:$H$284,MATCH(HOJA_CAPTURA!AB353,Base!$A$2:$A$284,0),3),)","v":0},{"$f":"IFERROR(INDEX(Base!$A$2:$H$284,MATCH(HOJA_CAPTURA!AB353,Base!$A$2:$A$284,0),4),)","v":0},{"$f":"IFERROR(INDEX(Base!$A$2:$H$284,MATCH(HOJA_CAPTURA!AB353,Base!$A$2:$A$284,0),5),)","v":0},{"$f":"IFERROR(INDEX(Base!$A$2:$H$284,MATCH(HOJA_CAPTURA!AB353,Base!$A$2:$A$284,0),6),)","v":0},{"$f":"IFERROR(INDEX(Base!$A$2:$H$284,MATCH(HOJA_CAPTURA!AB353,Base!$A$2:$A$284,0),7),)","v":0},{"$f":"IFERROR(INDEX(Base!$A$2:$H$284,MATCH(HOJA_CAPTURA!AB353,Base!$A$2:$A$284,0),8),)","v":0}]
["Instituto Nacional de Pediatría","Fondo: INP",null,null,null,null,null,null,null,null,null,null,null,null,null,null,null,null,null,null,null,null,null,null,null," ",""," ",""," ","",{"$f":"IFERROR(INDEX(Base!$A$2:$H$284,MATCH(HOJA_CAPTURA!AB354,Base!$A$2:$A$284,0),3),)","v":0},{"$f":"IFERROR(INDEX(Base!$A$2:$H$284,MATCH(HOJA_CAPTURA!AB354,Base!$A$2:$A$284,0),4),)","v":0},{"$f":"IFERROR(INDEX(Base!$A$2:$H$284,MATCH(HOJA_CAPTURA!AB354,Base!$A$2:$A$284,0),5),)","v":0},{"$f":"IFERROR(INDEX(Base!$A$2:$H$284,MATCH(HOJA_CAPTURA!AB354,Base!$A$2:$A$284,0),6),)","v":0},{"$f":"IFERROR(INDEX(Base!$A$2:$H$284,MATCH(HOJA_CAPTURA!AB354,Base!$A$2:$A$284,0),7),)","v":0},{"$f":"IFERROR(INDEX(Base!$A$2:$H$284,MATCH(HOJA_CAPTURA!AB354,Base!$A$2:$A$284,0),8),)","v":0}]
["Instituto Nacional de Pediatría","Fondo: INP",null,null,null,null,null,null,null,null,null,null,null,null,null,null,null,null,null,null,null,null,null,null,null,{"$f":"IF(G355>0, MID(G355,1,FIND(\" \",G355,1)-1), \" \")","v":" "},"",{"$f":"IF(H355>0, MID(H355,1,FIND(\" \",H355,1)-1), \" \")","v":" "},"",{"$f":"IF(I355>0,MID(I355,1,FIND(\" \",H355,1)+1),\" \")","v":" "},"",{"$f":"IFERROR(INDEX(Base!$A$2:$H$284,MATCH(HOJA_CAPTURA!AB355,Base!$A$2:$A$284,0),3),)","v":0},{"$f":"IFERROR(INDEX(Base!$A$2:$H$284,MATCH(HOJA_CAPTURA!AB355,Base!$A$2:$A$284,0),4),)","v":0},{"$f":"IFERROR(INDEX(Base!$A$2:$H$284,MATCH(HOJA_CAPTURA!AB355,Base!$A$2:$A$284,0),5),)","v":0},{"$f":"IFERROR(INDEX(Base!$A$2:$H$284,MATCH(HOJA_CAPTURA!AB355,Base!$A$2:$A$284,0),6),)","v":0},{"$f":"IFERROR(INDEX(Base!$A$2:$H$284,MATCH(HOJA_CAPTURA!AB355,Base!$A$2:$A$284,0),7),)","v":0},{"$f":"IFERROR(INDEX(Base!$A$2:$H$284,MATCH(HOJA_CAPTURA!AB355,Base!$A$2:$A$284,0),8),)","v":0}]
["Instituto Nacional de Pediatría","Fondo: INP",null,null,null,null,null,null,null,null,null,null,null,null,null,null,null,null,null,null,null,null,null,null,null,{"$f":"IF(G356>0, MID(G356,1,FIND(\" \",G356,1)-1), \" \")","v":" "},"",{"$f":"IF(H356>0, MID(H356,1,FIND(\" \",H356,1)-1), \" \")","v":" "},"",{"$f":"IF(I356>0,MID(I356,1,FIND(\" \",H356,1)+1),\" \")","v":" "},"",{"$f":"IFERROR(INDEX(Base!$A$2:$H$284,MATCH(HOJA_CAPTURA!AB356,Base!$A$2:$A$284,0),3),)","v":0},{"$f":"IFERROR(INDEX(Base!$A$2:$H$284,MATCH(HOJA_CAPTURA!AB356,Base!$A$2:$A$284,0),4),)","v":0},{"$f":"IFERROR(INDEX(Base!$A$2:$H$284,MATCH(HOJA_CAPTURA!AB356,Base!$A$2:$A$284,0),5),)","v":0},{"$f":"IFERROR(INDEX(Base!$A$2:$H$284,MATCH(HOJA_CAPTURA!AB356,Base!$A$2:$A$284,0),6),)","v":0},{"$f":"IFERROR(INDEX(Base!$A$2:$H$284,MATCH(HOJA_CAPTURA!AB356,Base!$A$2:$A$284,0),7),)","v":0},{"$f":"IFERROR(INDEX(Base!$A$2:$H$284,MATCH(HOJA_CAPTURA!AB356,Base!$A$2:$A$284,0),8),)","v":0}]
["Instituto Nacional de Pediatría","Fondo: INP",null,null,null,null,null,null,null,null,null,null,null,null,null,null,null,null,null,null,null,null,null,null,null," ",""," ",""," ","",{"$f":"IFERROR(INDEX(Base!$A$2:$H$284,MATCH(HOJA_CAPTURA!AB357,Base!$A$2:$A$284,0),3),)","v":0},{"$f":"IFERROR(INDEX(Base!$A$2:$H$284,MATCH(HOJA_CAPTURA!AB357,Base!$A$2:$A$284,0),4),)","v":0},{"$f":"IFERROR(INDEX(Base!$A$2:$H$284,MATCH(HOJA_CAPTURA!AB357,Base!$A$2:$A$284,0),5),)","v":0},{"$f":"IFERROR(INDEX(Base!$A$2:$H$284,MATCH(HOJA_CAPTURA!AB357,Base!$A$2:$A$284,0),6),)","v":0},{"$f":"IFERROR(INDEX(Base!$A$2:$H$284,MATCH(HOJA_CAPTURA!AB357,Base!$A$2:$A$284,0),7),)","v":0},{"$f":"IFERROR(INDEX(Base!$A$2:$H$284,MATCH(HOJA_CAPTURA!AB357,Base!$A$2:$A$284,0),8),)","v":0}]
["Instituto Nacional de Pediatría","Fondo: INP",null,null,null,null,null,null,null,null,null,null,null,null,null,null,null,null,null,null,null,null,null,null,null," ",""," ",""," ","",{"$f":"IFERROR(INDEX(Base!$A$2:$H$284,MATCH(HOJA_CAPTURA!AB358,Base!$A$2:$A$284,0),3),)","v":0},{"$f":"IFERROR(INDEX(Base!$A$2:$H$284,MATCH(HOJA_CAPTURA!AB358,Base!$A$2:$A$284,0),4),)","v":0},{"$f":"IFERROR(INDEX(Base!$A$2:$H$284,MATCH(HOJA_CAPTURA!AB358,Base!$A$2:$A$284,0),5),)","v":0},{"$f":"IFERROR(INDEX(Base!$A$2:$H$284,MATCH(HOJA_CAPTURA!AB358,Base!$A$2:$A$284,0),6),)","v":0},{"$f":"IFERROR(INDEX(Base!$A$2:$H$284,MATCH(HOJA_CAPTURA!AB358,Base!$A$2:$A$284,0),7),)","v":0},{"$f":"IFERROR(INDEX(Base!$A$2:$H$284,MATCH(HOJA_CAPTURA!AB358,Base!$A$2:$A$284,0),8),)","v":0}]
["Instituto Nacional de Pediatría","Fondo: INP",null,null,null,null,null,null,null,null,null,null,null,null,null,null,null,null,null,null,null,null,null,null,null," ",""," ",""," ","",{"$f":"IFERROR(INDEX(Base!$A$2:$H$284,MATCH(HOJA_CAPTURA!AB359,Base!$A$2:$A$284,0),3),)","v":0},{"$f":"IFERROR(INDEX(Base!$A$2:$H$284,MATCH(HOJA_CAPTURA!AB359,Base!$A$2:$A$284,0),4),)","v":0},{"$f":"IFERROR(INDEX(Base!$A$2:$H$284,MATCH(HOJA_CAPTURA!AB359,Base!$A$2:$A$284,0),5),)","v":0},{"$f":"IFERROR(INDEX(Base!$A$2:$H$284,MATCH(HOJA_CAPTURA!AB359,Base!$A$2:$A$284,0),6),)","v":0},{"$f":"IFERROR(INDEX(Base!$A$2:$H$284,MATCH(HOJA_CAPTURA!AB359,Base!$A$2:$A$284,0),7),)","v":0},{"$f":"IFERROR(INDEX(Base!$A$2:$H$284,MATCH(HOJA_CAPTURA!AB359,Base!$A$2:$A$284,0),8),)","v":0}]
["Instituto Nacional de Pediatría","Fondo: INP",null,null,null,null,null,null,null,null,null,null,null,null,null,null,null,null,null,null,null,null,null,null,null," ",""," ",""," ","",{"$f":"IFERROR(INDEX(Base!$A$2:$H$284,MATCH(HOJA_CAPTURA!AB360,Base!$A$2:$A$284,0),3),)","v":0},{"$f":"IFERROR(INDEX(Base!$A$2:$H$284,MATCH(HOJA_CAPTURA!AB360,Base!$A$2:$A$284,0),4),)","v":0},{"$f":"IFERROR(INDEX(Base!$A$2:$H$284,MATCH(HOJA_CAPTURA!AB360,Base!$A$2:$A$284,0),5),)","v":0},{"$f":"IFERROR(INDEX(Base!$A$2:$H$284,MATCH(HOJA_CAPTURA!AB360,Base!$A$2:$A$284,0),6),)","v":0},{"$f":"IFERROR(INDEX(Base!$A$2:$H$284,MATCH(HOJA_CAPTURA!AB360,Base!$A$2:$A$284,0),7),)","v":0},{"$f":"IFERROR(INDEX(Base!$A$2:$H$284,MATCH(HOJA_CAPTURA!AB360,Base!$A$2:$A$284,0),8),)","v":0}]
["Instituto Nacional de Pediatría","Fondo: INP",null,null,null,null,null,null,null,null,null,null,null,null,null,null,null,null,null,null,null,null,null,null,null," ",""," ",""," ","",{"$f":"IFERROR(INDEX(Base!$A$2:$H$284,MATCH(HOJA_CAPTURA!AB361,Base!$A$2:$A$284,0),3),)","v":0},{"$f":"IFERROR(INDEX(Base!$A$2:$H$284,MATCH(HOJA_CAPTURA!AB361,Base!$A$2:$A$284,0),4),)","v":0},{"$f":"IFERROR(INDEX(Base!$A$2:$H$284,MATCH(HOJA_CAPTURA!AB361,Base!$A$2:$A$284,0),5),)","v":0},{"$f":"IFERROR(INDEX(Base!$A$2:$H$284,MATCH(HOJA_CAPTURA!AB361,Base!$A$2:$A$284,0),6),)","v":0},{"$f":"IFERROR(INDEX(Base!$A$2:$H$284,MATCH(HOJA_CAPTURA!AB361,Base!$A$2:$A$284,0),7),)","v":0},{"$f":"IFERROR(INDEX(Base!$A$2:$H$284,MATCH(HOJA_CAPTURA!AB361,Base!$A$2:$A$284,0),8),)","v":0}]
["Instituto Nacional de Pediatría","Fondo: INP",null,null,null,null,null,null,null,null,null,null,null,null,null,null,null,null,null,null,null,null,null,null,null," ",""," ",""," ","",{"$f":"IFERROR(INDEX(Base!$A$2:$H$284,MATCH(HOJA_CAPTURA!AB362,Base!$A$2:$A$284,0),3),)","v":0},{"$f":"IFERROR(INDEX(Base!$A$2:$H$284,MATCH(HOJA_CAPTURA!AB362,Base!$A$2:$A$284,0),4),)","v":0},{"$f":"IFERROR(INDEX(Base!$A$2:$H$284,MATCH(HOJA_CAPTURA!AB362,Base!$A$2:$A$284,0),5),)","v":0},{"$f":"IFERROR(INDEX(Base!$A$2:$H$284,MATCH(HOJA_CAPTURA!AB362,Base!$A$2:$A$284,0),6),)","v":0},{"$f":"IFERROR(INDEX(Base!$A$2:$H$284,MATCH(HOJA_CAPTURA!AB362,Base!$A$2:$A$284,0),7),)","v":0},{"$f":"IFERROR(INDEX(Base!$A$2:$H$284,MATCH(HOJA_CAPTURA!AB362,Base!$A$2:$A$284,0),8),)","v":0}]
["Instituto Nacional de Pediatría","Fondo: INP",null,null,null,null,null,null,null,null,null,null,null,null,null,null,null,null,null,null,null,null,null,null,null," ",""," ",""," ","",{"$f":"IFERROR(INDEX(Base!$A$2:$H$284,MATCH(HOJA_CAPTURA!AB363,Base!$A$2:$A$284,0),3),)","v":0},{"$f":"IFERROR(INDEX(Base!$A$2:$H$284,MATCH(HOJA_CAPTURA!AB363,Base!$A$2:$A$284,0),4),)","v":0},{"$f":"IFERROR(INDEX(Base!$A$2:$H$284,MATCH(HOJA_CAPTURA!AB363,Base!$A$2:$A$284,0),5),)","v":0},{"$f":"IFERROR(INDEX(Base!$A$2:$H$284,MATCH(HOJA_CAPTURA!AB363,Base!$A$2:$A$284,0),6),)","v":0},{"$f":"IFERROR(INDEX(Base!$A$2:$H$284,MATCH(HOJA_CAPTURA!AB363,Base!$A$2:$A$284,0),7),)","v":0},{"$f":"IFERROR(INDEX(Base!$A$2:$H$284,MATCH(HOJA_CAPTURA!AB363,Base!$A$2:$A$284,0),8),)","v":0}]
["Instituto Nacional de Pediatría","Fondo: INP",null,null,null,null,null,null,null,null,null,null,null,null,null,null,null,null,null,null,null,null,null,null,null," ",""," ",""," ","",{"$f":"IFERROR(INDEX(Base!$A$2:$H$284,MATCH(HOJA_CAPTURA!AB364,Base!$A$2:$A$284,0),3),)","v":0},{"$f":"IFERROR(INDEX(Base!$A$2:$H$284,MATCH(HOJA_CAPTURA!AB364,Base!$A$2:$A$284,0),4),)","v":0},{"$f":"IFERROR(INDEX(Base!$A$2:$H$284,MATCH(HOJA_CAPTURA!AB364,Base!$A$2:$A$284,0),5),)","v":0},{"$f":"IFERROR(INDEX(Base!$A$2:$H$284,MATCH(HOJA_CAPTURA!AB364,Base!$A$2:$A$284,0),6),)","v":0},{"$f":"IFERROR(INDEX(Base!$A$2:$H$284,MATCH(HOJA_CAPTURA!AB364,Base!$A$2:$A$284,0),7),)","v":0},{"$f":"IFERROR(INDEX(Base!$A$2:$H$284,MATCH(HOJA_CAPTURA!AB364,Base!$A$2:$A$284,0),8),)","v":0}]
["Instituto Nacional de Pediatría","Fondo: INP",null,null,null,null,null,null,null,null,null,null,null,null,null,null,null,null,null,null,null,null,null,null,null," ",""," ",""," ","",{"$f":"IFERROR(INDEX(Base!$A$2:$H$284,MATCH(HOJA_CAPTURA!AB365,Base!$A$2:$A$284,0),3),)","v":0},{"$f":"IFERROR(INDEX(Base!$A$2:$H$284,MATCH(HOJA_CAPTURA!AB365,Base!$A$2:$A$284,0),4),)","v":0},{"$f":"IFERROR(INDEX(Base!$A$2:$H$284,MATCH(HOJA_CAPTURA!AB365,Base!$A$2:$A$284,0),5),)","v":0},{"$f":"IFERROR(INDEX(Base!$A$2:$H$284,MATCH(HOJA_CAPTURA!AB365,Base!$A$2:$A$284,0),6),)","v":0},{"$f":"IFERROR(INDEX(Base!$A$2:$H$284,MATCH(HOJA_CAPTURA!AB365,Base!$A$2:$A$284,0),7),)","v":0},{"$f":"IFERROR(INDEX(Base!$A$2:$H$284,MATCH(HOJA_CAPTURA!AB365,Base!$A$2:$A$284,0),8),)","v":0}]
["Instituto Nacional de Pediatría","Fondo: INP",null,null,null,null,null,null,null,null,null,null,null,null,null,null,null,null,null,null,null,null,null,null,null," ",""," ",""," ","",{"$f":"IFERROR(INDEX(Base!$A$2:$H$284,MATCH(HOJA_CAPTURA!AB366,Base!$A$2:$A$284,0),3),)","v":0},{"$f":"IFERROR(INDEX(Base!$A$2:$H$284,MATCH(HOJA_CAPTURA!AB366,Base!$A$2:$A$284,0),4),)","v":0},{"$f":"IFERROR(INDEX(Base!$A$2:$H$284,MATCH(HOJA_CAPTURA!AB366,Base!$A$2:$A$284,0),5),)","v":0},{"$f":"IFERROR(INDEX(Base!$A$2:$H$284,MATCH(HOJA_CAPTURA!AB366,Base!$A$2:$A$284,0),6),)","v":0},{"$f":"IFERROR(INDEX(Base!$A$2:$H$284,MATCH(HOJA_CAPTURA!AB366,Base!$A$2:$A$284,0),7),)","v":0},{"$f":"IFERROR(INDEX(Base!$A$2:$H$284,MATCH(HOJA_CAPTURA!AB366,Base!$A$2:$A$284,0),8),)","v":0}]
["Instituto Nacional de Pediatría","Fondo: INP",null,null,null,null,null,null,null,null,null,null,null,null,null,null,null,null,null,null,null,null,null,null,null," ",""," ",""," ","",{"$f":"IFERROR(INDEX(Base!$A$2:$H$284,MATCH(HOJA_CAPTURA!AB367,Base!$A$2:$A$284,0),3),)","v":0},{"$f":"IFERROR(INDEX(Base!$A$2:$H$284,MATCH(HOJA_CAPTURA!AB367,Base!$A$2:$A$284,0),4),)","v":0},{"$f":"IFERROR(INDEX(Base!$A$2:$H$284,MATCH(HOJA_CAPTURA!AB367,Base!$A$2:$A$284,0),5),)","v":0},{"$f":"IFERROR(INDEX(Base!$A$2:$H$284,MATCH(HOJA_CAPTURA!AB367,Base!$A$2:$A$284,0),6),)","v":0},{"$f":"IFERROR(INDEX(Base!$A$2:$H$284,MATCH(HOJA_CAPTURA!AB367,Base!$A$2:$A$284,0),7),)","v":0},{"$f":"IFERROR(INDEX(Base!$A$2:$H$284,MATCH(HOJA_CAPTURA!AB367,Base!$A$2:$A$284,0),8),)","v":0}]
["Instituto Nacional de Pediatría","Fondo: INP",null,null,null,null,null,null,null,null,null,null,null,null,null,null,null,null,null,null,null,null,null,null,null," ",""," ",""," ","",{"$f":"IFERROR(INDEX(Base!$A$2:$H$284,MATCH(HOJA_CAPTURA!AB368,Base!$A$2:$A$284,0),3),)","v":0},{"$f":"IFERROR(INDEX(Base!$A$2:$H$284,MATCH(HOJA_CAPTURA!AB368,Base!$A$2:$A$284,0),4),)","v":0},{"$f":"IFERROR(INDEX(Base!$A$2:$H$284,MATCH(HOJA_CAPTURA!AB368,Base!$A$2:$A$284,0),5),)","v":0},{"$f":"IFERROR(INDEX(Base!$A$2:$H$284,MATCH(HOJA_CAPTURA!AB368,Base!$A$2:$A$284,0),6),)","v":0},{"$f":"IFERROR(INDEX(Base!$A$2:$H$284,MATCH(HOJA_CAPTURA!AB368,Base!$A$2:$A$284,0),7),)","v":0},{"$f":"IFERROR(INDEX(Base!$A$2:$H$284,MATCH(HOJA_CAPTURA!AB368,Base!$A$2:$A$284,0),8),)","v":0}]
["Instituto Nacional de Pediatría","Fondo: INP",null,null,null,null,null,null,null,null,null,null,null,null,null,null,null,null,null,null,null,null,null,null,null," ",""," ",""," ","",{"$f":"IFERROR(INDEX(Base!$A$2:$H$284,MATCH(HOJA_CAPTURA!AB369,Base!$A$2:$A$284,0),3),)","v":0},{"$f":"IFERROR(INDEX(Base!$A$2:$H$284,MATCH(HOJA_CAPTURA!AB369,Base!$A$2:$A$284,0),4),)","v":0},{"$f":"IFERROR(INDEX(Base!$A$2:$H$284,MATCH(HOJA_CAPTURA!AB369,Base!$A$2:$A$284,0),5),)","v":0},{"$f":"IFERROR(INDEX(Base!$A$2:$H$284,MATCH(HOJA_CAPTURA!AB369,Base!$A$2:$A$284,0),6),)","v":0},{"$f":"IFERROR(INDEX(Base!$A$2:$H$284,MATCH(HOJA_CAPTURA!AB369,Base!$A$2:$A$284,0),7),)","v":0},{"$f":"IFERROR(INDEX(Base!$A$2:$H$284,MATCH(HOJA_CAPTURA!AB369,Base!$A$2:$A$284,0),8),)","v":0}]
["Instituto Nacional de Pediatría","Fondo: INP",null,null,null,null,null,null,null,null,null,null,null,null,null,null,null,null,null,null,null,null,null,null,null," ",""," ",""," ","",{"$f":"IFERROR(INDEX(Base!$A$2:$H$284,MATCH(HOJA_CAPTURA!AB370,Base!$A$2:$A$284,0),3),)","v":0},{"$f":"IFERROR(INDEX(Base!$A$2:$H$284,MATCH(HOJA_CAPTURA!AB370,Base!$A$2:$A$284,0),4),)","v":0},{"$f":"IFERROR(INDEX(Base!$A$2:$H$284,MATCH(HOJA_CAPTURA!AB370,Base!$A$2:$A$284,0),5),)","v":0},{"$f":"IFERROR(INDEX(Base!$A$2:$H$284,MATCH(HOJA_CAPTURA!AB370,Base!$A$2:$A$284,0),6),)","v":0},{"$f":"IFERROR(INDEX(Base!$A$2:$H$284,MATCH(HOJA_CAPTURA!AB370,Base!$A$2:$A$284,0),7),)","v":0},{"$f":"IFERROR(INDEX(Base!$A$2:$H$284,MATCH(HOJA_CAPTURA!AB370,Base!$A$2:$A$284,0),8),)","v":0}]
["Instituto Nacional de Pediatría","Fondo: INP",null,null,null,null,null,null,null,null,null,null,null,null,null,null,null,null,null,null,null,null,null,null,null," ",""," ",""," ","",{"$f":"IFERROR(INDEX(Base!$A$2:$H$284,MATCH(HOJA_CAPTURA!AB371,Base!$A$2:$A$284,0),3),)","v":0},{"$f":"IFERROR(INDEX(Base!$A$2:$H$284,MATCH(HOJA_CAPTURA!AB371,Base!$A$2:$A$284,0),4),)","v":0},{"$f":"IFERROR(INDEX(Base!$A$2:$H$284,MATCH(HOJA_CAPTURA!AB371,Base!$A$2:$A$284,0),5),)","v":0},{"$f":"IFERROR(INDEX(Base!$A$2:$H$284,MATCH(HOJA_CAPTURA!AB371,Base!$A$2:$A$284,0),6),)","v":0},{"$f":"IFERROR(INDEX(Base!$A$2:$H$284,MATCH(HOJA_CAPTURA!AB371,Base!$A$2:$A$284,0),7),)","v":0},{"$f":"IFERROR(INDEX(Base!$A$2:$H$284,MATCH(HOJA_CAPTURA!AB371,Base!$A$2:$A$284,0),8),)","v":0}]
["Instituto Nacional de Pediatría","Fondo: INP",null,null,null,null,null,null,null,null,null,null,null,null,null,null,null,null,null,null,null,null,null,null,null," ",""," ",""," ","",{"$f":"IFERROR(INDEX(Base!$A$2:$H$284,MATCH(HOJA_CAPTURA!AB372,Base!$A$2:$A$284,0),3),)","v":0},{"$f":"IFERROR(INDEX(Base!$A$2:$H$284,MATCH(HOJA_CAPTURA!AB372,Base!$A$2:$A$284,0),4),)","v":0},{"$f":"IFERROR(INDEX(Base!$A$2:$H$284,MATCH(HOJA_CAPTURA!AB372,Base!$A$2:$A$284,0),5),)","v":0},{"$f":"IFERROR(INDEX(Base!$A$2:$H$284,MATCH(HOJA_CAPTURA!AB372,Base!$A$2:$A$284,0),6),)","v":0},{"$f":"IFERROR(INDEX(Base!$A$2:$H$284,MATCH(HOJA_CAPTURA!AB372,Base!$A$2:$A$284,0),7),)","v":0},{"$f":"IFERROR(INDEX(Base!$A$2:$H$284,MATCH(HOJA_CAPTURA!AB372,Base!$A$2:$A$284,0),8),)","v":0}]
["Instituto Nacional de Pediatría","Fondo: INP",null,null,null,null,null,null,null,null,null,null,null,null,null,null,null,null,null,null,null,null,null,null,null," ",""," ",""," ","",{"$f":"IFERROR(INDEX(Base!$A$2:$H$284,MATCH(HOJA_CAPTURA!AB373,Base!$A$2:$A$284,0),3),)","v":0},{"$f":"IFERROR(INDEX(Base!$A$2:$H$284,MATCH(HOJA_CAPTURA!AB373,Base!$A$2:$A$284,0),4),)","v":0},{"$f":"IFERROR(INDEX(Base!$A$2:$H$284,MATCH(HOJA_CAPTURA!AB373,Base!$A$2:$A$284,0),5),)","v":0},{"$f":"IFERROR(INDEX(Base!$A$2:$H$284,MATCH(HOJA_CAPTURA!AB373,Base!$A$2:$A$284,0),6),)","v":0},{"$f":"IFERROR(INDEX(Base!$A$2:$H$284,MATCH(HOJA_CAPTURA!AB373,Base!$A$2:$A$284,0),7),)","v":0},{"$f":"IFERROR(INDEX(Base!$A$2:$H$284,MATCH(HOJA_CAPTURA!AB373,Base!$A$2:$A$284,0),8),)","v":0}]
["Instituto Nacional de Pediatría","Fondo: INP",null,null,null,null,null,null,null,null,null,null,null,null,null,null,null,null,null,null,null,null,null,null,null," ",""," ",""," ","",{"$f":"IFERROR(INDEX(Base!$A$2:$H$284,MATCH(HOJA_CAPTURA!AB374,Base!$A$2:$A$284,0),3),)","v":0},{"$f":"IFERROR(INDEX(Base!$A$2:$H$284,MATCH(HOJA_CAPTURA!AB374,Base!$A$2:$A$284,0),4),)","v":0},{"$f":"IFERROR(INDEX(Base!$A$2:$H$284,MATCH(HOJA_CAPTURA!AB374,Base!$A$2:$A$284,0),5),)","v":0},{"$f":"IFERROR(INDEX(Base!$A$2:$H$284,MATCH(HOJA_CAPTURA!AB374,Base!$A$2:$A$284,0),6),)","v":0},{"$f":"IFERROR(INDEX(Base!$A$2:$H$284,MATCH(HOJA_CAPTURA!AB374,Base!$A$2:$A$284,0),7),)","v":0},{"$f":"IFERROR(INDEX(Base!$A$2:$H$284,MATCH(HOJA_CAPTURA!AB374,Base!$A$2:$A$284,0),8),)","v":0}]
["Instituto Nacional de Pediatría","Fondo: INP",null,null,null,null,null,null,null,null,null,null,null,null,null,null,null,null,null,null,null,null,null,null,null," ",""," ",""," ","",{"$f":"IFERROR(INDEX(Base!$A$2:$H$284,MATCH(HOJA_CAPTURA!AB375,Base!$A$2:$A$284,0),3),)","v":0},{"$f":"IFERROR(INDEX(Base!$A$2:$H$284,MATCH(HOJA_CAPTURA!AB375,Base!$A$2:$A$284,0),4),)","v":0},{"$f":"IFERROR(INDEX(Base!$A$2:$H$284,MATCH(HOJA_CAPTURA!AB375,Base!$A$2:$A$284,0),5),)","v":0},{"$f":"IFERROR(INDEX(Base!$A$2:$H$284,MATCH(HOJA_CAPTURA!AB375,Base!$A$2:$A$284,0),6),)","v":0},{"$f":"IFERROR(INDEX(Base!$A$2:$H$284,MATCH(HOJA_CAPTURA!AB375,Base!$A$2:$A$284,0),7),)","v":0},{"$f":"IFERROR(INDEX(Base!$A$2:$H$284,MATCH(HOJA_CAPTURA!AB375,Base!$A$2:$A$284,0),8),)","v":0}]
["Instituto Nacional de Pediatría","Fondo: INP",null,null,null,null,null,null,null,null,null,null,null,null,null,null,null,null,null,null,null,null,null,null,null," ",""," ",""," ","",{"$f":"IFERROR(INDEX(Base!$A$2:$H$284,MATCH(HOJA_CAPTURA!AB376,Base!$A$2:$A$284,0),3),)","v":0},{"$f":"IFERROR(INDEX(Base!$A$2:$H$284,MATCH(HOJA_CAPTURA!AB376,Base!$A$2:$A$284,0),4),)","v":0},{"$f":"IFERROR(INDEX(Base!$A$2:$H$284,MATCH(HOJA_CAPTURA!AB376,Base!$A$2:$A$284,0),5),)","v":0},{"$f":"IFERROR(INDEX(Base!$A$2:$H$284,MATCH(HOJA_CAPTURA!AB376,Base!$A$2:$A$284,0),6),)","v":0},{"$f":"IFERROR(INDEX(Base!$A$2:$H$284,MATCH(HOJA_CAPTURA!AB376,Base!$A$2:$A$284,0),7),)","v":0},{"$f":"IFERROR(INDEX(Base!$A$2:$H$284,MATCH(HOJA_CAPTURA!AB376,Base!$A$2:$A$284,0),8),)","v":0}]
["Instituto Nacional de Pediatría","Fondo: INP",null,null,null,null,null,null,null,null,null,null,null,null,null,null,null,null,null,null,null,null,null,null,null," ",""," ",""," ","",{"$f":"IFERROR(INDEX(Base!$A$2:$H$284,MATCH(HOJA_CAPTURA!AB377,Base!$A$2:$A$284,0),3),)","v":0},{"$f":"IFERROR(INDEX(Base!$A$2:$H$284,MATCH(HOJA_CAPTURA!AB377,Base!$A$2:$A$284,0),4),)","v":0},{"$f":"IFERROR(INDEX(Base!$A$2:$H$284,MATCH(HOJA_CAPTURA!AB377,Base!$A$2:$A$284,0),5),)","v":0},{"$f":"IFERROR(INDEX(Base!$A$2:$H$284,MATCH(HOJA_CAPTURA!AB377,Base!$A$2:$A$284,0),6),)","v":0},{"$f":"IFERROR(INDEX(Base!$A$2:$H$284,MATCH(HOJA_CAPTURA!AB377,Base!$A$2:$A$284,0),7),)","v":0},{"$f":"IFERROR(INDEX(Base!$A$2:$H$284,MATCH(HOJA_CAPTURA!AB377,Base!$A$2:$A$284,0),8),)","v":0}]
["Instituto Nacional de Pediatría","Fondo: INP",null,null,null,null,null,null,null,null,null,null,null,null,null,null,null,null,null,null,null,null,null,null,null," ",""," ",""," ","",{"$f":"IFERROR(INDEX(Base!$A$2:$H$284,MATCH(HOJA_CAPTURA!AB378,Base!$A$2:$A$284,0),3),)","v":0},{"$f":"IFERROR(INDEX(Base!$A$2:$H$284,MATCH(HOJA_CAPTURA!AB378,Base!$A$2:$A$284,0),4),)","v":0},{"$f":"IFERROR(INDEX(Base!$A$2:$H$284,MATCH(HOJA_CAPTURA!AB378,Base!$A$2:$A$284,0),5),)","v":0},{"$f":"IFERROR(INDEX(Base!$A$2:$H$284,MATCH(HOJA_CAPTURA!AB378,Base!$A$2:$A$284,0),6),)","v":0},{"$f":"IFERROR(INDEX(Base!$A$2:$H$284,MATCH(HOJA_CAPTURA!AB378,Base!$A$2:$A$284,0),7),)","v":0},{"$f":"IFERROR(INDEX(Base!$A$2:$H$284,MATCH(HOJA_CAPTURA!AB378,Base!$A$2:$A$284,0),8),)","v":0}]
["Instituto Nacional de Pediatría","Fondo: INP",null,null,null,null,null,null,null,null,null,null,null,null,null,null,null,null,null,null,null,null,null,null,null," ",""," ",""," ","",{"$f":"IFERROR(INDEX(Base!$A$2:$H$284,MATCH(HOJA_CAPTURA!AB379,Base!$A$2:$A$284,0),3),)","v":0},{"$f":"IFERROR(INDEX(Base!$A$2:$H$284,MATCH(HOJA_CAPTURA!AB379,Base!$A$2:$A$284,0),4),)","v":0},{"$f":"IFERROR(INDEX(Base!$A$2:$H$284,MATCH(HOJA_CAPTURA!AB379,Base!$A$2:$A$284,0),5),)","v":0},{"$f":"IFERROR(INDEX(Base!$A$2:$H$284,MATCH(HOJA_CAPTURA!AB379,Base!$A$2:$A$284,0),6),)","v":0},{"$f":"IFERROR(INDEX(Base!$A$2:$H$284,MATCH(HOJA_CAPTURA!AB379,Base!$A$2:$A$284,0),7),)","v":0},{"$f":"IFERROR(INDEX(Base!$A$2:$H$284,MATCH(HOJA_CAPTURA!AB379,Base!$A$2:$A$284,0),8),)","v":0}]
["Instituto Nacional de Pediatría","Fondo: INP",null,null,null,null,null,null,null,null,null,null,null,null,null,null,null,null,null,null,null,null,null,null,null," ",""," ",""," ","",{"$f":"IFERROR(INDEX(Base!$A$2:$H$284,MATCH(HOJA_CAPTURA!AB380,Base!$A$2:$A$284,0),3),)","v":0},{"$f":"IFERROR(INDEX(Base!$A$2:$H$284,MATCH(HOJA_CAPTURA!AB380,Base!$A$2:$A$284,0),4),)","v":0},{"$f":"IFERROR(INDEX(Base!$A$2:$H$284,MATCH(HOJA_CAPTURA!AB380,Base!$A$2:$A$284,0),5),)","v":0},{"$f":"IFERROR(INDEX(Base!$A$2:$H$284,MATCH(HOJA_CAPTURA!AB380,Base!$A$2:$A$284,0),6),)","v":0},{"$f":"IFERROR(INDEX(Base!$A$2:$H$284,MATCH(HOJA_CAPTURA!AB380,Base!$A$2:$A$284,0),7),)","v":0},{"$f":"IFERROR(INDEX(Base!$A$2:$H$284,MATCH(HOJA_CAPTURA!AB380,Base!$A$2:$A$284,0),8),)","v":0}]
["Instituto Nacional de Pediatría","Fondo: INP",null,null,null,null,null,null,null,null,null,null,null,null,null,null,null,null,null,null,null,null,null,null,null," ",""," ",""," ","",{"$f":"IFERROR(INDEX(Base!$A$2:$H$284,MATCH(HOJA_CAPTURA!AB381,Base!$A$2:$A$284,0),3),)","v":0},{"$f":"IFERROR(INDEX(Base!$A$2:$H$284,MATCH(HOJA_CAPTURA!AB381,Base!$A$2:$A$284,0),4),)","v":0},{"$f":"IFERROR(INDEX(Base!$A$2:$H$284,MATCH(HOJA_CAPTURA!AB381,Base!$A$2:$A$284,0),5),)","v":0},{"$f":"IFERROR(INDEX(Base!$A$2:$H$284,MATCH(HOJA_CAPTURA!AB381,Base!$A$2:$A$284,0),6),)","v":0},{"$f":"IFERROR(INDEX(Base!$A$2:$H$284,MATCH(HOJA_CAPTURA!AB381,Base!$A$2:$A$284,0),7),)","v":0},{"$f":"IFERROR(INDEX(Base!$A$2:$H$284,MATCH(HOJA_CAPTURA!AB381,Base!$A$2:$A$284,0),8),)","v":0}]
["Instituto Nacional de Pediatría","Fondo: INP",null,null,null,null,null,null,null,null,null,null,null,null,null,null,null,null,null,null,null,null,null,null,null," ",""," ",""," ","",{"$f":"IFERROR(INDEX(Base!$A$2:$H$284,MATCH(HOJA_CAPTURA!AB382,Base!$A$2:$A$284,0),3),)","v":0},{"$f":"IFERROR(INDEX(Base!$A$2:$H$284,MATCH(HOJA_CAPTURA!AB382,Base!$A$2:$A$284,0),4),)","v":0},{"$f":"IFERROR(INDEX(Base!$A$2:$H$284,MATCH(HOJA_CAPTURA!AB382,Base!$A$2:$A$284,0),5),)","v":0},{"$f":"IFERROR(INDEX(Base!$A$2:$H$284,MATCH(HOJA_CAPTURA!AB382,Base!$A$2:$A$284,0),6),)","v":0},{"$f":"IFERROR(INDEX(Base!$A$2:$H$284,MATCH(HOJA_CAPTURA!AB382,Base!$A$2:$A$284,0),7),)","v":0},{"$f":"IFERROR(INDEX(Base!$A$2:$H$284,MATCH(HOJA_CAPTURA!AB382,Base!$A$2:$A$284,0),8),)","v":0}]
["Instituto Nacional de Pediatría","Fondo: INP",null,null,null,null,null,null,null,null,null,null,null,null,null,null,null,null,null,null,null,null,null,null,null," ",""," ",""," ","",{"$f":"IFERROR(INDEX(Base!$A$2:$H$284,MATCH(HOJA_CAPTURA!AB383,Base!$A$2:$A$284,0),3),)","v":0},{"$f":"IFERROR(INDEX(Base!$A$2:$H$284,MATCH(HOJA_CAPTURA!AB383,Base!$A$2:$A$284,0),4),)","v":0},{"$f":"IFERROR(INDEX(Base!$A$2:$H$284,MATCH(HOJA_CAPTURA!AB383,Base!$A$2:$A$284,0),5),)","v":0},{"$f":"IFERROR(INDEX(Base!$A$2:$H$284,MATCH(HOJA_CAPTURA!AB383,Base!$A$2:$A$284,0),6),)","v":0},{"$f":"IFERROR(INDEX(Base!$A$2:$H$284,MATCH(HOJA_CAPTURA!AB383,Base!$A$2:$A$284,0),7),)","v":0},{"$f":"IFERROR(INDEX(Base!$A$2:$H$284,MATCH(HOJA_CAPTURA!AB383,Base!$A$2:$A$284,0),8),)","v":0}]
["Instituto Nacional de Pediatría","Fondo: INP",null,null,null,null,null,null,null,null,null,null,null,null,null,null,null,null,null,null,null,null,null,null,null," ",""," ",""," ","",{"$f":"IFERROR(INDEX(Base!$A$2:$H$284,MATCH(HOJA_CAPTURA!AB384,Base!$A$2:$A$284,0),3),)","v":0},{"$f":"IFERROR(INDEX(Base!$A$2:$H$284,MATCH(HOJA_CAPTURA!AB384,Base!$A$2:$A$284,0),4),)","v":0},{"$f":"IFERROR(INDEX(Base!$A$2:$H$284,MATCH(HOJA_CAPTURA!AB384,Base!$A$2:$A$284,0),5),)","v":0},{"$f":"IFERROR(INDEX(Base!$A$2:$H$284,MATCH(HOJA_CAPTURA!AB384,Base!$A$2:$A$284,0),6),)","v":0},{"$f":"IFERROR(INDEX(Base!$A$2:$H$284,MATCH(HOJA_CAPTURA!AB384,Base!$A$2:$A$284,0),7),)","v":0},{"$f":"IFERROR(INDEX(Base!$A$2:$H$284,MATCH(HOJA_CAPTURA!AB384,Base!$A$2:$A$284,0),8),)","v":0}]
["Instituto Nacional de Pediatría","Fondo: INP",null,null,null,null,null,null,null,null,null,null,null,null,null,null,null,null,null,null,null,null,null,null,null," ",""," ",""," ","",{"$f":"IFERROR(INDEX(Base!$A$2:$H$284,MATCH(HOJA_CAPTURA!AB385,Base!$A$2:$A$284,0),3),)","v":0},{"$f":"IFERROR(INDEX(Base!$A$2:$H$284,MATCH(HOJA_CAPTURA!AB385,Base!$A$2:$A$284,0),4),)","v":0},{"$f":"IFERROR(INDEX(Base!$A$2:$H$284,MATCH(HOJA_CAPTURA!AB385,Base!$A$2:$A$284,0),5),)","v":0},{"$f":"IFERROR(INDEX(Base!$A$2:$H$284,MATCH(HOJA_CAPTURA!AB385,Base!$A$2:$A$284,0),6),)","v":0},{"$f":"IFERROR(INDEX(Base!$A$2:$H$284,MATCH(HOJA_CAPTURA!AB385,Base!$A$2:$A$284,0),7),)","v":0},{"$f":"IFERROR(INDEX(Base!$A$2:$H$284,MATCH(HOJA_CAPTURA!AB385,Base!$A$2:$A$284,0),8),)","v":0}]
["Instituto Nacional de Pediatría","Fondo: INP",null,null,null,null,null,null,null,null,null,null,null,null,null,null,null,null,null,null,null,null,null,null,null," ",""," ",""," ","",{"$f":"IFERROR(INDEX(Base!$A$2:$H$284,MATCH(HOJA_CAPTURA!AB386,Base!$A$2:$A$284,0),3),)","v":0},{"$f":"IFERROR(INDEX(Base!$A$2:$H$284,MATCH(HOJA_CAPTURA!AB386,Base!$A$2:$A$284,0),4),)","v":0},{"$f":"IFERROR(INDEX(Base!$A$2:$H$284,MATCH(HOJA_CAPTURA!AB386,Base!$A$2:$A$284,0),5),)","v":0},{"$f":"IFERROR(INDEX(Base!$A$2:$H$284,MATCH(HOJA_CAPTURA!AB386,Base!$A$2:$A$284,0),6),)","v":0},{"$f":"IFERROR(INDEX(Base!$A$2:$H$284,MATCH(HOJA_CAPTURA!AB386,Base!$A$2:$A$284,0),7),)","v":0},{"$f":"IFERROR(INDEX(Base!$A$2:$H$284,MATCH(HOJA_CAPTURA!AB386,Base!$A$2:$A$284,0),8),)","v":0}]
["Instituto Nacional de Pediatría","Fondo: INP",null,null,null,null,null,null,null,null,null,null,null,null,null,null,null,null,null,null,null,null,null,null,null," ",""," ",""," ","",{"$f":"IFERROR(INDEX(Base!$A$2:$H$284,MATCH(HOJA_CAPTURA!AB387,Base!$A$2:$A$284,0),3),)","v":0},{"$f":"IFERROR(INDEX(Base!$A$2:$H$284,MATCH(HOJA_CAPTURA!AB387,Base!$A$2:$A$284,0),4),)","v":0},{"$f":"IFERROR(INDEX(Base!$A$2:$H$284,MATCH(HOJA_CAPTURA!AB387,Base!$A$2:$A$284,0),5),)","v":0},{"$f":"IFERROR(INDEX(Base!$A$2:$H$284,MATCH(HOJA_CAPTURA!AB387,Base!$A$2:$A$284,0),6),)","v":0},{"$f":"IFERROR(INDEX(Base!$A$2:$H$284,MATCH(HOJA_CAPTURA!AB387,Base!$A$2:$A$284,0),7),)","v":0},{"$f":"IFERROR(INDEX(Base!$A$2:$H$284,MATCH(HOJA_CAPTURA!AB387,Base!$A$2:$A$284,0),8),)","v":0}]
["Instituto Nacional de Pediatría","Fondo: INP",null,null,null,null,null,null,null,null,null,null,null,null,null,null,null,null,null,null,null,null,null,null,null," ",{"$f":"MID(G388,LEN(Z388)+2, 80)","v":""}," ",""," ",{"$f":"IF(LEFT(I388,6)=\"N/A\", \"N/A\", IFERROR(RIGHT(I388, LEN(I388) - FIND(\" \", I388)), \"\"))","v":""},{"$f":"IFERROR(INDEX(Base!$A$2:$H$284,MATCH(HOJA_CAPTURA!AB388,Base!$A$2:$A$284,0),3),)","v":0},{"$f":"IFERROR(INDEX(Base!$A$2:$H$284,MATCH(HOJA_CAPTURA!AB388,Base!$A$2:$A$284,0),4),)","v":0},{"$f":"IFERROR(INDEX(Base!$A$2:$H$284,MATCH(HOJA_CAPTURA!AB388,Base!$A$2:$A$284,0),5),)","v":0},{"$f":"IFERROR(INDEX(Base!$A$2:$H$284,MATCH(HOJA_CAPTURA!AB388,Base!$A$2:$A$284,0),6),)","v":0},{"$f":"IFERROR(INDEX(Base!$A$2:$H$284,MATCH(HOJA_CAPTURA!AB388,Base!$A$2:$A$284,0),7),)","v":0},{"$f":"IFERROR(INDEX(Base!$A$2:$H$284,MATCH(HOJA_CAPTURA!AB388,Base!$A$2:$A$284,0),8),)","v":0}]
["Instituto Nacional de Pediatría","Fondo: INP",null,null,null,null,null,null,null,null,null,null,null,null,null,null,null,null,null,null,null,null,null,null,null," ",""," ",""," ","",{"$f":"IFERROR(INDEX(Base!$A$2:$H$284,MATCH(HOJA_CAPTURA!AB389,Base!$A$2:$A$284,0),3),)","v":0},{"$f":"IFERROR(INDEX(Base!$A$2:$H$284,MATCH(HOJA_CAPTURA!AB389,Base!$A$2:$A$284,0),4),)","v":0},{"$f":"IFERROR(INDEX(Base!$A$2:$H$284,MATCH(HOJA_CAPTURA!AB389,Base!$A$2:$A$284,0),5),)","v":0},{"$f":"IFERROR(INDEX(Base!$A$2:$H$284,MATCH(HOJA_CAPTURA!AB389,Base!$A$2:$A$284,0),6),)","v":0},{"$f":"IFERROR(INDEX(Base!$A$2:$H$284,MATCH(HOJA_CAPTURA!AB389,Base!$A$2:$A$284,0),7),)","v":0},{"$f":"IFERROR(INDEX(Base!$A$2:$H$284,MATCH(HOJA_CAPTURA!AB389,Base!$A$2:$A$284,0),8),)","v":0}]
["Instituto Nacional de Pediatría","Fondo: INP",null,null,null,null,null,null,null,null,null,null,null,null,null,null,null,null,null,null,null,null,null,null,null," ",""," ",""," ","",{"$f":"IFERROR(INDEX(Base!$A$2:$H$284,MATCH(HOJA_CAPTURA!AB390,Base!$A$2:$A$284,0),3),)","v":0},{"$f":"IFERROR(INDEX(Base!$A$2:$H$284,MATCH(HOJA_CAPTURA!AB390,Base!$A$2:$A$284,0),4),)","v":0},{"$f":"IFERROR(INDEX(Base!$A$2:$H$284,MATCH(HOJA_CAPTURA!AB390,Base!$A$2:$A$284,0),5),)","v":0},{"$f":"IFERROR(INDEX(Base!$A$2:$H$284,MATCH(HOJA_CAPTURA!AB390,Base!$A$2:$A$284,0),6),)","v":0},{"$f":"IFERROR(INDEX(Base!$A$2:$H$284,MATCH(HOJA_CAPTURA!AB390,Base!$A$2:$A$284,0),7),)","v":0},{"$f":"IFERROR(INDEX(Base!$A$2:$H$284,MATCH(HOJA_CAPTURA!AB390,Base!$A$2:$A$284,0),8),)","v":0}]
["Instituto Nacional de Pediatría","Fondo: INP",null,null,null,null,null,null,null,null,null,null,null,null,null,null,null,null,null,null,null,null,null,null,null," ",""," ",""," ","",{"$f":"IFERROR(INDEX(Base!$A$2:$H$284,MATCH(HOJA_CAPTURA!AB391,Base!$A$2:$A$284,0),3),)","v":0},{"$f":"IFERROR(INDEX(Base!$A$2:$H$284,MATCH(HOJA_CAPTURA!AB391,Base!$A$2:$A$284,0),4),)","v":0},{"$f":"IFERROR(INDEX(Base!$A$2:$H$284,MATCH(HOJA_CAPTURA!AB391,Base!$A$2:$A$284,0),5),)","v":0},{"$f":"IFERROR(INDEX(Base!$A$2:$H$284,MATCH(HOJA_CAPTURA!AB391,Base!$A$2:$A$284,0),6),)","v":0},{"$f":"IFERROR(INDEX(Base!$A$2:$H$284,MATCH(HOJA_CAPTURA!AB391,Base!$A$2:$A$284,0),7),)","v":0},{"$f":"IFERROR(INDEX(Base!$A$2:$H$284,MATCH(HOJA_CAPTURA!AB391,Base!$A$2:$A$284,0),8),)","v":0}]
["Instituto Nacional de Pediatría","Fondo: INP",null,null,null,null,null,null,null,null,null,null,null,null,null,null,null,null,null,null,null,null,null,null,null," ",""," ",{"$f":"MID(H392,LEN(AB392)+2, 80)","v":""}," ","",{"$f":"IFERROR(INDEX(Base!$A$2:$H$284,MATCH(HOJA_CAPTURA!AB392,Base!$A$2:$A$284,0),3),)","v":0},{"$f":"IFERROR(INDEX(Base!$A$2:$H$284,MATCH(HOJA_CAPTURA!AB392,Base!$A$2:$A$284,0),4),)","v":0},{"$f":"IFERROR(INDEX(Base!$A$2:$H$284,MATCH(HOJA_CAPTURA!AB392,Base!$A$2:$A$284,0),5),)","v":0},{"$f":"IFERROR(INDEX(Base!$A$2:$H$284,MATCH(HOJA_CAPTURA!AB392,Base!$A$2:$A$284,0),6),)","v":0},{"$f":"IFERROR(INDEX(Base!$A$2:$H$284,MATCH(HOJA_CAPTURA!AB392,Base!$A$2:$A$284,0),7),)","v":0},{"$f":"IFERROR(INDEX(Base!$A$2:$H$284,MATCH(HOJA_CAPTURA!AB392,Base!$A$2:$A$284,0),8),)","v":0}]
["Instituto Nacional de Pediatría","Fondo: INP",null,null,null,null,null,null,null,null,null,null,null,null,null,null,null,null,null,null,null,null,null,null,null," ",""," ",""," ","",{"$f":"IFERROR(INDEX(Base!$A$2:$H$284,MATCH(HOJA_CAPTURA!AB393,Base!$A$2:$A$284,0),3),)","v":0},{"$f":"IFERROR(INDEX(Base!$A$2:$H$284,MATCH(HOJA_CAPTURA!AB393,Base!$A$2:$A$284,0),4),)","v":0},{"$f":"IFERROR(INDEX(Base!$A$2:$H$284,MATCH(HOJA_CAPTURA!AB393,Base!$A$2:$A$284,0),5),)","v":0},{"$f":"IFERROR(INDEX(Base!$A$2:$H$284,MATCH(HOJA_CAPTURA!AB393,Base!$A$2:$A$284,0),6),)","v":0},{"$f":"IFERROR(INDEX(Base!$A$2:$H$284,MATCH(HOJA_CAPTURA!AB393,Base!$A$2:$A$284,0),7),)","v":0},{"$f":"IFERROR(INDEX(Base!$A$2:$H$284,MATCH(HOJA_CAPTURA!AB393,Base!$A$2:$A$284,0),8),)","v":0}]
["Instituto Nacional de Pediatría","Fondo: INP",null,null,null,null,null,null,null,null,null,null,null,null,null,null,null,null,null,null,null,null,null,null,null," ",""," ",""," ","",{"$f":"IFERROR(INDEX(Base!$A$2:$H$284,MATCH(HOJA_CAPTURA!AB394,Base!$A$2:$A$284,0),3),)","v":0},{"$f":"IFERROR(INDEX(Base!$A$2:$H$284,MATCH(HOJA_CAPTURA!AB394,Base!$A$2:$A$284,0),4),)","v":0},{"$f":"IFERROR(INDEX(Base!$A$2:$H$284,MATCH(HOJA_CAPTURA!AB394,Base!$A$2:$A$284,0),5),)","v":0},{"$f":"IFERROR(INDEX(Base!$A$2:$H$284,MATCH(HOJA_CAPTURA!AB394,Base!$A$2:$A$284,0),6),)","v":0},{"$f":"IFERROR(INDEX(Base!$A$2:$H$284,MATCH(HOJA_CAPTURA!AB394,Base!$A$2:$A$284,0),7),)","v":0},{"$f":"IFERROR(INDEX(Base!$A$2:$H$284,MATCH(HOJA_CAPTURA!AB394,Base!$A$2:$A$284,0),8),)","v":0}]
["Instituto Nacional de Pediatría","Fondo: INP",null,null,null,null,null,null,null,null,null,null,null,null,null,null,null,null,null,null,null,null,null,null,null," ",""," ",""," ","",{"$f":"IFERROR(INDEX(Base!$A$2:$H$284,MATCH(HOJA_CAPTURA!AB395,Base!$A$2:$A$284,0),3),)","v":0},{"$f":"IFERROR(INDEX(Base!$A$2:$H$284,MATCH(HOJA_CAPTURA!AB395,Base!$A$2:$A$284,0),4),)","v":0},{"$f":"IFERROR(INDEX(Base!$A$2:$H$284,MATCH(HOJA_CAPTURA!AB395,Base!$A$2:$A$284,0),5),)","v":0},{"$f":"IFERROR(INDEX(Base!$A$2:$H$284,MATCH(HOJA_CAPTURA!AB395,Base!$A$2:$A$284,0),6),)","v":0},{"$f":"IFERROR(INDEX(Base!$A$2:$H$284,MATCH(HOJA_CAPTURA!AB395,Base!$A$2:$A$284,0),7),)","v":0},{"$f":"IFERROR(INDEX(Base!$A$2:$H$284,MATCH(HOJA_CAPTURA!AB395,Base!$A$2:$A$284,0),8),)","v":0}]
["Instituto Nacional de Pediatría","Fondo: INP",null,null,null,null,null,null,null,null,null,null,null,null,null,null,null,null,null,null,null,null,null,null,null," ",""," ",""," ","",{"$f":"IFERROR(INDEX(Base!$A$2:$H$284,MATCH(HOJA_CAPTURA!AB396,Base!$A$2:$A$284,0),3),)","v":0},{"$f":"IFERROR(INDEX(Base!$A$2:$H$284,MATCH(HOJA_CAPTURA!AB396,Base!$A$2:$A$284,0),4),)","v":0},{"$f":"IFERROR(INDEX(Base!$A$2:$H$284,MATCH(HOJA_CAPTURA!AB396,Base!$A$2:$A$284,0),5),)","v":0},{"$f":"IFERROR(INDEX(Base!$A$2:$H$284,MATCH(HOJA_CAPTURA!AB396,Base!$A$2:$A$284,0),6),)","v":0},{"$f":"IFERROR(INDEX(Base!$A$2:$H$284,MATCH(HOJA_CAPTURA!AB396,Base!$A$2:$A$284,0),7),)","v":0},{"$f":"IFERROR(INDEX(Base!$A$2:$H$284,MATCH(HOJA_CAPTURA!AB396,Base!$A$2:$A$284,0),8),)","v":0}]
["Instituto Nacional de Pediatría","Fondo: INP",null,null,null,null,null,null,null,null,null,null,null,null,null,null,null,null,null,null,null,null,null,null,null," ",""," ",""," ","",{"$f":"IFERROR(INDEX(Base!$A$2:$H$284,MATCH(HOJA_CAPTURA!AB397,Base!$A$2:$A$284,0),3),)","v":0},{"$f":"IFERROR(INDEX(Base!$A$2:$H$284,MATCH(HOJA_CAPTURA!AB397,Base!$A$2:$A$284,0),4),)","v":0},{"$f":"IFERROR(INDEX(Base!$A$2:$H$284,MATCH(HOJA_CAPTURA!AB397,Base!$A$2:$A$284,0),5),)","v":0},{"$f":"IFERROR(INDEX(Base!$A$2:$H$284,MATCH(HOJA_CAPTURA!AB397,Base!$A$2:$A$284,0),6),)","v":0},{"$f":"IFERROR(INDEX(Base!$A$2:$H$284,MATCH(HOJA_CAPTURA!AB397,Base!$A$2:$A$284,0),7),)","v":0},{"$f":"IFERROR(INDEX(Base!$A$2:$H$284,MATCH(HOJA_CAPTURA!AB397,Base!$A$2:$A$284,0),8),)","v":0}]
["Instituto Nacional de Pediatría","Fondo: INP",null,null,null,null,null,null,null,null,null,null,null,null,null,null,null,null,null,null,null,null,null,null,null," ",""," ",""," ","",{"$f":"IFERROR(INDEX(Base!$A$2:$H$284,MATCH(HOJA_CAPTURA!AB398,Base!$A$2:$A$284,0),3),)","v":0},{"$f":"IFERROR(INDEX(Base!$A$2:$H$284,MATCH(HOJA_CAPTURA!AB398,Base!$A$2:$A$284,0),4),)","v":0},{"$f":"IFERROR(INDEX(Base!$A$2:$H$284,MATCH(HOJA_CAPTURA!AB398,Base!$A$2:$A$284,0),5),)","v":0},{"$f":"IFERROR(INDEX(Base!$A$2:$H$284,MATCH(HOJA_CAPTURA!AB398,Base!$A$2:$A$284,0),6),)","v":0},{"$f":"IFERROR(INDEX(Base!$A$2:$H$284,MATCH(HOJA_CAPTURA!AB398,Base!$A$2:$A$284,0),7),)","v":0},{"$f":"IFERROR(INDEX(Base!$A$2:$H$284,MATCH(HOJA_CAPTURA!AB398,Base!$A$2:$A$284,0),8),)","v":0}]
["Instituto Nacional de Pediatría","Fondo: INP",null,null,null,null,null,null,null,null,null,null,null,null,null,null,null,null,null,null,null,null,null,null,null," ",""," ",""," ","",{"$f":"IFERROR(INDEX(Base!$A$2:$H$284,MATCH(HOJA_CAPTURA!AB399,Base!$A$2:$A$284,0),3),)","v":0},{"$f":"IFERROR(INDEX(Base!$A$2:$H$284,MATCH(HOJA_CAPTURA!AB399,Base!$A$2:$A$284,0),4),)","v":0},{"$f":"IFERROR(INDEX(Base!$A$2:$H$284,MATCH(HOJA_CAPTURA!AB399,Base!$A$2:$A$284,0),5),)","v":0},{"$f":"IFERROR(INDEX(Base!$A$2:$H$284,MATCH(HOJA_CAPTURA!AB399,Base!$A$2:$A$284,0),6),)","v":0},{"$f":"IFERROR(INDEX(Base!$A$2:$H$284,MATCH(HOJA_CAPTURA!AB399,Base!$A$2:$A$284,0),7),)","v":0},{"$f":"IFERROR(INDEX(Base!$A$2:$H$284,MATCH(HOJA_CAPTURA!AB399,Base!$A$2:$A$284,0),8),)","v":0}]
["Instituto Nacional de Pediatría","Fondo: INP",null,null,null,null,null,null,null,null,null,null,null,null,null,null,null,null,null,null,null,null,null,null,null," ",""," ",""," ","",{"$f":"IFERROR(INDEX(Base!$A$2:$H$284,MATCH(HOJA_CAPTURA!AB400,Base!$A$2:$A$284,0),3),)","v":0},{"$f":"IFERROR(INDEX(Base!$A$2:$H$284,MATCH(HOJA_CAPTURA!AB400,Base!$A$2:$A$284,0),4),)","v":0},{"$f":"IFERROR(INDEX(Base!$A$2:$H$284,MATCH(HOJA_CAPTURA!AB400,Base!$A$2:$A$284,0),5),)","v":0},{"$f":"IFERROR(INDEX(Base!$A$2:$H$284,MATCH(HOJA_CAPTURA!AB400,Base!$A$2:$A$284,0),6),)","v":0},{"$f":"IFERROR(INDEX(Base!$A$2:$H$284,MATCH(HOJA_CAPTURA!AB400,Base!$A$2:$A$284,0),7),)","v":0},{"$f":"IFERROR(INDEX(Base!$A$2:$H$284,MATCH(HOJA_CAPTURA!AB400,Base!$A$2:$A$284,0),8),)","v":0}]
["Instituto Nacional de Pediatría","Fondo: INP",null,null,null,null,null,null,null,null,null,null,null,null,null,null,null,null,null,null,null,null,null,null,null," ",""," ",""," ","",{"$f":"IFERROR(INDEX(Base!$A$2:$H$284,MATCH(HOJA_CAPTURA!AB401,Base!$A$2:$A$284,0),3),)","v":0},{"$f":"IFERROR(INDEX(Base!$A$2:$H$284,MATCH(HOJA_CAPTURA!AB401,Base!$A$2:$A$284,0),4),)","v":0},{"$f":"IFERROR(INDEX(Base!$A$2:$H$284,MATCH(HOJA_CAPTURA!AB401,Base!$A$2:$A$284,0),5),)","v":0},{"$f":"IFERROR(INDEX(Base!$A$2:$H$284,MATCH(HOJA_CAPTURA!AB401,Base!$A$2:$A$284,0),6),)","v":0},{"$f":"IFERROR(INDEX(Base!$A$2:$H$284,MATCH(HOJA_CAPTURA!AB401,Base!$A$2:$A$284,0),7),)","v":0},{"$f":"IFERROR(INDEX(Base!$A$2:$H$284,MATCH(HOJA_CAPTURA!AB401,Base!$A$2:$A$284,0),8),)","v":0}]
["Instituto Nacional de Pediatría","Fondo: INP",null,null,null,null,null,null,null,null,null,null,null,null,null,null,null,null,null,null,null,null,null,null,null," ",""," ",""," ","",{"$f":"IFERROR(INDEX(Base!$A$2:$H$284,MATCH(HOJA_CAPTURA!AB402,Base!$A$2:$A$284,0),3),)","v":0},{"$f":"IFERROR(INDEX(Base!$A$2:$H$284,MATCH(HOJA_CAPTURA!AB402,Base!$A$2:$A$284,0),4),)","v":0},{"$f":"IFERROR(INDEX(Base!$A$2:$H$284,MATCH(HOJA_CAPTURA!AB402,Base!$A$2:$A$284,0),5),)","v":0},{"$f":"IFERROR(INDEX(Base!$A$2:$H$284,MATCH(HOJA_CAPTURA!AB402,Base!$A$2:$A$284,0),6),)","v":0},{"$f":"IFERROR(INDEX(Base!$A$2:$H$284,MATCH(HOJA_CAPTURA!AB402,Base!$A$2:$A$284,0),7),)","v":0},{"$f":"IFERROR(INDEX(Base!$A$2:$H$284,MATCH(HOJA_CAPTURA!AB402,Base!$A$2:$A$284,0),8),)","v":0}]
[]
[null,null,null,null,null,null,null,null,null,{"$f":"COUNT(J3:J402)","v":0},null,null,{"$f":"MAX(M3:M402)","v":0}]
[null,null,null,null,null,null,null,null,null,null,null,null,{"$f":"MIN(M3:M402)","v":0}]

{"sheet":"INVENTARIO TRÁMITE","index":3,"n_rows":2201,"n_cols":16,"rows_kept":2201,"cut":false,"hidden":false,"merged":[[1190,0,1190,4],[1190,9,1190,15],[1188,0,1188,4],[1187,0,1187,4],[1188,7,1188,15],[1187,8,1187,15],[1194,0,1194,3],[1194,4,1194,7],[2184,0,2184,3],[2184,4,2184,7],[2185,0,2185,3],[2185,4,2185,14],[2186,0,2186,1],[2186,3,2186,5],[2186,7,2186,15],[2187,8,2187,15],[2188,0,2189,0],[2188,1,2189,1],[2188,2,2189,2],[2188,3,2189,3],[2188,4,2189,4],[2188,5,2189,5],[2188,6,2189,6],[2188,7,2188,9],[2188,10,2188,12],[2188,13,2189,13],[2188,14,2189,14],[2188,15,2189,15],[2177,0,2177,4],[2177,9,2177,15],[2178,0,2178,4],[2178,9,2178,15],[2199,0,2199,4],[2199,9,2199,15],[2200,0,2200,4],[2200,9,2200,15],[2194,0,2195,0],[2194,1,2195,1],[2194,2,2195,2],[2194,3,2195,3],[2194,4,2195,4],[2194,6,2195,6],[2194,7,2195,7],[2194,8,2195,8],[2194,9,2195,9],[2194,10,2195,10],[2194,11,2195,11],[2194,12,2195,12],[2194,13,2195,13],[2194,14,2195,14],[2194,15,2195,15],[2196,0,2197,0],[2196,1,2197,1],[2196,2,2197,2],[2196,3,2197,3],[2196,4,2197,4],[2196,6,2197,6],[2196,7,2197,7],[2196,8,2197,8],[2196,9,2197,9],[2196,10,2197,10],[2196,11,2197,11],[2196,12,2197,12],[2196,13,2197,13],[2196,14,2197,14],[2196,15,2197,15],[2190,0,2191,0],[2190,1,2191,1],[2190,2,2191,2],[2190,3,2191,3],[2190,4,2191,4],[2190,6,2191,6],[2190,7,2191,7],[2190,8,2191,8],[2190,9,2191,9],[2190,10,2191,10],[2190,11,2191,11],[2190,12,2191,12],[2190,13,2191,13],[2190,14,2191,14],[2190,15,2191,15],[2192,0,2193,0],[2192,1,2193,1],[2192,2,2193,2],[2192,3,2193,3],[2192,4,2193,4],[2192,6,2193,6],[2192,7,2193,7],[2192,8,2193,8],[2192,9,2193,9],[2192,10,2193,10],[2192,11,2193,11],[2192,12,2193,12],[2192,13,2193,13],[2192,14,2193,14],[2192,15,2193,15],[2172,0,2173,0],[2172,1,2173,1],[2172,2,2173,2],[2172,3,2173,3],[2172,4,2173,4],[2172,6,2173,6],[2172,7,2173,7],[2172,8,2173,8],[2172,9,2173,9],[2172,10,2173,10],[2172,11,2173,11],[2172,12,2173,12],[2172,13,2173,13],[2172,14,2173,14],[2172,15,2173,15],[2174,0,2175,0],[2174,1,2175,1],[2174,2,2175,2],[2174,3,2175,3],[2174,4,2175,4],[2174,6,2175,6],[2174,7,2175,7],[2174,8,2175,8],[2174,9,2175,9],[2174,10,2175,10],[2174,11,2175,11],[2174,12,2175,12],[2174,13,2175,13],[2174,14,2175,14],[2174,15,2175,15],[2170,0,2171,0],[2170,1,2171,1],[2170,2,2171,2],[2170,3,2171,3],[2170,4,2171,4],[2170,6,2171,6],[2170,7,2171,7],[2170,8,2171,8],[2170,9,2171,9],[2170,10,2171,10],[2170,11,2171,11],[2170,12,2171,12],[2170,13,2171,13],[2170,14,2171,14],[2170,15,2171,15],[2168,0,2169,0],[2168,1,2169,1],[2168,2,2169,2],[2168,3,2169,3],[2168,4,2169,4],[2168,6,2169,6],[2168,7,2169,7],[2168,8,2169,8],[2168,9,2169,9],[2168,10,2169,10],[2168,11,2169,11],[2168,12,2169,12],[2168,13,2169,13],[2168,14,2169,14],[2168,15,2169,15],[2155,0,2155,4],[2155,9,2155,15],[2156,0,2156,4],[2156,9,2156,15],[2162,0,2162,3],[2162,4,2162,7],[2163,0,2163,3],[2163,4,2163,14],[2164,0,2164,1],[2164,3,2164,5],[2164,7,2164,15],[2165,8,2165,15],[2166,0,2167,0],[2166,1,2167,1],[2166,2,2167,2],[2166,3,2167,3],[2166,4,2167,4],[2166,5,2167,5],[2166,6,2167,6],[2166,7,2166,9],[2166,10,2166,12],[2166,13,2167,13],[2166,14,2167,14],[2166,15,2167,15],[2150,0,2151,0],[2150,1,2151,1],[2150,2,2151,2],[2150,3,2151,3],[2150,4,2151,4],[2150,6,2151,6],[2150,7,2151,7],[2150,8,2151,8],[2150,9,2151,9],[2150,10,2151,10],[2150,11,2151,11],[2150,12,2151,12],[2150,13,2151,13],[2150,14,2151,14],[2150,15,2151,15],[2152,0,2153,0],[2152,1,2153,1],[2152,2,2153,2],[2152,3,2153,3],[2152,4,2153,4],[2152,6,2153,6],[2152,7,2153,7],[2152,8,2153,8],[2152,9,2153,9],[2152,10,2153,10],[2152,11,2153,11],[2152,12,2153,12],[2152,13,2153,13],[2152,14,2153,14],[2152,15,2153,15],[2148,0,2149,0],[2148,1,2149,1],[2148,2,2149,2],[2148,3,2149,3],[2148,4,2149,4],[2148,6,2149,6],[2148,7,2149,7],[2148,8,2149,8],[2148,9,2149,9],[2148,10,2149,10],[2148,11,2149,11],[2148,12,2149,12],[2148,13,2149,13],[2148,14,2149,14],[2148,15,2149,15],[2146,0,2147,0],[2146,1,2147,1],[2146,2,2147,2],[2146,3,2147,3],[2146,4,2147,4],[2146,6,2147,6],[2146,7,2147,7],[2146,8,2147,8],[2146,9,2147,9],[2146,10,2147,10],[2146,11,2147,11],[2146,12,2147,12],[2146,13,2147,13],[2146,14,2147,14],[2146,15,2147,15],[2133,0,2133,4],[2133,9,2133,15],[2134,0,2134,4],[2134,9,2134,15],[2140,0,2140,3],[2140,4,2140,7],[2141,0,2141,3],[2141,4,2141,14],[2142,0,2142,1],[2142,3,2142,5],[2142,7,2142,15],[2143,8,2143,15],[2144,0,2145,0],[2144,1,2145,1],[2144,2,2145,2],[2144,3,2145,3],[2144,4,2145,4],[2144,5,2145,5],[2144,6,2145,6],[2144,7,2144,9],[2144,10,2144,12],[2144,13,2145,13],[2144,14,2145,14],[2144,15,2145,15],[2128,0,2129,0],[2128,1,2129,1],[2128,2,2129,2],[2128,3,2129,3],[2128,4,2129,4],[2128,6,2129,6],[2128,7,2129,7],[2128,8,2129,8],[2128,9,2129,9],[2128,10,2129,10],[2128,11,2129,11],[2128,12,2129,12],[2128,13,2129,13],[2128,14,2129,14],[2128,15,2129,15],[2130,0,2131,0],[2130,1,2131,1],[2130,2,2131,2],[2130,3,2131,3],[2130,4,2131,4],[2130,6,2131,6],[2130,7,2131,7],[2130,8,2131,8],[2130,9,2131,9],[2130,10,2131,10],[2130,11,2131,11],[2130,12,2131,12],[2130,13,2131,13],[2130,14,2131,14],[2130,15,2131,15],[2126,0,2127,0],[2126,1,2127,1],[2126,2,2127,2],[2126,3,2127,3],[2126,4,2127,4],[2126,6,2127,6],[2126,7,2127,7],[2126,8,2127,8],[2126,9,2127,9],[2126,10,2127,10],[2126,11,2127,11],[2126,12,2127,12],[2126,13,2127,13],[2126,14,2127,14],[2126,15,2127,15],[2124,0,2125,0],[2124,1,2125,1],[2124,2,2125,2],[2124,3,2125,3],[2124,4,2125,4],[2124,6,2125,6],[2124,7,2125,7],[2124,8,2125,8],[2124,9,2125,9],[2124,10,2125,10],[2124,11,2125,11],[2124,12,2125,12],[2124,13,2125,13],[2124,14,2125,14],[2124,15,2125,15],[2111,0,2111,4],[2111,9,2111,15],[2112,0,2112,4],[2112,9,2112,15],[2118,0,2118,3],[2118,4,2118,7],[2119,0,2119,3],[2119,4,2119,14],[2120,0,2120,1],[2120,3,2120,5],[2120,7,2120,15],[2121,8,2121,15],[2122,0,2123,0],[2122,1,2123,1],[2122,2,2123,2],[2122,3,2123,3],[2122,4,2123,4],[2122,5,2123,5],[2122,6,2123,6],[2122,7,2122,9],[2122,10,2122,12],[2122,13,2123,13],[2122,14,2123,14],[2122,15,2123,15],[2106,0,2107,0],[2106,1,2107,1],[2106,2,2107,2],[2106,3,2107,3],[2106,4,2107,4],[2106,6,2107,6],[2106,7,2107,7],[2106,8,2107,8],[2106,9,2107,9],[2106,10,2107,10],[2106,11,2107,11],[2106,12,2107,12],[2106,13,2107,13],[2106,14,2107,14],[2106,15,2107,15],[2108,0,2109,0],[2108,1,2109,1],[2108,2,2109,2],[2108,3,2109,3],[2108,4,2109,4],[2108,6,2109,6],[2108,7,2109,7],[2108,8,2109,8],[2108,9,2109,9],[2108,10,2109,10],[2108,11,2109,11],[2108,12,2109,12],[2108,13,2109,13],[2108,14,2109,14],[2108,15,2109,15],[2104,0,2105,0],[2104,1,2105,1],[2104,2,2105,2],[2104,3,2105,3],[2104,4,2105,4],[2104,6,2105,6],[2104,7,2105,7],[2104,8,2105,8],[2104,9,2105,9],[2104,10,2105,10],[2104,11,2105,11],[2104,12,2105,12],[2104,13,2105,13],[2104,14,2105,14],[2104,15,2105,15],[2102,0,2103,0],[2102,1,2103,1],[2102,2,2103,2],[2102,3,2103,3],[2102,4,2103,4],[2102,6,2103,6],[2102,7,2103,7],[2102,8,2103,8],[2102,9,2103,9],[2102,10,2103,10],[2102,11,2103,11],[2102,12,2103,12],[2102,13,2103,13],[2102,14,2103,14],[2102,15,2103,15],[2089,0,2089,4],[2089,9,2089,15],[2090,0,2090,4],[2090,9,2090,15],[2096,0,2096,3],[2096,4,2096,7],[2097,0,2097,3],[2097,4,2097,14],[2098,0,2098,1],[2098,3,2098,5],[2098,7,2098,15],[2099,8,2099,15],[2100,0,2101,0],[2100,1,2101,1],[2100,2,2101,2],[2100,3,2101,3],[2100,4,2101,4],[2100,5,2101,5],[2100,6,2101,6],[2100,7,2100,9],[2100,10,2100,12],[2100,13,2101,13],[2100,14,2101,14],[2100,15,2101,15],[2084,0,2085,0],[2084,1,2085,1],[2084,2,2085,2],[2084,3,2085,3],[2084,4,2085,4],[2084,6,2085,6],[2084,7,2085,7],[2084,8,2085,8],[2084,9,2085,9],[2084,10,2085,10],[2084,11,2085,11],[2084,12,2085,12],[2084,13,2085,13],[2084,14,2085,14],[2084,15,2085,15],[2086,0,2087,0],[2086,1,2087,1],[2086,2,2087,2],[2086,3,2087,3],[2086,4,2087,4],[2086,6,2087,6],[2086,7,2087,7],[2086,8,2087,8],[2086,9,2087,9],[2086,10,2087,10],[2086,11,2087,11],[2086,12,2087,12],[2086,13,2087,13],[2086,14,2087,14],[2086,15,2087,15],[2082,0,2083,0],[2082,1,2083,1],[2082,2,2083,2],[2082,3,2083,3],[2082,4,2083,4],[2082,6,2083,6],[2082,7,2083,7],[2082,8,2083,8],[2082,9,2083,9],[2082,10,2083,10],[2082,11,2083,11],[2082,12,2083,12],[2082,13,2083,13],[2082,14,2083,14],[2082,15,2083,15],[2080,0,2081,0],[2080,1,2081,1],[2080,2,2081,2],[2080,3,2081,3],[2080,4,2081,4],[2080,6,2081,6],[2080,7,2081,7],[2080,8,2081,8],[2080,9,2081,9],[2080,10,2081,10],[2080,11,2081,11],[2080,12,2081,12],[2080,13,2081,13],[2080,14,2081,14],[2080,15,2081,15],[2067,0,2067,4],[2067,9,2067,15],[2068,0,2068,4],[2068,9,2068,15],[2074,0,2074,3],[2074,4,2074,7],[2075,0,2075,3],[2075,4,2075,14],[2076,0,2076,1],[2076,3,2076,5],[2076,7,2076,15],[2077,8,2077,15],[2078,0,2079,0],[2078,1,2079,1],[2078,2,2079,2],[2078,3,2079,3],[2078,4,2079,4],[2078,5,2079,5],[2078,6,2079,6],[2078,7,2078,9],[2078,10,2078,12],[2078,13,2079,13],[2078,14,2079,14],[2078,15,2079,15],[2062,0,2063,0],[2062,1,2063,1],[2062,2,2063,2],[2062,3,2063,3],[2062,4,2063,4],[2062,6,2063,6],[2062,7,2063,7],[2062,8,2063,8],[2062,9,2063,9],[2062,10,2063,10],[2062,11,2063,11],[2062,12,2063,12],[2062,13,2063,13],[2062,14,2063,14],[2062,15,2063,15],[2064,0,2065,0],[2064,1,2065,1],[2064,2,2065,2],[2064,3,2065,3],[2064,4,2065,4],[2064,6,2065,6],[2064,7,2065,7],[2064,8,2065,8],[2064,9,2065,9],[2064,10,2065,10],[2064,11,2065,11],[2064,12,2065,12],[2064,13,2065,13],[2064,14,2065,14],[2064,15,2065,15],[2060,0,2061,0],[2060,1,2061,1],[2060,2,2061,2],[2060,3,2061,3],[2060,4,2061,4],[2060,6,2061,6],[2060,7,2061,7],[2060,8,2061,8],[2060,9,2061,9],[2060,10,2061,10],[2060,11,2061,11],[2060,12,2061,12],[2060,13,2061,13],[2060,14,2061,14],[2060,15,2061,15],[2058,0,2059,0],[2058,1,2059,1],[2058,2,2059,2],[2058,3,2059,3],[2058,4,2059,4],[2058,6,2059,6],[2058,7,2059,7],[2058,8,2059,8],[2058,9,2059,9],[2058,10,2059,10],[2058,11,2059,11],[2058,12,2059,12],[2058,13,2059,13],[2058,14,2059,14],[2058,15,2059,15],[2045,0,2045,4],[2045,9,2045,15],[2046,0,2046,4],[2046,9,2046,15],[2052,0,2052,3],[2052,4,2052,7],[2053,0,2053,3],[2053,4,2053,14],[2054,0,2054,1],[2054,3,2054,5],[2054,7,2054,15],[2055,8,2055,15],[2056,0,2057,0],[2056,1,2057,1],[2056,2,2057,2],[2056,3,2057,3],[2056,4,2057,4],[2056,5,2057,5],[2056,6,2057,6],[2056,7,2056,9],[2056,10,2056,12],[2056,13,2057,13],[2056,14,2057,14],[2056,15,2057,15],[2040,0,2041,0],[2040,1,2041,1],[2040,2,2041,2],[2040,3,2041,3],[2040,4,2041,4],[2040,6,2041,6],[2040,7,2041,7],[2040,8,2041,8],[2040,9,2041,9],[2040,10,2041,10],[2040,11,2041,11],[2040,12,2041,12],[2040,13,2041,13],[2040,14,2041,14],[2040,15,2041,15],[2042,0,2043,0],[2042,1,2043,1],[2042,2,2043,2],[2042,3,2043,3],[2042,4,2043,4],[2042,6,2043,6],[2042,7,2043,7],[2042,8,2043,8],[2042,9,2043,9],[2042,10,2043,10],[2042,11,2043,11],[2042,12,2043,12],[2042,13,2043,13],[2042,14,2043,14],[2042,15,2043,15],[2038,0,2039,0],[2038,1,2039,1],[2038,2,2039,2],[2038,3,2039,3],[2038,4,2039,4],[2038,6,2039,6],[2038,7,2039,7],[2038,8,2039,8],[2038,9,2039,9],[2038,10,2039,10],[2038,11,2039,11],[2038,12,2039,12],[2038,13,2039,13],[2038,14,2039,14],[2038,15,2039,15],[2036,0,2037,0],[2036,1,2037,1],[2036,2,2037,2],[2036,3,2037,3],[2036,4,2037,4],[2036,6,2037,6],[2036,7,2037,7],[2036,8,2037,8],[2036,9,2037,9],[2036,10,2037,10],[2036,11,2037,11],[2036,12,2037,12],[2036,13,2037,13],[2036,14,2037,14],[2036,15,2037,15],[2023,0,2023,4],[2023,9,2023,15],[2024,0,2024,4],[2024,9,2024,15],[2030,0,2030,3],[2030,4,2030,7],[2031,0,2031,3],[2031,4,2031,14],[2032,0,2032,1],[2032,3,2032,5],[2032,7,2032,15],[2033,8,2033,15],[2034,0,2035,0],[2034,1,2035,1],[2034,2,2035,2],[2034,3,2035,3],[2034,4,2035,4],[2034,5,2035,5],[2034,6,2035,6],[2034,7,2034,9],[2034,10,2034,12],[2034,13,2035,13],[2034,14,2035,14],[2034,15,2035,15],[2018,0,2019,0],[2018,1,2019,1],[2018,2,2019,2],[2018,3,2019,3],[2018,4,2019,4],[2018,6,2019,6],[2018,7,2019,7],[2018,8,2019,8],[2018,9,2019,9],[2018,10,2019,10],[2018,11,2019,11],[2018,12,2019,12],[2018,13,2019,13],[2018,14,2019,14],[2018,15,2019,15],[2020,0,2021,0],[2020,1,2021,1],[2020,2,2021,2],[2020,3,2021,3],[2020,4,2021,4],[2020,6,2021,6],[2020,7,2021,7],[2020,8,2021,8],[2020,9,2021,9],[2020,10,2021,10],[2020,11,2021,11],[2020,12,2021,12],[2020,13,2021,13],[2020,14,2021,14],[2020,15,2021,15],[2016,0,2017,0],[2016,1,2017,1],[2016,2,2017,2],[2016,3,2017,3],[2016,4,2017,4],[2016,6,2017,6],[2016,7,2017,7],[2016,8,2017,8],[2016,9,2017,9],[2016,10,2017,10],[2016,11,2017,11],[2016,12,2017,12],[2016,13,2017,13],[2016,14,2017,14],[2016,15,2017,15],[2014,0,2015,0],[2014,1,2015,1],[2014,2,2015,2],[2014,3,2015,3],[2014,4,2015,4],[2014,6,2015,6],[2014,7,2015,7],[2014,8,2015,8],[2014,9,2015,9],[2014,10,2015,10],[2014,11,2015,11],[2014,12,2015,12],[2014,13,2015,13],[2014,14,2015,14],[2014,15,2015,15],[2001,0,2001,4],[2001,9,2001,15],[2002,0,2002,4],[2002,9,2002,15],[2008,0,2008,3],[2008,4,2008,7],[2009,0,2009,3],[2009,4,2009,14],[2010,0,2010,1],[2010,3,2010,5],[2010,7,2010,15],[2011,8,2011,15],[2012,0,2013,0],[2012,1,2013,1],[2012,2,2013,2],[2012,3,2013,3],[2012,4,2013,4],[2012,5,2013,5],[2012,6,2013,6],[2012,7,2012,9],[2012,10,2012,12],[2012,13,2013,13],[2012,14,2013,14],[2012,15,2013,15],[1996,0,1997,0],[1996,1,1997,1],[1996,2,1997,2],[1996,3,1997,3],[1996,4,1997,4],[1996,6,1997,6],[1996,7,1997,7],[1996,8,1997,8],[1996,9,1997,9],[1996,10,1997,10],[1996,11,1997,11],[1996,12,1997,12],[1996,13,1997,13],[1996,14,1997,14],[1996,15,1997,15],[1998,0,1999,0],[1998,1,1999,1],[1998,2,1999,2],[1998,3,1999,3],[1998,4,1999,4],[1998,6,1999,6],[1998,7,1999,7],[1998,8,1999,8],[1998,9,1999,9],[1998,10,1999,10],[1998,11,1999,11],[1998,12,1999,12],[1998,13,1999,13],[1998,14,1999,14],[1998,15,1999,15],[1994,0,1995,0],[1994,1,1995,1],[1994,2,1995,2],[1994,3,1995,3],[1994,4,1995,4],[1994,6,1995,6],[1994,7,1995,7],[1994,8,1995,8],[1994,9,1995,9],[1994,10,1995,10],[1994,11,1995,11],[1994,12,1995,12],[1994,13,1995,13],[1994,14,1995,14],[1994,15,1995,15],[1992,0,1993,0],[1992,1,1993,1],[1992,2,1993,2],[1992,3,1993,3],[1992,4,1993,4],[1992,6,1993,6],[1992,7,1993,7],[1992,8,1993,8],[1992,9,1993,9],[1992,10,1993,10],[1992,11,1993,11],[1992,12,1993,12],[1992,13,1993,13],[1992,14,1993,14],[1992,15,1993,15],[1979,0,1979,4],[1979,9,1979,15],[1980,0,1980,4],[1980,9,1980,15],[1986,0,1986,3],[1986,4,1986,7],[1987,0,1987,3],[1987,4,1987,14],[1988,0,1988,1],[1988,3,1988,5],[1988,7,1988,15],[1989,8,1989,15],[1990,0,1991,0],[1990,1,1991,1],[1990,2,1991,2],[1990,3,1991,3],[1990,4,1991,4],[1990,5,1991,5],[1990,6,1991,6],[1990,7,1990,9],[1990,10,1990,12],[1990,13,1991,13],[1990,14,1991,14],[1990,15,1991,15],[1974,0,1975,0],[1974,1,1975,1],[1974,2,1975,2],[1974,3,1975,3],[1974,4,1975,4],[1974,6,1975,6],[1974,7,1975,7],[1974,8,1975,8],[1974,9,1975,9],[1974,10,1975,10],[1974,11,1975,11],[1974,12,1975,12],[1974,13,1975,13],[1974,14,1975,14],[1974,15,1975,15],[1976,0,1977,0],[1976,1,1977,1],[1976,2,1977,2],[1976,3,1977,3],[1976,4,1977,4],[1976,6,1977,6],[1976,7,1977,7],[1976,8,1977,8],[1976,9,1977,9],[1976,10,1977,10],[1976,11,1977,11],[1976,12,1977,12],[1976,13,1977,13],[1976,14,1977,14],[1976,15,1977,15],[1972,0,1973,0],[1972,1,1973,1],[1972,2,1973,2],[1972,3,1973,3],[1972,4,1973,4],[1972,6,1973,6],[1972,7,1973,7],[1972,8,1973,8],[1972,9,1973,9],[1972,10,1973,10],[1972,11,1973,11],[1972,12,1973,12],[1972,13,1973,13],[1972,14,1973,14],[1972,15,1973,15],[1970,0,1971,0],[1970,1,1971,1],[1970,2,1971,2],[1970,3,1971,3],[1970,4,1971,4],[1970,6,1971,6],[1970,7,1971,7],[1970,8,1971,8],[1970,9,1971,9],[1970,10,1971,10],[1970,11,1971,11],[1970,12,1971,12],[1970,13,1971,13],[1970,14,1971,14],[1970,15,1971,15],[1957,0,1957,4],[1957,9,1957,15],[1958,0,1958,4],[1958,9,1958,15],[1964,0,1964,3],[1964,4,1964,7],[1965,0,1965,3],[1965,4,1965,14],[1966,0,1966,1],[1966,3,1966,5],[1966,7,1966,15],[1967,8,1967,15],[1968,0,1969,0],[1968,1,1969,1],[1968,2,1969,2],[1968,3,1969,3],[1968,4,1969,4],[1968,5,1969,5],[1968,6,1969,6],[1968,7,1968,9],[1968,10,1968,12],[1968,13,1969,13],[1968,14,1969,14],[1968,15,1969,15],[1952,0,1953,0],[1952,1,1953,1],[1952,2,1953,2],[1952,3,1953,3],[1952,4,1953,4],[1952,6,1953,6],[1952,7,1953,7],[1952,8,1953,8],[1952,9,1953,9],[1952,10,1953,10],[1952,11,1953,11],[1952,12,1953,12],[1952,13,1953,13],[1952,14,1953,14],[1952,15,1953,15],[1954,0,1955,0],[1954,1,1955,1],[1954,2,1955,2],[1954,3,1955,3],[1954,4,1955,4],[1954,6,1955,6],[1954,7,1955,7],[1954,8,1955,8],[1954,9,1955,9],[1954,10,1955,10],[1954,11,1955,11],[1954,12,1955,12],[1954,13,1955,13],[1954,14,1955,14],[1954,15,1955,15],[1950,0,1951,0],[1950,1,1951,1],[1950,2,1951,2],[1950,3,1951,3],[1950,4,1951,4],[1950,6,1951,6],[1950,7,1951,7],[1950,8,1951,8],[1950,9,1951,9],[1950,10,1951,10],[1950,11,1951,11],[1950,12,1951,12],[1950,13,1951,13],[1950,14,1951,14],[1950,15,1951,15],[1948,0,1949,0],[1948,1,1949,1],[1948,2,1949,2],[1948,3,1949,3],[1948,4,1949,4],[1948,6,1949,6],[1948,7,1949,7],[1948,8,1949,8],[1948,9,1949,9],[1948,10,1949,10],[1948,11,1949,11],[1948,12,1949,12],[1948,13,1949,13],[1948,14,1949,14],[1948,15,1949,15],[1935,0,1935,4],[1935,9,1935,15],[1936,0,1936,4],[1936,9,1936,15]],"merged_total":8477,"flags":["merged_cut"]}
[]
[]
[]
[null,"           "]
["Nombre de la dependencia o entidad: ",null,null,null,{"$f":"HOJA_CAPTURA!A3","v":"Instituto Nacional de Pediatría"},null,null,null,null,null,null,null,null,"Hoja: 1 de "]
["Unidad administrativa/Área productora: ",null,null,null,{"$f":"HOJA_CAPTURA!C3","v":0}]
[{"$f":"HOJA_CAPTURA!B3","v":"Fondo: INP"},null,"Sección:",{"$f":"HOJA_CAPTURA!G3","v":0},null,null,"Serie: ",{"$f":"HOJA_CAPTURA!H3","v":0}]
[null,null,null,null,null,null,"Subserie:",null,{"$f":"HOJA_CAPTURA!I3","v":0}]
["No. Consecutivo","No. de caja","No. de expediente","Clasificación archivística del expediente","Descripción o asunto ","                                                                                                                                                                                                                                                          Periodo de trámite","No.  de folios ","Valor documental",null,null,"Vigencia documental",null,null,"Condiciones de acceso (Reservada y confidencial)","Ubicación topográfica","Tradición documental "]
[null,null,null,null,null,null,null,"A","L","F/C","AT","AC","Total"]
[{"$f":"HOJA_CAPTURA!J3","v":0},{"$f":"HOJA_CAPTURA!K3","v":0},{"$f":"HOJA_CAPTURA!M3","v":0},{"$f":"HOJA_CAPTURA!N3","v":0},{"$f":"HOJA_CAPTURA!P3","v":0},{"$f":"HOJA_CAPTURA!Q3","v":"00:00:00"},{"$f":"HOJA_CAPTURA!V3","v":0},{"$f":"HOJA_CAPTURA!AF3","v":0},{"$f":"HOJA_CAPTURA!AG3","v":0},{"$f":"HOJA_CAPTURA!AH3","v":0},{"$f":"HOJA_CAPTURA!AI3","v":0},{"$f":"HOJA_CAPTURA!AJ3","v":0},{"$f":"HOJA_CAPTURA!AK3","v":0},{"$f":"HOJA_CAPTURA!AL3","v":0},{"$f":"HOJA_CAPTURA!AT3","v":0},{"$f":"HOJA_CAPTURA!AU3","v":0}]
[null,null,null,null,null,{"$f":"HOJA_CAPTURA!R3","v":"00:00:00"}]
[{"$f":"HOJA_CAPTURA!J4","v":0},{"$f":"HOJA_CAPTURA!K4","v":0},{"$f":"HOJA_CAPTURA!M4","v":0},{"$f":"HOJA_CAPTURA!N4","v":0},{"$f":"HOJA_CAPTURA!P4","v":0},{"$f":"HOJA_CAPTURA!Q4","v":"00:00:00"},{"$f":"HOJA_CAPTURA!V4","v":0},{"$f":"HOJA_CAPTURA!AF4","v":0},{"$f":"HOJA_CAPTURA!AG4","v":0},{"$f":"HOJA_CAPTURA!AH4","v":0},{"$f":"HOJA_CAPTURA!AI4","v":0},{"$f":"HOJA_CAPTURA!AJ4","v":0},{"$f":"HOJA_CAPTURA!AK4","v":0},{"$f":"HOJA_CAPTURA!AL4","v":0},{"$f":"HOJA_CAPTURA!AT4","v":0},{"$f":"HOJA_CAPTURA!AU4","v":0}]
[null,null,null,null,null,{"$f":"HOJA_CAPTURA!R4","v":"00:00:00"}]
[{"$f":"HOJA_CAPTURA!J5","v":0},{"$f":"HOJA_CAPTURA!K5","v":0},{"$f":"HOJA_CAPTURA!M5","v":0},{"$f":"HOJA_CAPTURA!N5","v":0},{"$f":"HOJA_CAPTURA!P5","v":0},{"$f":"HOJA_CAPTURA!Q5","v":"00:00:00"},{"$f":"HOJA_CAPTURA!V5","v":0},{"$f":"HOJA_CAPTURA!AF5","v":0},{"$f":"HOJA_CAPTURA!AG5","v":0},{"$f":"HOJA_CAPTURA!AH5","v":0},{"$f":"HOJA_CAPTURA!AI5","v":0},{"$f":"HOJA_CAPTURA!AJ5","v":0},{"$f":"HOJA_CAPTURA!AK5","v":0},{"$f":"HOJA_CAPTURA!AL5","v":0},{"$f":"HOJA_CAPTURA!AT5","v":0},{"$f":"HOJA_CAPTURA!AU5","v":0}]
[null,null,null,null,null,{"$f":"HOJA_CAPTURA!R5","v":"00:00:00"}]
[{"$f":"HOJA_CAPTURA!J6","v":0},{"$f":"HOJA_CAPTURA!K6","v":0},{"$f":"HOJA_CAPTURA!M6","v":0},{"$f":"HOJA_CAPTURA!N6","v":0},{"$f":"HOJA_CAPTURA!P6","v":0},{"$f":"HOJA_CAPTURA!Q6","v":"00:00:00"},{"$f":"HOJA_CAPTURA!V6","v":0},{"$f":"HOJA_CAPTURA!AF6","v":0},{"$f":"HOJA_CAPTURA!AG6","v":0},{"$f":"HOJA_CAPTURA!AH6","v":0},{"$f":"HOJA_CAPTURA!AI6","v":0},{"$f":"HOJA_CAPTURA!AJ6","v":0},{"$f":"HOJA_CAPTURA!AK6","v":0},{"$f":"HOJA_CAPTURA!AL6","v":0},{"$f":"HOJA_CAPTURA!AT6","v":0},{"$f":"HOJA_CAPTURA!AU6","v":0}]
[null,null,null,null,null,{"$f":"HOJA_CAPTURA!R6","v":"00:00:00"}]
[]
[{"$f":"HOJA_CAPTURA!F3","v":0},null,null,null,null,null,null,null,null,null,{"$f":"HOJA_CAPTURA!E3","v":0}]
["Nombre, firma y cargo de la persona que elaboró",null,null,null,null,null,null,null,null,null,"Nombre y firma del titular del Área productora"]
[]
[]
[]
[]
[null,"           "]
["Nombre de la dependencia o entidad: ",null,null,null,{"$f":"HOJA_CAPTURA!A7","v":"Instituto Nacional de Pediatría"},null,null,null,null,null,null,null,null,"Hoja: 2 de ",{"$f":"O5","v":0}]
["Unidad administrativa/Área productora: ",null,null,null,{"$f":"HOJA_CAPTURA!C7","v":0}]
[{"$f":"HOJA_CAPTURA!B7","v":"Fondo: INP"},null,"Sección:",{"$f":"HOJA_CAPTURA!G7","v":0},null,null,"Serie: ",{"$f":"HOJA_CAPTURA!H7","v":0}]
[null,null,null,null,null,null,"Subserie:",null,{"$f":"HOJA_CAPTURA!I7","v":0}]
["No. Consecutivo","No. de caja","No. de expediente","Clasificación archivística del expediente","Descripción o asunto ","                                                                                                                                                                                                                                                          Periodo de trámite","No.  de folios ","Valor documental",null,null,"Vigencia documental",null,null,"Condiciones de acceso (Reservada y confidencial)","Ubicación topográfica","Tradición documental "]
[null,null,null,null,null,null,null,"A","L","F/C","AT","AC","Total"]
[{"$f":"HOJA_CAPTURA!J7","v":0},{"$f":"HOJA_CAPTURA!K7","v":0},{"$f":"HOJA_CAPTURA!M7","v":0},{"$f":"HOJA_CAPTURA!N7","v":0},{"$f":"HOJA_CAPTURA!P7","v":0},{"$f":"HOJA_CAPTURA!Q7","v":"00:00:00"},{"$f":"HOJA_CAPTURA!V7","v":0},{"$f":"HOJA_CAPTURA!AF7","v":0},{"$f":"HOJA_CAPTURA!AG7","v":0},{"$f":"HOJA_CAPTURA!AH7","v":0},{"$f":"HOJA_CAPTURA!AI7","v":0},{"$f":"HOJA_CAPTURA!AJ7","v":0},{"$f":"HOJA_CAPTURA!AK7","v":0},{"$f":"HOJA_CAPTURA!AL7","v":0},{"$f":"HOJA_CAPTURA!AT7","v":0},{"$f":"HOJA_CAPTURA!AU7","v":0}]
[null,null,null,null,null,{"$f":"HOJA_CAPTURA!R7","v":"00:00:00"}]
[{"$f":"HOJA_CAPTURA!J8","v":0},{"$f":"HOJA_CAPTURA!K8","v":0},{"$f":"HOJA_CAPTURA!M8","v":0},{"$f":"HOJA_CAPTURA!N8","v":0},{"$f":"HOJA_CAPTURA!P8","v":0},{"$f":"HOJA_CAPTURA!Q8","v":"00:00:00"},{"$f":"HOJA_CAPTURA!V8","v":0},{"$f":"HOJA_CAPTURA!AF8","v":0},{"$f":"HOJA_CAPTURA!AG8","v":0},{"$f":"HOJA_CAPTURA!AH8","v":0},{"$f":"HOJA_CAPTURA!AI8","v":0},{"$f":"HOJA_CAPTURA!AJ8","v":0},{"$f":"HOJA_CAPTURA!AK8","v":0},{"$f":"HOJA_CAPTURA!AL8","v":0},{"$f":"HOJA_CAPTURA!AT8","v":0},{"$f":"HOJA_CAPTURA!AU8","v":0}]
[null,null,null,null,null,{"$f":"HOJA_CAPTURA!R8","v":"00:00:00"}]
[{"$f":"HOJA_CAPTURA!J9","v":0},{"$f":"HOJA_CAPTURA!K9","v":0},{"$f":"HOJA_CAPTURA!M9","v":0},{"$f":"HOJA_CAPTURA!N9","v":0},{"$f":"HOJA_CAPTURA!P9","v":0},{"$f":"HOJA_CAPTURA!Q9","v":"00:00:00"},{"$f":"HOJA_CAPTURA!V9","v":0},{"$f":"HOJA_CAPTURA!AF9","v":0},{"$f":"HOJA_CAPTURA!AG9","v":0},{"$f":"HOJA_CAPTURA!AH9","v":0},{"$f":"HOJA_CAPTURA!AI9","v":0},{"$f":"HOJA_CAPTURA!AJ9","v":0},{"$f":"HOJA_CAPTURA!AK9","v":0},{"$f":"HOJA_CAPTURA!AL9","v":0},{"$f":"HOJA_CAPTURA!AT9","v":0},{"$f":"HOJA_CAPTURA!AU9","v":0}]
[null,null,null,null,null,{"$f":"HOJA_CAPTURA!R9","v":"00:00:00"}]
[{"$f":"HOJA_CAPTURA!J10","v":0},{"$f":"HOJA_CAPTURA!K10","v":0},{"$f":"HOJA_CAPTURA!M10","v":0},{"$f":"HOJA_CAPTURA!N10","v":0},{"$f":"HOJA_CAPTURA!P10","v":0},{"$f":"HOJA_CAPTURA!Q10","v":"00:00:00"},{"$f":"HOJA_CAPTURA!V10","v":0},{"$f":"HOJA_CAPTURA!AF10","v":0},{"$f":"HOJA_CAPTURA!AG10","v":0},{"$f":"HOJA_CAPTURA!AH10","v":0},{"$f":"HOJA_CAPTURA!AI10","v":0},{"$f":"HOJA_CAPTURA!AJ10","v":0},{"$f":"HOJA_CAPTURA!AK10","v":0},{"$f":"HOJA_CAPTURA!AL10","v":0},{"$f":"HOJA_CAPTURA!AT10","v":0},{"$f":"HOJA_CAPTURA!AU10","v":0}]
[null,null,null,null,null,{"$f":"HOJA_CAPTURA!R10","v":"00:00:00"}]
[]
[{"$f":"HOJA_CAPTURA!F7","v":0},null,null,null,null,null,null,null,null,null,{"$f":"HOJA_CAPTURA!E7","v":0}]
["Nombre, firma y cargo de la persona que elaboró",null,null,null,null,null,null,null,null,null,"Nombre y firma del titular del Área productora"]
[]
[]
[]
[]
[null,"           "]
["Nombre de la dependencia o entidad: ",null,null,null,{"$f":"HOJA_CAPTURA!A11","v":"Instituto Nacional de Pediatría"},null,null,null,null,null,null,null,null,"Hoja: 3 de ",{"$f":"O5","v":0}]
["Unidad administrativa/Área productora:",null,null,null,{"$f":"HOJA_CAPTURA!C11","v":0}]
[{"$f":"HOJA_CAPTURA!B11","v":"Fondo: INP"},null,"Sección:",{"$f":"HOJA_CAPTURA!G11","v":0},null,null,"Serie: ",{"$f":"HOJA_CAPTURA!H11","v":0}]
[null,null,null,null,null,null,"Subserie:",null,{"$f":"HOJA_CAPTURA!I11","v":0}]
["No. Consecutivo","No. de caja","No. de expediente","Clasificación archivística del expediente","Descripción o asunto ","                                                                                                                                                                                                                                                          Periodo de trámite","No.  de folios ","Valor documental",null,null,"Vigencia documental",null,null,"Condiciones de acceso (Reservada y confidencial)","Ubicación topográfica","Tradición documental "]
[null,null,null,null,null,null,null,"A","L","F/C","AT","AC","Total"]
[{"$f":"HOJA_CAPTURA!J11","v":0},{"$f":"HOJA_CAPTURA!K11","v":0},{"$f":"HOJA_CAPTURA!M11","v":0},{"$f":"HOJA_CAPTURA!N11","v":0},{"$f":"HOJA_CAPTURA!P11","v":0},{"$f":"HOJA_CAPTURA!Q11","v":"00:00:00"},{"$f":"HOJA_CAPTURA!V11","v":0},{"$f":"HOJA_CAPTURA!AF11","v":0},{"$f":"HOJA_CAPTURA!AG11","v":0},{"$f":"HOJA_CAPTURA!AH11","v":0},{"$f":"HOJA_CAPTURA!AI11","v":0},{"$f":"HOJA_CAPTURA!AJ11","v":0},{"$f":"HOJA_CAPTURA!AK11","v":0},{"$f":"HOJA_CAPTURA!AL11","v":0},{"$f":"HOJA_CAPTURA!AT11","v":0},{"$f":"HOJA_CAPTURA!AU11","v":0}]
[null,null,null,null,null,{"$f":"HOJA_CAPTURA!R11","v":"00:00:00"}]
[{"$f":"HOJA_CAPTURA!J12","v":0},{"$f":"HOJA_CAPTURA!K12","v":0},{"$f":"HOJA_CAPTURA!M12","v":0},{"$f":"HOJA_CAPTURA!N12","v":0},{"$f":"HOJA_CAPTURA!P12","v":0},{"$f":"HOJA_CAPTURA!Q12","v":"00:00:00"},{"$f":"HOJA_CAPTURA!V12","v":0},{"$f":"HOJA_CAPTURA!AF12","v":0},{"$f":"HOJA_CAPTURA!AG12","v":0},{"$f":"HOJA_CAPTURA!AH12","v":0},{"$f":"HOJA_CAPTURA!AI12","v":0},{"$f":"HOJA_CAPTURA!AJ12","v":0},{"$f":"HOJA_CAPTURA!AK12","v":0},{"$f":"HOJA_CAPTURA!AL12","v":0},{"$f":"HOJA_CAPTURA!AT12","v":0},{"$f":"HOJA_CAPTURA!AU12","v":0}]
[null,null,null,null,null,{"$f":"HOJA_CAPTURA!R12","v":"00:00:00"}]
[{"$f":"HOJA_CAPTURA!J13","v":0},{"$f":"HOJA_CAPTURA!K13","v":0},{"$f":"HOJA_CAPTURA!M13","v":0},{"$f":"HOJA_CAPTURA!N13","v":0},{"$f":"HOJA_CAPTURA!P13","v":0},{"$f":"HOJA_CAPTURA!Q13","v":"00:00:00"},{"$f":"HOJA_CAPTURA!V13","v":0},{"$f":"HOJA_CAPTURA!AF13","v":0},{"$f":"HOJA_CAPTURA!AG13","v":0},{"$f":"HOJA_CAPTURA!AH13","v":0},{"$f":"HOJA_CAPTURA!AI13","v":0},{"$f":"HOJA_CAPTURA!AJ13","v":0},{"$f":"HOJA_CAPTURA!AK13","v":0},{"$f":"HOJA_CAPTURA!AL13","v":0},{"$f":"HOJA_CAPTURA!AT13","v":0},{"$f":"HOJA_CAPTURA!AU13","v":0}]
[null,null,null,null,null,{"$f":"HOJA_CAPTURA!R13","v":"00:00:00"}]
[{"$f":"HOJA_CAPTURA!J14","v":0},{"$f":"HOJA_CAPTURA!K14","v":0},{"$f":"HOJA_CAPTURA!M14","v":0},{"$f":"HOJA_CAPTURA!N14","v":0},{"$f":"HOJA_CAPTURA!P14","v":0},{"$f":"HOJA_CAPTURA!Q14","v":"00:00:00"},{"$f":"HOJA_CAPTURA!V14","v":0},{"$f":"HOJA_CAPTURA!AF14","v":0},{"$f":"HOJA_CAPTURA!AG14","v":0},{"$f":"HOJA_CAPTURA!AH14","v":0},{"$f":"HOJA_CAPTURA!AI14","v":0},{"$f":"HOJA_CAPTURA!AJ14","v":0},{"$f":"HOJA_CAPTURA!AK14","v":0},{"$f":"HOJA_CAPTURA!AL14","v":0},{"$f":"HOJA_CAPTURA!AT14","v":0},{"$f":"HOJA_CAPTURA!AU14","v":0}]
[null,null,null,null,null,{"$f":"HOJA_CAPTURA!R14","v":"00:00:00"}]
[]
[{"$f":"HOJA_CAPTURA!F11","v":0},null,null,null,null,null,null,null,null,null,{"$f":"HOJA_CAPTURA!E11","v":0}]
["Nombre, firma y cargo de la persona que elaboró",null,null,null,null,null,null,null,null,null,"Nombre y firma del titular del Área productora"]
[]
[]
[]
[]
[null,"           "]
["Nombre de la dependencia o entidad: ",null,null,null,{"$f":"HOJA_CAPTURA!A15","v":"Instituto Nacional de Pediatría"},null,null,null,null,null,null,null,null,"Hoja: 4 de ",{"$f":"O5","v":0}]
["Unidad administrativa/Área productora:",null,null,null,{"$f":"HOJA_CAPTURA!C15","v":0}]
[{"$f":"HOJA_CAPTURA!B15","v":"Fondo: INP"},null,"Sección:",{"$f":"HOJA_CAPTURA!G15","v":0},null,null,"Serie: ",{"$f":"HOJA_CAPTURA!H15","v":0}]
[null,null,null,null,null,null,"Subserie:",null,{"$f":"HOJA_CAPTURA!I15","v":0}]
["No. Consecutivo","No. de caja","No. de expediente","Clasificación archivística del expediente","Descripción o asunto ","                                                                                                                                                                                                                                                          Periodo de trámite","No.  de folios ","Valor documental",null,null,"Vigencia documental",null,null,"Condiciones de acceso (Reservada y confidencial)","Ubicación topográfica","Tradición documental "]
[null,null,null,null,null,null,null,"A","L","F/C","AT","AC","Total"]
[{"$f":"HOJA_CAPTURA!J15","v":0},{"$f":"HOJA_CAPTURA!K15","v":0},{"$f":"HOJA_CAPTURA!M15","v":0},{"$f":"HOJA_CAPTURA!N15","v":0},{"$f":"HOJA_CAPTURA!P15","v":0},{"$f":"HOJA_CAPTURA!Q15","v":"00:00:00"},{"$f":"HOJA_CAPTURA!V15","v":0},{"$f":"HOJA_CAPTURA!AF15","v":0},{"$f":"HOJA_CAPTURA!AG15","v":0},{"$f":"HOJA_CAPTURA!AH15","v":0},{"$f":"HOJA_CAPTURA!AI15","v":0},{"$f":"HOJA_CAPTURA!AJ15","v":0},{"$f":"HOJA_CAPTURA!AK15","v":0},{"$f":"HOJA_CAPTURA!AL15","v":0},{"$f":"HOJA_CAPTURA!AT15","v":0},{"$f":"HOJA_CAPTURA!AU15","v":0}]
[null,null,null,null,null,{"$f":"HOJA_CAPTURA!R15","v":"00:00:00"}]
[{"$f":"HOJA_CAPTURA!J16","v":0},{"$f":"HOJA_CAPTURA!K16","v":0},{"$f":"HOJA_CAPTURA!M16","v":0},{"$f":"HOJA_CAPTURA!N16","v":0},{"$f":"HOJA_CAPTURA!P16","v":0},{"$f":"HOJA_CAPTURA!Q16","v":"00:00:00"},{"$f":"HOJA_CAPTURA!V16","v":0},{"$f":"HOJA_CAPTURA!AF16","v":0},{"$f":"HOJA_CAPTURA!AG16","v":0},{"$f":"HOJA_CAPTURA!AH16","v":0},{"$f":"HOJA_CAPTURA!AI16","v":0},{"$f":"HOJA_CAPTURA!AJ16","v":0},{"$f":"HOJA_CAPTURA!AK16","v":0},{"$f":"HOJA_CAPTURA!AL16","v":0},{"$f":"HOJA_CAPTURA!AT16","v":0},{"$f":"HOJA_CAPTURA!AU16","v":0}]
[null,null,null,null,null,{"$f":"HOJA_CAPTURA!R16","v":"00:00:00"}]
[{"$f":"HOJA_CAPTURA!J17","v":0},{"$f":"HOJA_CAPTURA!K17","v":0},{"$f":"HOJA_CAPTURA!M17","v":0},{"$f":"HOJA_CAPTURA!N17","v":0},{"$f":"HOJA_CAPTURA!P17","v":0},{"$f":"HOJA_CAPTURA!Q17","v":"00:00:00"},{"$f":"HOJA_CAPTURA!V17","v":0},{"$f":"HOJA_CAPTURA!AF17","v":0},{"$f":"HOJA_CAPTURA!AG17","v":0},{"$f":"HOJA_CAPTURA!AH17","v":0},{"$f":"HOJA_CAPTURA!AI17","v":0},{"$f":"HOJA_CAPTURA!AJ17","v":0},{"$f":"HOJA_CAPTURA!AK17","v":0},{"$f":"HOJA_CAPTURA!AL17","v":0},{"$f":"HOJA_CAPTURA!AT17","v":0},{"$f":"HOJA_CAPTURA!AU17","v":0}]
[null,null,null,null,null,{"$f":"HOJA_CAPTURA!R17","v":"00:00:00"}]
[{"$f":"HOJA_CAPTURA!J18","v":0},{"$f":"HOJA_CAPTURA!K18","v":0},{"$f":"HOJA_CAPTURA!M18","v":0},{"$f":"HOJA_CAPTURA!N18","v":0},{"$f":"HOJA_CAPTURA!P18","v":0},{"$f":"HOJA_CAPTURA!Q18","v":"00:00:00"},{"$f":"HOJA_CAPTURA!V18","v":0},{"$f":"HOJA_CAPTURA!AF18","v":0},{"$f":"HOJA_CAPTURA!AG18","v":0},{"$f":"HOJA_CAPTURA!AH18","v":0},{"$f":"HOJA_CAPTURA!AI18","v":0},{"$f":"HOJA_CAPTURA!AJ18","v":0},{"$f":"HOJA_CAPTURA!AK18","v":0},{"$f":"HOJA_CAPTURA!AL18","v":0},{"$f":"HOJA_CAPTURA!AT18","v":0},{"$f":"HOJA_CAPTURA!AU18","v":0}]
[null,null,null,null,null,{"$f":"HOJA_CAPTURA!R18","v":"00:00:00"}]
[]
[{"$f":"HOJA_CAPTURA!F15","v":0},null,null,null,null,null,null,null,null,null,{"$f":"HOJA_CAPTURA!E15","v":0}]
["Nombre, firma y cargo de la persona que elaboró",null,null,null,null,null,null,null,null,null,"Nombre y firma del titular del Área productora"]
[]
[]
[]
[]
[null,"           "]
["Nombre de la dependencia o entidad: ",null,null,null,{"$f":"HOJA_CAPTURA!A19","v":"Instituto Nacional de Pediatría"},null,null,null,null,null,null,null,null,"Hoja: 5 de ",{"$f":"O5","v":0}]
["Unidad administrativa/Área productora:",null,null,null,{"$f":"HOJA_CAPTURA!C19","v":0}]
[{"$f":"HOJA_CAPTURA!B19","v":"Fondo: INP"},null,"Sección:",{"$f":"HOJA_CAPTURA!G19","v":0},null,null,"Serie: ",{"$f":"HOJA_CAPTURA!H19","v":0}]
[null,null,null,null,null,null,"Subserie:",null,{"$f":"HOJA_CAPTURA!I19","v":0}]
["No. Consecutivo","No. de caja","No. de expediente","Clasificación archivística del expediente","Descripción o asunto ","                                                                                                                                                                                                                                                          Periodo de trámite","No.  de folios ","Valor documental",null,null,"Vigencia documental",null,null,"Condiciones de acceso (Reservada y confidencial)","Ubicación topográfica","Tradición documental "]
[null,null,null,null,null,null,null,"A","L","F/C","AT","AC","Total"]
[{"$f":"HOJA_CAPTURA!J19","v":0},{"$f":"HOJA_CAPTURA!K19","v":0},{"$f":"HOJA_CAPTURA!M19","v":0},{"$f":"HOJA_CAPTURA!N19","v":0},{"$f":"HOJA_CAPTURA!P19","v":0},{"$f":"HOJA_CAPTURA!Q19","v":"00:00:00"},{"$f":"HOJA_CAPTURA!V19","v":0},{"$f":"HOJA_CAPTURA!AF19","v":0},{"$f":"HOJA_CAPTURA!AG19","v":0},{"$f":"HOJA_CAPTURA!AH19","v":0},{"$f":"HOJA_CAPTURA!AI19","v":0},{"$f":"HOJA_CAPTURA!AJ19","v":0},{"$f":"HOJA_CAPTURA!AK19","v":0},{"$f":"HOJA_CAPTURA!AL19","v":0},{"$f":"HOJA_CAPTURA!AT19","v":0},{"$f":"HOJA_CAPTURA!AU19","v":0}]
[null,null,null,null,null,{"$f":"HOJA_CAPTURA!R19","v":"00:00:00"}]
[{"$f":"HOJA_CAPTURA!J20","v":0},{"$f":"HOJA_CAPTURA!K20","v":0},{"$f":"HOJA_CAPTURA!M20","v":0},{"$f":"HOJA_CAPTURA!N20","v":0},{"$f":"HOJA_CAPTURA!P20","v":0},{"$f":"HOJA_CAPTURA!Q20","v":"00:00:00"},{"$f":"HOJA_CAPTURA!V20","v":0},{"$f":"HOJA_CAPTURA!AF20","v":0},{"$f":"HOJA_CAPTURA!AG20","v":0},{"$f":"HOJA_CAPTURA!AH20","v":0},{"$f":"HOJA_CAPTURA!AI20","v":0},{"$f":"HOJA_CAPTURA!AJ20","v":0},{"$f":"HOJA_CAPTURA!AK20","v":0},{"$f":"HOJA_CAPTURA!AL20","v":0},{"$f":"HOJA_CAPTURA!AT20","v":0},{"$f":"HOJA_CAPTURA!AU20","v":0}]
[null,null,null,null,null,{"$f":"HOJA_CAPTURA!R20","v":"00:00:00"}]
[{"$f":"HOJA_CAPTURA!J21","v":0},{"$f":"HOJA_CAPTURA!K21","v":0},{"$f":"HOJA_CAPTURA!M21","v":0},{"$f":"HOJA_CAPTURA!N21","v":0},{"$f":"HOJA_CAPTURA!P21","v":0},{"$f":"HOJA_CAPTURA!Q21","v":"00:00:00"},{"$f":"HOJA_CAPTURA!V21","v":0},{"$f":"HOJA_CAPTURA!AF21","v":0},{"$f":"HOJA_CAPTURA!AG21","v":0},{"$f":"HOJA_CAPTURA!AH21","v":0},{"$f":"HOJA_CAPTURA!AI21","v":0},{"$f":"HOJA_CAPTURA!AJ21","v":0},{"$f":"HOJA_CAPTURA!AK21","v":0},{"$f":"HOJA_CAPTURA!AL21","v":0},{"$f":"HOJA_CAPTURA!AT21","v":0},{"$f":"HOJA_CAPTURA!AU21","v":0}]
[null,null,null,null,null,{"$f":"HOJA_CAPTURA!R21","v":"00:00:00"}]
[{"$f":"HOJA_CAPTURA!J22","v":0},{"$f":"HOJA_CAPTURA!K22","v":0},{"$f":"HOJA_CAPTURA!M22","v":0},{"$f":"HOJA_CAPTURA!N22","v":0},{"$f":"HOJA_CAPTURA!P22","v":0},{"$f":"HOJA_CAPTURA!Q22","v":"00:00:00"},{"$f":"HOJA_CAPTURA!V22","v":0},{"$f":"HOJA_CAPTURA!AF22","v":0},{"$f":"HOJA_CAPTURA!AG22","v":0},{"$f":"HOJA_CAPTURA!AH22","v":0},{"$f":"HOJA_CAPTURA!AI22","v":0},{"$f":"HOJA_CAPTURA!AJ22","v":0},{"$f":"HOJA_CAPTURA!AK22","v":0},{"$f":"HOJA_CAPTURA!AL22","v":0},{"$f":"HOJA_CAPTURA!AT22","v":0},{"$f":"HOJA_CAPTURA!AU22","v":0}]
[null,null,null,null,null,{"$f":"HOJA_CAPTURA!R22","v":"00:00:00"}]
[]
[{"$f":"HOJA_CAPTURA!F19","v":0},null,null,null,null,null,null,null,null,null,{"$f":"HOJA_CAPTURA!E19","v":0}]
["Nombre, firma y cargo de la persona que elaboró",null,null,null,null,null,null,null,null,null,"Nombre y firma del titular del Área productora"]
[]
[]
[]
[]
[null,"           "]
["Nombre de la dependencia o entidad: ",null,null,null,{"$f":"HOJA_CAPTURA!A23","v":"Instituto Nacional de Pediatría"},null,null,null,null,null,null,null,null,"Hoja: 6 de ",{"$f":"O5","v":0}]
["Unidad administrativa/Área productora:",null,null,null,{"$f":"HOJA_CAPTURA!C23","v":0}]
[{"$f":"HOJA_CAPTURA!B23","v":"Fondo: INP"},null,"Sección:",{"$f":"HOJA_CAPTURA!G23","v":0},null,null,"Serie: ",{"$f":"HOJA_CAPTURA!H23","v":0}]
[null,null,null,null,null,null,"Subserie:",null,{"$f":"HOJA_CAPTURA!I23","v":0}]
["No. Consecutivo","No. de caja","No. de expediente","Clasificación archivística del expediente","Descripción o asunto ","                                                                                                                                                                                                                                                          Periodo de trámite","No.  de folios ","Valor documental",null,null,"Vigencia documental",null,null,"Condiciones de acceso (Reservada y confidencial)","Ubicación topográfica","Tradición documental "]
[null,null,null,null,null,null,null,"A","L","F/C","AT","AC","Total"]
[{"$f":"HOJA_CAPTURA!J23","v":0},{"$f":"HOJA_CAPTURA!K23","v":0},{"$f":"HOJA_CAPTURA!M23","v":0},{"$f":"HOJA_CAPTURA!N23","v":0},{"$f":"HOJA_CAPTURA!P23","v":0},{"$f":"HOJA_CAPTURA!Q23","v":"00:00:00"},{"$f":"HOJA_CAPTURA!V23","v":0},{"$f":"HOJA_CAPTURA!AF23","v":0},{"$f":"HOJA_CAPTURA!AG23","v":0},{"$f":"HOJA_CAPTURA!AH23","v":0},{"$f":"HOJA_CAPTURA!AI23","v":0},{"$f":"HOJA_CAPTURA!AJ23","v":0},{"$f":"HOJA_CAPTURA!AK23","v":0},{"$f":"HOJA_CAPTURA!AL23","v":0},{"$f":"HOJA_CAPTURA!AT23","v":0},{"$f":"HOJA_CAPTURA!AU23","v":0}]
[null,null,null,null,null,{"$f":"HOJA_CAPTURA!R23","v":"00:00:00"}]
[{"$f":"HOJA_CAPTURA!J24","v":0},{"$f":"HOJA_CAPTURA!K24","v":0},{"$f":"HOJA_CAPTURA!M24","v":0},{"$f":"HOJA_CAPTURA!N24","v":0},{"$f":"HOJA_CAPTURA!P24","v":0},{"$f":"HOJA_CAPTURA!Q24","v":"00:00:00"},{"$f":"HOJA_CAPTURA!V24","v":0},{"$f":"HOJA_CAPTURA!AF24","v":0},{"$f":"HOJA_CAPTURA!AG24","v":0},{"$f":"HOJA_CAPTURA!AH24","v":0},{"$f":"HOJA_CAPTURA!AI24","v":0},{"$f":"HOJA_CAPTURA!AJ24","v":0},{"$f":"HOJA_CAPTURA!AK24","v":0},{"$f":"HOJA_CAPTURA!AL24","v":0},{"$f":"HOJA_CAPTURA!AT24","v":0},{"$f":"HOJA_CAPTURA!AU24","v":0}]
[null,null,null,null,null,{"$f":"HOJA_CAPTURA!R24","v":"00:00:00"}]
[{"$f":"HOJA_CAPTURA!J25","v":0},{"$f":"HOJA_CAPTURA!K25","v":0},{"$f":"HOJA_CAPTURA!M25","v":0},{"$f":"HOJA_CAPTURA!N25","v":0},{"$f":"HOJA_CAPTURA!P25","v":0},{"$f":"HOJA_CAPTURA!Q25","v":"00:00:00"},{"$f":"HOJA_CAPTURA!V25","v":0},{"$f":"HOJA_CAPTURA!AF25","v":0},{"$f":"HOJA_CAPTURA!AG25","v":0},{"$f":"HOJA_CAPTURA!AH25","v":0},{"$f":"HOJA_CAPTURA!AI25","v":0},{"$f":"HOJA_CAPTURA!AJ25","v":0},{"$f":"HOJA_CAPTURA!AK25","v":0},{"$f":"HOJA_CAPTURA!AL25","v":0},{"$f":"HOJA_CAPTURA!AT25","v":0},{"$f":"HOJA_CAPTURA!AU25","v":0}]
[null,null,null,null,null,{"$f":"HOJA_CAPTURA!R25","v":"00:00:00"}]
[{"$f":"HOJA_CAPTURA!J26","v":0},{"$f":"HOJA_CAPTURA!K26","v":0},{"$f":"HOJA_CAPTURA!M26","v":0},{"$f":"HOJA_CAPTURA!N26","v":0},{"$f":"HOJA_CAPTURA!P26","v":0},{"$f":"HOJA_CAPTURA!Q26","v":"00:00:00"},{"$f":"HOJA_CAPTURA!V26","v":0},{"$f":"HOJA_CAPTURA!AF26","v":0},{"$f":"HOJA_CAPTURA!AG26","v":0},{"$f":"HOJA_CAPTURA!AH26","v":0},{"$f":"HOJA_CAPTURA!AI26","v":0},{"$f":"HOJA_CAPTURA!AJ26","v":0},{"$f":"HOJA_CAPTURA!AK26","v":0},{"$f":"HOJA_CAPTURA!AL26","v":0},{"$f":"HOJA_CAPTURA!AT26","v":0},{"$f":"HOJA_CAPTURA!AU26","v":0}]
[null,null,null,null,null,{"$f":"HOJA_CAPTURA!R26","v":"00:00:00"}]
[]
[{"$f":"HOJA_CAPTURA!F23","v":0},null,null,null,null,null,null,null,null,null,{"$f":"HOJA_CAPTURA!E23","v":0}]
["Nombre, firma y cargo de la persona que elaboró",null,null,null,null,null,null,null,null,null,"Nombre y firma del titular del Área productora"]
[]
[]
[]
[]
[null,"           "]
["Nombre de la dependencia o entidad: ",null,null,null,{"$f":"HOJA_CAPTURA!A27","v":"Instituto Nacional de Pediatría"},null,null,null,null,null,null,null,null,"Hoja: 7 de ",{"$f":"O5","v":0}]
["Unidad administrativa/Área productora:",null,null,null,{"$f":"HOJA_CAPTURA!C27","v":0}]
[{"$f":"HOJA_CAPTURA!B27","v":"Fondo: INP"},null,"Sección:",{"$f":"HOJA_CAPTURA!G27","v":0},null,null,"Serie: ",{"$f":"HOJA_CAPTURA!H27","v":0}]
[null,null,null,null,null,null,"Subserie:",null,{"$f":"HOJA_CAPTURA!I27","v":0}]
["No. Consecutivo","No. de caja","No. de expediente","Clasificación archivística del expediente","Descripción o asunto ","                                                                                                                                                                                                                                                          Periodo de trámite","No.  de folios ","Valor documental",null,null,"Vigencia documental",null,null,"Condiciones de acceso (Reservada y confidencial)","Ubicación topográfica","Tradición documental "]
[null,null,null,null,null,null,null,"A","L","F/C","AT","AC","Total"]
[{"$f":"HOJA_CAPTURA!J27","v":0},{"$f":"HOJA_CAPTURA!K27","v":0},{"$f":"HOJA_CAPTURA!M27","v":0},{"$f":"HOJA_CAPTURA!N27","v":0},{"$f":"HOJA_CAPTURA!P27","v":0},{"$f":"HOJA_CAPTURA!Q27","v":"00:00:00"},{"$f":"HOJA_CAPTURA!V27","v":0},{"$f":"HOJA_CAPTURA!AF27","v":0},{"$f":"HOJA_CAPTURA!AG27","v":0},{"$f":"HOJA_CAPTURA!AH27","v":0},{"$f":"HOJA_CAPTURA!AI27","v":0},{"$f":"HOJA_CAPTURA!AJ27","v":0},{"$f":"HOJA_CAPTURA!AK27","v":0},{"$f":"HOJA_CAPTURA!AL27","v":0},{"$f":"HOJA_CAPTURA!AT27","v":0},{"$f":"HOJA_CAPTURA!AU27","v":0}]
[null,null,null,null,null,{"$f":"HOJA_CAPTURA!R27","v":"00:00:00"}]
[{"$f":"HOJA_CAPTURA!J28","v":0},{"$f":"HOJA_CAPTURA!K28","v":0},{"$f":"HOJA_CAPTURA!M28","v":0},{"$f":"HOJA_CAPTURA!N28","v":0},{"$f":"HOJA_CAPTURA!P28","v":0},{"$f":"HOJA_CAPTURA!Q28","v":"00:00:00"},{"$f":"HOJA_CAPTURA!V28","v":0},{"$f":"HOJA_CAPTURA!AF28","v":0},{"$f":"HOJA_CAPTURA!AG28","v":0},{"$f":"HOJA_CAPTURA!AH28","v":0},{"$f":"HOJA_CAPTURA!AI28","v":0},{"$f":"HOJA_CAPTURA!AJ28","v":0},{"$f":"HOJA_CAPTURA!AK28","v":0},{"$f":"HOJA_CAPTURA!AL28","v":0},{"$f":"HOJA_CAPTURA!AT28","v":0},{"$f":"HOJA_CAPTURA!AU28","v":0}]
[null,null,null,null,null,{"$f":"HOJA_CAPTURA!R28","v":"00:00:00"}]
[{"$f":"HOJA_CAPTURA!J29","v":0},{"$f":"HOJA_CAPTURA!K29","v":0},{"$f":"HOJA_CAPTURA!M29","v":0},{"$f":"HOJA_CAPTURA!N29","v":0},{"$f":"HOJA_CAPTURA!P29","v":0},{"$f":"HOJA_CAPTURA!Q29","v":"00:00:00"},{"$f":"HOJA_CAPTURA!V29","v":0},{"$f":"HOJA_CAPTURA!AF29","v":0},{"$f":"HOJA_CAPTURA!AG29","v":0},{"$f":"HOJA_CAPTURA!AH29","v":0},{"$f":"HOJA_CAPTURA!AI29","v":0},{"$f":"HOJA_CAPTURA!AJ29","v":0},{"$f":"HOJA_CAPTURA!AK29","v":0},{"$f":"HOJA_CAPTURA!AL29","v":0},{"$f":"HOJA_CAPTURA!AT29","v":0},{"$f":"HOJA_CAPTURA!AU29","v":0}]
[null,null,null,null,null,{"$f":"HOJA_CAPTURA!R29","v":"00:00:00"}]
[{"$f":"HOJA_CAPTURA!J30","v":0},{"$f":"HOJA_CAPTURA!K30","v":0},{"$f":"HOJA_CAPTURA!M30","v":0},{"$f":"HOJA_CAPTURA!N30","v":0},{"$f":"HOJA_CAPTURA!P30","v":0},{"$f":"HOJA_CAPTURA!Q30","v":"00:00:00"},{"$f":"HOJA_CAPTURA!V30","v":0},{"$f":"HOJA_CAPTURA!AF30","v":0},{"$f":"HOJA_CAPTURA!AG30","v":0},{"$f":"HOJA_CAPTURA!AH30","v":0},{"$f":"HOJA_CAPTURA!AI30","v":0},{"$f":"HOJA_CAPTURA!AJ30","v":0},{"$f":"HOJA_CAPTURA!AK30","v":0},{"$f":"HOJA_CAPTURA!AL30","v":0},{"$f":"HOJA_CAPTURA!AT30","v":0},{"$f":"HOJA_CAPTURA!AU30","v":0}]
[null,null,null,null,null,{"$f":"HOJA_CAPTURA!R30","v":"00:00:00"}]
[]
[{"$f":"HOJA_CAPTURA!F27","v":0},null,null,null,null,null,null,null,null,null,{"$f":"HOJA_CAPTURA!E27","v":0}]
["Nombre, firma y cargo de la persona que elaboró",null,null,null,null,null,null,null,null,null,"Nombre y firma del titular del Área productora"]
[]
[]
[]
[]
[null,"           "]
["Nombre de la dependencia o entidad: ",null,null,null,{"$f":"HOJA_CAPTURA!A31","v":"Instituto Nacional de Pediatría"},null,null,null,null,null,null,null,null,"Hoja: 8 de ",{"$f":"O5","v":0}]
["Unidad administrativa/Área productora:",null,null,null,{"$f":"HOJA_CAPTURA!C31","v":0}]
[{"$f":"HOJA_CAPTURA!B31","v":"Fondo: INP"},null,"Sección:",{"$f":"HOJA_CAPTURA!G31","v":0},null,null,"Serie: ",{"$f":"HOJA_CAPTURA!H31","v":0}]
[null,null,null,null,null,null,"Subserie:",null,{"$f":"HOJA_CAPTURA!I31","v":0}]
["No. Consecutivo","No. de caja","No. de expediente","Clasificación archivística del expediente","Descripción o asunto ","                                                                                                                                                                                                                                                          Periodo de trámite","No.  de folios ","Valor documental",null,null,"Vigencia documental",null,null,"Condiciones de acceso (Reservada y confidencial)","Ubicación topográfica","Tradición documental "]
[null,null,null,null,null,null,null,"A","L","F/C","AT","AC","Total"]
[{"$f":"HOJA_CAPTURA!J31","v":0},{"$f":"HOJA_CAPTURA!K31","v":0},{"$f":"HOJA_CAPTURA!M31","v":0},{"$f":"HOJA_CAPTURA!N31","v":0},{"$f":"HOJA_CAPTURA!P31","v":0},{"$f":"HOJA_CAPTURA!Q31","v":"00:00:00"},{"$f":"HOJA_CAPTURA!V31","v":0},{"$f":"HOJA_CAPTURA!AF31","v":0},{"$f":"HOJA_CAPTURA!AG31","v":0},{"$f":"HOJA_CAPTURA!AH31","v":0},{"$f":"HOJA_CAPTURA!AI31","v":0},{"$f":"HOJA_CAPTURA!AJ31","v":0},{"$f":"HOJA_CAPTURA!AK31","v":0},{"$f":"HOJA_CAPTURA!AL31","v":0},{"$f":"HOJA_CAPTURA!AT31","v":0},{"$f":"HOJA_CAPTURA!AU31","v":0}]
[null,null,null,null,null,{"$f":"HOJA_CAPTURA!R31","v":"00:00:00"}]
[{"$f":"HOJA_CAPTURA!J32","v":0},{"$f":"HOJA_CAPTURA!K32","v":0},{"$f":"HOJA_CAPTURA!M32","v":0},{"$f":"HOJA_CAPTURA!N32","v":0},{"$f":"HOJA_CAPTURA!P32","v":0},{"$f":"HOJA_CAPTURA!Q32","v":"00:00:00"},{"$f":"HOJA_CAPTURA!V32","v":0},{"$f":"HOJA_CAPTURA!AF32","v":0},{"$f":"HOJA_CAPTURA!AG32","v":0},{"$f":"HOJA_CAPTURA!AH32","v":0},{"$f":"HOJA_CAPTURA!AI32","v":0},{"$f":"HOJA_CAPTURA!AJ32","v":0},{"$f":"HOJA_CAPTURA!AK32","v":0},{"$f":"HOJA_CAPTURA!AL32","v":0},{"$f":"HOJA_CAPTURA!AT32","v":0},{"$f":"HOJA_CAPTURA!AU32","v":0}]
[null,null,null,null,null,{"$f":"HOJA_CAPTURA!R32","v":"00:00:00"}]
[{"$f":"HOJA_CAPTURA!J33","v":0},{"$f":"HOJA_CAPTURA!K33","v":0},{"$f":"HOJA_CAPTURA!M33","v":0},{"$f":"HOJA_CAPTURA!N33","v":0},{"$f":"HOJA_CAPTURA!P33","v":0},{"$f":"HOJA_CAPTURA!Q33","v":"00:00:00"},{"$f":"HOJA_CAPTURA!V33","v":0},{"$f":"HOJA_CAPTURA!AF33","v":0},{"$f":"HOJA_CAPTURA!AG33","v":0},{"$f":"HOJA_CAPTURA!AH33","v":0},{"$f":"HOJA_CAPTURA!AI33","v":0},{"$f":"HOJA_CAPTURA!AJ33","v":0},{"$f":"HOJA_CAPTURA!AK33","v":0},{"$f":"HOJA_CAPTURA!AL33","v":0},{"$f":"HOJA_CAPTURA!AT33","v":0},{"$f":"HOJA_CAPTURA!AU33","v":0}]
[null,null,null,null,null,{"$f":"HOJA_CAPTURA!R33","v":"00:00:00"}]
[{"$f":"HOJA_CAPTURA!J34","v":0},{"$f":"HOJA_CAPTURA!K34","v":0},{"$f":"HOJA_CAPTURA!M34","v":0},{"$f":"HOJA_CAPTURA!N34","v":0},{"$f":"HOJA_CAPTURA!P34","v":0},{"$f":"HOJA_CAPTURA!Q34","v":"00:00:00"},{"$f":"HOJA_CAPTURA!V34","v":0},{"$f":"HOJA_CAPTURA!AF34","v":0},{"$f":"HOJA_CAPTURA!AG34","v":0},{"$f":"HOJA_CAPTURA!AH34","v":0},{"$f":"HOJA_CAPTURA!AI34","v":0},{"$f":"HOJA_CAPTURA!AJ34","v":0},{"$f":"HOJA_CAPTURA!AK34","v":0},{"$f":"HOJA_CAPTURA!AL34","v":0},{"$f":"HOJA_CAPTURA!AT34","v":0},{"$f":"HOJA_CAPTURA!AU34","v":0}]
[null,null,null,null,null,{"$f":"HOJA_CAPTURA!R34","v":"00:00:00"}]
[]
[{"$f":"HOJA_CAPTURA!F31","v":0},null,null,null,null,null,null,null,null,null,{"$f":"HOJA_CAPTURA!E31","v":0}]
["Nombre, firma y cargo de la persona que elaboró",null,null,null,null,null,null,null,null,null,"Nombre y firma del titular del Área productora"]
[]
[]
[]
[]
[null,"           "]
["Nombre de la dependencia o entidad: ",null,null,null,{"$f":"HOJA_CAPTURA!A35","v":"Instituto Nacional de Pediatría"},null,null,null,null,null,null,null,null,"Hoja: 9 de ",{"$f":"O5","v":0}]
["Unidad administrativa/Área productora:",null,null,null,{"$f":"HOJA_CAPTURA!C35","v":0}]
[{"$f":"HOJA_CAPTURA!B35","v":"Fondo: INP"},null,"Sección:",{"$f":"HOJA_CAPTURA!G35","v":0},null,null,"Serie: ",{"$f":"HOJA_CAPTURA!H35","v":0}]
[null,null,null,null,null,null,"Subserie:",null,{"$f":"HOJA_CAPTURA!I35","v":0}]
["No. Consecutivo","No. de caja","No. de expediente","Clasificación archivística del expediente","Descripción o asunto ","                                                                                                                                                                                                                                                          Periodo de trámite","No.  de folios ","Valor documental",null,null,"Vigencia documental",null,null,"Condiciones de acceso (Reservada y confidencial)","Ubicación topográfica","Tradición documental "]
[null,null,null,null,null,null,null,"A","L","F/C","AT","AC","Total"]
[{"$f":"HOJA_CAPTURA!J35","v":0},{"$f":"HOJA_CAPTURA!K35","v":0},{"$f":"HOJA_CAPTURA!M35","v":0},{"$f":"HOJA_CAPTURA!N35","v":0},{"$f":"HOJA_CAPTURA!P35","v":0},{"$f":"HOJA_CAPTURA!Q35","v":"00:00:00"},{"$f":"HOJA_CAPTURA!V35","v":0},{"$f":"HOJA_CAPTURA!AF35","v":0},{"$f":"HOJA_CAPTURA!AG35","v":0},{"$f":"HOJA_CAPTURA!AH35","v":0},{"$f":"HOJA_CAPTURA!AI35","v":0},{"$f":"HOJA_CAPTURA!AJ35","v":0},{"$f":"HOJA_CAPTURA!AK35","v":0},{"$f":"HOJA_CAPTURA!AL35","v":0},{"$f":"HOJA_CAPTURA!AT35","v":0},{"$f":"HOJA_CAPTURA!AU35","v":0}]
[null,null,null,null,null,{"$f":"HOJA_CAPTURA!R35","v":"00:00:00"}]
[{"$f":"HOJA_CAPTURA!J36","v":0},{"$f":"HOJA_CAPTURA!K36","v":0},{"$f":"HOJA_CAPTURA!M36","v":0},{"$f":"HOJA_CAPTURA!N36","v":0},{"$f":"HOJA_CAPTURA!P36","v":0},{"$f":"HOJA_CAPTURA!Q36","v":"00:00:00"},{"$f":"HOJA_CAPTURA!V36","v":0},{"$f":"HOJA_CAPTURA!AF36","v":0},{"$f":"HOJA_CAPTURA!AG36","v":0},{"$f":"HOJA_CAPTURA!AH36","v":0},{"$f":"HOJA_CAPTURA!AI36","v":0},{"$f":"HOJA_CAPTURA!AJ36","v":0},{"$f":"HOJA_CAPTURA!AK36","v":0},{"$f":"HOJA_CAPTURA!AL36","v":0},{"$f":"HOJA_CAPTURA!AT36","v":0},{"$f":"HOJA_CAPTURA!AU36","v":0}]
[null,null,null,null,null,{"$f":"HOJA_CAPTURA!R36","v":"00:00:00"}]
[{"$f":"HOJA_CAPTURA!J37","v":0},{"$f":"HOJA_CAPTURA!K37","v":0},{"$f":"HOJA_CAPTURA!M37","v":0},{"$f":"HOJA_CAPTURA!N37","v":0},{"$f":"HOJA_CAPTURA!P37","v":0},{"$f":"HOJA_CAPTURA!Q37","v":"00:00:00"},{"$f":"HOJA_CAPTURA!V37","v":0},{"$f":"HOJA_CAPTURA!AF37","v":0},{"$f":"HOJA_CAPTURA!AG37","v":0},{"$f":"HOJA_CAPTURA!AH37","v":0},{"$f":"HOJA_CAPTURA!AI37","v":0},{"$f":"HOJA_CAPTURA!AJ37","v":0},{"$f":"HOJA_CAPTURA!AK37","v":0},{"$f":"HOJA_CAPTURA!AL37","v":0},{"$f":"HOJA_CAPTURA!AT37","v":0},{"$f":"HOJA_CAPTURA!AU37","v":0}]
[null,null,null,null,null,{"$f":"HOJA_CAPTURA!R37","v":"00:00:00"}]
[{"$f":"HOJA_CAPTURA!J38","v":0},{"$f":"HOJA_CAPTURA!K38","v":0},{"$f":"HOJA_CAPTURA!M38","v":0},{"$f":"HOJA_CAPTURA!N38","v":0},{"$f":"HOJA_CAPTURA!P38","v":0},{"$f":"HOJA_CAPTURA!Q38","v":"00:00:00"},{"$f":"HOJA_CAPTURA!V38","v":0},{"$f":"HOJA_CAPTURA!AF38","v":0},{"$f":"HOJA_CAPTURA!AG38","v":0},{"$f":"HOJA_CAPTURA!AH38","v":0},{"$f":"HOJA_CAPTURA!AI38","v":0},{"$f":"HOJA_CAPTURA!AJ38","v":0},{"$f":"HOJA_CAPTURA!AK38","v":0},{"$f":"HOJA_CAPTURA!AL38","v":0},{"$f":"HOJA_CAPTURA!AT38","v":0},{"$f":"HOJA_CAPTURA!AU38","v":0}]
[null,null,null,null,null,{"$f":"HOJA_CAPTURA!R38","v":"00:00:00"}]
[]
[{"$f":"HOJA_CAPTURA!F35","v":0},null,null,null,null,null,null,null,null,null,{"$f":"HOJA_CAPTURA!E35","v":0}]
["Nombre, firma y cargo de la persona que elaboró",null,null,null,null,null,null,null,null,null,"Nombre y firma del titular del Área productora"]
[]
[]
[]
[]
[null,"           "]
["Nombre de la dependencia o entidad: ",null,null,null,{"$f":"HOJA_CAPTURA!A39","v":"Instituto Nacional de Pediatría"},null,null,null,null,null,null,null,null,"Hoja: 10 de ",{"$f":"O5","v":0}]
["Unidad administrativa/Área productora:",null,null,null,{"$f":"HOJA_CAPTURA!C39","v":0}]
[{"$f":"HOJA_CAPTURA!B39","v":"Fondo: INP"},null,"Sección:",{"$f":"HOJA_CAPTURA!G39","v":0},null,null,"Serie: ",{"$f":"HOJA_CAPTURA!H39","v":0}]
[null,null,null,null,null,null,"Subserie:",null,{"$f":"HOJA_CAPTURA!I39","v":0}]
["No. Consecutivo","No. de caja","No. de expediente","Clasificación archivística del expediente","Descripción o asunto ","                                                                                                                                                                                                                                                          Periodo de trámite","No.  de folios ","Valor documental",null,null,"Vigencia documental",null,null,"Condiciones de acceso (Reservada y confidencial)","Ubicación topográfica","Tradición documental "]
[null,null,null,null,null,null,null,"A","L","F/C","AT","AC","Total"]
[{"$f":"HOJA_CAPTURA!J39","v":0},{"$f":"HOJA_CAPTURA!K39","v":0},{"$f":"HOJA_CAPTURA!M39","v":0},{"$f":"HOJA_CAPTURA!N39","v":0},{"$f":"HOJA_CAPTURA!P39","v":0},{"$f":"HOJA_CAPTURA!Q39","v":"00:00:00"},{"$f":"HOJA_CAPTURA!V39","v":0},{"$f":"HOJA_CAPTURA!AF39","v":0},{"$f":"HOJA_CAPTURA!AG39","v":0},{"$f":"HOJA_CAPTURA!AH39","v":0},{"$f":"HOJA_CAPTURA!AI39","v":0},{"$f":"HOJA_CAPTURA!AJ39","v":0},{"$f":"HOJA_CAPTURA!AK39","v":0},{"$f":"HOJA_CAPTURA!AL39","v":0},{"$f":"HOJA_CAPTURA!AT39","v":0},{"$f":"HOJA_CAPTURA!AU39","v":0}]
[null,null,null,null,null,{"$f":"HOJA_CAPTURA!R39","v":"00:00:00"}]
[{"$f":"HOJA_CAPTURA!J40","v":0},{"$f":"HOJA_CAPTURA!K40","v":0},{"$f":"HOJA_CAPTURA!M40","v":0},{"$f":"HOJA_CAPTURA!N40","v":0},{"$f":"HOJA_CAPTURA!P40","v":0},{"$f":"HOJA_CAPTURA!Q40","v":"00:00:00"},{"$f":"HOJA_CAPTURA!V40","v":0},{"$f":"HOJA_CAPTURA!AF40","v":0},{"$f":"HOJA_CAPTURA!AG40","v":0},{"$f":"HOJA_CAPTURA!AH40","v":0},{"$f":"HOJA_CAPTURA!AI40","v":0},{"$f":"HOJA_CAPTURA!AJ40","v":0},{"$f":"HOJA_CAPTURA!AK40","v":0},{"$f":"HOJA_CAPTURA!AL40","v":0},{"$f":"HOJA_CAPTURA!AT40","v":0},{"$f":"HOJA_CAPTURA!AU40","v":0}]
[null,null,null,null,null,{"$f":"HOJA_CAPTURA!R40","v":"00:00:00"}]
[{"$f":"HOJA_CAPTURA!J41","v":0},{"$f":"HOJA_CAPTURA!K41","v":0},{"$f":"HOJA_CAPTURA!M41","v":0},{"$f":"HOJA_CAPTURA!N41","v":0},{"$f":"HOJA_CAPTURA!P41","v":0},{"$f":"HOJA_CAPTURA!Q41","v":"00:00:00"},{"$f":"HOJA_CAPTURA!V41","v":0},{"$f":"HOJA_CAPTURA!AF41","v":0},{"$f":"HOJA_CAPTURA!AG41","v":0},{"$f":"HOJA_CAPTURA!AH41","v":0},{"$f":"HOJA_CAPTURA!AI41","v":0},{"$f":"HOJA_CAPTURA!AJ41","v":0},{"$f":"HOJA_CAPTURA!AK41","v":0},{"$f":"HOJA_CAPTURA!AL41","v":0},{"$f":"HOJA_CAPTURA!AT41","v":0},{"$f":"HOJA_CAPTURA!AU41","v":0}]
[null,null,null,null,null,{"$f":"HOJA_CAPTURA!R41","v":"00:00:00"}]
[{"$f":"HOJA_CAPTURA!J42","v":0},{"$f":"HOJA_CAPTURA!K42","v":0},{"$f":"HOJA_CAPTURA!M42","v":0},{"$f":"HOJA_CAPTURA!N42","v":0},{"$f":"HOJA_CAPTURA!P42","v":0},{"$f":"HOJA_CAPTURA!Q42","v":"00:00:00"},{"$f":"HOJA_CAPTURA!V42","v":0},{"$f":"HOJA_CAPTURA!AF42","v":0},{"$f":"HOJA_CAPTURA!AG42","v":0},{"$f":"HOJA_CAPTURA!AH42","v":0},{"$f":"HOJA_CAPTURA!AI42","v":0},{"$f":"HOJA_CAPTURA!AJ42","v":0},{"$f":"HOJA_CAPTURA!AK42","v":0},{"$f":"HOJA_CAPTURA!AL42","v":0},{"$f":"HOJA_CAPTURA!AT42","v":0},{"$f":"HOJA_CAPTURA!AU42","v":0}]
[null,null,null,null,null,{"$f":"HOJA_CAPTURA!R42","v":"00:00:00"}]
[]
[{"$f":"HOJA_CAPTURA!F39","v":0},null,null,null,null,null,null,null,null,null,{"$f":"HOJA_CAPTURA!E39","v":0}]
["Nombre, firma y cargo de la persona que elaboró",null,null,null,null,null,null,null,null,null,"Nombre y firma del titular del Área productora"]
[]
[]
[]
[]
[null,"           "]
["Nombre de la dependencia o entidad: ",null,null,null,{"$f":"HOJA_CAPTURA!A43","v":"Instituto Nacional de Pediatría"},null,null,null,null,null,null,null,null,"Hoja: 11 de ",{"$f":"O5","v":0}]
["Unidad administrativa/Área productora:",null,null,null,{"$f":"HOJA_CAPTURA!C43","v":0}]
[{"$f":"HOJA_CAPTURA!B43","v":"Fondo: INP"},null,"Sección:",{"$f":"HOJA_CAPTURA!G43","v":0},null,null,"Serie: ",{"$f":"HOJA_CAPTURA!H43","v":0}]
[null,null,null,null,null,null,"Subserie:",null,{"$f":"HOJA_CAPTURA!I43","v":0}]
["No. Consecutivo","No. de caja","No. de expediente","Clasificación archivística del expediente","Descripción o asunto ","                                                                                                                                                                                                                                                          Periodo de trámite","No.  de folios ","Valor documental",null,null,"Vigencia documental",null,null,"Condiciones de acceso (Reservada y confidencial)","Ubicación topográfica","Tradición documental "]
[null,null,null,null,null,null,null,"A","L","F/C","AT","AC","Total"]
[{"$f":"HOJA_CAPTURA!J43","v":0},{"$f":"HOJA_CAPTURA!K43","v":0},{"$f":"HOJA_CAPTURA!M43","v":0},{"$f":"HOJA_CAPTURA!N43","v":0},{"$f":"HOJA_CAPTURA!P43","v":0},{"$f":"HOJA_CAPTURA!Q43","v":"00:00:00"},{"$f":"HOJA_CAPTURA!V43","v":0},{"$f":"HOJA_CAPTURA!AF43","v":0},{"$f":"HOJA_CAPTURA!AG43","v":0},{"$f":"HOJA_CAPTURA!AH43","v":0},{"$f":"HOJA_CAPTURA!AI43","v":0},{"$f":"HOJA_CAPTURA!AJ43","v":0},{"$f":"HOJA_CAPTURA!AK43","v":0},{"$f":"HOJA_CAPTURA!AL43","v":0},{"$f":"HOJA_CAPTURA!AT43","v":0},{"$f":"HOJA_CAPTURA!AU43","v":0}]
[null,null,null,null,null,{"$f":"HOJA_CAPTURA!R43","v":"00:00:00"}]
[{"$f":"HOJA_CAPTURA!J44","v":0},{"$f":"HOJA_CAPTURA!K44","v":0},{"$f":"HOJA_CAPTURA!M44","v":0},{"$f":"HOJA_CAPTURA!N44","v":0},{"$f":"HOJA_CAPTURA!P44","v":0},{"$f":"HOJA_CAPTURA!Q44","v":"00:00:00"},{"$f":"HOJA_CAPTURA!V44","v":0},{"$f":"HOJA_CAPTURA!AF44","v":0},{"$f":"HOJA_CAPTURA!AG44","v":0},{"$f":"HOJA_CAPTURA!AH44","v":0},{"$f":"HOJA_CAPTURA!AI44","v":0},{"$f":"HOJA_CAPTURA!AJ44","v":0},{"$f":"HOJA_CAPTURA!AK44","v":0},{"$f":"HOJA_CAPTURA!AL44","v":0},{"$f":"HOJA_CAPTURA!AT44","v":0},{"$f":"HOJA_CAPTURA!AU44","v":0}]
[null,null,null,null,null,{"$f":"HOJA_CAPTURA!R44","v":"00:00:00"}]
[{"$f":"HOJA_CAPTURA!J45","v":0},{"$f":"HOJA_CAPTURA!K45","v":0},{"$f":"HOJA_CAPTURA!M45","v":0},{"$f":"HOJA_CAPTURA!N45","v":0},{"$f":"HOJA_CAPTURA!P45","v":0},{"$f":"HOJA_CAPTURA!Q45","v":"00:00:00"},{"$f":"HOJA_CAPTURA!V45","v":0},{"$f":"HOJA_CAPTURA!AF45","v":0},{"$f":"HOJA_CAPTURA!AG45","v":0},{"$f":"HOJA_CAPTURA!AH45","v":0},{"$f":"HOJA_CAPTURA!AI45","v":0},{"$f":"HOJA_CAPTURA!AJ45","v":0},{"$f":"HOJA_CAPTURA!AK45","v":0},{"$f":"HOJA_CAPTURA!AL45","v":0},{"$f":"HOJA_CAPTURA!AT45","v":0},{"$f":"HOJA_CAPTURA!AU45","v":0}]
[null,null,null,null,null,{"$f":"HOJA_CAPTURA!R45","v":"00:00:00"}]
[{"$f":"HOJA_CAPTURA!J46","v":0},{"$f":"HOJA_CAPTURA!K46","v":0},{"$f":"HOJA_CAPTURA!M46","v":0},{"$f":"HOJA_CAPTURA!N46","v":0},{"$f":"HOJA_CAPTURA!P46","v":0},{"$f":"HOJA_CAPTURA!Q46","v":"00:00:00"},{"$f":"HOJA_CAPTURA!V46","v":0},{"$f":"HOJA_CAPTURA!AF46","v":0},{"$f":"HOJA_CAPTURA!AG46","v":0},{"$f":"HOJA_CAPTURA!AH46","v":0},{"$f":"HOJA_CAPTURA!AI46","v":0},{"$f":"HOJA_CAPTURA!AJ46","v":0},{"$f":"HOJA_CAPTURA!AK46","v":0},{"$f":"HOJA_CAPTURA!AL46","v":0},{"$f":"HOJA_CAPTURA!AT46","v":0},{"$f":"HOJA_CAPTURA!AU46","v":0}]
[null,null,null,null,null,{"$f":"HOJA_CAPTURA!R46","v":"00:00:00"}]
[]
[{"$f":"HOJA_CAPTURA!F43","v":0},null,null,null,null,null,null,null,null,null,{"$f":"HOJA_CAPTURA!E43","v":0}]
["Nombre, firma y cargo de la persona que elaboró",null,null,null,null,null,null,null,null,null,"Nombre y firma del titular del Área productora"]
[]
[]
[]
[]
[null,"           "]
["Nombre de la dependencia o entidad: ",null,null,null,{"$f":"HOJA_CAPTURA!A47","v":"Instituto Nacional de Pediatría"},null,null,null,null,null,null,null,null,"Hoja: 12 de ",{"$f":"O5","v":0}]
["Unidad administrativa/Área productora:",null,null,null,{"$f":"HOJA_CAPTURA!C47","v":0}]
[{"$f":"HOJA_CAPTURA!B47","v":"Fondo: INP"},null,"Sección:",{"$f":"HOJA_CAPTURA!G47","v":0},null,null,"Serie: ",{"$f":"HOJA_CAPTURA!H47","v":0}]
[null,null,null,null,null,null,"Subserie:",null,{"$f":"HOJA_CAPTURA!I47","v":0}]
["No. Consecutivo","No. de caja","No. de expediente","Clasificación archivística del expediente","Descripción o asunto ","                                                                                                                                                                                                                                                          Periodo de trámite","No.  de folios ","Valor documental",null,null,"Vigencia documental",null,null,"Condiciones de acceso (Reservada y confidencial)","Ubicación topográfica","Tradición documental "]
[null,null,null,null,null,null,null,"A","L","F/C","AT","AC","Total"]
[{"$f":"HOJA_CAPTURA!J47","v":0},{"$f":"HOJA_CAPTURA!K47","v":0},{"$f":"HOJA_CAPTURA!M47","v":0},{"$f":"HOJA_CAPTURA!N47","v":0},{"$f":"HOJA_CAPTURA!P47","v":0},{"$f":"HOJA_CAPTURA!Q47","v":"00:00:00"},{"$f":"HOJA_CAPTURA!V47","v":0},{"$f":"HOJA_CAPTURA!AF47","v":0},{"$f":"HOJA_CAPTURA!AG47","v":0},{"$f":"HOJA_CAPTURA!AH47","v":0},{"$f":"HOJA_CAPTURA!AI47","v":0},{"$f":"HOJA_CAPTURA!AJ47","v":0},{"$f":"HOJA_CAPTURA!AK47","v":0},{"$f":"HOJA_CAPTURA!AL47","v":0},{"$f":"HOJA_CAPTURA!AT47","v":0},{"$f":"HOJA_CAPTURA!AU47","v":0}]
[null,null,null,null,null,{"$f":"HOJA_CAPTURA!R47","v":"00:00:00"}]
[{"$f":"HOJA_CAPTURA!J48","v":0},{"$f":"HOJA_CAPTURA!K48","v":0},{"$f":"HOJA_CAPTURA!M48","v":0},{"$f":"HOJA_CAPTURA!N48","v":0},{"$f":"HOJA_CAPTURA!P48","v":0},{"$f":"HOJA_CAPTURA!Q48","v":"00:00:00"},{"$f":"HOJA_CAPTURA!V48","v":0},{"$f":"HOJA_CAPTURA!AF48","v":0},{"$f":"HOJA_CAPTURA!AG48","v":0},{"$f":"HOJA_CAPTURA!AH48","v":0},{"$f":"HOJA_CAPTURA!AI48","v":0},{"$f":"HOJA_CAPTURA!AJ48","v":0},{"$f":"HOJA_CAPTURA!AK48","v":0},{"$f":"HOJA_CAPTURA!AL48","v":0},{"$f":"HOJA_CAPTURA!AT48","v":0},{"$f":"HOJA_CAPTURA!AU48","v":0}]
[null,null,null,null,null,{"$f":"HOJA_CAPTURA!R48","v":"00:00:00"}]
[{"$f":"HOJA_CAPTURA!J49","v":0},{"$f":"HOJA_CAPTURA!K49","v":0},{"$f":"HOJA_CAPTURA!M49","v":0},{"$f":"HOJA_CAPTURA!N49","v":0},{"$f":"HOJA_CAPTURA!P49","v":0},{"$f":"HOJA_CAPTURA!Q49","v":"00:00:00"},{"$f":"HOJA_CAPTURA!V49","v":0},{"$f":"HOJA_CAPTURA!AF49","v":0},{"$f":"HOJA_CAPTURA!AG49","v":0},{"$f":"HOJA_CAPTURA!AH49","v":0},{"$f":"HOJA_CAPTURA!AI49","v":0},{"$f":"HOJA_CAPTURA!AJ49","v":0},{"$f":"HOJA_CAPTURA!AK49","v":0},{"$f":"HOJA_CAPTURA!AL49","v":0},{"$f":"HOJA_CAPTURA!AT49","v":0},{"$f":"HOJA_CAPTURA!AU49","v":0}]
[null,null,null,null,null,{"$f":"HOJA_CAPTURA!R49","v":"00:00:00"}]
[{"$f":"HOJA_CAPTURA!J50","v":0},{"$f":"HOJA_CAPTURA!K50","v":0},{"$f":"HOJA_CAPTURA!M50","v":0},{"$f":"HOJA_CAPTURA!N50","v":0},{"$f":"HOJA_CAPTURA!P50","v":0},{"$f":"HOJA_CAPTURA!Q50","v":"00:00:00"},{"$f":"HOJA_CAPTURA!V50","v":0},{"$f":"HOJA_CAPTURA!AF50","v":0},{"$f":"HOJA_CAPTURA!AG50","v":0},{"$f":"HOJA_CAPTURA!AH50","v":0},{"$f":"HOJA_CAPTURA!AI50","v":0},{"$f":"HOJA_CAPTURA!AJ50","v":0},{"$f":"HOJA_CAPTURA!AK50","v":0},{"$f":"HOJA_CAPTURA!AL50","v":0},{"$f":"HOJA_CAPTURA!AT50","v":0},{"$f":"HOJA_CAPTURA!AU50","v":0}]
[null,null,null,null,null,{"$f":"HOJA_CAPTURA!R50","v":"00:00:00"}]
[]
[{"$f":"HOJA_CAPTURA!F47","v":0},null,null,null,null,null,null,null,null,null,{"$f":"HOJA_CAPTURA!E47","v":0}]
["Nombre, firma y cargo de la persona que elaboró",null,null,null,null,null,null,null,null,null,"Nombre y firma del titular del Área productora"]
[]
[]
[]
[]
[null,"           "]
["Nombre de la dependencia o entidad: ",null,null,null,{"$f":"HOJA_CAPTURA!A51","v":"Instituto Nacional de Pediatría"},null,null,null,null,null,null,null,null,"Hoja: 13 de",{"$f":"O5","v":0}]
["Unidad administrativa/Área productora:",null,null,null,{"$f":"HOJA_CAPTURA!C51","v":0}]
[{"$f":"HOJA_CAPTURA!B51","v":"Fondo: INP"},null,"Sección:",{"$f":"HOJA_CAPTURA!G51","v":0},null,null,"Serie: ",{"$f":"HOJA_CAPTURA!H51","v":0}]
[null,null,null,null,null,null,"Subserie:",null,{"$f":"HOJA_CAPTURA!I51","v":0}]
["No. Consecutivo","No. de caja","No. de expediente","Clasificación archivística del expediente","Descripción o asunto ","                                                                                                                                                                                                                                                          Periodo de trámite","No.  de folios ","Valor documental",null,null,"Vigencia documental",null,null,"Condiciones de acceso (Reservada y confidencial)","Ubicación topográfica","Tradición documental "]
[null,null,null,null,null,null,null,"A","L","F/C","AT","AC","Total"]
[{"$f":"HOJA_CAPTURA!J51","v":0},{"$f":"HOJA_CAPTURA!K51","v":0},{"$f":"HOJA_CAPTURA!M51","v":0},{"$f":"HOJA_CAPTURA!N51","v":0},{"$f":"HOJA_CAPTURA!P51","v":0},{"$f":"HOJA_CAPTURA!Q51","v":"00:00:00"},{"$f":"HOJA_CAPTURA!V51","v":0},{"$f":"HOJA_CAPTURA!AF51","v":0},{"$f":"HOJA_CAPTURA!AG51","v":0},{"$f":"HOJA_CAPTURA!AH51","v":0},{"$f":"HOJA_CAPTURA!AI51","v":0},{"$f":"HOJA_CAPTURA!AJ51","v":0},{"$f":"HOJA_CAPTURA!AK51","v":0},{"$f":"HOJA_CAPTURA!AL51","v":0},{"$f":"HOJA_CAPTURA!AT51","v":0},{"$f":"HOJA_CAPTURA!AU51","v":0}]
[null,null,null,null,null,{"$f":"HOJA_CAPTURA!R51","v":"00:00:00"}]
[{"$f":"HOJA_CAPTURA!J52","v":0},{"$f":"HOJA_CAPTURA!K52","v":0},{"$f":"HOJA_CAPTURA!M52","v":0},{"$f":"HOJA_CAPTURA!N52","v":0},{"$f":"HOJA_CAPTURA!P52","v":0},{"$f":"HOJA_CAPTURA!Q52","v":"00:00:00"},{"$f":"HOJA_CAPTURA!V52","v":0},{"$f":"HOJA_CAPTURA!AF52","v":0},{"$f":"HOJA_CAPTURA!AG52","v":0},{"$f":"HOJA_CAPTURA!AH52","v":0},{"$f":"HOJA_CAPTURA!AI52","v":0},{"$f":"HOJA_CAPTURA!AJ52","v":0},{"$f":"HOJA_CAPTURA!AK52","v":0},{"$f":"HOJA_CAPTURA!AL52","v":0},{"$f":"HOJA_CAPTURA!AT52","v":0},{"$f":"HOJA_CAPTURA!AU52","v":0}]
[null,null,null,null,null,{"$f":"HOJA_CAPTURA!R52","v":"00:00:00"}]
[{"$f":"HOJA_CAPTURA!J53","v":0},{"$f":"HOJA_CAPTURA!K53","v":0},{"$f":"HOJA_CAPTURA!M53","v":0},{"$f":"HOJA_CAPTURA!N53","v":0},{"$f":"HOJA_CAPTURA!P53","v":0},{"$f":"HOJA_CAPTURA!Q53","v":"00:00:00"},{"$f":"HOJA_CAPTURA!V53","v":0},{"$f":"HOJA_CAPTURA!AF53","v":0},{"$f":"HOJA_CAPTURA!AG53","v":0},{"$f":"HOJA_CAPTURA!AH53","v":0},{"$f":"HOJA_CAPTURA!AI53","v":0},{"$f":"HOJA_CAPTURA!AJ53","v":0},{"$f":"HOJA_CAPTURA!AK53","v":0},{"$f":"HOJA_CAPTURA!AL53","v":0},{"$f":"HOJA_CAPTURA!AT53","v":0},{"$f":"HOJA_CAPTURA!AU53","v":0}]
[null,null,null,null,null,{"$f":"HOJA_CAPTURA!R53","v":"00:00:00"}]
[{"$f":"HOJA_CAPTURA!J54","v":0},{"$f":"HOJA_CAPTURA!K54","v":0},{"$f":"HOJA_CAPTURA!M54","v":0},{"$f":"HOJA_CAPTURA!N54","v":0},{"$f":"HOJA_CAPTURA!P54","v":0},{"$f":"HOJA_CAPTURA!Q54","v":"00:00:00"},{"$f":"HOJA_CAPTURA!V54","v":0},{"$f":"HOJA_CAPTURA!AF54","v":0},{"$f":"HOJA_CAPTURA!AG54","v":0},{"$f":"HOJA_CAPTURA!AH54","v":0},{"$f":"HOJA_CAPTURA!AI54","v":0},{"$f":"HOJA_CAPTURA!AJ54","v":0},{"$f":"HOJA_CAPTURA!AK54","v":0},{"$f":"HOJA_CAPTURA!AL54","v":0},{"$f":"HOJA_CAPTURA!AT54","v":0},{"$f":"HOJA_CAPTURA!AU54","v":0}]
[null,null,null,null,null,{"$f":"HOJA_CAPTURA!R54","v":"00:00:00"}]
[]
[{"$f":"HOJA_CAPTURA!F51","v":0},null,null,null,null,null,null,null,null,null,{"$f":"HOJA_CAPTURA!E51","v":0}]
["Nombre, firma y cargo de la persona que elaboró",null,null,null,null,null,null,null,null,null,"Nombre y firma del titular del Área productora"]
[]
[]
[]
[]
[null,"           "]
["Nombre de la dependencia o entidad: ",null,null,null,{"$f":"HOJA_CAPTURA!A55","v":"Instituto Nacional de Pediatría"},null,null,null,null,null,null,null,null,"Hoja: 14 de",{"$f":"O5","v":0}]
["Unidad administrativa/Área productora:",null,null,null,{"$f":"HOJA_CAPTURA!C55","v":0}]
[{"$f":"HOJA_CAPTURA!B55","v":"Fondo: INP"},null,"Sección:",{"$f":"HOJA_CAPTURA!G55","v":0},null,null,"Serie: ",{"$f":"HOJA_CAPTURA!H55","v":0}]
[null,null,null,null,null,null,"Subserie:",null,{"$f":"HOJA_CAPTURA!I55","v":0}]
["No. Consecutivo","No. de caja","No. de expediente","Clasificación archivística del expediente","Descripción o asunto ","                                                                                                                                                                                                                                                          Periodo de trámite","No.  de folios ","Valor documental",null,null,"Vigencia documental",null,null,"Condiciones de acceso (Reservada y confidencial)","Ubicación topográfica","Tradición documental "]
[null,null,null,null,null,null,null,"A","L","F/C","AT","AC","Total"]
[{"$f":"HOJA_CAPTURA!J55","v":0},{"$f":"HOJA_CAPTURA!K55","v":0},{"$f":"HOJA_CAPTURA!M55","v":0},{"$f":"HOJA_CAPTURA!N55","v":0},{"$f":"HOJA_CAPTURA!P55","v":0},{"$f":"HOJA_CAPTURA!Q55","v":"00:00:00"},{"$f":"HOJA_CAPTURA!V55","v":0},{"$f":"HOJA_CAPTURA!AF55","v":0},{"$f":"HOJA_CAPTURA!AG55","v":0},{"$f":"HOJA_CAPTURA!AH55","v":0},{"$f":"HOJA_CAPTURA!AI55","v":0},{"$f":"HOJA_CAPTURA!AJ55","v":0},{"$f":"HOJA_CAPTURA!AK55","v":0},{"$f":"HOJA_CAPTURA!AL55","v":0},{"$f":"HOJA_CAPTURA!AT55","v":0},{"$f":"HOJA_CAPTURA!AU55","v":0}]
[null,null,null,null,null,{"$f":"HOJA_CAPTURA!R55","v":"00:00:00"}]
[{"$f":"HOJA_CAPTURA!J56","v":0},{"$f":"HOJA_CAPTURA!K56","v":0},{"$f":"HOJA_CAPTURA!M56","v":0},{"$f":"HOJA_CAPTURA!N56","v":0},{"$f":"HOJA_CAPTURA!P56","v":0},{"$f":"HOJA_CAPTURA!Q56","v":"00:00:00"},{"$f":"HOJA_CAPTURA!V56","v":0},{"$f":"HOJA_CAPTURA!AF56","v":0},{"$f":"HOJA_CAPTURA!AG56","v":0},{"$f":"HOJA_CAPTURA!AH56","v":0},{"$f":"HOJA_CAPTURA!AI56","v":0},{"$f":"HOJA_CAPTURA!AJ56","v":0},{"$f":"HOJA_CAPTURA!AK56","v":0},{"$f":"HOJA_CAPTURA!AL56","v":0},{"$f":"HOJA_CAPTURA!AT56","v":0},{"$f":"HOJA_CAPTURA!AU56","v":0}]
[null,null,null,null,null,{"$f":"HOJA_CAPTURA!R56","v":"00:00:00"}]
[{"$f":"HOJA_CAPTURA!J57","v":0},{"$f":"HOJA_CAPTURA!K57","v":0},{"$f":"HOJA_CAPTURA!M57","v":0},{"$f":"HOJA_CAPTURA!N57","v":0},{"$f":"HOJA_CAPTURA!P57","v":0},{"$f":"HOJA_CAPTURA!Q57","v":"00:00:00"},{"$f":"HOJA_CAPTURA!V57","v":0},{"$f":"HOJA_CAPTURA!AF57","v":0},{"$f":"HOJA_CAPTURA!AG57","v":0},{"$f":"HOJA_CAPTURA!AH57","v":0},{"$f":"HOJA_CAPTURA!AI57","v":0},{"$f":"HOJA_CAPTURA!AJ57","v":0},{"$f":"HOJA_CAPTURA!AK57","v":0},{"$f":"HOJA_CAPTURA!AL57","v":0},{"$f":"HOJA_CAPTURA!AT57","v":0},{"$f":"HOJA_CAPTURA!AU57","v":0}]
[null,null,null,null,null,{"$f":"HOJA_CAPTURA!R57","v":"00:00:00"}]
[{"$f":"HOJA_CAPTURA!J58","v":0},{"$f":"HOJA_CAPTURA!K58","v":0},{"$f":"HOJA_CAPTURA!M58","v":0},{"$f":"HOJA_CAPTURA!N58","v":0},{"$f":"HOJA_CAPTURA!P58","v":0},{"$f":"HOJA_CAPTURA!Q58","v":"00:00:00"},{"$f":"HOJA_CAPTURA!V58","v":0},{"$f":"HOJA_CAPTURA!AF58","v":0},{"$f":"HOJA_CAPTURA!AG58","v":0},{"$f":"HOJA_CAPTURA!AH58","v":0},{"$f":"HOJA_CAPTURA!AI58","v":0},{"$f":"HOJA_CAPTURA!AJ58","v":0},{"$f":"HOJA_CAPTURA!AK58","v":0},{"$f":"HOJA_CAPTURA!AL58","v":0},{"$f":"HOJA_CAPTURA!AT58","v":0},{"$f":"HOJA_CAPTURA!AU58","v":0}]
[null,null,null,null,null,{"$f":"HOJA_CAPTURA!R58","v":"00:00:00"}]
[]
[{"$f":"HOJA_CAPTURA!F55","v":0},null,null,null,null,null,null,null,null,null,{"$f":"HOJA_CAPTURA!E55","v":0}]
["Nombre, firma y cargo de la persona que elaboró",null,null,null,null,null,null,null,null,null,"Nombre y firma del titular del Área productora"]
[]
[]
[]
[]
[null,"           "]
["Nombre de la dependencia o entidad: ",null,null,null,{"$f":"HOJA_CAPTURA!A59","v":"Instituto Nacional de Pediatría"},null,null,null,null,null,null,null,null,"Hoja: 15 de",{"$f":"O5","v":0}]
["Unidad administrativa/Área productora:",null,null,null,{"$f":"HOJA_CAPTURA!C59","v":0}]
[{"$f":"HOJA_CAPTURA!B59","v":"Fondo: INP"},null,"Sección:",{"$f":"HOJA_CAPTURA!G59","v":0},null,null,"Serie: ",{"$f":"HOJA_CAPTURA!H59","v":0}]
[null,null,null,null,null,null,"Subserie:",null,{"$f":"HOJA_CAPTURA!I59","v":0}]
["No. Consecutivo","No. de caja","No. de expediente","Clasificación archivística del expediente","Descripción o asunto ","                                                                                                                                                                                                                                                          Periodo de trámite","No.  de folios ","Valor documental",null,null,"Vigencia documental",null,null,"Condiciones de acceso (Reservada y confidencial)","Ubicación topográfica","Tradición documental "]
[null,null,null,null,null,null,null,"A","L","F/C","AT","AC","Total"]
[{"$f":"HOJA_CAPTURA!J59","v":0},{"$f":"HOJA_CAPTURA!K59","v":0},{"$f":"HOJA_CAPTURA!M59","v":0},{"$f":"HOJA_CAPTURA!N59","v":0},{"$f":"HOJA_CAPTURA!P59","v":0},{"$f":"HOJA_CAPTURA!Q59","v":"00:00:00"},{"$f":"HOJA_CAPTURA!V59","v":0},{"$f":"HOJA_CAPTURA!AF59","v":0},{"$f":"HOJA_CAPTURA!AG59","v":0},{"$f":"HOJA_CAPTURA!AH59","v":0},{"$f":"HOJA_CAPTURA!AI59","v":0},{"$f":"HOJA_CAPTURA!AJ59","v":0},{"$f":"HOJA_CAPTURA!AK59","v":0},{"$f":"HOJA_CAPTURA!AL59","v":0},{"$f":"HOJA_CAPTURA!AT59","v":0},{"$f":"HOJA_CAPTURA!AU59","v":0}]
[null,null,null,null,null,{"$f":"HOJA_CAPTURA!R59","v":"00:00:00"}]
[{"$f":"HOJA_CAPTURA!J60","v":0},{"$f":"HOJA_CAPTURA!K60","v":0},{"$f":"HOJA_CAPTURA!M60","v":0},{"$f":"HOJA_CAPTURA!N60","v":0},{"$f":"HOJA_CAPTURA!P60","v":0},{"$f":"HOJA_CAPTURA!Q60","v":"00:00:00"},{"$f":"HOJA_CAPTURA!V60","v":0},{"$f":"HOJA_CAPTURA!AF60","v":0},{"$f":"HOJA_CAPTURA!AG60","v":0},{"$f":"HOJA_CAPTURA!AH60","v":0},{"$f":"HOJA_CAPTURA!AI60","v":0},{"$f":"HOJA_CAPTURA!AJ60","v":0},{"$f":"HOJA_CAPTURA!AK60","v":0},{"$f":"HOJA_CAPTURA!AL60","v":0},{"$f":"HOJA_CAPTURA!AT60","v":0},{"$f":"HOJA_CAPTURA!AU60","v":0}]
[null,null,null,null,null,{"$f":"HOJA_CAPTURA!R60","v":"00:00:00"}]
[{"$f":"HOJA_CAPTURA!J61","v":0},{"$f":"HOJA_CAPTURA!K61","v":0},{"$f":"HOJA_CAPTURA!M61","v":0},{"$f":"HOJA_CAPTURA!N61","v":0},{"$f":"HOJA_CAPTURA!P61","v":0},{"$f":"HOJA_CAPTURA!Q61","v":"00:00:00"},{"$f":"HOJA_CAPTURA!V61","v":0},{"$f":"HOJA_CAPTURA!AF61","v":0},{"$f":"HOJA_CAPTURA!AG61","v":0},{"$f":"HOJA_CAPTURA!AH61","v":0},{"$f":"HOJA_CAPTURA!AI61","v":0},{"$f":"HOJA_CAPTURA!AJ61","v":0},{"$f":"HOJA_CAPTURA!AK61","v":0},{"$f":"HOJA_CAPTURA!AL61","v":0},{"$f":"HOJA_CAPTURA!AT61","v":0},{"$f":"HOJA_CAPTURA!AU61","v":0}]
[null,null,null,null,null,{"$f":"HOJA_CAPTURA!R61","v":"00:00:00"}]
[{"$f":"HOJA_CAPTURA!J62","v":0},{"$f":"HOJA_CAPTURA!K62","v":0},{"$f":"HOJA_CAPTURA!M62","v":0},{"$f":"HOJA_CAPTURA!N62","v":0},{"$f":"HOJA_CAPTURA!P62","v":0},{"$f":"HOJA_CAPTURA!Q62","v":"00:00:00"},{"$f":"HOJA_CAPTURA!V62","v":0},{"$f":"HOJA_CAPTURA!AF62","v":0},{"$f":"HOJA_CAPTURA!AG62","v":0},{"$f":"HOJA_CAPTURA!AH62","v":0},{"$f":"HOJA_CAPTURA!AI62","v":0},{"$f":"HOJA_CAPTURA!AJ62","v":0},{"$f":"HOJA_CAPTURA!AK62","v":0},{"$f":"HOJA_CAPTURA!AL62","v":0},{"$f":"HOJA_CAPTURA!AT62","v":0},{"$f":"HOJA_CAPTURA!AU62","v":0}]
[null,null,null,null,null,{"$f":"HOJA_CAPTURA!R62","v":"00:00:00"}]
[]
[{"$f":"HOJA_CAPTURA!F59","v":0},null,null,null,null,null,null,null,null,null,{"$f":"HOJA_CAPTURA!E59","v":0}]
["Nombre, firma y cargo de la persona que elaboró",null,null,null,null,null,null,null,null,null,"Nombre y firma del titular del Área productora"]
[]
[]
[]
[]
[null,"           "]
["Nombre de la dependencia o entidad: ",null,null,null,{"$f":"HOJA_CAPTURA!A63","v":"Instituto Nacional de Pediatría"},null,null,null,null,null,null,null,null,"Hoja: 16 de",{"$f":"O5","v":0}]
["Unidad administrativa/Área productora:",null,null,null,{"$f":"HOJA_CAPTURA!C63","v":0}]
[{"$f":"HOJA_CAPTURA!B63","v":"Fondo: INP"},null,"Sección:",{"$f":"HOJA_CAPTURA!G63","v":0},null,null,"Serie: ",{"$f":"HOJA_CAPTURA!H63","v":0}]
[null,null,null,null,null,null,"Subserie:",null,{"$f":"HOJA_CAPTURA!I63","v":0}]
["No. Consecutivo","No. de caja","No. de expediente","Clasificación archivística del expediente","Descripción o asunto ","                                                                                                                                                                                                                                                          Periodo de trámite","No.  de folios ","Valor documental",null,null,"Vigencia documental",null,null,"Condiciones de acceso (Reservada y confidencial)","Ubicación topográfica","Tradición documental "]
[null,null,null,null,null,null,null,"A","L","F/C","AT","AC","Total"]
[{"$f":"HOJA_CAPTURA!J63","v":0},{"$f":"HOJA_CAPTURA!K63","v":0},{"$f":"HOJA_CAPTURA!M63","v":0},{"$f":"HOJA_CAPTURA!N63","v":0},{"$f":"HOJA_CAPTURA!P63","v":0},{"$f":"HOJA_CAPTURA!Q63","v":"00:00:00"},{"$f":"HOJA_CAPTURA!V63","v":0},{"$f":"HOJA_CAPTURA!AF63","v":0},{"$f":"HOJA_CAPTURA!AG63","v":0},{"$f":"HOJA_CAPTURA!AH63","v":0},{"$f":"HOJA_CAPTURA!AI63","v":0},{"$f":"HOJA_CAPTURA!AJ63","v":0},{"$f":"HOJA_CAPTURA!AK63","v":0},{"$f":"HOJA_CAPTURA!AL63","v":0},{"$f":"HOJA_CAPTURA!AT63","v":0},{"$f":"HOJA_CAPTURA!AU63","v":0}]
[null,null,null,null,null,{"$f":"HOJA_CAPTURA!R63","v":"00:00:00"}]
[{"$f":"HOJA_CAPTURA!J64","v":0},{"$f":"HOJA_CAPTURA!K64","v":0},{"$f":"HOJA_CAPTURA!M64","v":0},{"$f":"HOJA_CAPTURA!N64","v":0},{"$f":"HOJA_CAPTURA!P64","v":0},{"$f":"HOJA_CAPTURA!Q64","v":"00:00:00"},{"$f":"HOJA_CAPTURA!V64","v":0},{"$f":"HOJA_CAPTURA!AF64","v":0},{"$f":"HOJA_CAPTURA!AG64","v":0},{"$f":"HOJA_CAPTURA!AH64","v":0},{"$f":"HOJA_CAPTURA!AI64","v":0},{"$f":"HOJA_CAPTURA!AJ64","v":0},{"$f":"HOJA_CAPTURA!AK64","v":0},{"$f":"HOJA_CAPTURA!AL64","v":0},{"$f":"HOJA_CAPTURA!AT64","v":0},{"$f":"HOJA_CAPTURA!AU64","v":0}]
[null,null,null,null,null,{"$f":"HOJA_CAPTURA!R64","v":"00:00:00"}]
[{"$f":"HOJA_CAPTURA!J65","v":0},{"$f":"HOJA_CAPTURA!K65","v":0},{"$f":"HOJA_CAPTURA!M65","v":0},{"$f":"HOJA_CAPTURA!N65","v":0},{"$f":"HOJA_CAPTURA!P65","v":0},{"$f":"HOJA_CAPTURA!Q65","v":"00:00:00"},{"$f":"HOJA_CAPTURA!V65","v":0},{"$f":"HOJA_CAPTURA!AF65","v":0},{"$f":"HOJA_CAPTURA!AG65","v":0},{"$f":"HOJA_CAPTURA!AH65","v":0},{"$f":"HOJA_CAPTURA!AI65","v":0},{"$f":"HOJA_CAPTURA!AJ65","v":0},{"$f":"HOJA_CAPTURA!AK65","v":0},{"$f":"HOJA_CAPTURA!AL65","v":0},{"$f":"HOJA_CAPTURA!AT65","v":0},{"$f":"HOJA_CAPTURA!AU65","v":0}]
[null,null,null,null,null,{"$f":"HOJA_CAPTURA!R65","v":"00:00:00"}]
[{"$f":"HOJA_CAPTURA!J66","v":0},{"$f":"HOJA_CAPTURA!K66","v":0},{"$f":"HOJA_CAPTURA!M66","v":0},{"$f":"HOJA_CAPTURA!N66","v":0},{"$f":"HOJA_CAPTURA!P66","v":0},{"$f":"HOJA_CAPTURA!Q66","v":"00:00:00"},{"$f":"HOJA_CAPTURA!V66","v":0},{"$f":"HOJA_CAPTURA!AF66","v":0},{"$f":"HOJA_CAPTURA!AG66","v":0},{"$f":"HOJA_CAPTURA!AH66","v":0},{"$f":"HOJA_CAPTURA!AI66","v":0},{"$f":"HOJA_CAPTURA!AJ66","v":0},{"$f":"HOJA_CAPTURA!AK66","v":0},{"$f":"HOJA_CAPTURA!AL66","v":0},{"$f":"HOJA_CAPTURA!AT66","v":0},{"$f":"HOJA_CAPTURA!AU66","v":0}]
[null,null,null,null,null,{"$f":"HOJA_CAPTURA!R66","v":"00:00:00"}]
[]
[{"$f":"HOJA_CAPTURA!F63","v":0},null,null,null,null,null,null,null,null,null,{"$f":"HOJA_CAPTURA!E63","v":0}]
["Nombre, firma y cargo de la persona que elaboró",null,null,null,null,null,null,null,null,null,"Nombre y firma del titular del Área productora"]
[]
[]
[]
[]
[null,"           "]
["Nombre de la dependencia o entidad: ",null,null,null,{"$f":"HOJA_CAPTURA!A67","v":"Instituto Nacional de Pediatría"},null,null,null,null,null,null,null,null,"Hoja: 17 de",{"$f":"O5","v":0}]
["Unidad administrativa/Área productora:",null,null,null,{"$f":"HOJA_CAPTURA!C67","v":0}]
[{"$f":"HOJA_CAPTURA!B67","v":"Fondo: INP"},null,"Sección:",{"$f":"HOJA_CAPTURA!G67","v":0},null,null,"Serie: ",{"$f":"HOJA_CAPTURA!H67","v":0}]
[null,null,null,null,null,null,"Subserie:",null,{"$f":"HOJA_CAPTURA!I67","v":0}]
["No. Consecutivo","No. de caja","No. de expediente","Clasificación archivística del expediente","Descripción o asunto ","                                                                                                                                                                                                                                                          Periodo de trámite","No.  de folios ","Valor documental",null,null,"Vigencia documental",null,null,"Condiciones de acceso (Reservada y confidencial)","Ubicación topográfica","Tradición documental "]
[null,null,null,null,null,null,null,"A","L","F/C","AT","AC","Total"]
[{"$f":"HOJA_CAPTURA!J67","v":0},{"$f":"HOJA_CAPTURA!K67","v":0},{"$f":"HOJA_CAPTURA!M67","v":0},{"$f":"HOJA_CAPTURA!N67","v":0},{"$f":"HOJA_CAPTURA!P67","v":0},{"$f":"HOJA_CAPTURA!Q67","v":"00:00:00"},{"$f":"HOJA_CAPTURA!V67","v":0},{"$f":"HOJA_CAPTURA!AF67","v":0},{"$f":"HOJA_CAPTURA!AG67","v":0},{"$f":"HOJA_CAPTURA!AH67","v":0},{"$f":"HOJA_CAPTURA!AI67","v":0},{"$f":"HOJA_CAPTURA!AJ67","v":0},{"$f":"HOJA_CAPTURA!AK67","v":0},{"$f":"HOJA_CAPTURA!AL67","v":0},{"$f":"HOJA_CAPTURA!AT67","v":0},{"$f":"HOJA_CAPTURA!AU67","v":0}]
[null,null,null,null,null,{"$f":"HOJA_CAPTURA!R67","v":"00:00:00"}]
[{"$f":"HOJA_CAPTURA!J68","v":0},{"$f":"HOJA_CAPTURA!K68","v":0},{"$f":"HOJA_CAPTURA!M68","v":0},{"$f":"HOJA_CAPTURA!N68","v":0},{"$f":"HOJA_CAPTURA!P68","v":0},{"$f":"HOJA_CAPTURA!Q68","v":"00:00:00"},{"$f":"HOJA_CAPTURA!V68","v":0},{"$f":"HOJA_CAPTURA!AF68","v":0},{"$f":"HOJA_CAPTURA!AG68","v":0},{"$f":"HOJA_CAPTURA!AH68","v":0},{"$f":"HOJA_CAPTURA!AI68","v":0},{"$f":"HOJA_CAPTURA!AJ68","v":0},{"$f":"HOJA_CAPTURA!AK68","v":0},{"$f":"HOJA_CAPTURA!AL68","v":0},{"$f":"HOJA_CAPTURA!AT68","v":0},{"$f":"HOJA_CAPTURA!AU68","v":0}]
[null,null,null,null,null,{"$f":"HOJA_CAPTURA!R68","v":"00:00:00"}]
[{"$f":"HOJA_CAPTURA!J69","v":0},{"$f":"HOJA_CAPTURA!K69","v":0},{"$f":"HOJA_CAPTURA!M69","v":0},{"$f":"HOJA_CAPTURA!N69","v":0},{"$f":"HOJA_CAPTURA!P69","v":0},{"$f":"HOJA_CAPTURA!Q69","v":"00:00:00"},{"$f":"HOJA_CAPTURA!V69","v":0},{"$f":"HOJA_CAPTURA!AF69","v":0},{"$f":"HOJA_CAPTURA!AG69","v":0},{"$f":"HOJA_CAPTURA!AH69","v":0},{"$f":"HOJA_CAPTURA!AI69","v":0},{"$f":"HOJA_CAPTURA!AJ69","v":0},{"$f":"HOJA_CAPTURA!AK69","v":0},{"$f":"HOJA_CAPTURA!AL69","v":0},{"$f":"HOJA_CAPTURA!AT69","v":0},{"$f":"HOJA_CAPTURA!AU69","v":0}]
[null,null,null,null,null,{"$f":"HOJA_CAPTURA!R69","v":"00:00:00"}]
[{"$f":"HOJA_CAPTURA!J70","v":0},{"$f":"HOJA_CAPTURA!K70","v":0},{"$f":"HOJA_CAPTURA!M70","v":0},{"$f":"HOJA_CAPTURA!N70","v":0},{"$f":"HOJA_CAPTURA!P70","v":0},{"$f":"HOJA_CAPTURA!Q70","v":"00:00:00"},{"$f":"HOJA_CAPTURA!V70","v":0},{"$f":"HOJA_CAPTURA!AF70","v":0},{"$f":"HOJA_CAPTURA!AG70","v":0},{"$f":"HOJA_CAPTURA!AH70","v":0},{"$f":"HOJA_CAPTURA!AI70","v":0},{"$f":"HOJA_CAPTURA!AJ70","v":0},{"$f":"HOJA_CAPTURA!AK70","v":0},{"$f":"HOJA_CAPTURA!AL70","v":0},{"$f":"HOJA_CAPTURA!AT70","v":0},{"$f":"HOJA_CAPTURA!AU70","v":0}]
[null,null,null,null,null,{"$f":"HOJA_CAPTURA!R70","v":"00:00:00"}]
[]
[{"$f":"HOJA_CAPTURA!F67","v":0},null,null,null,null,null,null,null,null,null,{"$f":"HOJA_CAPTURA!E67","v":0}]
["Nombre, firma y cargo de la persona que elaboró",null,null,null,null,null,null,null,null,null,"Nombre y firma del titular del Área productora"]
[]
[]
[]
[]
[null,"           "]
["Nombre de la dependencia o entidad: ",null,null,null,{"$f":"HOJA_CAPTURA!A71","v":"Instituto Nacional de Pediatría"},null,null,null,null,null,null,null,null,"Hoja: 18 de",{"$f":"O5","v":0}]
["Unidad administrativa/Área productora:",null,null,null,{"$f":"HOJA_CAPTURA!C71","v":0}]
[{"$f":"HOJA_CAPTURA!B71","v":"Fondo: INP"},null,"Sección:",{"$f":"HOJA_CAPTURA!G71","v":0},null,null,"Serie: ",{"$f":"HOJA_CAPTURA!H71","v":0}]
[null,null,null,null,null,null,"Subserie:",null,{"$f":"HOJA_CAPTURA!I71","v":0}]
["No. Consecutivo","No. de caja","No. de expediente","Clasificación archivística del expediente","Descripción o asunto ","                                                                                                                                                                                                                                                          Periodo de trámite","No.  de folios ","Valor documental",null,null,"Vigencia documental",null,null,"Condiciones de acceso (Reservada y confidencial)","Ubicación topográfica","Tradición documental "]
[null,null,null,null,null,null,null,"A","L","F/C","AT","AC","Total"]
[{"$f":"HOJA_CAPTURA!J71","v":0},{"$f":"HOJA_CAPTURA!K71","v":0},{"$f":"HOJA_CAPTURA!M71","v":0},{"$f":"HOJA_CAPTURA!N71","v":0},{"$f":"HOJA_CAPTURA!P71","v":0},{"$f":"HOJA_CAPTURA!Q71","v":"00:00:00"},{"$f":"HOJA_CAPTURA!V71","v":0},{"$f":"HOJA_CAPTURA!AF71","v":0},{"$f":"HOJA_CAPTURA!AG71","v":0},{"$f":"HOJA_CAPTURA!AH71","v":0},{"$f":"HOJA_CAPTURA!AI71","v":0},{"$f":"HOJA_CAPTURA!AJ71","v":0},{"$f":"HOJA_CAPTURA!AK71","v":0},{"$f":"HOJA_CAPTURA!AL71","v":0},{"$f":"HOJA_CAPTURA!AT71","v":0},{"$f":"HOJA_CAPTURA!AU71","v":0}]
[null,null,null,null,null,{"$f":"HOJA_CAPTURA!R71","v":"00:00:00"}]
[{"$f":"HOJA_CAPTURA!J72","v":0},{"$f":"HOJA_CAPTURA!K72","v":0},{"$f":"HOJA_CAPTURA!M72","v":0},{"$f":"HOJA_CAPTURA!N72","v":0},{"$f":"HOJA_CAPTURA!P72","v":0},{"$f":"HOJA_CAPTURA!Q72","v":"00:00:00"},{"$f":"HOJA_CAPTURA!V72","v":0},{"$f":"HOJA_CAPTURA!AF72","v":0},{"$f":"HOJA_CAPTURA!AG72","v":0},{"$f":"HOJA_CAPTURA!AH72","v":0},{"$f":"HOJA_CAPTURA!AI72","v":0},{"$f":"HOJA_CAPTURA!AJ72","v":0},{"$f":"HOJA_CAPTURA!AK72","v":0},{"$f":"HOJA_CAPTURA!AL72","v":0},{"$f":"HOJA_CAPTURA!AT72","v":0},{"$f":"HOJA_CAPTURA!AU72","v":0}]
[null,null,null,null,null,{"$f":"HOJA_CAPTURA!R72","v":"00:00:00"}]
[{"$f":"HOJA_CAPTURA!J73","v":0},{"$f":"HOJA_CAPTURA!K73","v":0},{"$f":"HOJA_CAPTURA!M73","v":0},{"$f":"HOJA_CAPTURA!N73","v":0},{"$f":"HOJA_CAPTURA!P73","v":0},{"$f":"HOJA_CAPTURA!Q73","v":"00:00:00"},{"$f":"HOJA_CAPTURA!V73","v":0},{"$f":"HOJA_CAPTURA!AF73","v":0},{"$f":"HOJA_CAPTURA!AG73","v":0},{"$f":"HOJA_CAPTURA!AH73","v":0},{"$f":"HOJA_CAPTURA!AI73","v":0},{"$f":"HOJA_CAPTURA!AJ73","v":0},{"$f":"HOJA_CAPTURA!AK73","v":0},{"$f":"HOJA_CAPTURA!AL73","v":0},{"$f":"HOJA_CAPTURA!AT73","v":0},{"$f":"HOJA_CAPTURA!AU73","v":0}]
[null,null,null,null,null,{"$f":"HOJA_CAPTURA!R73","v":"00:00:00"}]
[{"$f":"HOJA_CAPTURA!J74","v":0},{"$f":"HOJA_CAPTURA!K74","v":0},{"$f":"HOJA_CAPTURA!M74","v":0},{"$f":"HOJA_CAPTURA!N74","v":0},{"$f":"HOJA_CAPTURA!P74","v":0},{"$f":"HOJA_CAPTURA!Q74","v":"00:00:00"},{"$f":"HOJA_CAPTURA!V74","v":0},{"$f":"HOJA_CAPTURA!AF74","v":0},{"$f":"HOJA_CAPTURA!AG74","v":0},{"$f":"HOJA_CAPTURA!AH74","v":0},{"$f":"HOJA_CAPTURA!AI74","v":0},{"$f":"HOJA_CAPTURA!AJ74","v":0},{"$f":"HOJA_CAPTURA!AK74","v":0},{"$f":"HOJA_CAPTURA!AL74","v":0},{"$f":"HOJA_CAPTURA!AT74","v":0},{"$f":"HOJA_CAPTURA!AU74","v":0}]
[null,null,null,null,null,{"$f":"HOJA_CAPTURA!R74","v":"00:00:00"}]
[]
[{"$f":"HOJA_CAPTURA!F71","v":0},null,null,null,null,null,null,null,null,null,{"$f":"HOJA_CAPTURA!E71","v":0}]
["Nombre, firma y cargo de la persona que elaboró",null,null,null,null,null,null,null,null,null,"Nombre y firma del titular del Área productora"]
[]
[]
[]
[]
[null,"           "]
["Nombre de la dependencia o entidad: ",null,null,null,{"$f":"HOJA_CAPTURA!A75","v":"Instituto Nacional de Pediatría"},null,null,null,null,null,null,null,null,"Hoja: 19 de",{"$f":"O5","v":0}]
["Unidad administrativa/Área productora:",null,null,null,{"$f":"HOJA_CAPTURA!C75","v":0}]
[{"$f":"HOJA_CAPTURA!B75","v":"Fondo: INP"},null,"Sección:",{"$f":"HOJA_CAPTURA!G75","v":0},null,null,"Serie: ",{"$f":"HOJA_CAPTURA!H75","v":0}]
[null,null,null,null,null,null,"Subserie:",null,{"$f":"HOJA_CAPTURA!I75","v":0}]
["No. Consecutivo","No. de caja","No. de expediente","Clasificación archivística del expediente","Descripción o asunto ","                                                                                                                                                                                                                                                          Periodo de trámite","No.  de folios ","Valor documental",null,null,"Vigencia documental",null,null,"Condiciones de acceso (Reservada y confidencial)","Ubicación topográfica","Tradición documental "]
[null,null,null,null,null,null,null,"A","L","F/C","AT","AC","Total"]
[{"$f":"HOJA_CAPTURA!J75","v":0},{"$f":"HOJA_CAPTURA!K75","v":0},{"$f":"HOJA_CAPTURA!M75","v":0},{"$f":"HOJA_CAPTURA!N75","v":0},{"$f":"HOJA_CAPTURA!P75","v":0},{"$f":"HOJA_CAPTURA!Q75","v":"00:00:00"},{"$f":"HOJA_CAPTURA!V75","v":0},{"$f":"HOJA_CAPTURA!AF75","v":0},{"$f":"HOJA_CAPTURA!AG75","v":0},{"$f":"HOJA_CAPTURA!AH75","v":0},{"$f":"HOJA_CAPTURA!AI75","v":0},{"$f":"HOJA_CAPTURA!AJ75","v":0},{"$f":"HOJA_CAPTURA!AK75","v":0},{"$f":"HOJA_CAPTURA!AL75","v":0},{"$f":"HOJA_CAPTURA!AT75","v":0},{"$f":"HOJA_CAPTURA!AU75","v":0}]
[null,null,null,null,null,{"$f":"HOJA_CAPTURA!R75","v":"00:00:00"}]
[{"$f":"HOJA_CAPTURA!J76","v":0},{"$f":"HOJA_CAPTURA!K76","v":0},{"$f":"HOJA_CAPTURA!M76","v":0},{"$f":"HOJA_CAPTURA!N76","v":0},{"$f":"HOJA_CAPTURA!P76","v":0},{"$f":"HOJA_CAPTURA!Q76","v":"00:00:00"},{"$f":"HOJA_CAPTURA!V76","v":0},{"$f":"HOJA_CAPTURA!AF76","v":0},{"$f":"HOJA_CAPTURA!AG76","v":0},{"$f":"HOJA_CAPTURA!AH76","v":0},{"$f":"HOJA_CAPTURA!AI76","v":0},{"$f":"HOJA_CAPTURA!AJ76","v":0},{"$f":"HOJA_CAPTURA!AK76","v":0},{"$f":"HOJA_CAPTURA!AL76","v":0},{"$f":"HOJA_CAPTURA!AT76","v":0},{"$f":"HOJA_CAPTURA!AU76","v":0}]
[null,null,null,null,null,{"$f":"HOJA_CAPTURA!R76","v":"00:00:00"}]
[{"$f":"HOJA_CAPTURA!J77","v":0},{"$f":"HOJA_CAPTURA!K77","v":0},{"$f":"HOJA_CAPTURA!M77","v":0},{"$f":"HOJA_CAPTURA!N77","v":0},{"$f":"HOJA_CAPTURA!P77","v":0},{"$f":"HOJA_CAPTURA!Q77","v":"00:00:00"},{"$f":"HOJA_CAPTURA!V77","v":0},{"$f":"HOJA_CAPTURA!AF77","v":0},{"$f":"HOJA_CAPTURA!AG77","v":0},{"$f":"HOJA_CAPTURA!AH77","v":0},{"$f":"HOJA_CAPTURA!AI77","v":0},{"$f":"HOJA_CAPTURA!AJ77","v":0},{"$f":"HOJA_CAPTURA!AK77","v":0},{"$f":"HOJA_CAPTURA!AL77","v":0},{"$f":"HOJA_CAPTURA!AT77","v":0},{"$f":"HOJA_CAPTURA!AU77","v":0}]
[null,null,null,null,null,{"$f":"HOJA_CAPTURA!R77","v":"00:00:00"}]
[{"$f":"HOJA_CAPTURA!J78","v":0},{"$f":"HOJA_CAPTURA!K78","v":0},{"$f":"HOJA_CAPTURA!M78","v":0},{"$f":"HOJA_CAPTURA!N78","v":0},{"$f":"HOJA_CAPTURA!P78","v":0},{"$f":"HOJA_CAPTURA!Q78","v":"00:00:00"},{"$f":"HOJA_CAPTURA!V78","v":0},{"$f":"HOJA_CAPTURA!AF78","v":0},{"$f":"HOJA_CAPTURA!AG78","v":0},{"$f":"HOJA_CAPTURA!AH78","v":0},{"$f":"HOJA_CAPTURA!AI78","v":0},{"$f":"HOJA_CAPTURA!AJ78","v":0},{"$f":"HOJA_CAPTURA!AK78","v":0},{"$f":"HOJA_CAPTURA!AL78","v":0},{"$f":"HOJA_CAPTURA!AT78","v":0},{"$f":"HOJA_CAPTURA!AU78","v":0}]
[null,null,null,null,null,{"$f":"HOJA_CAPTURA!R78","v":"00:00:00"}]
[]
[{"$f":"HOJA_CAPTURA!F75","v":0},null,null,null,null,null,null,null,null,null,{"$f":"HOJA_CAPTURA!E75","v":0}]
["Nombre, firma y cargo de la persona que elaboró",null,null,null,null,null,null,null,null,null,"Nombre y firma del titular del Área productora"]
[]
[]
[]
[]
[null,"           "]
["Nombre de la dependencia o entidad: ",null,null,null,{"$f":"HOJA_CAPTURA!A79","v":"Instituto Nacional de Pediatría"},null,null,null,null,null,null,null,null,"Hoja: 20 de",{"$f":"O5","v":0}]
["Unidad administrativa/Área productora:",null,null,null,{"$f":"HOJA_CAPTURA!C79","v":0}]
[{"$f":"HOJA_CAPTURA!B79","v":"Fondo: INP"},null,"Sección:",{"$f":"HOJA_CAPTURA!G79","v":0},null,null,"Serie: ",{"$f":"HOJA_CAPTURA!H79","v":0}]
[null,null,null,null,null,null,"Subserie:",null,{"$f":"HOJA_CAPTURA!I79","v":0}]
["No. Consecutivo","No. de caja","No. de expediente","Clasificación archivística del expediente","Descripción o asunto ","                                                                                                                                                                                                                                                          Periodo de trámite","No.  de folios ","Valor documental",null,null,"Vigencia documental",null,null,"Condiciones de acceso (Reservada y confidencial)","Ubicación topográfica","Tradición documental "]
[null,null,null,null,null,null,null,"A","L","F/C","AT","AC","Total"]
[{"$f":"HOJA_CAPTURA!J79","v":0},{"$f":"HOJA_CAPTURA!K79","v":0},{"$f":"HOJA_CAPTURA!M79","v":0},{"$f":"HOJA_CAPTURA!N79","v":0},{"$f":"HOJA_CAPTURA!P79","v":0},{"$f":"HOJA_CAPTURA!Q79","v":"00:00:00"},{"$f":"HOJA_CAPTURA!V79","v":0},{"$f":"HOJA_CAPTURA!AF79","v":0},{"$f":"HOJA_CAPTURA!AG79","v":0},{"$f":"HOJA_CAPTURA!AH79","v":0},{"$f":"HOJA_CAPTURA!AI79","v":0},{"$f":"HOJA_CAPTURA!AJ79","v":0},{"$f":"HOJA_CAPTURA!AK79","v":0},{"$f":"HOJA_CAPTURA!AL79","v":0},{"$f":"HOJA_CAPTURA!AT79","v":0},{"$f":"HOJA_CAPTURA!AU79","v":0}]
[null,null,null,null,null,{"$f":"HOJA_CAPTURA!R79","v":"00:00:00"}]
[{"$f":"HOJA_CAPTURA!J80","v":0},{"$f":"HOJA_CAPTURA!K80","v":0},{"$f":"HOJA_CAPTURA!M80","v":0},{"$f":"HOJA_CAPTURA!N80","v":0},{"$f":"HOJA_CAPTURA!P80","v":0},{"$f":"HOJA_CAPTURA!Q80","v":"00:00:00"},{"$f":"HOJA_CAPTURA!V80","v":0},{"$f":"HOJA_CAPTURA!AF80","v":0},{"$f":"HOJA_CAPTURA!AG80","v":0},{"$f":"HOJA_CAPTURA!AH80","v":0},{"$f":"HOJA_CAPTURA!AI80","v":0},{"$f":"HOJA_CAPTURA!AJ80","v":0},{"$f":"HOJA_CAPTURA!AK80","v":0},{"$f":"HOJA_CAPTURA!AL80","v":0},{"$f":"HOJA_CAPTURA!AT80","v":0},{"$f":"HOJA_CAPTURA!AU80","v":0}]
[null,null,null,null,null,{"$f":"HOJA_CAPTURA!R80","v":"00:00:00"}]
[{"$f":"HOJA_CAPTURA!J81","v":0},{"$f":"HOJA_CAPTURA!K81","v":0},{"$f":"HOJA_CAPTURA!M81","v":0},{"$f":"HOJA_CAPTURA!N81","v":0},{"$f":"HOJA_CAPTURA!P81","v":0},{"$f":"HOJA_CAPTURA!Q81","v":"00:00:00"},{"$f":"HOJA_CAPTURA!V81","v":0},{"$f":"HOJA_CAPTURA!AF81","v":0},{"$f":"HOJA_CAPTURA!AG81","v":0},{"$f":"HOJA_CAPTURA!AH81","v":0},{"$f":"HOJA_CAPTURA!AI81","v":0},{"$f":"HOJA_CAPTURA!AJ81","v":0},{"$f":"HOJA_CAPTURA!AK81","v":0},{"$f":"HOJA_CAPTURA!AL81","v":0},{"$f":"HOJA_CAPTURA!AT81","v":0},{"$f":"HOJA_CAPTURA!AU81","v":0}]
[null,null,null,null,null,{"$f":"HOJA_CAPTURA!R81","v":"00:00:00"}]
[{"$f":"HOJA_CAPTURA!J82","v":0},{"$f":"HOJA_CAPTURA!K82","v":0},{"$f":"HOJA_CAPTURA!M82","v":0},{"$f":"HOJA_CAPTURA!N82","v":0},{"$f":"HOJA_CAPTURA!P82","v":0},{"$f":"HOJA_CAPTURA!Q82","v":"00:00:00"},{"$f":"HOJA_CAPTURA!V82","v":0},{"$f":"HOJA_CAPTURA!AF82","v":0},{"$f":"HOJA_CAPTURA!AG82","v":0},{"$f":"HOJA_CAPTURA!AH82","v":0},{"$f":"HOJA_CAPTURA!AI82","v":0},{"$f":"HOJA_CAPTURA!AJ82","v":0},{"$f":"HOJA_CAPTURA!AK82","v":0},{"$f":"HOJA_CAPTURA!AL82","v":0},{"$f":"HOJA_CAPTURA!AT82","v":0},{"$f":"HOJA_CAPTURA!AU82","v":0}]
[null,null,null,null,null,{"$f":"HOJA_CAPTURA!R82","v":"00:00:00"}]
[]
[{"$f":"HOJA_CAPTURA!F79","v":0},null,null,null,null,null,null,null,null,null,{"$f":"HOJA_CAPTURA!E79","v":0}]
["Nombre, firma y cargo de la persona que elaboró",null,null,null,null,null,null,null,null,null,"Nombre y firma del titular del Área productora"]
[]
[]
[]
[]
[null,"           "]
["Nombre de la dependencia o entidad: ",null,null,null,{"$f":"HOJA_CAPTURA!A83","v":"Instituto Nacional de Pediatría"},null,null,null,null,null,null,null,null,"Hoja: 21 de",{"$f":"O5","v":0}]
["Unidad administrativa/Área productora:",null,null,null,{"$f":"HOJA_CAPTURA!C83","v":0}]
[{"$f":"HOJA_CAPTURA!B83","v":"Fondo: INP"},null,"Sección:",{"$f":"HOJA_CAPTURA!G83","v":0},null,null,"Serie: ",{"$f":"HOJA_CAPTURA!H83","v":0}]
[null,null,null,null,null,null,"Subserie:",null,{"$f":"HOJA_CAPTURA!I83","v":0}]
["No. Consecutivo","No. de caja","No. de expediente","Clasificación archivística del expediente","Descripción o asunto ","                                                                                                                                                                                                                                                          Periodo de trámite","No.  de folios ","Valor documental",null,null,"Vigencia documental",null,null,"Condiciones de acceso (Reservada y confidencial)","Ubicación topográfica","Tradición documental "]
[null,null,null,null,null,null,null,"A","L","F/C","AT","AC","Total"]
[{"$f":"HOJA_CAPTURA!J83","v":0},{"$f":"HOJA_CAPTURA!K83","v":0},{"$f":"HOJA_CAPTURA!M83","v":0},{"$f":"HOJA_CAPTURA!N83","v":0},{"$f":"HOJA_CAPTURA!P83","v":0},{"$f":"HOJA_CAPTURA!Q83","v":"00:00:00"},{"$f":"HOJA_CAPTURA!V83","v":0},{"$f":"HOJA_CAPTURA!AF83","v":0},{"$f":"HOJA_CAPTURA!AG83","v":0},{"$f":"HOJA_CAPTURA!AH83","v":0},{"$f":"HOJA_CAPTURA!AI83","v":0},{"$f":"HOJA_CAPTURA!AJ83","v":0},{"$f":"HOJA_CAPTURA!AK83","v":0},{"$f":"HOJA_CAPTURA!AL83","v":0},{"$f":"HOJA_CAPTURA!AT83","v":0},{"$f":"HOJA_CAPTURA!AU83","v":0}]
[null,null,null,null,null,{"$f":"HOJA_CAPTURA!R83","v":"00:00:00"}]
[{"$f":"HOJA_CAPTURA!J84","v":0},{"$f":"HOJA_CAPTURA!K84","v":0},{"$f":"HOJA_CAPTURA!M84","v":0},{"$f":"HOJA_CAPTURA!N84","v":0},{"$f":"HOJA_CAPTURA!P84","v":0},{"$f":"HOJA_CAPTURA!Q84","v":"00:00:00"},{"$f":"HOJA_CAPTURA!V84","v":0},{"$f":"HOJA_CAPTURA!AF84","v":0},{"$f":"HOJA_CAPTURA!AG84","v":0},{"$f":"HOJA_CAPTURA!AH84","v":0},{"$f":"HOJA_CAPTURA!AI84","v":0},{"$f":"HOJA_CAPTURA!AJ84","v":0},{"$f":"HOJA_CAPTURA!AK84","v":0},{"$f":"HOJA_CAPTURA!AL84","v":0},{"$f":"HOJA_CAPTURA!AT84","v":0},{"$f":"HOJA_CAPTURA!AU84","v":0}]
[null,null,null,null,null,{"$f":"HOJA_CAPTURA!R84","v":"00:00:00"}]
[{"$f":"HOJA_CAPTURA!J85","v":0},{"$f":"HOJA_CAPTURA!K85","v":0},{"$f":"HOJA_CAPTURA!M85","v":0},{"$f":"HOJA_CAPTURA!N85","v":0},{"$f":"HOJA_CAPTURA!P85","v":0},{"$f":"HOJA_CAPTURA!Q85","v":"00:00:00"},{"$f":"HOJA_CAPTURA!V85","v":0},{"$f":"HOJA_CAPTURA!AF85","v":0},{"$f":"HOJA_CAPTURA!AG85","v":0},{"$f":"HOJA_CAPTURA!AH85","v":0},{"$f":"HOJA_CAPTURA!AI85","v":0},{"$f":"HOJA_CAPTURA!AJ85","v":0},{"$f":"HOJA_CAPTURA!AK85","v":0},{"$f":"HOJA_CAPTURA!AL85","v":0},{"$f":"HOJA_CAPTURA!AT85","v":0},{"$f":"HOJA_CAPTURA!AU85","v":0}]
[null,null,null,null,null,{"$f":"HOJA_CAPTURA!R85","v":"00:00:00"}]
[{"$f":"HOJA_CAPTURA!J86","v":0},{"$f":"HOJA_CAPTURA!K86","v":0},{"$f":"HOJA_CAPTURA!M86","v":0},{"$f":"HOJA_CAPTURA!N86","v":0},{"$f":"HOJA_CAPTURA!P86","v":0},{"$f":"HOJA_CAPTURA!Q86","v":"00:00:00"},{"$f":"HOJA_CAPTURA!V86","v":0},{"$f":"HOJA_CAPTURA!AF86","v":0},{"$f":"HOJA_CAPTURA!AG86","v":0},{"$f":"HOJA_CAPTURA!AH86","v":0},{"$f":"HOJA_CAPTURA!AI86","v":0},{"$f":"HOJA_CAPTURA!AJ86","v":0},{"$f":"HOJA_CAPTURA!AK86","v":0},{"$f":"HOJA_CAPTURA!AL86","v":0},{"$f":"HOJA_CAPTURA!AT86","v":0},{"$f":"HOJA_CAPTURA!AU86","v":0}]
[null,null,null,null,null,{"$f":"HOJA_CAPTURA!R86","v":"00:00:00"}]
[]
[{"$f":"HOJA_CAPTURA!F83","v":0},null,null,null,null,null,null,null,null,null,{"$f":"HOJA_CAPTURA!E83","v":0}]
["Nombre, firma y cargo de la persona que elaboró",null,null,null,null,null,null,null,null,null,"Nombre y firma del titular del Área productora"]
[]
[]
[]
[]
[null,"           "]
["Nombre de la dependencia o entidad: ",null,null,null,{"$f":"HOJA_CAPTURA!A87","v":"Instituto Nacional de Pediatría"},null,null,null,null,null,null,null,null,"Hoja: 22 de",{"$f":"O5","v":0}]
["Unidad administrativa/Área productora:",null,null,null,{"$f":"HOJA_CAPTURA!C87","v":0}]
[{"$f":"HOJA_CAPTURA!B87","v":"Fondo: INP"},null,"Sección:",{"$f":"HOJA_CAPTURA!G87","v":0},null,null,"Serie: ",{"$f":"HOJA_CAPTURA!H87","v":0}]
[null,null,null,null,null,null,"Subserie:",null,{"$f":"HOJA_CAPTURA!I87","v":0}]
["No. Consecutivo","No. de caja","No. de expediente","Clasificación archivística del expediente","Descripción o asunto ","                                                                                                                                                                                                                                                          Periodo de trámite","No.  de folios ","Valor documental",null,null,"Vigencia documental",null,null,"Condiciones de acceso (Reservada y confidencial)","Ubicación topográfica","Tradición documental "]
[null,null,null,null,null,null,null,"A","L","F/C","AT","AC","Total"]
[{"$f":"HOJA_CAPTURA!J87","v":0},{"$f":"HOJA_CAPTURA!K87","v":0},{"$f":"HOJA_CAPTURA!M87","v":0},{"$f":"HOJA_CAPTURA!N87","v":0},{"$f":"HOJA_CAPTURA!P87","v":0},{"$f":"HOJA_CAPTURA!Q87","v":"00:00:00"},{"$f":"HOJA_CAPTURA!V87","v":0},{"$f":"HOJA_CAPTURA!AF87","v":0},{"$f":"HOJA_CAPTURA!AG87","v":0},{"$f":"HOJA_CAPTURA!AH87","v":0},{"$f":"HOJA_CAPTURA!AI87","v":0},{"$f":"HOJA_CAPTURA!AJ87","v":0},{"$f":"HOJA_CAPTURA!AK87","v":0},{"$f":"HOJA_CAPTURA!AL87","v":0},{"$f":"HOJA_CAPTURA!AT87","v":0},{"$f":"HOJA_CAPTURA!AU87","v":0}]
[null,null,null,null,null,{"$f":"HOJA_CAPTURA!R87","v":"00:00:00"}]
[{"$f":"HOJA_CAPTURA!J88","v":0},{"$f":"HOJA_CAPTURA!K88","v":0},{"$f":"HOJA_CAPTURA!M88","v":0},{"$f":"HOJA_CAPTURA!N88","v":0},{"$f":"HOJA_CAPTURA!P88","v":0},{"$f":"HOJA_CAPTURA!Q88","v":"00:00:00"},{"$f":"HOJA_CAPTURA!V88","v":0},{"$f":"HOJA_CAPTURA!AF88","v":0},{"$f":"HOJA_CAPTURA!AG88","v":0},{"$f":"HOJA_CAPTURA!AH88","v":0},{"$f":"HOJA_CAPTURA!AI88","v":0},{"$f":"HOJA_CAPTURA!AJ88","v":0},{"$f":"HOJA_CAPTURA!AK88","v":0},{"$f":"HOJA_CAPTURA!AL88","v":0},{"$f":"HOJA_CAPTURA!AT88","v":0},{"$f":"HOJA_CAPTURA!AU88","v":0}]
[null,null,null,null,null,{"$f":"HOJA_CAPTURA!R88","v":"00:00:00"}]
[{"$f":"HOJA_CAPTURA!J89","v":0},{"$f":"HOJA_CAPTURA!K89","v":0},{"$f":"HOJA_CAPTURA!M89","v":0},{"$f":"HOJA_CAPTURA!N89","v":0},{"$f":"HOJA_CAPTURA!P89","v":0},{"$f":"HOJA_CAPTURA!Q89","v":"00:00:00"},{"$f":"HOJA_CAPTURA!V89","v":0},{"$f":"HOJA_CAPTURA!AF89","v":0},{"$f":"HOJA_CAPTURA!AG89","v":0},{"$f":"HOJA_CAPTURA!AH89","v":0},{"$f":"HOJA_CAPTURA!AI89","v":0},{"$f":"HOJA_CAPTURA!AJ89","v":0},{"$f":"HOJA_CAPTURA!AK89","v":0},{"$f":"HOJA_CAPTURA!AL89","v":0},{"$f":"HOJA_CAPTURA!AT89","v":0},{"$f":"HOJA_CAPTURA!AU89","v":0}]
[null,null,null,null,null,{"$f":"HOJA_CAPTURA!R89","v":"00:00:00"}]
[{"$f":"HOJA_CAPTURA!J90","v":0},{"$f":"HOJA_CAPTURA!K90","v":0},{"$f":"HOJA_CAPTURA!M90","v":0},{"$f":"HOJA_CAPTURA!N90","v":0},{"$f":"HOJA_CAPTURA!P90","v":0},{"$f":"HOJA_CAPTURA!Q90","v":"00:00:00"},{"$f":"HOJA_CAPTURA!V90","v":0},{"$f":"HOJA_CAPTURA!AF90","v":0},{"$f":"HOJA_CAPTURA!AG90","v":0},{"$f":"HOJA_CAPTURA!AH90","v":0},{"$f":"HOJA_CAPTURA!AI90","v":0},{"$f":"HOJA_CAPTURA!AJ90","v":0},{"$f":"HOJA_CAPTURA!AK90","v":0},{"$f":"HOJA_CAPTURA!AL90","v":0},{"$f":"HOJA_CAPTURA!AT90","v":0},{"$f":"HOJA_CAPTURA!AU90","v":0}]
[null,null,null,null,null,{"$f":"HOJA_CAPTURA!R90","v":"00:00:00"}]
[]
[{"$f":"HOJA_CAPTURA!F87","v":0},null,null,null,null,null,null,null,null,null,{"$f":"HOJA_CAPTURA!E87","v":0}]
["Nombre, firma y cargo de la persona que elaboró",null,null,null,null,null,null,null,null,null,"Nombre y firma del titular del Área productora"]
[]
[]
[]
[]
[null,"           "]
["Nombre de la dependencia o entidad: ",null,null,null,{"$f":"HOJA_CAPTURA!A91","v":"Instituto Nacional de Pediatría"},null,null,null,null,null,null,null,null,"Hoja: 23 de",{"$f":"O5","v":0}]
["Unidad administrativa/Área productora:",null,null,null,{"$f":"HOJA_CAPTURA!C91","v":0}]
[{"$f":"HOJA_CAPTURA!B91","v":"Fondo: INP"},null,"Sección:",{"$f":"HOJA_CAPTURA!G91","v":0},null,null,"Serie: ",{"$f":"HOJA_CAPTURA!H91","v":0}]
[null,null,null,null,null,null,"Subserie:",null,{"$f":"HOJA_CAPTURA!I91","v":0}]
["No. Consecutivo","No. de caja","No. de expediente","Clasificación archivística del expediente","Descripción o asunto ","                                                                                                                                                                                                                                                          Periodo de trámite","No.  de folios ","Valor documental",null,null,"Vigencia documental",null,null,"Condiciones de acceso (Reservada y confidencial)","Ubicación topográfica","Tradición documental "]
[null,null,null,null,null,null,null,"A","L","F/C","AT","AC","Total"]
[{"$f":"HOJA_CAPTURA!J91","v":0},{"$f":"HOJA_CAPTURA!K91","v":0},{"$f":"HOJA_CAPTURA!M91","v":0},{"$f":"HOJA_CAPTURA!N91","v":0},{"$f":"HOJA_CAPTURA!P91","v":0},{"$f":"HOJA_CAPTURA!Q91","v":"00:00:00"},{"$f":"HOJA_CAPTURA!V91","v":0},{"$f":"HOJA_CAPTURA!AF91","v":0},{"$f":"HOJA_CAPTURA!AG91","v":0},{"$f":"HOJA_CAPTURA!AH91","v":0},{"$f":"HOJA_CAPTURA!AI91","v":0},{"$f":"HOJA_CAPTURA!AJ91","v":0},{"$f":"HOJA_CAPTURA!AK91","v":0},{"$f":"HOJA_CAPTURA!AL91","v":0},{"$f":"HOJA_CAPTURA!AT91","v":0},{"$f":"HOJA_CAPTURA!AU91","v":0}]
[null,null,null,null,null,{"$f":"HOJA_CAPTURA!R91","v":"00:00:00"}]
[{"$f":"HOJA_CAPTURA!J92","v":0},{"$f":"HOJA_CAPTURA!K92","v":0},{"$f":"HOJA_CAPTURA!M92","v":0},{"$f":"HOJA_CAPTURA!N92","v":0},{"$f":"HOJA_CAPTURA!P92","v":0},{"$f":"HOJA_CAPTURA!Q92","v":"00:00:00"},{"$f":"HOJA_CAPTURA!V92","v":0},{"$f":"HOJA_CAPTURA!AF92","v":0},{"$f":"HOJA_CAPTURA!AG92","v":0},{"$f":"HOJA_CAPTURA!AH92","v":0},{"$f":"HOJA_CAPTURA!AI92","v":0},{"$f":"HOJA_CAPTURA!AJ92","v":0},{"$f":"HOJA_CAPTURA!AK92","v":0},{"$f":"HOJA_CAPTURA!AL92","v":0},{"$f":"HOJA_CAPTURA!AT92","v":0},{"$f":"HOJA_CAPTURA!AU92","v":0}]
[null,null,null,null,null,{"$f":"HOJA_CAPTURA!R92","v":"00:00:00"}]
[{"$f":"HOJA_CAPTURA!J93","v":0},{"$f":"HOJA_CAPTURA!K93","v":0},{"$f":"HOJA_CAPTURA!M93","v":0},{"$f":"HOJA_CAPTURA!N93","v":0},{"$f":"HOJA_CAPTURA!P93","v":0},{"$f":"HOJA_CAPTURA!Q93","v":"00:00:00"},{"$f":"HOJA_CAPTURA!V93","v":0},{"$f":"HOJA_CAPTURA!AF93","v":0},{"$f":"HOJA_CAPTURA!AG93","v":0},{"$f":"HOJA_CAPTURA!AH93","v":0},{"$f":"HOJA_CAPTURA!AI93","v":0},{"$f":"HOJA_CAPTURA!AJ93","v":0},{"$f":"HOJA_CAPTURA!AK93","v":0},{"$f":"HOJA_CAPTURA!AL93","v":0},{"$f":"HOJA_CAPTURA!AT93","v":0},{"$f":"HOJA_CAPTURA!AU93","v":0}]
[null,null,null,null,null,{"$f":"HOJA_CAPTURA!R93","v":"00:00:00"}]
[{"$f":"HOJA_CAPTURA!J94","v":0},{"$f":"HOJA_CAPTURA!K94","v":0},{"$f":"HOJA_CAPTURA!M94","v":0},{"$f":"HOJA_CAPTURA!N94","v":0},{"$f":"HOJA_CAPTURA!P94","v":0},{"$f":"HOJA_CAPTURA!Q94","v":"00:00:00"},{"$f":"HOJA_CAPTURA!V94","v":0},{"$f":"HOJA_CAPTURA!AF94","v":0},{"$f":"HOJA_CAPTURA!AG94","v":0},{"$f":"HOJA_CAPTURA!AH94","v":0},{"$f":"HOJA_CAPTURA!AI94","v":0},{"$f":"HOJA_CAPTURA!AJ94","v":0},{"$f":"HOJA_CAPTURA!AK94","v":0},{"$f":"HOJA_CAPTURA!AL94","v":0},{"$f":"HOJA_CAPTURA!AT94","v":0},{"$f":"HOJA_CAPTURA!AU94","v":0}]
[null,null,null,null,null,{"$f":"HOJA_CAPTURA!R94","v":"00:00:00"}]
[]
[{"$f":"HOJA_CAPTURA!F91","v":0},null,null,null,null,null,null,null,null,null,{"$f":"HOJA_CAPTURA!E91","v":0}]
["Nombre, firma y cargo de la persona que elaboró",null,null,null,null,null,null,null,null,null,"Nombre y firma del titular del Área productora"]
[]
[]
[]
[]
[null,"           "]
["Nombre de la dependencia o entidad: ",null,null,null,{"$f":"HOJA_CAPTURA!A95","v":"Instituto Nacional de Pediatría"},null,null,null,null,null,null,null,null,"Hoja: 24 de",{"$f":"O5","v":0}]
["Unidad administrativa/Área productora:",null,null,null,{"$f":"HOJA_CAPTURA!C95","v":0}]
[{"$f":"HOJA_CAPTURA!B95","v":"Fondo: INP"},null,"Sección:",{"$f":"HOJA_CAPTURA!G95","v":0},null,null,"Serie: ",{"$f":"HOJA_CAPTURA!H95","v":0}]
[null,null,null,null,null,null,"Subserie:",null,{"$f":"HOJA_CAPTURA!I95","v":0}]
["No. Consecutivo","No. de caja","No. de expediente","Clasificación archivística del expediente","Descripción o asunto ","                                                                                                                                                                                                                                                          Periodo de trámite","No.  de folios ","Valor documental",null,null,"Vigencia documental",null,null,"Condiciones de acceso (Reservada y confidencial)","Ubicación topográfica","Tradición documental "]
[null,null,null,null,null,null,null,"A","L","F/C","AT","AC","Total"]
[{"$f":"HOJA_CAPTURA!J95","v":0},{"$f":"HOJA_CAPTURA!K95","v":0},{"$f":"HOJA_CAPTURA!M95","v":0},{"$f":"HOJA_CAPTURA!N95","v":0},{"$f":"HOJA_CAPTURA!P95","v":0},{"$f":"HOJA_CAPTURA!Q95","v":"00:00:00"},{"$f":"HOJA_CAPTURA!V95","v":0},{"$f":"HOJA_CAPTURA!AF95","v":0},{"$f":"HOJA_CAPTURA!AG95","v":0},{"$f":"HOJA_CAPTURA!AH95","v":0},{"$f":"HOJA_CAPTURA!AI95","v":0},{"$f":"HOJA_CAPTURA!AJ95","v":0},{"$f":"HOJA_CAPTURA!AK95","v":0},{"$f":"HOJA_CAPTURA!AL95","v":0},{"$f":"HOJA_CAPTURA!AT95","v":0},{"$f":"HOJA_CAPTURA!AU95","v":0}]
[null,null,null,null,null,{"$f":"HOJA_CAPTURA!R95","v":"00:00:00"}]
[{"$f":"HOJA_CAPTURA!J96","v":0},{"$f":"HOJA_CAPTURA!K96","v":0},{"$f":"HOJA_CAPTURA!M96","v":0},{"$f":"HOJA_CAPTURA!N96","v":0},{"$f":"HOJA_CAPTURA!P96","v":0},{"$f":"HOJA_CAPTURA!Q96","v":"00:00:00"},{"$f":"HOJA_CAPTURA!V96","v":0},{"$f":"HOJA_CAPTURA!AF96","v":0},{"$f":"HOJA_CAPTURA!AG96","v":0},{"$f":"HOJA_CAPTURA!AH96","v":0},{"$f":"HOJA_CAPTURA!AI96","v":0},{"$f":"HOJA_CAPTURA!AJ96","v":0},{"$f":"HOJA_CAPTURA!AK96","v":0},{"$f":"HOJA_CAPTURA!AL96","v":0},{"$f":"HOJA_CAPTURA!AT96","v":0},{"$f":"HOJA_CAPTURA!AU96","v":0}]
[null,null,null,null,null,{"$f":"HOJA_CAPTURA!R96","v":"00:00:00"}]
[{"$f":"HOJA_CAPTURA!J97","v":0},{"$f":"HOJA_CAPTURA!K97","v":0},{"$f":"HOJA_CAPTURA!M97","v":0},{"$f":"HOJA_CAPTURA!N97","v":0},{"$f":"HOJA_CAPTURA!P97","v":0},{"$f":"HOJA_CAPTURA!Q97","v":"00:00:00"},{"$f":"HOJA_CAPTURA!V97","v":0},{"$f":"HOJA_CAPTURA!AF97","v":0},{"$f":"HOJA_CAPTURA!AG97","v":0},{"$f":"HOJA_CAPTURA!AH97","v":0},{"$f":"HOJA_CAPTURA!AI97","v":0},{"$f":"HOJA_CAPTURA!AJ97","v":0},{"$f":"HOJA_CAPTURA!AK97","v":0},{"$f":"HOJA_CAPTURA!AL97","v":0},{"$f":"HOJA_CAPTURA!AT97","v":0},{"$f":"HOJA_CAPTURA!AU97","v":0}]
[null,null,null,null,null,{"$f":"HOJA_CAPTURA!R97","v":"00:00:00"}]
[{"$f":"HOJA_CAPTURA!J98","v":0},{"$f":"HOJA_CAPTURA!K98","v":0},{"$f":"HOJA_CAPTURA!M98","v":0},{"$f":"HOJA_CAPTURA!N98","v":0},{"$f":"HOJA_CAPTURA!P98","v":0},{"$f":"HOJA_CAPTURA!Q98","v":"00:00:00"},{"$f":"HOJA_CAPTURA!V98","v":0},{"$f":"HOJA_CAPTURA!AF98","v":0},{"$f":"HOJA_CAPTURA!AG98","v":0},{"$f":"HOJA_CAPTURA!AH98","v":0},{"$f":"HOJA_CAPTURA!AI98","v":0},{"$f":"HOJA_CAPTURA!AJ98","v":0},{"$f":"HOJA_CAPTURA!AK98","v":0},{"$f":"HOJA_CAPTURA!AL98","v":0},{"$f":"HOJA_CAPTURA!AT98","v":0},{"$f":"HOJA_CAPTURA!AU98","v":0}]
[null,null,null,null,null,{"$f":"HOJA_CAPTURA!R98","v":"00:00:00"}]
[]
[{"$f":"HOJA_CAPTURA!F95","v":0},null,null,null,null,null,null,null,null,null,{"$f":"HOJA_CAPTURA!E95","v":0}]
["Nombre, firma y cargo de la persona que elaboró",null,null,null,null,null,null,null,null,null,"Nombre y firma del titular del Área productora"]
[]
[]
[]
[]
[null,"           "]
["Nombre de la dependencia o entidad: ",null,null,null,{"$f":"HOJA_CAPTURA!A99","v":"Instituto Nacional de Pediatría"},null,null,null,null,null,null,null,null,"Hoja: 25 de",{"$f":"O5","v":0}]
["Unidad administrativa/Área productora:",null,null,null,{"$f":"HOJA_CAPTURA!C99","v":0}]
[{"$f":"HOJA_CAPTURA!B99","v":"Fondo: INP"},null,"Sección:",{"$f":"HOJA_CAPTURA!G99","v":0},null,null,"Serie: ",{"$f":"HOJA_CAPTURA!H99","v":0}]
[null,null,null,null,null,null,"Subserie:",null,{"$f":"HOJA_CAPTURA!I99","v":0}]
["No. Consecutivo","No. de caja","No. de expediente","Clasificación archivística del expediente","Descripción o asunto ","                                                                                                                                                                                                                                                          Periodo de trámite","No.  de folios ","Valor documental",null,null,"Vigencia documental",null,null,"Condiciones de acceso (Reservada y confidencial)","Ubicación topográfica","Tradición documental "]
[null,null,null,null,null,null,null,"A","L","F/C","AT","AC","Total"]
[{"$f":"HOJA_CAPTURA!J99","v":0},{"$f":"HOJA_CAPTURA!K99","v":0},{"$f":"HOJA_CAPTURA!M99","v":0},{"$f":"HOJA_CAPTURA!N99","v":0},{"$f":"HOJA_CAPTURA!P99","v":0},{"$f":"HOJA_CAPTURA!Q99","v":"00:00:00"},{"$f":"HOJA_CAPTURA!V99","v":0},{"$f":"HOJA_CAPTURA!AF99","v":0},{"$f":"HOJA_CAPTURA!AG99","v":0},{"$f":"HOJA_CAPTURA!AH99","v":0},{"$f":"HOJA_CAPTURA!AI99","v":0},{"$f":"HOJA_CAPTURA!AJ99","v":0},{"$f":"HOJA_CAPTURA!AK99","v":0},{"$f":"HOJA_CAPTURA!AL99","v":0},{"$f":"HOJA_CAPTURA!AT99","v":0},{"$f":"HOJA_CAPTURA!AU99","v":0}]
[null,null,null,null,null,{"$f":"HOJA_CAPTURA!R99","v":"00:00:00"}]
[{"$f":"HOJA_CAPTURA!J100","v":0},{"$f":"HOJA_CAPTURA!K100","v":0},{"$f":"HOJA_CAPTURA!M100","v":0},{"$f":"HOJA_CAPTURA!N100","v":0},{"$f":"HOJA_CAPTURA!P100","v":0},{"$f":"HOJA_CAPTURA!Q100","v":"00:00:00"},{"$f":"HOJA_CAPTURA!V100","v":0},{"$f":"HOJA_CAPTURA!AF100","v":0},{"$f":"HOJA_CAPTURA!AG100","v":0},{"$f":"HOJA_CAPTURA!AH100","v":0},{"$f":"HOJA_CAPTURA!AI100","v":0},{"$f":"HOJA_CAPTURA!AJ100","v":0},{"$f":"HOJA_CAPTURA!AK100","v":0},{"$f":"HOJA_CAPTURA!AL100","v":0},{"$f":"HOJA_CAPTURA!AT100","v":0},{"$f":"HOJA_CAPTURA!AU100","v":0}]
[null,null,null,null,null,{"$f":"HOJA_CAPTURA!R100","v":"00:00:00"}]
[{"$f":"HOJA_CAPTURA!J101","v":0},{"$f":"HOJA_CAPTURA!K101","v":0},{"$f":"HOJA_CAPTURA!M101","v":0},{"$f":"HOJA_CAPTURA!N101","v":0},{"$f":"HOJA_CAPTURA!P101","v":0},{"$f":"HOJA_CAPTURA!Q101","v":"00:00:00"},{"$f":"HOJA_CAPTURA!V101","v":0},{"$f":"HOJA_CAPTURA!AF101","v":0},{"$f":"HOJA_CAPTURA!AG101","v":0},{"$f":"HOJA_CAPTURA!AH101","v":0},{"$f":"HOJA_CAPTURA!AI101","v":0},{"$f":"HOJA_CAPTURA!AJ101","v":0},{"$f":"HOJA_CAPTURA!AK101","v":0},{"$f":"HOJA_CAPTURA!AL101","v":0},{"$f":"HOJA_CAPTURA!AT101","v":0},{"$f":"HOJA_CAPTURA!AU101","v":0}]
[null,null,null,null,null,{"$f":"HOJA_CAPTURA!R101","v":"00:00:00"}]
[{"$f":"HOJA_CAPTURA!J102","v":0},{"$f":"HOJA_CAPTURA!K102","v":0},{"$f":"HOJA_CAPTURA!M102","v":0},{"$f":"HOJA_CAPTURA!N102","v":0},{"$f":"HOJA_CAPTURA!P102","v":0},{"$f":"HOJA_CAPTURA!Q102","v":"00:00:00"},{"$f":"HOJA_CAPTURA!V102","v":0},{"$f":"HOJA_CAPTURA!AF102","v":0},{"$f":"HOJA_CAPTURA!AG102","v":0},{"$f":"HOJA_CAPTURA!AH102","v":0},{"$f":"HOJA_CAPTURA!AI102","v":0},{"$f":"HOJA_CAPTURA!AJ102","v":0},{"$f":"HOJA_CAPTURA!AK102","v":0},{"$f":"HOJA_CAPTURA!AL102","v":0},{"$f":"HOJA_CAPTURA!AT102","v":0},{"$f":"HOJA_CAPTURA!AU102","v":0}]
[null,null,null,null,null,{"$f":"HOJA_CAPTURA!R102","v":"00:00:00"}]
[]
[{"$f":"HOJA_CAPTURA!F99","v":0},null,null,null,null,null,null,null,null,null,{"$f":"HOJA_CAPTURA!E99","v":0}]
["Nombre, firma y cargo de la persona que elaboró",null,null,null,null,null,null,null,null,null,"Nombre y firma del titular del Área productora"]
[]
[]
[]
[]
[null,"           "]
["Nombre de la dependencia o entidad: ",null,null,null,{"$f":"HOJA_CAPTURA!A103","v":"Instituto Nacional de Pediatría"},null,null,null,null,null,null,null,null,"Hoja: 26 de",{"$f":"O5","v":0}]
["Unidad administrativa/Área productora:",null,null,null,{"$f":"HOJA_CAPTURA!C103","v":0}]
[{"$f":"HOJA_CAPTURA!B103","v":"Fondo: INP"},null,"Sección:",{"$f":"HOJA_CAPTURA!G103","v":0},null,null,"Serie: ",{"$f":"HOJA_CAPTURA!H103","v":0}]
[null,null,null,null,null,null,"Subserie:",null,{"$f":"HOJA_CAPTURA!I103","v":0}]
["No. Consecutivo","No. de caja","No. de expediente","Clasificación archivística del expediente","Descripción o asunto ","                                                                                                                                                                                                                                                          Periodo de trámite","No.  de folios ","Valor documental",null,null,"Vigencia documental",null,null,"Condiciones de acceso (Reservada y confidencial)","Ubicación topográfica","Tradición documental "]
[null,null,null,null,null,null,null,"A","L","F/C","AT","AC","Total"]
[{"$f":"HOJA_CAPTURA!J103","v":0},{"$f":"HOJA_CAPTURA!K103","v":0},{"$f":"HOJA_CAPTURA!M103","v":0},{"$f":"HOJA_CAPTURA!N103","v":0},{"$f":"HOJA_CAPTURA!P103","v":0},{"$f":"HOJA_CAPTURA!Q103","v":"00:00:00"},{"$f":"HOJA_CAPTURA!V103","v":0},{"$f":"HOJA_CAPTURA!AF103","v":0},{"$f":"HOJA_CAPTURA!AG103","v":0},{"$f":"HOJA_CAPTURA!AH103","v":0},{"$f":"HOJA_CAPTURA!AI103","v":0},{"$f":"HOJA_CAPTURA!AJ103","v":0},{"$f":"HOJA_CAPTURA!AK103","v":0},{"$f":"HOJA_CAPTURA!AL103","v":0},{"$f":"HOJA_CAPTURA!AT103","v":0},{"$f":"HOJA_CAPTURA!AU103","v":0}]
[null,null,null,null,null,{"$f":"HOJA_CAPTURA!R103","v":"00:00:00"}]
[{"$f":"HOJA_CAPTURA!J104","v":0},{"$f":"HOJA_CAPTURA!K104","v":0},{"$f":"HOJA_CAPTURA!M104","v":0},{"$f":"HOJA_CAPTURA!N104","v":0},{"$f":"HOJA_CAPTURA!P104","v":0},{"$f":"HOJA_CAPTURA!Q104","v":"00:00:00"},{"$f":"HOJA_CAPTURA!V104","v":0},{"$f":"HOJA_CAPTURA!AF104","v":0},{"$f":"HOJA_CAPTURA!AG104","v":0},{"$f":"HOJA_CAPTURA!AH104","v":0},{"$f":"HOJA_CAPTURA!AI104","v":0},{"$f":"HOJA_CAPTURA!AJ104","v":0},{"$f":"HOJA_CAPTURA!AK104","v":0},{"$f":"HOJA_CAPTURA!AL104","v":0},{"$f":"HOJA_CAPTURA!AT104","v":0},{"$f":"HOJA_CAPTURA!AU104","v":0}]
[null,null,null,null,null,{"$f":"HOJA_CAPTURA!R104","v":"00:00:00"}]
[{"$f":"HOJA_CAPTURA!J105","v":0},{"$f":"HOJA_CAPTURA!K105","v":0},{"$f":"HOJA_CAPTURA!M105","v":0},{"$f":"HOJA_CAPTURA!N105","v":0},{"$f":"HOJA_CAPTURA!P105","v":0},{"$f":"HOJA_CAPTURA!Q105","v":"00:00:00"},{"$f":"HOJA_CAPTURA!V105","v":0},{"$f":"HOJA_CAPTURA!AF105","v":0},{"$f":"HOJA_CAPTURA!AG105","v":0},{"$f":"HOJA_CAPTURA!AH105","v":0},{"$f":"HOJA_CAPTURA!AI105","v":0},{"$f":"HOJA_CAPTURA!AJ105","v":0},{"$f":"HOJA_CAPTURA!AK105","v":0},{"$f":"HOJA_CAPTURA!AL105","v":0},{"$f":"HOJA_CAPTURA!AT105","v":0},{"$f":"HOJA_CAPTURA!AU105","v":0}]
[null,null,null,null,null,{"$f":"HOJA_CAPTURA!R105","v":"00:00:00"}]
[{"$f":"HOJA_CAPTURA!J106","v":0},{"$f":"HOJA_CAPTURA!K106","v":0},{"$f":"HOJA_CAPTURA!M106","v":0},{"$f":"HOJA_CAPTURA!N106","v":0},{"$f":"HOJA_CAPTURA!P106","v":0},{"$f":"HOJA_CAPTURA!Q106","v":"00:00:00"},{"$f":"HOJA_CAPTURA!V106","v":0},{"$f":"HOJA_CAPTURA!AF106","v":0},{"$f":"HOJA_CAPTURA!AG106","v":0},{"$f":"HOJA_CAPTURA!AH106","v":0},{"$f":"HOJA_CAPTURA!AI106","v":0},{"$f":"HOJA_CAPTURA!AJ106","v":0},{"$f":"HOJA_CAPTURA!AK106","v":0},{"$f":"HOJA_CAPTURA!AL106","v":0},{"$f":"HOJA_CAPTURA!AT106","v":0},{"$f":"HOJA_CAPTURA!AU106","v":0}]
[null,null,null,null,null,{"$f":"HOJA_CAPTURA!R106","v":"00:00:00"}]
[]
[{"$f":"HOJA_CAPTURA!F103","v":0},null,null,null,null,null,null,null,null,null,{"$f":"HOJA_CAPTURA!E103","v":0}]
["Nombre, firma y cargo de la persona que elaboró",null,null,null,null,null,null,null,null,null,"Nombre y firma del titular del Área productora"]
[]
[]
[]
[]
[null,"           "]
["Nombre de la dependencia o entidad: ",null,null,null,{"$f":"HOJA_CAPTURA!A107","v":"Instituto Nacional de Pediatría"},null,null,null,null,null,null,null,null,"Hoja: 27 de",{"$f":"O5","v":0}]
["Unidad administrativa/Área productora:",null,null,null,{"$f":"HOJA_CAPTURA!C107","v":0}]
[{"$f":"HOJA_CAPTURA!B107","v":"Fondo: INP"},null,"Sección:",{"$f":"HOJA_CAPTURA!G107","v":0},null,null,"Serie: ",{"$f":"HOJA_CAPTURA!H107","v":0}]
[null,null,null,null,null,null,"Subserie:",null,{"$f":"HOJA_CAPTURA!I107","v":0}]
["No. Consecutivo","No. de caja","No. de expediente","Clasificación archivística del expediente","Descripción o asunto ","                                                                                                                                                                                                                                                          Periodo de trámite","No.  de folios ","Valor documental",null,null,"Vigencia documental",null,null,"Condiciones de acceso (Reservada y confidencial)","Ubicación topográfica","Tradición documental "]
[null,null,null,null,null,null,null,"A","L","F/C","AT","AC","Total"]
[{"$f":"HOJA_CAPTURA!J107","v":0},{"$f":"HOJA_CAPTURA!K107","v":0},{"$f":"HOJA_CAPTURA!M107","v":0},{"$f":"HOJA_CAPTURA!N107","v":0},{"$f":"HOJA_CAPTURA!P107","v":0},{"$f":"HOJA_CAPTURA!Q107","v":"00:00:00"},{"$f":"HOJA_CAPTURA!V107","v":0},{"$f":"HOJA_CAPTURA!AF107","v":0},{"$f":"HOJA_CAPTURA!AG107","v":0},{"$f":"HOJA_CAPTURA!AH107","v":0},{"$f":"HOJA_CAPTURA!AI107","v":0},{"$f":"HOJA_CAPTURA!AJ107","v":0},{"$f":"HOJA_CAPTURA!AK107","v":0},{"$f":"HOJA_CAPTURA!AL107","v":0},{"$f":"HOJA_CAPTURA!AT107","v":0},{"$f":"HOJA_CAPTURA!AU107","v":0}]
[null,null,null,null,null,{"$f":"HOJA_CAPTURA!R107","v":"00:00:00"}]
[{"$f":"HOJA_CAPTURA!J108","v":0},{"$f":"HOJA_CAPTURA!K108","v":0},{"$f":"HOJA_CAPTURA!M108","v":0},{"$f":"HOJA_CAPTURA!N108","v":0},{"$f":"HOJA_CAPTURA!P108","v":0},{"$f":"HOJA_CAPTURA!Q108","v":"00:00:00"},{"$f":"HOJA_CAPTURA!V108","v":0},{"$f":"HOJA_CAPTURA!AF108","v":0},{"$f":"HOJA_CAPTURA!AG108","v":0},{"$f":"HOJA_CAPTURA!AH108","v":0},{"$f":"HOJA_CAPTURA!AI108","v":0},{"$f":"HOJA_CAPTURA!AJ108","v":0},{"$f":"HOJA_CAPTURA!AK108","v":0},{"$f":"HOJA_CAPTURA!AL108","v":0},{"$f":"HOJA_CAPTURA!AT108","v":0},{"$f":"HOJA_CAPTURA!AU108","v":0}]
[null,null,null,null,null,{"$f":"HOJA_CAPTURA!R108","v":"00:00:00"}]
[{"$f":"HOJA_CAPTURA!J109","v":0},{"$f":"HOJA_CAPTURA!K109","v":0},{"$f":"HOJA_CAPTURA!M109","v":0},{"$f":"HOJA_CAPTURA!N109","v":0},{"$f":"HOJA_CAPTURA!P109","v":0},{"$f":"HOJA_CAPTURA!Q109","v":"00:00:00"},{"$f":"HOJA_CAPTURA!V109","v":0},{"$f":"HOJA_CAPTURA!AF109","v":0},{"$f":"HOJA_CAPTURA!AG109","v":0},{"$f":"HOJA_CAPTURA!AH109","v":0},{"$f":"HOJA_CAPTURA!AI109","v":0},{"$f":"HOJA_CAPTURA!AJ109","v":0},{"$f":"HOJA_CAPTURA!AK109","v":0},{"$f":"HOJA_CAPTURA!AL109","v":0},{"$f":"HOJA_CAPTURA!AT109","v":0},{"$f":"HOJA_CAPTURA!AU109","v":0}]
[null,null,null,null,null,{"$f":"HOJA_CAPTURA!R109","v":"00:00:00"}]
[{"$f":"HOJA_CAPTURA!J110","v":0},{"$f":"HOJA_CAPTURA!K110","v":0},{"$f":"HOJA_CAPTURA!M110","v":0},{"$f":"HOJA_CAPTURA!N110","v":0},{"$f":"HOJA_CAPTURA!P110","v":0},{"$f":"HOJA_CAPTURA!Q110","v":"00:00:00"},{"$f":"HOJA_CAPTURA!V110","v":0},{"$f":"HOJA_CAPTURA!AF110","v":0},{"$f":"HOJA_CAPTURA!AG110","v":0},{"$f":"HOJA_CAPTURA!AH110","v":0},{"$f":"HOJA_CAPTURA!AI110","v":0},{"$f":"HOJA_CAPTURA!AJ110","v":0},{"$f":"HOJA_CAPTURA!AK110","v":0},{"$f":"HOJA_CAPTURA!AL110","v":0},{"$f":"HOJA_CAPTURA!AT110","v":0},{"$f":"HOJA_CAPTURA!AU110","v":0}]
[null,null,null,null,null,{"$f":"HOJA_CAPTURA!R110","v":"00:00:00"}]
[]
[{"$f":"HOJA_CAPTURA!F107","v":0},null,null,null,null,null,null,null,null,null,{"$f":"HOJA_CAPTURA!E107","v":0}]
["Nombre, firma y cargo de la persona que elaboró",null,null,null,null,null,null,null,null,null,"Nombre y firma del titular del Área productora"]
[]
[]
[]
[]
[null,"           "]
["Nombre de la dependencia o entidad: ",null,null,null,{"$f":"HOJA_CAPTURA!A111","v":"Instituto Nacional de Pediatría"},null,null,null,null,null,null,null,null,"Hoja: 28 de",{"$f":"O5","v":0}]
["Unidad administrativa/Área productora:",null,null,null,{"$f":"HOJA_CAPTURA!C111","v":0}]
[{"$f":"HOJA_CAPTURA!B111","v":"Fondo: INP"},null,"Sección:",{"$f":"HOJA_CAPTURA!G111","v":0},null,null,"Serie: ",{"$f":"HOJA_CAPTURA!H111","v":0}]
[null,null,null,null,null,null,"Subserie:",null,{"$f":"HOJA_CAPTURA!I111","v":0}]
["No. Consecutivo","No. de caja","No. de expediente","Clasificación archivística del expediente","Descripción o asunto ","                                                                                                                                                                                                                                                          Periodo de trámite","No.  de folios ","Valor documental",null,null,"Vigencia documental",null,null,"Condiciones de acceso (Reservada y confidencial)","Ubicación topográfica","Tradición documental "]
[null,null,null,null,null,null,null,"A","L","F/C","AT","AC","Total"]
[{"$f":"HOJA_CAPTURA!J111","v":0},{"$f":"HOJA_CAPTURA!K111","v":0},{"$f":"HOJA_CAPTURA!M111","v":0},{"$f":"HOJA_CAPTURA!N111","v":0},{"$f":"HOJA_CAPTURA!P111","v":0},{"$f":"HOJA_CAPTURA!Q111","v":"00:00:00"},{"$f":"HOJA_CAPTURA!V111","v":0},{"$f":"HOJA_CAPTURA!AF111","v":0},{"$f":"HOJA_CAPTURA!AG111","v":0},{"$f":"HOJA_CAPTURA!AH111","v":0},{"$f":"HOJA_CAPTURA!AI111","v":0},{"$f":"HOJA_CAPTURA!AJ111","v":0},{"$f":"HOJA_CAPTURA!AK111","v":0},{"$f":"HOJA_CAPTURA!AL111","v":0},{"$f":"HOJA_CAPTURA!AT111","v":0},{"$f":"HOJA_CAPTURA!AU111","v":0}]
[null,null,null,null,null,{"$f":"HOJA_CAPTURA!R111","v":"00:00:00"}]
[{"$f":"HOJA_CAPTURA!J112","v":0},{"$f":"HOJA_CAPTURA!K112","v":0},{"$f":"HOJA_CAPTURA!M112","v":0},{"$f":"HOJA_CAPTURA!N112","v":0},{"$f":"HOJA_CAPTURA!P112","v":0},{"$f":"HOJA_CAPTURA!Q112","v":"00:00:00"},{"$f":"HOJA_CAPTURA!V112","v":0},{"$f":"HOJA_CAPTURA!AF112","v":0},{"$f":"HOJA_CAPTURA!AG112","v":0},{"$f":"HOJA_CAPTURA!AH112","v":0},{"$f":"HOJA_CAPTURA!AI112","v":0},{"$f":"HOJA_CAPTURA!AJ112","v":0},{"$f":"HOJA_CAPTURA!AK112","v":0},{"$f":"HOJA_CAPTURA!AL112","v":0},{"$f":"HOJA_CAPTURA!AT112","v":0},{"$f":"HOJA_CAPTURA!AU112","v":0}]
[null,null,null,null,null,{"$f":"HOJA_CAPTURA!R112","v":"00:00:00"}]
[{"$f":"HOJA_CAPTURA!J113","v":0},{"$f":"HOJA_CAPTURA!K113","v":0},{"$f":"HOJA_CAPTURA!M113","v":0},{"$f":"HOJA_CAPTURA!N113","v":0},{"$f":"HOJA_CAPTURA!P113","v":0},{"$f":"HOJA_CAPTURA!Q113","v":"00:00:00"},{"$f":"HOJA_CAPTURA!V113","v":0},{"$f":"HOJA_CAPTURA!AF113","v":0},{"$f":"HOJA_CAPTURA!AG113","v":0},{"$f":"HOJA_CAPTURA!AH113","v":0},{"$f":"HOJA_CAPTURA!AI113","v":0},{"$f":"HOJA_CAPTURA!AJ113","v":0},{"$f":"HOJA_CAPTURA!AK113","v":0},{"$f":"HOJA_CAPTURA!AL113","v":0},{"$f":"HOJA_CAPTURA!AT113","v":0},{"$f":"HOJA_CAPTURA!AU113","v":0}]
[null,null,null,null,null,{"$f":"HOJA_CAPTURA!R113","v":"00:00:00"}]
[{"$f":"HOJA_CAPTURA!J114","v":0},{"$f":"HOJA_CAPTURA!K114","v":0},{"$f":"HOJA_CAPTURA!M114","v":0},{"$f":"HOJA_CAPTURA!N114","v":0},{"$f":"HOJA_CAPTURA!P114","v":0},{"$f":"HOJA_CAPTURA!Q114","v":"00:00:00"},{"$f":"HOJA_CAPTURA!V114","v":0},{"$f":"HOJA_CAPTURA!AF114","v":0},{"$f":"HOJA_CAPTURA!AG114","v":0},{"$f":"HOJA_CAPTURA!AH114","v":0},{"$f":"HOJA_CAPTURA!AI114","v":0},{"$f":"HOJA_CAPTURA!AJ114","v":0},{"$f":"HOJA_CAPTURA!AK114","v":0},{"$f":"HOJA_CAPTURA!AL114","v":0},{"$f":"HOJA_CAPTURA!AT114","v":0},{"$f":"HOJA_CAPTURA!AU114","v":0}]
[null,null,null,null,null,{"$f":"HOJA_CAPTURA!R114","v":"00:00:00"}]
[]
[{"$f":"HOJA_CAPTURA!F111","v":0},null,null,null,null,null,null,null,null,null,{"$f":"HOJA_CAPTURA!E111","v":0}]
["Nombre, firma y cargo de la persona que elaboró",null,null,null,null,null,null,null,null,null,"Nombre y firma del titular del Área productora"]
[]
[]
[]
[]
[null,"           "]
["Nombre de la dependencia o entidad: ",null,null,null,{"$f":"HOJA_CAPTURA!A115","v":"Instituto Nacional de Pediatría"},null,null,null,null,null,null,null,null,"Hoja: 29 de",{"$f":"O5","v":0}]
["Unidad administrativa/Área productora:",null,null,null,{"$f":"HOJA_CAPTURA!C115","v":0}]
[{"$f":"HOJA_CAPTURA!B115","v":"Fondo: INP"},null,"Sección:",{"$f":"HOJA_CAPTURA!G115","v":0},null,null,"Serie: ",{"$f":"HOJA_CAPTURA!H115","v":0}]
[null,null,null,null,null,null,"Subserie:",null,{"$f":"HOJA_CAPTURA!I115","v":0}]
["No. Consecutivo","No. de caja","No. de expediente","Clasificación archivística del expediente","Descripción o asunto ","                                                                                                                                                                                                                                                          Periodo de trámite","No.  de folios ","Valor documental",null,null,"Vigencia documental",null,null,"Condiciones de acceso (Reservada y confidencial)","Ubicación topográfica","Tradición documental "]
[null,null,null,null,null,null,null,"A","L","F/C","AT","AC","Total"]
[{"$f":"HOJA_CAPTURA!J115","v":0},{"$f":"HOJA_CAPTURA!K115","v":0},{"$f":"HOJA_CAPTURA!M115","v":0},{"$f":"HOJA_CAPTURA!N115","v":0},{"$f":"HOJA_CAPTURA!P115","v":0},{"$f":"HOJA_CAPTURA!Q115","v":"00:00:00"},{"$f":"HOJA_CAPTURA!V115","v":0},{"$f":"HOJA_CAPTURA!AF115","v":0},{"$f":"HOJA_CAPTURA!AG115","v":0},{"$f":"HOJA_CAPTURA!AH115","v":0},{"$f":"HOJA_CAPTURA!AI115","v":0},{"$f":"HOJA_CAPTURA!AJ115","v":0},{"$f":"HOJA_CAPTURA!AK115","v":0},{"$f":"HOJA_CAPTURA!AL115","v":0},{"$f":"HOJA_CAPTURA!AT115","v":0},{"$f":"HOJA_CAPTURA!AU115","v":0}]
[null,null,null,null,null,{"$f":"HOJA_CAPTURA!R115","v":"00:00:00"}]
[{"$f":"HOJA_CAPTURA!J116","v":0},{"$f":"HOJA_CAPTURA!K116","v":0},{"$f":"HOJA_CAPTURA!M116","v":0},{"$f":"HOJA_CAPTURA!N116","v":0},{"$f":"HOJA_CAPTURA!P116","v":0},{"$f":"HOJA_CAPTURA!Q116","v":"00:00:00"},{"$f":"HOJA_CAPTURA!V116","v":0},{"$f":"HOJA_CAPTURA!AF116","v":0},{"$f":"HOJA_CAPTURA!AG116","v":0},{"$f":"HOJA_CAPTURA!AH116","v":0},{"$f":"HOJA_CAPTURA!AI116","v":0},{"$f":"HOJA_CAPTURA!AJ116","v":0},{"$f":"HOJA_CAPTURA!AK116","v":0},{"$f":"HOJA_CAPTURA!AL116","v":0},{"$f":"HOJA_CAPTURA!AT116","v":0},{"$f":"HOJA_CAPTURA!AU116","v":0}]
[null,null,null,null,null,{"$f":"HOJA_CAPTURA!R116","v":"00:00:00"}]
[{"$f":"HOJA_CAPTURA!J117","v":0},{"$f":"HOJA_CAPTURA!K117","v":0},{"$f":"HOJA_CAPTURA!M117","v":0},{"$f":"HOJA_CAPTURA!N117","v":0},{"$f":"HOJA_CAPTURA!P117","v":0},{"$f":"HOJA_CAPTURA!Q117","v":"00:00:00"},{"$f":"HOJA_CAPTURA!V117","v":0},{"$f":"HOJA_CAPTURA!AF117","v":0},{"$f":"HOJA_CAPTURA!AG117","v":0},{"$f":"HOJA_CAPTURA!AH117","v":0},{"$f":"HOJA_CAPTURA!AI117","v":0},{"$f":"HOJA_CAPTURA!AJ117","v":0},{"$f":"HOJA_CAPTURA!AK117","v":0},{"$f":"HOJA_CAPTURA!AL117","v":0},{"$f":"HOJA_CAPTURA!AT117","v":0},{"$f":"HOJA_CAPTURA!AU117","v":0}]
[null,null,null,null,null,{"$f":"HOJA_CAPTURA!R117","v":"00:00:00"}]
[{"$f":"HOJA_CAPTURA!J118","v":0},{"$f":"HOJA_CAPTURA!K118","v":0},{"$f":"HOJA_CAPTURA!M118","v":0},{"$f":"HOJA_CAPTURA!N118","v":0},{"$f":"HOJA_CAPTURA!P118","v":0},{"$f":"HOJA_CAPTURA!Q118","v":"00:00:00"},{"$f":"HOJA_CAPTURA!V118","v":0},{"$f":"HOJA_CAPTURA!AF118","v":0},{"$f":"HOJA_CAPTURA!AG118","v":0},{"$f":"HOJA_CAPTURA!AH118","v":0},{"$f":"HOJA_CAPTURA!AI118","v":0},{"$f":"HOJA_CAPTURA!AJ118","v":0},{"$f":"HOJA_CAPTURA!AK118","v":0},{"$f":"HOJA_CAPTURA!AL118","v":0},{"$f":"HOJA_CAPTURA!AT118","v":0},{"$f":"HOJA_CAPTURA!AU118","v":0}]
[null,null,null,null,null,{"$f":"HOJA_CAPTURA!R118","v":"00:00:00"}]
[]
[{"$f":"HOJA_CAPTURA!F115","v":0},null,null,null,null,null,null,null,null,null,{"$f":"HOJA_CAPTURA!E115","v":0}]
["Nombre, firma y cargo de la persona que elaboró",null,null,null,null,null,null,null,null,null,"Nombre y firma del titular del Área productora"]
[]
[]
[]
[]
[null,"           "]
["Nombre de la dependencia o entidad: ",null,null,null,{"$f":"HOJA_CAPTURA!A119","v":"Instituto Nacional de Pediatría"},null,null,null,null,null,null,null,null,"Hoja: 30 de",{"$f":"O5","v":0}]
["Unidad administrativa/Área productora:",null,null,null,{"$f":"HOJA_CAPTURA!C119","v":0}]
[{"$f":"HOJA_CAPTURA!B119","v":"Fondo: INP"},null,"Sección:",{"$f":"HOJA_CAPTURA!G119","v":0},null,null,"Serie: ",{"$f":"HOJA_CAPTURA!H119","v":0}]
[null,null,null,null,null,null,"Subserie:",null,{"$f":"HOJA_CAPTURA!I119","v":0}]
["No. Consecutivo","No. de caja","No. de expediente","Clasificación archivística del expediente","Descripción o asunto ","                                                                                                                                                                                                                                                          Periodo de trámite","No.  de folios ","Valor documental",null,null,"Vigencia documental",null,null,"Condiciones de acceso (Reservada y confidencial)","Ubicación topográfica","Tradición documental "]
[null,null,null,null,null,null,null,"A","L","F/C","AT","AC","Total"]
[{"$f":"HOJA_CAPTURA!J119","v":0},{"$f":"HOJA_CAPTURA!K119","v":0},{"$f":"HOJA_CAPTURA!M119","v":0},{"$f":"HOJA_CAPTURA!N119","v":0},{"$f":"HOJA_CAPTURA!P119","v":0},{"$f":"HOJA_CAPTURA!Q119","v":"00:00:00"},{"$f":"HOJA_CAPTURA!V119","v":0},{"$f":"HOJA_CAPTURA!AF119","v":0},{"$f":"HOJA_CAPTURA!AG119","v":0},{"$f":"HOJA_CAPTURA!AH119","v":0},{"$f":"HOJA_CAPTURA!AI119","v":0},{"$f":"HOJA_CAPTURA!AJ119","v":0},{"$f":"HOJA_CAPTURA!AK119","v":0},{"$f":"HOJA_CAPTURA!AL119","v":0},{"$f":"HOJA_CAPTURA!AT119","v":0},{"$f":"HOJA_CAPTURA!AU119","v":0}]
[null,null,null,null,null,{"$f":"HOJA_CAPTURA!R119","v":"00:00:00"}]
[{"$f":"HOJA_CAPTURA!J120","v":0},{"$f":"HOJA_CAPTURA!K120","v":0},{"$f":"HOJA_CAPTURA!M120","v":0},{"$f":"HOJA_CAPTURA!N120","v":0},{"$f":"HOJA_CAPTURA!P120","v":0},{"$f":"HOJA_CAPTURA!Q120","v":"00:00:00"},{"$f":"HOJA_CAPTURA!V120","v":0},{"$f":"HOJA_CAPTURA!AF120","v":0},{"$f":"HOJA_CAPTURA!AG120","v":0},{"$f":"HOJA_CAPTURA!AH120","v":0},{"$f":"HOJA_CAPTURA!AI120","v":0},{"$f":"HOJA_CAPTURA!AJ120","v":0},{"$f":"HOJA_CAPTURA!AK120","v":0},{"$f":"HOJA_CAPTURA!AL120","v":0},{"$f":"HOJA_CAPTURA!AT120","v":0},{"$f":"HOJA_CAPTURA!AU120","v":0}]
[null,null,null,null,null,{"$f":"HOJA_CAPTURA!R120","v":"00:00:00"}]
[{"$f":"HOJA_CAPTURA!J121","v":0},{"$f":"HOJA_CAPTURA!K121","v":0},{"$f":"HOJA_CAPTURA!M121","v":0},{"$f":"HOJA_CAPTURA!N121","v":0},{"$f":"HOJA_CAPTURA!P121","v":0},{"$f":"HOJA_CAPTURA!Q121","v":"00:00:00"},{"$f":"HOJA_CAPTURA!V121","v":0},{"$f":"HOJA_CAPTURA!AF121","v":0},{"$f":"HOJA_CAPTURA!AG121","v":0},{"$f":"HOJA_CAPTURA!AH121","v":0},{"$f":"HOJA_CAPTURA!AI121","v":0},{"$f":"HOJA_CAPTURA!AJ121","v":0},{"$f":"HOJA_CAPTURA!AK121","v":0},{"$f":"HOJA_CAPTURA!AL121","v":0},{"$f":"HOJA_CAPTURA!AT121","v":0},{"$f":"HOJA_CAPTURA!AU121","v":0}]
[null,null,null,null,null,{"$f":"HOJA_CAPTURA!R121","v":"00:00:00"}]
[{"$f":"HOJA_CAPTURA!J122","v":0},{"$f":"HOJA_CAPTURA!K122","v":0},{"$f":"HOJA_CAPTURA!M122","v":0},{"$f":"HOJA_CAPTURA!N122","v":0},{"$f":"HOJA_CAPTURA!P122","v":0},{"$f":"HOJA_CAPTURA!Q122","v":"00:00:00"},{"$f":"HOJA_CAPTURA!V122","v":0},{"$f":"HOJA_CAPTURA!AF122","v":0},{"$f":"HOJA_CAPTURA!AG122","v":0},{"$f":"HOJA_CAPTURA!AH122","v":0},{"$f":"HOJA_CAPTURA!AI122","v":0},{"$f":"HOJA_CAPTURA!AJ122","v":0},{"$f":"HOJA_CAPTURA!AK122","v":0},{"$f":"HOJA_CAPTURA!AL122","v":0},{"$f":"HOJA_CAPTURA!AT122","v":0},{"$f":"HOJA_CAPTURA!AU122","v":0}]
[null,null,null,null,null,{"$f":"HOJA_CAPTURA!R122","v":"00:00:00"}]
[]
[{"$f":"HOJA_CAPTURA!F119","v":0},null,null,null,null,null,null,null,null,null,{"$f":"HOJA_CAPTURA!E119","v":0}]
["Nombre, firma y cargo de la persona que elaboró",null,null,null,null,null,null,null,null,null,"Nombre y firma del titular del Área productora"]
[]
[]
[]
[]
[null,"           "]
["Nombre de la dependencia o entidad: ",null,null,null,{"$f":"HOJA_CAPTURA!A123","v":"Instituto Nacional de Pediatría"},null,null,null,null,null,null,null,null,"Hoja: 31 de",{"$f":"O5","v":0}]
["Unidad administrativa/Área productora:",null,null,null,{"$f":"HOJA_CAPTURA!C123","v":0}]
[{"$f":"HOJA_CAPTURA!B123","v":"Fondo: INP"},null,"Sección:",{"$f":"HOJA_CAPTURA!G123","v":0},null,null,"Serie: ",{"$f":"HOJA_CAPTURA!H123","v":0}]
[null,null,null,null,null,null,"Subserie:",null,{"$f":"HOJA_CAPTURA!I123","v":0}]
["No. Consecutivo","No. de caja","No. de expediente","Clasificación archivística del expediente","Descripción o asunto ","                                                                                                                                                                                                                                                          Periodo de trámite","No.  de folios ","Valor documental",null,null,"Vigencia documental",null,null,"Condiciones de acceso (Reservada y confidencial)","Ubicación topográfica","Tradición documental "]
[null,null,null,null,null,null,null,"A","L","F/C","AT","AC","Total"]
[{"$f":"HOJA_CAPTURA!J123","v":0},{"$f":"HOJA_CAPTURA!K123","v":0},{"$f":"HOJA_CAPTURA!M123","v":0},{"$f":"HOJA_CAPTURA!N123","v":0},{"$f":"HOJA_CAPTURA!P123","v":0},{"$f":"HOJA_CAPTURA!Q123","v":"00:00:00"},{"$f":"HOJA_CAPTURA!V123","v":0},{"$f":"HOJA_CAPTURA!AF123","v":0},{"$f":"HOJA_CAPTURA!AG123","v":0},{"$f":"HOJA_CAPTURA!AH123","v":0},{"$f":"HOJA_CAPTURA!AI123","v":0},{"$f":"HOJA_CAPTURA!AJ123","v":0},{"$f":"HOJA_CAPTURA!AK123","v":0},{"$f":"HOJA_CAPTURA!AL123","v":0},{"$f":"HOJA_CAPTURA!AT123","v":0},{"$f":"HOJA_CAPTURA!AU123","v":0}]
[null,null,null,null,null,{"$f":"HOJA_CAPTURA!R123","v":"00:00:00"}]
[{"$f":"HOJA_CAPTURA!J124","v":0},{"$f":"HOJA_CAPTURA!K124","v":0},{"$f":"HOJA_CAPTURA!M124","v":0},{"$f":"HOJA_CAPTURA!N124","v":0},{"$f":"HOJA_CAPTURA!P124","v":0},{"$f":"HOJA_CAPTURA!Q124","v":"00:00:00"},{"$f":"HOJA_CAPTURA!V124","v":0},{"$f":"HOJA_CAPTURA!AF124","v":0},{"$f":"HOJA_CAPTURA!AG124","v":0},{"$f":"HOJA_CAPTURA!AH124","v":0},{"$f":"HOJA_CAPTURA!AI124","v":0},{"$f":"HOJA_CAPTURA!AJ124","v":0},{"$f":"HOJA_CAPTURA!AK124","v":0},{"$f":"HOJA_CAPTURA!AL124","v":0},{"$f":"HOJA_CAPTURA!AT124","v":0},{"$f":"HOJA_CAPTURA!AU124","v":0}]
[null,null,null,null,null,{"$f":"HOJA_CAPTURA!R124","v":"00:00:00"}]
[{"$f":"HOJA_CAPTURA!J125","v":0},{"$f":"HOJA_CAPTURA!K125","v":0},{"$f":"HOJA_CAPTURA!M125","v":0},{"$f":"HOJA_CAPTURA!N125","v":0},{"$f":"HOJA_CAPTURA!P125","v":0},{"$f":"HOJA_CAPTURA!Q125","v":"00:00:00"},{"$f":"HOJA_CAPTURA!V125","v":0},{"$f":"HOJA_CAPTURA!AF125","v":0},{"$f":"HOJA_CAPTURA!AG125","v":0},{"$f":"HOJA_CAPTURA!AH125","v":0},{"$f":"HOJA_CAPTURA!AI125","v":0},{"$f":"HOJA_CAPTURA!AJ125","v":0},{"$f":"HOJA_CAPTURA!AK125","v":0},{"$f":"HOJA_CAPTURA!AL125","v":0},{"$f":"HOJA_CAPTURA!AT125","v":0},{"$f":"HOJA_CAPTURA!AU125","v":0}]
[null,null,null,null,null,{"$f":"HOJA_CAPTURA!R125","v":"00:00:00"}]
[{"$f":"HOJA_CAPTURA!J126","v":0},{"$f":"HOJA_CAPTURA!K126","v":0},{"$f":"HOJA_CAPTURA!M126","v":0},{"$f":"HOJA_CAPTURA!N126","v":0},{"$f":"HOJA_CAPTURA!P126","v":0},{"$f":"HOJA_CAPTURA!Q126","v":"00:00:00"},{"$f":"HOJA_CAPTURA!V126","v":0},{"$f":"HOJA_CAPTURA!AF126","v":0},{"$f":"HOJA_CAPTURA!AG126","v":0},{"$f":"HOJA_CAPTURA!AH126","v":0},{"$f":"HOJA_CAPTURA!AI126","v":0},{"$f":"HOJA_CAPTURA!AJ126","v":0},{"$f":"HOJA_CAPTURA!AK126","v":0},{"$f":"HOJA_CAPTURA!AL126","v":0},{"$f":"HOJA_CAPTURA!AT126","v":0},{"$f":"HOJA_CAPTURA!AU126","v":0}]
[null,null,null,null,null,{"$f":"HOJA_CAPTURA!R126","v":"00:00:00"}]
[]
[{"$f":"HOJA_CAPTURA!F123","v":0},null,null,null,null,null,null,null,null,null,{"$f":"HOJA_CAPTURA!E123","v":0}]
["Nombre, firma y cargo de la persona que elaboró",null,null,null,null,null,null,null,null,null,"Nombre y firma del titular del Área productora"]
[]
[]
[]
[]
[null,"           "]
["Nombre de la dependencia o entidad: ",null,null,null,{"$f":"HOJA_CAPTURA!A127","v":"Instituto Nacional de Pediatría"},null,null,null,null,null,null,null,null,"Hoja: 32 de",{"$f":"O5","v":0}]
["Unidad administrativa/Área productora:",null,null,null,{"$f":"HOJA_CAPTURA!C127","v":0}]
[{"$f":"HOJA_CAPTURA!B127","v":"Fondo: INP"},null,"Sección:",{"$f":"HOJA_CAPTURA!G127","v":0},null,null,"Serie: ",{"$f":"HOJA_CAPTURA!H127","v":0}]
[null,null,null,null,null,null,"Subserie:",null,{"$f":"HOJA_CAPTURA!I127","v":0}]
["No. Consecutivo","No. de caja","No. de expediente","Clasificación archivística del expediente","Descripción o asunto ","                                                                                                                                                                                                                                                          Periodo de trámite","No.  de folios ","Valor documental",null,null,"Vigencia documental",null,null,"Condiciones de acceso (Reservada y confidencial)","Ubicación topográfica","Tradición documental "]
[null,null,null,null,null,null,null,"A","L","F/C","AT","AC","Total"]
[{"$f":"HOJA_CAPTURA!J127","v":0},{"$f":"HOJA_CAPTURA!K127","v":0},{"$f":"HOJA_CAPTURA!M127","v":0},{"$f":"HOJA_CAPTURA!N127","v":0},{"$f":"HOJA_CAPTURA!P127","v":0},{"$f":"HOJA_CAPTURA!Q127","v":"00:00:00"},{"$f":"HOJA_CAPTURA!V127","v":0},{"$f":"HOJA_CAPTURA!AF127","v":0},{"$f":"HOJA_CAPTURA!AG127","v":0},{"$f":"HOJA_CAPTURA!AH127","v":0},{"$f":"HOJA_CAPTURA!AI127","v":0},{"$f":"HOJA_CAPTURA!AJ127","v":0},{"$f":"HOJA_CAPTURA!AK127","v":0},{"$f":"HOJA_CAPTURA!AL127","v":0},{"$f":"HOJA_CAPTURA!AT127","v":0},{"$f":"HOJA_CAPTURA!AU127","v":0}]
[null,null,null,null,null,{"$f":"HOJA_CAPTURA!R127","v":"00:00:00"}]
[{"$f":"HOJA_CAPTURA!J128","v":0},{"$f":"HOJA_CAPTURA!K128","v":0},{"$f":"HOJA_CAPTURA!M128","v":0},{"$f":"HOJA_CAPTURA!N128","v":0},{"$f":"HOJA_CAPTURA!P128","v":0},{"$f":"HOJA_CAPTURA!Q128","v":"00:00:00"},{"$f":"HOJA_CAPTURA!V128","v":0},{"$f":"HOJA_CAPTURA!AF128","v":0},{"$f":"HOJA_CAPTURA!AG128","v":0},{"$f":"HOJA_CAPTURA!AH128","v":0},{"$f":"HOJA_CAPTURA!AI128","v":0},{"$f":"HOJA_CAPTURA!AJ128","v":0},{"$f":"HOJA_CAPTURA!AK128","v":0},{"$f":"HOJA_CAPTURA!AL128","v":0},{"$f":"HOJA_CAPTURA!AT128","v":0},{"$f":"HOJA_CAPTURA!AU128","v":0}]
[null,null,null,null,null,{"$f":"HOJA_CAPTURA!R128","v":"00:00:00"}]
[{"$f":"HOJA_CAPTURA!J129","v":0},{"$f":"HOJA_CAPTURA!K129","v":0},{"$f":"HOJA_CAPTURA!M129","v":0},{"$f":"HOJA_CAPTURA!N129","v":0},{"$f":"HOJA_CAPTURA!P129","v":0},{"$f":"HOJA_CAPTURA!Q129","v":"00:00:00"},{"$f":"HOJA_CAPTURA!V129","v":0},{"$f":"HOJA_CAPTURA!AF129","v":0},{"$f":"HOJA_CAPTURA!AG129","v":0},{"$f":"HOJA_CAPTURA!AH129","v":0},{"$f":"HOJA_CAPTURA!AI129","v":0},{"$f":"HOJA_CAPTURA!AJ129","v":0},{"$f":"HOJA_CAPTURA!AK129","v":0},{"$f":"HOJA_CAPTURA!AL129","v":0},{"$f":"HOJA_CAPTURA!AT129","v":0},{"$f":"HOJA_CAPTURA!AU129","v":0}]
[null,null,null,null,null,{"$f":"HOJA_CAPTURA!R129","v":"00:00:00"}]
[{"$f":"HOJA_CAPTURA!J130","v":0},{"$f":"HOJA_CAPTURA!K130","v":0},{"$f":"HOJA_CAPTURA!M130","v":0},{"$f":"HOJA_CAPTURA!N130","v":0},{"$f":"HOJA_CAPTURA!P130","v":0},{"$f":"HOJA_CAPTURA!Q130","v":"00:00:00"},{"$f":"HOJA_CAPTURA!V130","v":0},{"$f":"HOJA_CAPTURA!AF130","v":0},{"$f":"HOJA_CAPTURA!AG130","v":0},{"$f":"HOJA_CAPTURA!AH130","v":0},{"$f":"HOJA_CAPTURA!AI130","v":0},{"$f":"HOJA_CAPTURA!AJ130","v":0},{"$f":"HOJA_CAPTURA!AK130","v":0},{"$f":"HOJA_CAPTURA!AL130","v":0},{"$f":"HOJA_CAPTURA!AT130","v":0},{"$f":"HOJA_CAPTURA!AU130","v":0}]
[null,null,null,null,null,{"$f":"HOJA_CAPTURA!R130","v":"00:00:00"}]
[]
[{"$f":"HOJA_CAPTURA!F127","v":0},null,null,null,null,null,null,null,null,null,{"$f":"HOJA_CAPTURA!E127","v":0}]
["Nombre, firma y cargo de la persona que elaboró",null,null,null,null,null,null,null,null,null,"Nombre y firma del titular del Área productora"]
[]
[]
[]
[]
[null,"           "]
["Nombre de la dependencia o entidad: ",null,null,null,{"$f":"HOJA_CAPTURA!A131","v":"Instituto Nacional de Pediatría"},null,null,null,null,null,null,null,null,"Hoja: 33 de",{"$f":"O5","v":0}]
["Unidad administrativa/Área productora:",null,null,null,{"$f":"HOJA_CAPTURA!C131","v":0}]
[{"$f":"HOJA_CAPTURA!B131","v":"Fondo: INP"},null,"Sección:",{"$f":"HOJA_CAPTURA!G131","v":0},null,null,"Serie: ",{"$f":"HOJA_CAPTURA!H131","v":0}]
[null,null,null,null,null,null,"Subserie:",null,{"$f":"HOJA_CAPTURA!I131","v":0}]
["No. Consecutivo","No. de caja","No. de expediente","Clasificación archivística del expediente","Descripción o asunto ","                                                                                                                                                                                                                                                          Periodo de trámite","No.  de folios ","Valor documental",null,null,"Vigencia documental",null,null,"Condiciones de acceso (Reservada y confidencial)","Ubicación topográfica","Tradición documental "]
[null,null,null,null,null,null,null,"A","L","F/C","AT","AC","Total"]
[{"$f":"HOJA_CAPTURA!J131","v":0},{"$f":"HOJA_CAPTURA!K131","v":0},{"$f":"HOJA_CAPTURA!M131","v":0},{"$f":"HOJA_CAPTURA!N131","v":0},{"$f":"HOJA_CAPTURA!P131","v":0},{"$f":"HOJA_CAPTURA!Q131","v":"00:00:00"},{"$f":"HOJA_CAPTURA!V131","v":0},{"$f":"HOJA_CAPTURA!AF131","v":0},{"$f":"HOJA_CAPTURA!AG131","v":0},{"$f":"HOJA_CAPTURA!AH131","v":0},{"$f":"HOJA_CAPTURA!AI131","v":0},{"$f":"HOJA_CAPTURA!AJ131","v":0},{"$f":"HOJA_CAPTURA!AK131","v":0},{"$f":"HOJA_CAPTURA!AL131","v":0},{"$f":"HOJA_CAPTURA!AT131","v":0},{"$f":"HOJA_CAPTURA!AU131","v":0}]
[null,null,null,null,null,{"$f":"HOJA_CAPTURA!R131","v":"00:00:00"}]
[{"$f":"HOJA_CAPTURA!J132","v":0},{"$f":"HOJA_CAPTURA!K132","v":0},{"$f":"HOJA_CAPTURA!M132","v":0},{"$f":"HOJA_CAPTURA!N132","v":0},{"$f":"HOJA_CAPTURA!P132","v":0},{"$f":"HOJA_CAPTURA!Q132","v":"00:00:00"},{"$f":"HOJA_CAPTURA!V132","v":0},{"$f":"HOJA_CAPTURA!AF132","v":0},{"$f":"HOJA_CAPTURA!AG132","v":0},{"$f":"HOJA_CAPTURA!AH132","v":0},{"$f":"HOJA_CAPTURA!AI132","v":0},{"$f":"HOJA_CAPTURA!AJ132","v":0},{"$f":"HOJA_CAPTURA!AK132","v":0},{"$f":"HOJA_CAPTURA!AL132","v":0},{"$f":"HOJA_CAPTURA!AT132","v":0},{"$f":"HOJA_CAPTURA!AU132","v":0}]
[null,null,null,null,null,{"$f":"HOJA_CAPTURA!R132","v":"00:00:00"}]
[{"$f":"HOJA_CAPTURA!J133","v":0},{"$f":"HOJA_CAPTURA!K133","v":0},{"$f":"HOJA_CAPTURA!M133","v":0},{"$f":"HOJA_CAPTURA!N133","v":0},{"$f":"HOJA_CAPTURA!P133","v":0},{"$f":"HOJA_CAPTURA!Q133","v":"00:00:00"},{"$f":"HOJA_CAPTURA!V133","v":0},{"$f":"HOJA_CAPTURA!AF133","v":0},{"$f":"HOJA_CAPTURA!AG133","v":0},{"$f":"HOJA_CAPTURA!AH133","v":0},{"$f":"HOJA_CAPTURA!AI133","v":0},{"$f":"HOJA_CAPTURA!AJ133","v":0},{"$f":"HOJA_CAPTURA!AK133","v":0},{"$f":"HOJA_CAPTURA!AL133","v":0},{"$f":"HOJA_CAPTURA!AT133","v":0},{"$f":"HOJA_CAPTURA!AU133","v":0}]
[null,null,null,null,null,{"$f":"HOJA_CAPTURA!R133","v":"00:00:00"}]
[{"$f":"HOJA_CAPTURA!J134","v":0},{"$f":"HOJA_CAPTURA!K134","v":0},{"$f":"HOJA_CAPTURA!M134","v":0},{"$f":"HOJA_CAPTURA!N134","v":0},{"$f":"HOJA_CAPTURA!P134","v":0},{"$f":"HOJA_CAPTURA!Q134","v":"00:00:00"},{"$f":"HOJA_CAPTURA!V134","v":0},{"$f":"HOJA_CAPTURA!AF134","v":0},{"$f":"HOJA_CAPTURA!AG134","v":0},{"$f":"HOJA_CAPTURA!AH134","v":0},{"$f":"HOJA_CAPTURA!AI134","v":0},{"$f":"HOJA_CAPTURA!AJ134","v":0},{"$f":"HOJA_CAPTURA!AK134","v":0},{"$f":"HOJA_CAPTURA!AL134","v":0},{"$f":"HOJA_CAPTURA!AT134","v":0},{"$f":"HOJA_CAPTURA!AU134","v":0}]
[null,null,null,null,null,{"$f":"HOJA_CAPTURA!R134","v":"00:00:00"}]
[]
[{"$f":"HOJA_CAPTURA!F131","v":0},null,null,null,null,null,null,null,null,null,{"$f":"HOJA_CAPTURA!E131","v":0}]
["Nombre, firma y cargo de la persona que elaboró",null,null,null,null,null,null,null,null,null,"Nombre y firma del titular del Área productora"]
[]
[]
[]
[]
[null,"           "]
["Nombre de la dependencia o entidad: ",null,null,null,{"$f":"HOJA_CAPTURA!A135","v":"Instituto Nacional de Pediatría"},null,null,null,null,null,null,null,null,"Hoja: 34 de",{"$f":"O5","v":0}]
["Unidad administrativa/Área productora:",null,null,null,{"$f":"HOJA_CAPTURA!C135","v":0}]
[{"$f":"HOJA_CAPTURA!B135","v":"Fondo: INP"},null,"Sección:",{"$f":"HOJA_CAPTURA!G135","v":0},null,null,"Serie: ",{"$f":"HOJA_CAPTURA!H135","v":0}]
[null,null,null,null,null,null,"Subserie:",null,{"$f":"HOJA_CAPTURA!I135","v":0}]
["No. Consecutivo","No. de caja","No. de expediente","Clasificación archivística del expediente","Descripción o asunto ","                                                                                                                                                                                                                                                          Periodo de trámite","No.  de folios ","Valor documental",null,null,"Vigencia documental",null,null,"Condiciones de acceso (Reservada y confidencial)","Ubicación topográfica","Tradición documental "]
[null,null,null,null,null,null,null,"A","L","F/C","AT","AC","Total"]
[{"$f":"HOJA_CAPTURA!J135","v":0},{"$f":"HOJA_CAPTURA!K135","v":0},{"$f":"HOJA_CAPTURA!M135","v":0},{"$f":"HOJA_CAPTURA!N135","v":0},{"$f":"HOJA_CAPTURA!P135","v":0},{"$f":"HOJA_CAPTURA!Q135","v":"00:00:00"},{"$f":"HOJA_CAPTURA!V135","v":0},{"$f":"HOJA_CAPTURA!AF135","v":0},{"$f":"HOJA_CAPTURA!AG135","v":0},{"$f":"HOJA_CAPTURA!AH135","v":0},{"$f":"HOJA_CAPTURA!AI135","v":0},{"$f":"HOJA_CAPTURA!AJ135","v":0},{"$f":"HOJA_CAPTURA!AK135","v":0},{"$f":"HOJA_CAPTURA!AL135","v":0},{"$f":"HOJA_CAPTURA!AT135","v":0},{"$f":"HOJA_CAPTURA!AU135","v":0}]
[null,null,null,null,null,{"$f":"HOJA_CAPTURA!R135","v":"00:00:00"}]
[{"$f":"HOJA_CAPTURA!J136","v":0},{"$f":"HOJA_CAPTURA!K136","v":0},{"$f":"HOJA_CAPTURA!M136","v":0},{"$f":"HOJA_CAPTURA!N136","v":0},{"$f":"HOJA_CAPTURA!P136","v":0},{"$f":"HOJA_CAPTURA!Q136","v":"00:00:00"},{"$f":"HOJA_CAPTURA!V136","v":0},{"$f":"HOJA_CAPTURA!AF136","v":0},{"$f":"HOJA_CAPTURA!AG136","v":0},{"$f":"HOJA_CAPTURA!AH136","v":0},{"$f":"HOJA_CAPTURA!AI136","v":0},{"$f":"HOJA_CAPTURA!AJ136","v":0},{"$f":"HOJA_CAPTURA!AK136","v":0},{"$f":"HOJA_CAPTURA!AL136","v":0},{"$f":"HOJA_CAPTURA!AT136","v":0},{"$f":"HOJA_CAPTURA!AU136","v":0}]
[null,null,null,null,null,{"$f":"HOJA_CAPTURA!R136","v":"00:00:00"}]
[{"$f":"HOJA_CAPTURA!J137","v":0},{"$f":"HOJA_CAPTURA!K137","v":0},{"$f":"HOJA_CAPTURA!M137","v":0},{"$f":"HOJA_CAPTURA!N137","v":0},{"$f":"HOJA_CAPTURA!P137","v":0},{"$f":"HOJA_CAPTURA!Q137","v":"00:00:00"},{"$f":"HOJA_CAPTURA!V137","v":0},{"$f":"HOJA_CAPTURA!AF137","v":0},{"$f":"HOJA_CAPTURA!AG137","v":0},{"$f":"HOJA_CAPTURA!AH137","v":0},{"$f":"HOJA_CAPTURA!AI137","v":0},{"$f":"HOJA_CAPTURA!AJ137","v":0},{"$f":"HOJA_CAPTURA!AK137","v":0},{"$f":"HOJA_CAPTURA!AL137","v":0},{"$f":"HOJA_CAPTURA!AT137","v":0},{"$f":"HOJA_CAPTURA!AU137","v":0}]
[null,null,null,null,null,{"$f":"HOJA_CAPTURA!R137","v":"00:00:00"}]
[{"$f":"HOJA_CAPTURA!J138","v":0},{"$f":"HOJA_CAPTURA!K138","v":0},{"$f":"HOJA_CAPTURA!M138","v":0},{"$f":"HOJA_CAPTURA!N138","v":0},{"$f":"HOJA_CAPTURA!P138","v":0},{"$f":"HOJA_CAPTURA!Q138","v":"00:00:00"},{"$f":"HOJA_CAPTURA!V138","v":0},{"$f":"HOJA_CAPTURA!AF138","v":0},{"$f":"HOJA_CAPTURA!AG138","v":0},{"$f":"HOJA_CAPTURA!AH138","v":0},{"$f":"HOJA_CAPTURA!AI138","v":0},{"$f":"HOJA_CAPTURA!AJ138","v":0},{"$f":"HOJA_CAPTURA!AK138","v":0},{"$f":"HOJA_CAPTURA!AL138","v":0},{"$f":"HOJA_CAPTURA!AT138","v":0},{"$f":"HOJA_CAPTURA!AU138","v":0}]
[null,null,null,null,null,{"$f":"HOJA_CAPTURA!R138","v":"00:00:00"}]
[]
[{"$f":"HOJA_CAPTURA!F135","v":0},null,null,null,null,null,null,null,null,null,{"$f":"HOJA_CAPTURA!E135","v":0}]
["Nombre, firma y cargo de la persona que elaboró",null,null,null,null,null,null,null,null,null,"Nombre y firma del titular del Área productora"]
[]
[]
[]
[]
[null,"           "]
["Nombre de la dependencia o entidad: ",null,null,null,{"$f":"HOJA_CAPTURA!A139","v":"Instituto Nacional de Pediatría"},null,null,null,null,null,null,null,null,"Hoja: 35 de",{"$f":"O5","v":0}]
["Unidad administrativa/Área productora:",null,null,null,{"$f":"HOJA_CAPTURA!C139","v":0}]
[{"$f":"HOJA_CAPTURA!B139","v":"Fondo: INP"},null,"Sección:",{"$f":"HOJA_CAPTURA!G139","v":0},null,null,"Serie: ",{"$f":"HOJA_CAPTURA!H139","v":0}]
[null,null,null,null,null,null,"Subserie:",null,{"$f":"HOJA_CAPTURA!I139","v":0}]
["No. Consecutivo","No. de caja","No. de expediente","Clasificación archivística del expediente","Descripción o asunto ","                                                                                                                                                                                                                                                          Periodo de trámite","No.  de folios ","Valor documental",null,null,"Vigencia documental",null,null,"Condiciones de acceso (Reservada y confidencial)","Ubicación topográfica","Tradición documental "]
[null,null,null,null,null,null,null,"A","L","F/C","AT","AC","Total"]
[{"$f":"HOJA_CAPTURA!J139","v":0},{"$f":"HOJA_CAPTURA!K139","v":0},{"$f":"HOJA_CAPTURA!M139","v":0},{"$f":"HOJA_CAPTURA!N139","v":0},{"$f":"HOJA_CAPTURA!P139","v":0},{"$f":"HOJA_CAPTURA!Q139","v":"00:00:00"},{"$f":"HOJA_CAPTURA!V139","v":0},{"$f":"HOJA_CAPTURA!AF139","v":0},{"$f":"HOJA_CAPTURA!AG139","v":0},{"$f":"HOJA_CAPTURA!AH139","v":0},{"$f":"HOJA_CAPTURA!AI139","v":0},{"$f":"HOJA_CAPTURA!AJ139","v":0},{"$f":"HOJA_CAPTURA!AK139","v":0},{"$f":"HOJA_CAPTURA!AL139","v":0},{"$f":"HOJA_CAPTURA!AT139","v":0},{"$f":"HOJA_CAPTURA!AU139","v":0}]
[null,null,null,null,null,{"$f":"HOJA_CAPTURA!R139","v":"00:00:00"}]
[{"$f":"HOJA_CAPTURA!J140","v":0},{"$f":"HOJA_CAPTURA!K140","v":0},{"$f":"HOJA_CAPTURA!M140","v":0},{"$f":"HOJA_CAPTURA!N140","v":0},{"$f":"HOJA_CAPTURA!P140","v":0},{"$f":"HOJA_CAPTURA!Q140","v":"00:00:00"},{"$f":"HOJA_CAPTURA!V140","v":0},{"$f":"HOJA_CAPTURA!AF140","v":0},{"$f":"HOJA_CAPTURA!AG140","v":0},{"$f":"HOJA_CAPTURA!AH140","v":0},{"$f":"HOJA_CAPTURA!AI140","v":0},{"$f":"HOJA_CAPTURA!AJ140","v":0},{"$f":"HOJA_CAPTURA!AK140","v":0},{"$f":"HOJA_CAPTURA!AL140","v":0},{"$f":"HOJA_CAPTURA!AT140","v":0},{"$f":"HOJA_CAPTURA!AU140","v":0}]
[null,null,null,null,null,{"$f":"HOJA_CAPTURA!R140","v":"00:00:00"}]
[{"$f":"HOJA_CAPTURA!J141","v":0},{"$f":"HOJA_CAPTURA!K141","v":0},{"$f":"HOJA_CAPTURA!M141","v":0},{"$f":"HOJA_CAPTURA!N141","v":0},{"$f":"HOJA_CAPTURA!P141","v":0},{"$f":"HOJA_CAPTURA!Q141","v":"00:00:00"},{"$f":"HOJA_CAPTURA!V141","v":0},{"$f":"HOJA_CAPTURA!AF141","v":0},{"$f":"HOJA_CAPTURA!AG141","v":0},{"$f":"HOJA_CAPTURA!AH141","v":0},{"$f":"HOJA_CAPTURA!AI141","v":0},{"$f":"HOJA_CAPTURA!AJ141","v":0},{"$f":"HOJA_CAPTURA!AK141","v":0},{"$f":"HOJA_CAPTURA!AL141","v":0},{"$f":"HOJA_CAPTURA!AT141","v":0},{"$f":"HOJA_CAPTURA!AU141","v":0}]
[null,null,null,null,null,{"$f":"HOJA_CAPTURA!R141","v":"00:00:00"}]
[{"$f":"HOJA_CAPTURA!J142","v":0},{"$f":"HOJA_CAPTURA!K142","v":0},{"$f":"HOJA_CAPTURA!M142","v":0},{"$f":"HOJA_CAPTURA!N142","v":0},{"$f":"HOJA_CAPTURA!P142","v":0},{"$f":"HOJA_CAPTURA!Q142","v":"00:00:00"},{"$f":"HOJA_CAPTURA!V142","v":0},{"$f":"HOJA_CAPTURA!AF142","v":0},{"$f":"HOJA_CAPTURA!AG142","v":0},{"$f":"HOJA_CAPTURA!AH142","v":0},{"$f":"HOJA_CAPTURA!AI142","v":0},{"$f":"HOJA_CAPTURA!AJ142","v":0},{"$f":"HOJA_CAPTURA!AK142","v":0},{"$f":"HOJA_CAPTURA!AL142","v":0},{"$f":"HOJA_CAPTURA!AT142","v":0},{"$f":"HOJA_CAPTURA!AU142","v":0}]
[null,null,null,null,null,{"$f":"HOJA_CAPTURA!R142","v":"00:00:00"}]
[]
[{"$f":"HOJA_CAPTURA!F139","v":0},null,null,null,null,null,null,null,null,null,{"$f":"HOJA_CAPTURA!E139","v":0}]
["Nombre, firma y cargo de la persona que elaboró",null,null,null,null,null,null,null,null,null,"Nombre y firma del titular del Área productora"]
[]
[]
[]
[]
[null,"           "]
["Nombre de la dependencia o entidad: ",null,null,null,{"$f":"HOJA_CAPTURA!A143","v":"Instituto Nacional de Pediatría"},null,null,null,null,null,null,null,null,"Hoja: 36 de",{"$f":"O5","v":0}]
["Unidad administrativa/Área productora:",null,null,null,{"$f":"HOJA_CAPTURA!C143","v":0}]
[{"$f":"HOJA_CAPTURA!B143","v":"Fondo: INP"},null,"Sección:",{"$f":"HOJA_CAPTURA!G143","v":0},null,null,"Serie: ",{"$f":"HOJA_CAPTURA!H143","v":0}]
[null,null,null,null,null,null,"Subserie:",null,{"$f":"HOJA_CAPTURA!I143","v":0}]
["No. Consecutivo","No. de caja","No. de expediente","Clasificación archivística del expediente","Descripción o asunto ","                                                                                                                                                                                                                                                          Periodo de trámite","No.  de folios ","Valor documental",null,null,"Vigencia documental",null,null,"Condiciones de acceso (Reservada y confidencial)","Ubicación topográfica","Tradición documental "]
[null,null,null,null,null,null,null,"A","L","F/C","AT","AC","Total"]
[{"$f":"HOJA_CAPTURA!J143","v":0},{"$f":"HOJA_CAPTURA!K143","v":0},{"$f":"HOJA_CAPTURA!M143","v":0},{"$f":"HOJA_CAPTURA!N143","v":0},{"$f":"HOJA_CAPTURA!P143","v":0},{"$f":"HOJA_CAPTURA!Q143","v":"00:00:00"},{"$f":"HOJA_CAPTURA!V143","v":0},{"$f":"HOJA_CAPTURA!AF143","v":0},{"$f":"HOJA_CAPTURA!AG143","v":0},{"$f":"HOJA_CAPTURA!AH143","v":0},{"$f":"HOJA_CAPTURA!AI143","v":0},{"$f":"HOJA_CAPTURA!AJ143","v":0},{"$f":"HOJA_CAPTURA!AK143","v":0},{"$f":"HOJA_CAPTURA!AL143","v":0},{"$f":"HOJA_CAPTURA!AT143","v":0},{"$f":"HOJA_CAPTURA!AU143","v":0}]
[null,null,null,null,null,{"$f":"HOJA_CAPTURA!R143","v":"00:00:00"}]
[{"$f":"HOJA_CAPTURA!J144","v":0},{"$f":"HOJA_CAPTURA!K144","v":0},{"$f":"HOJA_CAPTURA!M144","v":0},{"$f":"HOJA_CAPTURA!N144","v":0},{"$f":"HOJA_CAPTURA!P144","v":0},{"$f":"HOJA_CAPTURA!Q144","v":"00:00:00"},{"$f":"HOJA_CAPTURA!V144","v":0},{"$f":"HOJA_CAPTURA!AF144","v":0},{"$f":"HOJA_CAPTURA!AG144","v":0},{"$f":"HOJA_CAPTURA!AH144","v":0},{"$f":"HOJA_CAPTURA!AI144","v":0},{"$f":"HOJA_CAPTURA!AJ144","v":0},{"$f":"HOJA_CAPTURA!AK144","v":0},{"$f":"HOJA_CAPTURA!AL144","v":0},{"$f":"HOJA_CAPTURA!AT144","v":0},{"$f":"HOJA_CAPTURA!AU144","v":0}]
[null,null,null,null,null,{"$f":"HOJA_CAPTURA!R144","v":"00:00:00"}]
[{"$f":"HOJA_CAPTURA!J145","v":0},{"$f":"HOJA_CAPTURA!K145","v":0},{"$f":"HOJA_CAPTURA!M145","v":0},{"$f":"HOJA_CAPTURA!N145","v":0},{"$f":"HOJA_CAPTURA!P145","v":0},{"$f":"HOJA_CAPTURA!Q145","v":"00:00:00"},{"$f":"HOJA_CAPTURA!V145","v":0},{"$f":"HOJA_CAPTURA!AF145","v":0},{"$f":"HOJA_CAPTURA!AG145","v":0},{"$f":"HOJA_CAPTURA!AH145","v":0},{"$f":"HOJA_CAPTURA!AI145","v":0},{"$f":"HOJA_CAPTURA!AJ145","v":0},{"$f":"HOJA_CAPTURA!AK145","v":0},{"$f":"HOJA_CAPTURA!AL145","v":0},{"$f":"HOJA_CAPTURA!AT145","v":0},{"$f":"HOJA_CAPTURA!AU145","v":0}]
[null,null,null,null,null,{"$f":"HOJA_CAPTURA!R145","v":"00:00:00"}]
[{"$f":"HOJA_CAPTURA!J146","v":0},{"$f":"HOJA_CAPTURA!K146","v":0},{"$f":"HOJA_CAPTURA!M146","v":0},{"$f":"HOJA_CAPTURA!N146","v":0},{"$f":"HOJA_CAPTURA!P146","v":0},{"$f":"HOJA_CAPTURA!Q146","v":"00:00:00"},{"$f":"HOJA_CAPTURA!V146","v":0},{"$f":"HOJA_CAPTURA!AF146","v":0},{"$f":"HOJA_CAPTURA!AG146","v":0},{"$f":"HOJA_CAPTURA!AH146","v":0},{"$f":"HOJA_CAPTURA!AI146","v":0},{"$f":"HOJA_CAPTURA!AJ146","v":0},{"$f":"HOJA_CAPTURA!AK146","v":0},{"$f":"HOJA_CAPTURA!AL146","v":0},{"$f":"HOJA_CAPTURA!AT146","v":0},{"$f":"HOJA_CAPTURA!AU146","v":0}]
[null,null,null,null,null,{"$f":"HOJA_CAPTURA!R146","v":"00:00:00"}]
[]
[{"$f":"HOJA_CAPTURA!F143","v":0},null,null,null,null,null,null,null,null,null,{"$f":"HOJA_CAPTURA!E143","v":0}]
["Nombre, firma y cargo de la persona que elaboró",null,null,null,null,null,null,null,null,null,"Nombre y firma del titular del Área productora"]
[]
[]
[]
[]
[null,"           "]
["Nombre de la dependencia o entidad: ",null,null,null,{"$f":"HOJA_CAPTURA!A147","v":"Instituto Nacional de Pediatría"},null,null,null,null,null,null,null,null,"Hoja: 37 de",{"$f":"O5","v":0}]
["Unidad administrativa/Área productora:",null,null,null,{"$f":"HOJA_CAPTURA!C147","v":0}]
[{"$f":"HOJA_CAPTURA!B147","v":"Fondo: INP"},null,"Sección:",{"$f":"HOJA_CAPTURA!G147","v":0},null,null,"Serie: ",{"$f":"HOJA_CAPTURA!H147","v":0}]
[null,null,null,null,null,null,"Subserie:",null,{"$f":"HOJA_CAPTURA!I147","v":0}]
["No. Consecutivo","No. de caja","No. de expediente","Clasificación archivística del expediente","Descripción o asunto ","                                                                                                                                                                                                                                                          Periodo de trámite","No.  de folios ","Valor documental",null,null,"Vigencia documental",null,null,"Condiciones de acceso (Reservada y confidencial)","Ubicación topográfica","Tradición documental "]
[null,null,null,null,null,null,null,"A","L","F/C","AT","AC","Total"]
[{"$f":"HOJA_CAPTURA!J147","v":0},{"$f":"HOJA_CAPTURA!K147","v":0},{"$f":"HOJA_CAPTURA!M147","v":0},{"$f":"HOJA_CAPTURA!N147","v":0},{"$f":"HOJA_CAPTURA!P147","v":0},{"$f":"HOJA_CAPTURA!Q147","v":"00:00:00"},{"$f":"HOJA_CAPTURA!V147","v":0},{"$f":"HOJA_CAPTURA!AF147","v":0},{"$f":"HOJA_CAPTURA!AG147","v":0},{"$f":"HOJA_CAPTURA!AH147","v":0},{"$f":"HOJA_CAPTURA!AI147","v":0},{"$f":"HOJA_CAPTURA!AJ147","v":0},{"$f":"HOJA_CAPTURA!AK147","v":0},{"$f":"HOJA_CAPTURA!AL147","v":0},{"$f":"HOJA_CAPTURA!AT147","v":0},{"$f":"HOJA_CAPTURA!AU147","v":0}]
[null,null,null,null,null,{"$f":"HOJA_CAPTURA!R147","v":"00:00:00"}]
[{"$f":"HOJA_CAPTURA!J148","v":0},{"$f":"HOJA_CAPTURA!K148","v":0},{"$f":"HOJA_CAPTURA!M148","v":0},{"$f":"HOJA_CAPTURA!N148","v":0},{"$f":"HOJA_CAPTURA!P148","v":0},{"$f":"HOJA_CAPTURA!Q148","v":"00:00:00"},{"$f":"HOJA_CAPTURA!V148","v":0},{"$f":"HOJA_CAPTURA!AF148","v":0},{"$f":"HOJA_CAPTURA!AG148","v":0},{"$f":"HOJA_CAPTURA!AH148","v":0},{"$f":"HOJA_CAPTURA!AI148","v":0},{"$f":"HOJA_CAPTURA!AJ148","v":0},{"$f":"HOJA_CAPTURA!AK148","v":0},{"$f":"HOJA_CAPTURA!AL148","v":0},{"$f":"HOJA_CAPTURA!AT148","v":0},{"$f":"HOJA_CAPTURA!AU148","v":0}]
[null,null,null,null,null,{"$f":"HOJA_CAPTURA!R148","v":"00:00:00"}]
[{"$f":"HOJA_CAPTURA!J149","v":0},{"$f":"HOJA_CAPTURA!K149","v":0},{"$f":"HOJA_CAPTURA!M149","v":0},{"$f":"HOJA_CAPTURA!N149","v":0},{"$f":"HOJA_CAPTURA!P149","v":0},{"$f":"HOJA_CAPTURA!Q149","v":"00:00:00"},{"$f":"HOJA_CAPTURA!V149","v":0},{"$f":"HOJA_CAPTURA!AF149","v":0},{"$f":"HOJA_CAPTURA!AG149","v":0},{"$f":"HOJA_CAPTURA!AH149","v":0},{"$f":"HOJA_CAPTURA!AI149","v":0},{"$f":"HOJA_CAPTURA!AJ149","v":0},{"$f":"HOJA_CAPTURA!AK149","v":0},{"$f":"HOJA_CAPTURA!AL149","v":0},{"$f":"HOJA_CAPTURA!AT149","v":0},{"$f":"HOJA_CAPTURA!AU149","v":0}]
[null,null,null,null,null,{"$f":"HOJA_CAPTURA!R149","v":"00:00:00"}]
[{"$f":"HOJA_CAPTURA!J150","v":0},{"$f":"HOJA_CAPTURA!K150","v":0},{"$f":"HOJA_CAPTURA!M150","v":0},{"$f":"HOJA_CAPTURA!N150","v":0},{"$f":"HOJA_CAPTURA!P150","v":0},{"$f":"HOJA_CAPTURA!Q150","v":"00:00:00"},{"$f":"HOJA_CAPTURA!V150","v":0},{"$f":"HOJA_CAPTURA!AF150","v":0},{"$f":"HOJA_CAPTURA!AG150","v":0},{"$f":"HOJA_CAPTURA!AH150","v":0},{"$f":"HOJA_CAPTURA!AI150","v":0},{"$f":"HOJA_CAPTURA!AJ150","v":0},{"$f":"HOJA_CAPTURA!AK150","v":0},{"$f":"HOJA_CAPTURA!AL150","v":0},{"$f":"HOJA_CAPTURA!AT150","v":0},{"$f":"HOJA_CAPTURA!AU150","v":0}]
[null,null,null,null,null,{"$f":"HOJA_CAPTURA!R150","v":"00:00:00"}]
[]
[{"$f":"HOJA_CAPTURA!F147","v":0},null,null,null,null,null,null,null,null,null,{"$f":"HOJA_CAPTURA!E147","v":0}]
["Nombre, firma y cargo de la persona que elaboró",null,null,null,null,null,null,null,null,null,"Nombre y firma del titular del Área productora"]
[]
[]
[]
[]
[null,"           "]
["Nombre de la dependencia o entidad: ",null,null,null,{"$f":"HOJA_CAPTURA!A151","v":"Instituto Nacional de Pediatría"},null,null,null,null,null,null,null,null,"Hoja: 38 de",{"$f":"O5","v":0}]
["Unidad administrativa/Área productora:",null,null,null,{"$f":"HOJA_CAPTURA!C151","v":0}]
[{"$f":"HOJA_CAPTURA!B151","v":"Fondo: INP"},null,"Sección:",{"$f":"HOJA_CAPTURA!G151","v":0},null,null,"Serie: ",{"$f":"HOJA_CAPTURA!H151","v":0}]
[null,null,null,null,null,null,"Subserie:",null,{"$f":"HOJA_CAPTURA!I151","v":0}]
["No. Consecutivo","No. de caja","No. de expediente","Clasificación archivística del expediente","Descripción o asunto ","                                                                                                                                                                                                                                                          Periodo de trámite","No.  de folios ","Valor documental",null,null,"Vigencia documental",null,null,"Condiciones de acceso (Reservada y confidencial)","Ubicación topográfica","Tradición documental "]
[null,null,null,null,null,null,null,"A","L","F/C","AT","AC","Total"]
[{"$f":"HOJA_CAPTURA!J151","v":0},{"$f":"HOJA_CAPTURA!K151","v":0},{"$f":"HOJA_CAPTURA!M151","v":0},{"$f":"HOJA_CAPTURA!N151","v":0},{"$f":"HOJA_CAPTURA!P151","v":0},{"$f":"HOJA_CAPTURA!Q151","v":"00:00:00"},{"$f":"HOJA_CAPTURA!V151","v":0},{"$f":"HOJA_CAPTURA!AF151","v":0},{"$f":"HOJA_CAPTURA!AG151","v":0},{"$f":"HOJA_CAPTURA!AH151","v":0},{"$f":"HOJA_CAPTURA!AI151","v":0},{"$f":"HOJA_CAPTURA!AJ151","v":0},{"$f":"HOJA_CAPTURA!AK151","v":0},{"$f":"HOJA_CAPTURA!AL151","v":0},{"$f":"HOJA_CAPTURA!AT151","v":0},{"$f":"HOJA_CAPTURA!AU151","v":0}]
[null,null,null,null,null,{"$f":"HOJA_CAPTURA!R151","v":"00:00:00"}]
[{"$f":"HOJA_CAPTURA!J152","v":0},{"$f":"HOJA_CAPTURA!K152","v":0},{"$f":"HOJA_CAPTURA!M152","v":0},{"$f":"HOJA_CAPTURA!N152","v":0},{"$f":"HOJA_CAPTURA!P152","v":0},{"$f":"HOJA_CAPTURA!Q152","v":"00:00:00"},{"$f":"HOJA_CAPTURA!V152","v":0},{"$f":"HOJA_CAPTURA!AF152","v":0},{"$f":"HOJA_CAPTURA!AG152","v":0},{"$f":"HOJA_CAPTURA!AH152","v":0},{"$f":"HOJA_CAPTURA!AI152","v":0},{"$f":"HOJA_CAPTURA!AJ152","v":0},{"$f":"HOJA_CAPTURA!AK152","v":0},{"$f":"HOJA_CAPTURA!AL152","v":0},{"$f":"HOJA_CAPTURA!AT152","v":0},{"$f":"HOJA_CAPTURA!AU152","v":0}]
[null,null,null,null,null,{"$f":"HOJA_CAPTURA!R152","v":"00:00:00"}]
[{"$f":"HOJA_CAPTURA!J153","v":0},{"$f":"HOJA_CAPTURA!K153","v":0},{"$f":"HOJA_CAPTURA!M153","v":0},{"$f":"HOJA_CAPTURA!N153","v":0},{"$f":"HOJA_CAPTURA!P153","v":0},{"$f":"HOJA_CAPTURA!Q153","v":"00:00:00"},{"$f":"HOJA_CAPTURA!V153","v":0},{"$f":"HOJA_CAPTURA!AF153","v":0},{"$f":"HOJA_CAPTURA!AG153","v":0},{"$f":"HOJA_CAPTURA!AH153","v":0},{"$f":"HOJA_CAPTURA!AI153","v":0},{"$f":"HOJA_CAPTURA!AJ153","v":0},{"$f":"HOJA_CAPTURA!AK153","v":0},{"$f":"HOJA_CAPTURA!AL153","v":0},{"$f":"HOJA_CAPTURA!AT153","v":0},{"$f":"HOJA_CAPTURA!AU153","v":0}]
[null,null,null,null,null,{"$f":"HOJA_CAPTURA!R153","v":"00:00:00"}]
[{"$f":"HOJA_CAPTURA!J154","v":0},{"$f":"HOJA_CAPTURA!K154","v":0},{"$f":"HOJA_CAPTURA!M154","v":0},{"$f":"HOJA_CAPTURA!N154","v":0},{"$f":"HOJA_CAPTURA!P154","v":0},{"$f":"HOJA_CAPTURA!Q154","v":"00:00:00"},{"$f":"HOJA_CAPTURA!V154","v":0},{"$f":"HOJA_CAPTURA!AF154","v":0},{"$f":"HOJA_CAPTURA!AG154","v":0},{"$f":"HOJA_CAPTURA!AH154","v":0},{"$f":"HOJA_CAPTURA!AI154","v":0},{"$f":"HOJA_CAPTURA!AJ154","v":0},{"$f":"HOJA_CAPTURA!AK154","v":0},{"$f":"HOJA_CAPTURA!AL154","v":0},{"$f":"HOJA_CAPTURA!AT154","v":0},{"$f":"HOJA_CAPTURA!AU154","v":0}]
[null,null,null,null,null,{"$f":"HOJA_CAPTURA!R154","v":"00:00:00"}]
[]
[{"$f":"HOJA_CAPTURA!F151","v":0},null,null,null,null,null,null,null,null,null,{"$f":"HOJA_CAPTURA!E151","v":0}]
["Nombre, firma y cargo de la persona que elaboró",null,null,null,null,null,null,null,null,null,"Nombre y firma del titular del Área productora"]
[]
[]
[]
[]
[null,"           "]
["Nombre de la dependencia o entidad: ",null,null,null,{"$f":"HOJA_CAPTURA!A155","v":"Instituto Nacional de Pediatría"},null,null,null,null,null,null,null,null,"Hoja: 39 de",{"$f":"O5","v":0}]
["Unidad administrativa/Área productora:",null,null,null,{"$f":"HOJA_CAPTURA!C155","v":0}]
[{"$f":"HOJA_CAPTURA!B155","v":"Fondo: INP"},null,"Sección:",{"$f":"HOJA_CAPTURA!G155","v":0},null,null,"Serie: ",{"$f":"HOJA_CAPTURA!H155","v":0}]
[null,null,null,null,null,null,"Subserie:",null,{"$f":"HOJA_CAPTURA!I155","v":0}]
["No. Consecutivo","No. de caja","No. de expediente","Clasificación archivística del expediente","Descripción o asunto ","                                                                                                                                                                                                                                                          Periodo de trámite","No.  de folios ","Valor documental",null,null,"Vigencia documental",null,null,"Condiciones de acceso (Reservada y confidencial)","Ubicación topográfica","Tradición documental "]
[null,null,null,null,null,null,null,"A","L","F/C","AT","AC","Total"]
[{"$f":"HOJA_CAPTURA!J155","v":0},{"$f":"HOJA_CAPTURA!K155","v":0},{"$f":"HOJA_CAPTURA!M155","v":0},{"$f":"HOJA_CAPTURA!N155","v":0},{"$f":"HOJA_CAPTURA!P155","v":0},{"$f":"HOJA_CAPTURA!Q155","v":"00:00:00"},{"$f":"HOJA_CAPTURA!V155","v":0},{"$f":"HOJA_CAPTURA!AF155","v":0},{"$f":"HOJA_CAPTURA!AG155","v":0},{"$f":"HOJA_CAPTURA!AH155","v":0},{"$f":"HOJA_CAPTURA!AI155","v":0},{"$f":"HOJA_CAPTURA!AJ155","v":0},{"$f":"HOJA_CAPTURA!AK155","v":0},{"$f":"HOJA_CAPTURA!AL155","v":0},{"$f":"HOJA_CAPTURA!AT155","v":0},{"$f":"HOJA_CAPTURA!AU155","v":0}]
[null,null,null,null,null,{"$f":"HOJA_CAPTURA!R155","v":"00:00:00"}]
[{"$f":"HOJA_CAPTURA!J156","v":0},{"$f":"HOJA_CAPTURA!K156","v":0},{"$f":"HOJA_CAPTURA!M156","v":0},{"$f":"HOJA_CAPTURA!N156","v":0},{"$f":"HOJA_CAPTURA!P156","v":0},{"$f":"HOJA_CAPTURA!Q156","v":"00:00:00"},{"$f":"HOJA_CAPTURA!V156","v":0},{"$f":"HOJA_CAPTURA!AF156","v":0},{"$f":"HOJA_CAPTURA!AG156","v":0},{"$f":"HOJA_CAPTURA!AH156","v":0},{"$f":"HOJA_CAPTURA!AI156","v":0},{"$f":"HOJA_CAPTURA!AJ156","v":0},{"$f":"HOJA_CAPTURA!AK156","v":0},{"$f":"HOJA_CAPTURA!AL156","v":0},{"$f":"HOJA_CAPTURA!AT156","v":0},{"$f":"HOJA_CAPTURA!AU156","v":0}]
[null,null,null,null,null,{"$f":"HOJA_CAPTURA!R156","v":"00:00:00"}]
[{"$f":"HOJA_CAPTURA!J157","v":0},{"$f":"HOJA_CAPTURA!K157","v":0},{"$f":"HOJA_CAPTURA!M157","v":0},{"$f":"HOJA_CAPTURA!N157","v":0},{"$f":"HOJA_CAPTURA!P157","v":0},{"$f":"HOJA_CAPTURA!Q157","v":"00:00:00"},{"$f":"HOJA_CAPTURA!V157","v":0},{"$f":"HOJA_CAPTURA!AF157","v":0},{"$f":"HOJA_CAPTURA!AG157","v":0},{"$f":"HOJA_CAPTURA!AH157","v":0},{"$f":"HOJA_CAPTURA!AI157","v":0},{"$f":"HOJA_CAPTURA!AJ157","v":0},{"$f":"HOJA_CAPTURA!AK157","v":0},{"$f":"HOJA_CAPTURA!AL157","v":0},{"$f":"HOJA_CAPTURA!AT157","v":0},{"$f":"HOJA_CAPTURA!AU157","v":0}]
[null,null,null,null,null,{"$f":"HOJA_CAPTURA!R157","v":"00:00:00"}]
[{"$f":"HOJA_CAPTURA!J158","v":0},{"$f":"HOJA_CAPTURA!K158","v":0},{"$f":"HOJA_CAPTURA!M158","v":0},{"$f":"HOJA_CAPTURA!N158","v":0},{"$f":"HOJA_CAPTURA!P158","v":0},{"$f":"HOJA_CAPTURA!Q158","v":"00:00:00"},{"$f":"HOJA_CAPTURA!V158","v":0},{"$f":"HOJA_CAPTURA!AF158","v":0},{"$f":"HOJA_CAPTURA!AG158","v":0},{"$f":"HOJA_CAPTURA!AH158","v":0},{"$f":"HOJA_CAPTURA!AI158","v":0},{"$f":"HOJA_CAPTURA!AJ158","v":0},{"$f":"HOJA_CAPTURA!AK158","v":0},{"$f":"HOJA_CAPTURA!AL158","v":0},{"$f":"HOJA_CAPTURA!AT158","v":0},{"$f":"HOJA_CAPTURA!AU158","v":0}]
[null,null,null,null,null,{"$f":"HOJA_CAPTURA!R158","v":"00:00:00"}]
[]
[{"$f":"HOJA_CAPTURA!F155","v":0},null,null,null,null,null,null,null,null,null,{"$f":"HOJA_CAPTURA!E155","v":0}]
["Nombre, firma y cargo de la persona que elaboró",null,null,null,null,null,null,null,null,null,"Nombre y firma del titular del Área productora"]
[]
[]
[]
[]
[null,"           "]
["Nombre de la dependencia o entidad: ",null,null,null,{"$f":"HOJA_CAPTURA!A159","v":"Instituto Nacional de Pediatría"},null,null,null,null,null,null,null,null,"Hoja: 40 de",{"$f":"O5","v":0}]
["Unidad administrativa/Área productora:",null,null,null,{"$f":"HOJA_CAPTURA!C159","v":0}]
[{"$f":"HOJA_CAPTURA!B159","v":"Fondo: INP"},null,"Sección:",{"$f":"HOJA_CAPTURA!G159","v":0},null,null,"Serie: ",{"$f":"HOJA_CAPTURA!H159","v":0}]
[null,null,null,null,null,null,"Subserie:",null,{"$f":"HOJA_CAPTURA!I159","v":0}]
["No. Consecutivo","No. de caja","No. de expediente","Clasificación archivística del expediente","Descripción o asunto ","                                                                                                                                                                                                                                                          Periodo de trámite","No.  de folios ","Valor documental",null,null,"Vigencia documental",null,null,"Condiciones de acceso (Reservada y confidencial)","Ubicación topográfica","Tradición documental "]
[null,null,null,null,null,null,null,"A","L","F/C","AT","AC","Total"]
[{"$f":"HOJA_CAPTURA!J159","v":0},{"$f":"HOJA_CAPTURA!K159","v":0},{"$f":"HOJA_CAPTURA!M159","v":0},{"$f":"HOJA_CAPTURA!N159","v":0},{"$f":"HOJA_CAPTURA!P159","v":0},{"$f":"HOJA_CAPTURA!Q159","v":"00:00:00"},{"$f":"HOJA_CAPTURA!V159","v":0},{"$f":"HOJA_CAPTURA!AF159","v":0},{"$f":"HOJA_CAPTURA!AG159","v":0},{"$f":"HOJA_CAPTURA!AH159","v":0},{"$f":"HOJA_CAPTURA!AI159","v":0},{"$f":"HOJA_CAPTURA!AJ159","v":0},{"$f":"HOJA_CAPTURA!AK159","v":0},{"$f":"HOJA_CAPTURA!AL159","v":0},{"$f":"HOJA_CAPTURA!AT159","v":0},{"$f":"HOJA_CAPTURA!AU159","v":0}]
[null,null,null,null,null,{"$f":"HOJA_CAPTURA!R159","v":"00:00:00"}]
[{"$f":"HOJA_CAPTURA!J160","v":0},{"$f":"HOJA_CAPTURA!K160","v":0},{"$f":"HOJA_CAPTURA!M160","v":0},{"$f":"HOJA_CAPTURA!N160","v":0},{"$f":"HOJA_CAPTURA!P160","v":0},{"$f":"HOJA_CAPTURA!Q160","v":"00:00:00"},{"$f":"HOJA_CAPTURA!V160","v":0},{"$f":"HOJA_CAPTURA!AF160","v":0},{"$f":"HOJA_CAPTURA!AG160","v":0},{"$f":"HOJA_CAPTURA!AH160","v":0},{"$f":"HOJA_CAPTURA!AI160","v":0},{"$f":"HOJA_CAPTURA!AJ160","v":0},{"$f":"HOJA_CAPTURA!AK160","v":0},{"$f":"HOJA_CAPTURA!AL160","v":0},{"$f":"HOJA_CAPTURA!AT160","v":0},{"$f":"HOJA_CAPTURA!AU160","v":0}]
[null,null,null,null,null,{"$f":"HOJA_CAPTURA!R160","v":"00:00:00"}]
[{"$f":"HOJA_CAPTURA!J161","v":0},{"$f":"HOJA_CAPTURA!K161","v":0},{"$f":"HOJA_CAPTURA!M161","v":0},{"$f":"HOJA_CAPTURA!N161","v":0},{"$f":"HOJA_CAPTURA!P161","v":0},{"$f":"HOJA_CAPTURA!Q161","v":"00:00:00"},{"$f":"HOJA_CAPTURA!V161","v":0},{"$f":"HOJA_CAPTURA!AF161","v":0},{"$f":"HOJA_CAPTURA!AG161","v":0},{"$f":"HOJA_CAPTURA!AH161","v":0},{"$f":"HOJA_CAPTURA!AI161","v":0},{"$f":"HOJA_CAPTURA!AJ161","v":0},{"$f":"HOJA_CAPTURA!AK161","v":0},{"$f":"HOJA_CAPTURA!AL161","v":0},{"$f":"HOJA_CAPTURA!AT161","v":0},{"$f":"HOJA_CAPTURA!AU161","v":0}]
[null,null,null,null,null,{"$f":"HOJA_CAPTURA!R161","v":"00:00:00"}]
[{"$f":"HOJA_CAPTURA!J162","v":0},{"$f":"HOJA_CAPTURA!K162","v":0},{"$f":"HOJA_CAPTURA!M162","v":0},{"$f":"HOJA_CAPTURA!N162","v":0},{"$f":"HOJA_CAPTURA!P162","v":0},{"$f":"HOJA_CAPTURA!Q162","v":"00:00:00"},{"$f":"HOJA_CAPTURA!V162","v":0},{"$f":"HOJA_CAPTURA!AF162","v":0},{"$f":"HOJA_CAPTURA!AG162","v":0},{"$f":"HOJA_CAPTURA!AH162","v":0},{"$f":"HOJA_CAPTURA!AI162","v":0},{"$f":"HOJA_CAPTURA!AJ162","v":0},{"$f":"HOJA_CAPTURA!AK162","v":0},{"$f":"HOJA_CAPTURA!AL162","v":0},{"$f":"HOJA_CAPTURA!AT162","v":0},{"$f":"HOJA_CAPTURA!AU162","v":0}]
[null,null,null,null,null,{"$f":"HOJA_CAPTURA!R162","v":"00:00:00"}]
[]
[{"$f":"HOJA_CAPTURA!F159","v":0},null,null,null,null,null,null,null,null,null,{"$f":"HOJA_CAPTURA!E159","v":0}]
["Nombre, firma y cargo de la persona que elaboró",null,null,null,null,null,null,null,null,null,"Nombre y firma del titular del Área productora"]
[]
[]
[]
[]
[null,"           "]
["Nombre de la dependencia o entidad: ",null,null,null,{"$f":"HOJA_CAPTURA!A163","v":"Instituto Nacional de Pediatría"},null,null,null,null,null,null,null,null,"Hoja: 41 de",{"$f":"O5","v":0}]
["Unidad administrativa/Área productora:",null,null,null,{"$f":"HOJA_CAPTURA!C163","v":0}]
[{"$f":"HOJA_CAPTURA!B163","v":"Fondo: INP"},null,"Sección:",{"$f":"HOJA_CAPTURA!G163","v":0},null,null,"Serie: ",{"$f":"HOJA_CAPTURA!H163","v":0}]
[null,null,null,null,null,null,"Subserie:",null,{"$f":"HOJA_CAPTURA!I163","v":0}]
["No. Consecutivo","No. de caja","No. de expediente","Clasificación archivística del expediente","Descripción o asunto ","                                                                                                                                                                                                                                                          Periodo de trámite","No.  de folios ","Valor documental",null,null,"Vigencia documental",null,null,"Condiciones de acceso (Reservada y confidencial)","Ubicación topográfica","Tradición documental "]
[null,null,null,null,null,null,null,"A","L","F/C","AT","AC","Total"]
[{"$f":"HOJA_CAPTURA!J163","v":0},{"$f":"HOJA_CAPTURA!K163","v":0},{"$f":"HOJA_CAPTURA!M163","v":0},{"$f":"HOJA_CAPTURA!N163","v":0},{"$f":"HOJA_CAPTURA!P163","v":0},{"$f":"HOJA_CAPTURA!Q163","v":"00:00:00"},{"$f":"HOJA_CAPTURA!V163","v":0},{"$f":"HOJA_CAPTURA!AF163","v":0},{"$f":"HOJA_CAPTURA!AG163","v":0},{"$f":"HOJA_CAPTURA!AH163","v":0},{"$f":"HOJA_CAPTURA!AI163","v":0},{"$f":"HOJA_CAPTURA!AJ163","v":0},{"$f":"HOJA_CAPTURA!AK163","v":0},{"$f":"HOJA_CAPTURA!AL163","v":0},{"$f":"HOJA_CAPTURA!AT163","v":0},{"$f":"HOJA_CAPTURA!AU163","v":0}]
[null,null,null,null,null,{"$f":"HOJA_CAPTURA!R163","v":"00:00:00"}]
[{"$f":"HOJA_CAPTURA!J164","v":0},{"$f":"HOJA_CAPTURA!K164","v":0},{"$f":"HOJA_CAPTURA!M164","v":0},{"$f":"HOJA_CAPTURA!N164","v":0},{"$f":"HOJA_CAPTURA!P164","v":0},{"$f":"HOJA_CAPTURA!Q164","v":"00:00:00"},{"$f":"HOJA_CAPTURA!V164","v":0},{"$f":"HOJA_CAPTURA!AF164","v":0},{"$f":"HOJA_CAPTURA!AG164","v":0},{"$f":"HOJA_CAPTURA!AH164","v":0},{"$f":"HOJA_CAPTURA!AI164","v":0},{"$f":"HOJA_CAPTURA!AJ164","v":0},{"$f":"HOJA_CAPTURA!AK164","v":0},{"$f":"HOJA_CAPTURA!AL164","v":0},{"$f":"HOJA_CAPTURA!AT164","v":0},{"$f":"HOJA_CAPTURA!AU164","v":0}]
[null,null,null,null,null,{"$f":"HOJA_CAPTURA!R164","v":"00:00:00"}]
[{"$f":"HOJA_CAPTURA!J165","v":0},{"$f":"HOJA_CAPTURA!K165","v":0},{"$f":"HOJA_CAPTURA!M165","v":0},{"$f":"HOJA_CAPTURA!N165","v":0},{"$f":"HOJA_CAPTURA!P165","v":0},{"$f":"HOJA_CAPTURA!Q165","v":"00:00:00"},{"$f":"HOJA_CAPTURA!V165","v":0},{"$f":"HOJA_CAPTURA!AF165","v":0},{"$f":"HOJA_CAPTURA!AG165","v":0},{"$f":"HOJA_CAPTURA!AH165","v":0},{"$f":"HOJA_CAPTURA!AI165","v":0},{"$f":"HOJA_CAPTURA!AJ165","v":0},{"$f":"HOJA_CAPTURA!AK165","v":0},{"$f":"HOJA_CAPTURA!AL165","v":0},{"$f":"HOJA_CAPTURA!AT165","v":0},{"$f":"HOJA_CAPTURA!AU165","v":0}]
[null,null,null,null,null,{"$f":"HOJA_CAPTURA!R165","v":"00:00:00"}]
[{"$f":"HOJA_CAPTURA!J166","v":0},{"$f":"HOJA_CAPTURA!K166","v":0},{"$f":"HOJA_CAPTURA!M166","v":0},{"$f":"HOJA_CAPTURA!N166","v":0},{"$f":"HOJA_CAPTURA!P166","v":0},{"$f":"HOJA_CAPTURA!Q166","v":"00:00:00"},{"$f":"HOJA_CAPTURA!V166","v":0},{"$f":"HOJA_CAPTURA!AF166","v":0},{"$f":"HOJA_CAPTURA!AG166","v":0},{"$f":"HOJA_CAPTURA!AH166","v":0},{"$f":"HOJA_CAPTURA!AI166","v":0},{"$f":"HOJA_CAPTURA!AJ166","v":0},{"$f":"HOJA_CAPTURA!AK166","v":0},{"$f":"HOJA_CAPTURA!AL166","v":0},{"$f":"HOJA_CAPTURA!AT166","v":0},{"$f":"HOJA_CAPTURA!AU166","v":0}]
[null,null,null,null,null,{"$f":"HOJA_CAPTURA!R166","v":"00:00:00"}]
[]
[{"$f":"HOJA_CAPTURA!F163","v":0},null,null,null,null,null,null,null,null,null,{"$f":"HOJA_CAPTURA!E163","v":0}]
["Nombre, firma y cargo de la persona que elaboró",null,null,null,null,null,null,null,null,null,"Nombre y firma del titular del Área productora"]
[]
[]
[]
[]
[null,"           "]
["Nombre de la dependencia o entidad: ",null,null,null,{"$f":"HOJA_CAPTURA!A167","v":"Instituto Nacional de Pediatría"},null,null,null,null,null,null,null,null,"Hoja: 42 de",{"$f":"O5","v":0}]
["Unidad administrativa/Área productora:",null,null,null,{"$f":"HOJA_CAPTURA!C167","v":0}]
[{"$f":"HOJA_CAPTURA!B167","v":"Fondo: INP"},null,"Sección:",{"$f":"HOJA_CAPTURA!G167","v":0},null,null,"Serie: ",{"$f":"HOJA_CAPTURA!H167","v":0}]
[null,null,null,null,null,null,"Subserie:",null,{"$f":"HOJA_CAPTURA!I167","v":0}]
["No. Consecutivo","No. de caja","No. de expediente","Clasificación archivística del expediente","Descripción o asunto ","                                                                                                                                                                                                                                                          Periodo de trámite","No.  de folios ","Valor documental",null,null,"Vigencia documental",null,null,"Condiciones de acceso (Reservada y confidencial)","Ubicación topográfica","Tradición documental "]
[null,null,null,null,null,null,null,"A","L","F/C","AT","AC","Total"]
[{"$f":"HOJA_CAPTURA!J167","v":0},{"$f":"HOJA_CAPTURA!K167","v":0},{"$f":"HOJA_CAPTURA!M167","v":0},{"$f":"HOJA_CAPTURA!N167","v":0},{"$f":"HOJA_CAPTURA!P167","v":0},{"$f":"HOJA_CAPTURA!Q167","v":"00:00:00"},{"$f":"HOJA_CAPTURA!V167","v":0},{"$f":"HOJA_CAPTURA!AF167","v":0},{"$f":"HOJA_CAPTURA!AG167","v":0},{"$f":"HOJA_CAPTURA!AH167","v":0},{"$f":"HOJA_CAPTURA!AI167","v":0},{"$f":"HOJA_CAPTURA!AJ167","v":0},{"$f":"HOJA_CAPTURA!AK167","v":0},{"$f":"HOJA_CAPTURA!AL167","v":0},{"$f":"HOJA_CAPTURA!AT167","v":0},{"$f":"HOJA_CAPTURA!AU167","v":0}]
[null,null,null,null,null,{"$f":"HOJA_CAPTURA!R167","v":"00:00:00"}]
[{"$f":"HOJA_CAPTURA!J168","v":0},{"$f":"HOJA_CAPTURA!K168","v":0},{"$f":"HOJA_CAPTURA!M168","v":0},{"$f":"HOJA_CAPTURA!N168","v":0},{"$f":"HOJA_CAPTURA!P168","v":0},{"$f":"HOJA_CAPTURA!Q168","v":"00:00:00"},{"$f":"HOJA_CAPTURA!V168","v":0},{"$f":"HOJA_CAPTURA!AF168","v":0},{"$f":"HOJA_CAPTURA!AG168","v":0},{"$f":"HOJA_CAPTURA!AH168","v":0},{"$f":"HOJA_CAPTURA!AI168","v":0},{"$f":"HOJA_CAPTURA!AJ168","v":0},{"$f":"HOJA_CAPTURA!AK168","v":0},{"$f":"HOJA_CAPTURA!AL168","v":0},{"$f":"HOJA_CAPTURA!AT168","v":0},{"$f":"HOJA_CAPTURA!AU168","v":0}]
[null,null,null,null,null,{"$f":"HOJA_CAPTURA!R168","v":"00:00:00"}]
[{"$f":"HOJA_CAPTURA!J169","v":0},{"$f":"HOJA_CAPTURA!K169","v":0},{"$f":"HOJA_CAPTURA!M169","v":0},{"$f":"HOJA_CAPTURA!N169","v":0},{"$f":"HOJA_CAPTURA!P169","v":0},{"$f":"HOJA_CAPTURA!Q169","v":"00:00:00"},{"$f":"HOJA_CAPTURA!V169","v":0},{"$f":"HOJA_CAPTURA!AF169","v":0},{"$f":"HOJA_CAPTURA!AG169","v":0},{"$f":"HOJA_CAPTURA!AH169","v":0},{"$f":"HOJA_CAPTURA!AI169","v":0},{"$f":"HOJA_CAPTURA!AJ169","v":0},{"$f":"HOJA_CAPTURA!AK169","v":0},{"$f":"HOJA_CAPTURA!AL169","v":0},{"$f":"HOJA_CAPTURA!AT169","v":0},{"$f":"HOJA_CAPTURA!AU169","v":0}]
[null,null,null,null,null,{"$f":"HOJA_CAPTURA!R169","v":"00:00:00"}]
[{"$f":"HOJA_CAPTURA!J170","v":0},{"$f":"HOJA_CAPTURA!K170","v":0},{"$f":"HOJA_CAPTURA!M170","v":0},{"$f":"HOJA_CAPTURA!N170","v":0},{"$f":"HOJA_CAPTURA!P170","v":0},{"$f":"HOJA_CAPTURA!Q170","v":"00:00:00"},{"$f":"HOJA_CAPTURA!V170","v":0},{"$f":"HOJA_CAPTURA!AF170","v":0},{"$f":"HOJA_CAPTURA!AG170","v":0},{"$f":"HOJA_CAPTURA!AH170","v":0},{"$f":"HOJA_CAPTURA!AI170","v":0},{"$f":"HOJA_CAPTURA!AJ170","v":0},{"$f":"HOJA_CAPTURA!AK170","v":0},{"$f":"HOJA_CAPTURA!AL170","v":0},{"$f":"HOJA_CAPTURA!AT170","v":0},{"$f":"HOJA_CAPTURA!AU170","v":0}]
[null,null,null,null,null,{"$f":"HOJA_CAPTURA!R170","v":"00:00:00"}]
[]
[{"$f":"HOJA_CAPTURA!F167","v":0},null,null,null,null,null,null,null,null,null,{"$f":"HOJA_CAPTURA!E167","v":0}]
["Nombre, firma y cargo de la persona que elaboró",null,null,null,null,null,null,null,null,null,"Nombre y firma del titular del Área productora"]
[]
[]
[]
[]
[null,"           "]
["Nombre de la dependencia o entidad: ",null,null,null,{"$f":"HOJA_CAPTURA!A171","v":"Instituto Nacional de Pediatría"},null,null,null,null,null,null,null,null,"Hoja: 43 de",{"$f":"O5","v":0}]
["Unidad administrativa/Área productora:",null,null,null,{"$f":"HOJA_CAPTURA!C171","v":0}]
[{"$f":"HOJA_CAPTURA!B171","v":"Fondo: INP"},null,"Sección:",{"$f":"HOJA_CAPTURA!G171","v":0},null,null,"Serie: ",{"$f":"HOJA_CAPTURA!H171","v":0}]
[null,null,null,null,null,null,"Subserie:",null,{"$f":"HOJA_CAPTURA!I171","v":0}]
["No. Consecutivo","No. de caja","No. de expediente","Clasificación archivística del expediente","Descripción o asunto ","                                                                                                                                                                                                                                                          Periodo de trámite","No.  de folios ","Valor documental",null,null,"Vigencia documental",null,null,"Condiciones de acceso (Reservada y confidencial)","Ubicación topográfica","Tradición documental "]
[null,null,null,null,null,null,null,"A","L","F/C","AT","AC","Total"]
[{"$f":"HOJA_CAPTURA!J171","v":0},{"$f":"HOJA_CAPTURA!K171","v":0},{"$f":"HOJA_CAPTURA!M171","v":0},{"$f":"HOJA_CAPTURA!N171","v":0},{"$f":"HOJA_CAPTURA!P171","v":0},{"$f":"HOJA_CAPTURA!Q171","v":"00:00:00"},{"$f":"HOJA_CAPTURA!V171","v":0},{"$f":"HOJA_CAPTURA!AF171","v":0},{"$f":"HOJA_CAPTURA!AG171","v":0},{"$f":"HOJA_CAPTURA!AH171","v":0},{"$f":"HOJA_CAPTURA!AI171","v":0},{"$f":"HOJA_CAPTURA!AJ171","v":0},{"$f":"HOJA_CAPTURA!AK171","v":0},{"$f":"HOJA_CAPTURA!AL171","v":0},{"$f":"HOJA_CAPTURA!AT171","v":0},{"$f":"HOJA_CAPTURA!AU171","v":0}]
[null,null,null,null,null,{"$f":"HOJA_CAPTURA!R171","v":"00:00:00"}]
[{"$f":"HOJA_CAPTURA!J172","v":0},{"$f":"HOJA_CAPTURA!K172","v":0},{"$f":"HOJA_CAPTURA!M172","v":0},{"$f":"HOJA_CAPTURA!N172","v":0},{"$f":"HOJA_CAPTURA!P172","v":0},{"$f":"HOJA_CAPTURA!Q172","v":"00:00:00"},{"$f":"HOJA_CAPTURA!V172","v":0},{"$f":"HOJA_CAPTURA!AF172","v":0},{"$f":"HOJA_CAPTURA!AG172","v":0},{"$f":"HOJA_CAPTURA!AH172","v":0},{"$f":"HOJA_CAPTURA!AI172","v":0},{"$f":"HOJA_CAPTURA!AJ172","v":0},{"$f":"HOJA_CAPTURA!AK172","v":0},{"$f":"HOJA_CAPTURA!AL172","v":0},{"$f":"HOJA_CAPTURA!AT172","v":0},{"$f":"HOJA_CAPTURA!AU172","v":0}]
[null,null,null,null,null,{"$f":"HOJA_CAPTURA!R172","v":"00:00:00"}]
[{"$f":"HOJA_CAPTURA!J173","v":0},{"$f":"HOJA_CAPTURA!K173","v":0},{"$f":"HOJA_CAPTURA!M173","v":0},{"$f":"HOJA_CAPTURA!N173","v":0},{"$f":"HOJA_CAPTURA!P173","v":0},{"$f":"HOJA_CAPTURA!Q173","v":"00:00:00"},{"$f":"HOJA_CAPTURA!V173","v":0},{"$f":"HOJA_CAPTURA!AF173","v":0},{"$f":"HOJA_CAPTURA!AG173","v":0},{"$f":"HOJA_CAPTURA!AH173","v":0},{"$f":"HOJA_CAPTURA!AI173","v":0},{"$f":"HOJA_CAPTURA!AJ173","v":0},{"$f":"HOJA_CAPTURA!AK173","v":0},{"$f":"HOJA_CAPTURA!AL173","v":0},{"$f":"HOJA_CAPTURA!AT173","v":0},{"$f":"HOJA_CAPTURA!AU173","v":0}]
[null,null,null,null,null,{"$f":"HOJA_CAPTURA!R173","v":"00:00:00"}]
[{"$f":"HOJA_CAPTURA!J174","v":0},{"$f":"HOJA_CAPTURA!K174","v":0},{"$f":"HOJA_CAPTURA!M174","v":0},{"$f":"HOJA_CAPTURA!N174","v":0},{"$f":"HOJA_CAPTURA!P174","v":0},{"$f":"HOJA_CAPTURA!Q174","v":"00:00:00"},{"$f":"HOJA_CAPTURA!V174","v":0},{"$f":"HOJA_CAPTURA!AF174","v":0},{"$f":"HOJA_CAPTURA!AG174","v":0},{"$f":"HOJA_CAPTURA!AH174","v":0},{"$f":"HOJA_CAPTURA!AI174","v":0},{"$f":"HOJA_CAPTURA!AJ174","v":0},{"$f":"HOJA_CAPTURA!AK174","v":0},{"$f":"HOJA_CAPTURA!AL174","v":0},{"$f":"HOJA_CAPTURA!AT174","v":0},{"$f":"HOJA_CAPTURA!AU174","v":0}]
[null,null,null,null,null,{"$f":"HOJA_CAPTURA!R174","v":"00:00:00"}]
[]
[{"$f":"HOJA_CAPTURA!F171","v":0},null,null,null,null,null,null,null,null,null,{"$f":"HOJA_CAPTURA!E171","v":0}]
["Nombre, firma y cargo de la persona que elaboró",null,null,null,null,null,null,null,null,null,"Nombre y firma del titular del Área productora"]
[]
[]
[]
[]
[null,"           "]
["Nombre de la dependencia o entidad: ",null,null,null,{"$f":"HOJA_CAPTURA!A175","v":"Instituto Nacional de Pediatría"},null,null,null,null,null,null,null,null,"Hoja: 44 de",{"$f":"O5","v":0}]
["Unidad administrativa/Área productora:",null,null,null,{"$f":"HOJA_CAPTURA!C175","v":0}]
[{"$f":"HOJA_CAPTURA!B175","v":"Fondo: INP"},null,"Sección:",{"$f":"HOJA_CAPTURA!G175","v":0},null,null,"Serie: ",{"$f":"HOJA_CAPTURA!H175","v":0}]
[null,null,null,null,null,null,"Subserie:",null,{"$f":"HOJA_CAPTURA!I175","v":0}]
["No. Consecutivo","No. de caja","No. de expediente","Clasificación archivística del expediente","Descripción o asunto ","                                                                                                                                                                                                                                                          Periodo de trámite","No.  de folios ","Valor documental",null,null,"Vigencia documental",null,null,"Condiciones de acceso (Reservada y confidencial)","Ubicación topográfica","Tradición documental "]
[null,null,null,null,null,null,null,"A","L","F/C","AT","AC","Total"]
[{"$f":"HOJA_CAPTURA!J175","v":0},{"$f":"HOJA_CAPTURA!K175","v":0},{"$f":"HOJA_CAPTURA!M175","v":0},{"$f":"HOJA_CAPTURA!N175","v":0},{"$f":"HOJA_CAPTURA!P175","v":0},{"$f":"HOJA_CAPTURA!Q175","v":"00:00:00"},{"$f":"HOJA_CAPTURA!V175","v":0},{"$f":"HOJA_CAPTURA!AF175","v":0},{"$f":"HOJA_CAPTURA!AG175","v":0},{"$f":"HOJA_CAPTURA!AH175","v":0},{"$f":"HOJA_CAPTURA!AI175","v":0},{"$f":"HOJA_CAPTURA!AJ175","v":0},{"$f":"HOJA_CAPTURA!AK175","v":0},{"$f":"HOJA_CAPTURA!AL175","v":0},{"$f":"HOJA_CAPTURA!AT175","v":0},{"$f":"HOJA_CAPTURA!AU175","v":0}]
[null,null,null,null,null,{"$f":"HOJA_CAPTURA!R175","v":"00:00:00"}]
[{"$f":"HOJA_CAPTURA!J176","v":0},{"$f":"HOJA_CAPTURA!K176","v":0},{"$f":"HOJA_CAPTURA!M176","v":0},{"$f":"HOJA_CAPTURA!N176","v":0},{"$f":"HOJA_CAPTURA!P176","v":0},{"$f":"HOJA_CAPTURA!Q176","v":"00:00:00"},{"$f":"HOJA_CAPTURA!V176","v":0},{"$f":"HOJA_CAPTURA!AF176","v":0},{"$f":"HOJA_CAPTURA!AG176","v":0},{"$f":"HOJA_CAPTURA!AH176","v":0},{"$f":"HOJA_CAPTURA!AI176","v":0},{"$f":"HOJA_CAPTURA!AJ176","v":0},{"$f":"HOJA_CAPTURA!AK176","v":0},{"$f":"HOJA_CAPTURA!AL176","v":0},{"$f":"HOJA_CAPTURA!AT176","v":0},{"$f":"HOJA_CAPTURA!AU176","v":0}]
[null,null,null,null,null,{"$f":"HOJA_CAPTURA!R176","v":"00:00:00"}]
[{"$f":"HOJA_CAPTURA!J177","v":0},{"$f":"HOJA_CAPTURA!K177","v":0},{"$f":"HOJA_CAPTURA!M177","v":0},{"$f":"HOJA_CAPTURA!N177","v":0},{"$f":"HOJA_CAPTURA!P177","v":0},{"$f":"HOJA_CAPTURA!Q177","v":"00:00:00"},{"$f":"HOJA_CAPTURA!V177","v":0},{"$f":"HOJA_CAPTURA!AF177","v":0},{"$f":"HOJA_CAPTURA!AG177","v":0},{"$f":"HOJA_CAPTURA!AH177","v":0},{"$f":"HOJA_CAPTURA!AI177","v":0},{"$f":"HOJA_CAPTURA!AJ177","v":0},{"$f":"HOJA_CAPTURA!AK177","v":0},{"$f":"HOJA_CAPTURA!AL177","v":0},{"$f":"HOJA_CAPTURA!AT177","v":0},{"$f":"HOJA_CAPTURA!AU177","v":0}]
[null,null,null,null,null,{"$f":"HOJA_CAPTURA!R177","v":"00:00:00"}]
[{"$f":"HOJA_CAPTURA!J178","v":0},{"$f":"HOJA_CAPTURA!K178","v":0},{"$f":"HOJA_CAPTURA!M178","v":0},{"$f":"HOJA_CAPTURA!N178","v":0},{"$f":"HOJA_CAPTURA!P178","v":0},{"$f":"HOJA_CAPTURA!Q178","v":"00:00:00"},{"$f":"HOJA_CAPTURA!V178","v":0},{"$f":"HOJA_CAPTURA!AF178","v":0},{"$f":"HOJA_CAPTURA!AG178","v":0},{"$f":"HOJA_CAPTURA!AH178","v":0},{"$f":"HOJA_CAPTURA!AI178","v":0},{"$f":"HOJA_CAPTURA!AJ178","v":0},{"$f":"HOJA_CAPTURA!AK178","v":0},{"$f":"HOJA_CAPTURA!AL178","v":0},{"$f":"HOJA_CAPTURA!AT178","v":0},{"$f":"HOJA_CAPTURA!AU178","v":0}]
[null,null,null,null,null,{"$f":"HOJA_CAPTURA!R178","v":"00:00:00"}]
[]
[{"$f":"HOJA_CAPTURA!F175","v":0},null,null,null,null,null,null,null,null,null,{"$f":"HOJA_CAPTURA!E175","v":0}]
["Nombre, firma y cargo de la persona que elaboró",null,null,null,null,null,null,null,null,null,"Nombre y firma del titular del Área productora"]
[]
[]
[]
[]
[null,"           "]
["Nombre de la dependencia o entidad: ",null,null,null,{"$f":"HOJA_CAPTURA!A179","v":"Instituto Nacional de Pediatría"},null,null,null,null,null,null,null,null,"Hoja: 45 de",{"$f":"O5","v":0}]
["Unidad administrativa/Área productora:",null,null,null,{"$f":"HOJA_CAPTURA!C179","v":0}]
[{"$f":"HOJA_CAPTURA!B179","v":"Fondo: INP"},null,"Sección:",{"$f":"HOJA_CAPTURA!G179","v":0},null,null,"Serie: ",{"$f":"HOJA_CAPTURA!H179","v":0}]
[null,null,null,null,null,null,"Subserie:",null,{"$f":"HOJA_CAPTURA!I179","v":0}]
["No. Consecutivo","No. de caja","No. de expediente","Clasificación archivística del expediente","Descripción o asunto ","                                                                                                                                                                                                                                                          Periodo de trámite","No.  de folios ","Valor documental",null,null,"Vigencia documental",null,null,"Condiciones de acceso (Reservada y confidencial)","Ubicación topográfica","Tradición documental "]
[null,null,null,null,null,null,null,"A","L","F/C","AT","AC","Total"]
[{"$f":"HOJA_CAPTURA!J179","v":0},{"$f":"HOJA_CAPTURA!K179","v":0},{"$f":"HOJA_CAPTURA!M179","v":0},{"$f":"HOJA_CAPTURA!N179","v":0},{"$f":"HOJA_CAPTURA!P179","v":0},{"$f":"HOJA_CAPTURA!Q179","v":"00:00:00"},{"$f":"HOJA_CAPTURA!V179","v":0},{"$f":"HOJA_CAPTURA!AF179","v":0},{"$f":"HOJA_CAPTURA!AG179","v":0},{"$f":"HOJA_CAPTURA!AH179","v":0},{"$f":"HOJA_CAPTURA!AI179","v":0},{"$f":"HOJA_CAPTURA!AJ179","v":0},{"$f":"HOJA_CAPTURA!AK179","v":0},{"$f":"HOJA_CAPTURA!AL179","v":0},{"$f":"HOJA_CAPTURA!AT179","v":0},{"$f":"HOJA_CAPTURA!AU179","v":0}]
[null,null,null,null,null,{"$f":"HOJA_CAPTURA!R179","v":"00:00:00"}]
[{"$f":"HOJA_CAPTURA!J180","v":0},{"$f":"HOJA_CAPTURA!K180","v":0},{"$f":"HOJA_CAPTURA!M180","v":0},{"$f":"HOJA_CAPTURA!N180","v":0},{"$f":"HOJA_CAPTURA!P180","v":0},{"$f":"HOJA_CAPTURA!Q180","v":"00:00:00"},{"$f":"HOJA_CAPTURA!V180","v":0},{"$f":"HOJA_CAPTURA!AF180","v":0},{"$f":"HOJA_CAPTURA!AG180","v":0},{"$f":"HOJA_CAPTURA!AH180","v":0},{"$f":"HOJA_CAPTURA!AI180","v":0},{"$f":"HOJA_CAPTURA!AJ180","v":0},{"$f":"HOJA_CAPTURA!AK180","v":0},{"$f":"HOJA_CAPTURA!AL180","v":0},{"$f":"HOJA_CAPTURA!AT180","v":0},{"$f":"HOJA_CAPTURA!AU180","v":0}]
[null,null,null,null,null,{"$f":"HOJA_CAPTURA!R180","v":"00:00:00"}]
[{"$f":"HOJA_CAPTURA!J181","v":0},{"$f":"HOJA_CAPTURA!K181","v":0},{"$f":"HOJA_CAPTURA!M181","v":0},{"$f":"HOJA_CAPTURA!N181","v":0},{"$f":"HOJA_CAPTURA!P181","v":0},{"$f":"HOJA_CAPTURA!Q181","v":"00:00:00"},{"$f":"HOJA_CAPTURA!V181","v":0},{"$f":"HOJA_CAPTURA!AF181","v":0},{"$f":"HOJA_CAPTURA!AG181","v":0},{"$f":"HOJA_CAPTURA!AH181","v":0},{"$f":"HOJA_CAPTURA!AI181","v":0},{"$f":"HOJA_CAPTURA!AJ181","v":0},{"$f":"HOJA_CAPTURA!AK181","v":0},{"$f":"HOJA_CAPTURA!AL181","v":0},{"$f":"HOJA_CAPTURA!AT181","v":0},{"$f":"HOJA_CAPTURA!AU181","v":0}]
[null,null,null,null,null,{"$f":"HOJA_CAPTURA!R181","v":"00:00:00"}]
[{"$f":"HOJA_CAPTURA!J182","v":0},{"$f":"HOJA_CAPTURA!K182","v":0},{"$f":"HOJA_CAPTURA!M182","v":0},{"$f":"HOJA_CAPTURA!N182","v":0},{"$f":"HOJA_CAPTURA!P182","v":0},{"$f":"HOJA_CAPTURA!Q182","v":"00:00:00"},{"$f":"HOJA_CAPTURA!V182","v":0},{"$f":"HOJA_CAPTURA!AF182","v":0},{"$f":"HOJA_CAPTURA!AG182","v":0},{"$f":"HOJA_CAPTURA!AH182","v":0},{"$f":"HOJA_CAPTURA!AI182","v":0},{"$f":"HOJA_CAPTURA!AJ182","v":0},{"$f":"HOJA_CAPTURA!AK182","v":0},{"$f":"HOJA_CAPTURA!AL182","v":0},{"$f":"HOJA_CAPTURA!AT182","v":0},{"$f":"HOJA_CAPTURA!AU182","v":0}]
[null,null,null,null,null,{"$f":"HOJA_CAPTURA!R182","v":"00:00:00"}]
[]
[{"$f":"HOJA_CAPTURA!F179","v":0},null,null,null,null,null,null,null,null,null,{"$f":"HOJA_CAPTURA!E179","v":0}]
["Nombre, firma y cargo de la persona que elaboró",null,null,null,null,null,null,null,null,null,"Nombre y firma del titular del Área productora"]
[]
[]
[]
[]
[null,"           "]
["Nombre de la dependencia o entidad: ",null,null,null,{"$f":"HOJA_CAPTURA!A183","v":"Instituto Nacional de Pediatría"},null,null,null,null,null,null,null,null,"Hoja: 46 de",{"$f":"O5","v":0}]
["Unidad administrativa/Área productora:",null,null,null,{"$f":"HOJA_CAPTURA!C183","v":0}]
[{"$f":"HOJA_CAPTURA!B183","v":"Fondo: INP"},null,"Sección:",{"$f":"HOJA_CAPTURA!G183","v":0},null,null,"Serie: ",{"$f":"HOJA_CAPTURA!H183","v":0}]
[null,null,null,null,null,null,"Subserie:",null,{"$f":"HOJA_CAPTURA!I183","v":0}]
["No. Consecutivo","No. de caja","No. de expediente","Clasificación archivística del expediente","Descripción o asunto ","                                                                                                                                                                                                                                                          Periodo de trámite","No.  de folios ","Valor documental",null,null,"Vigencia documental",null,null,"Condiciones de acceso (Reservada y confidencial)","Ubicación topográfica","Tradición documental "]
[null,null,null,null,null,null,null,"A","L","F/C","AT","AC","Total"]
[{"$f":"HOJA_CAPTURA!J183","v":0},{"$f":"HOJA_CAPTURA!K183","v":0},{"$f":"HOJA_CAPTURA!M183","v":0},{"$f":"HOJA_CAPTURA!N183","v":0},{"$f":"HOJA_CAPTURA!P183","v":0},{"$f":"HOJA_CAPTURA!Q183","v":"00:00:00"},{"$f":"HOJA_CAPTURA!V183","v":0},{"$f":"HOJA_CAPTURA!AF183","v":0},{"$f":"HOJA_CAPTURA!AG183","v":0},{"$f":"HOJA_CAPTURA!AH183","v":0},{"$f":"HOJA_CAPTURA!AI183","v":0},{"$f":"HOJA_CAPTURA!AJ183","v":0},{"$f":"HOJA_CAPTURA!AK183","v":0},{"$f":"HOJA_CAPTURA!AL183","v":0},{"$f":"HOJA_CAPTURA!AT183","v":0},{"$f":"HOJA_CAPTURA!AU183","v":0}]
[null,null,null,null,null,{"$f":"HOJA_CAPTURA!R183","v":"00:00:00"}]
[{"$f":"HOJA_CAPTURA!J184","v":0},{"$f":"HOJA_CAPTURA!K184","v":0},{"$f":"HOJA_CAPTURA!M184","v":0},{"$f":"HOJA_CAPTURA!N184","v":0},{"$f":"HOJA_CAPTURA!P184","v":0},{"$f":"HOJA_CAPTURA!Q184","v":"00:00:00"},{"$f":"HOJA_CAPTURA!V184","v":0},{"$f":"HOJA_CAPTURA!AF184","v":0},{"$f":"HOJA_CAPTURA!AG184","v":0},{"$f":"HOJA_CAPTURA!AH184","v":0},{"$f":"HOJA_CAPTURA!AI184","v":0},{"$f":"HOJA_CAPTURA!AJ184","v":0},{"$f":"HOJA_CAPTURA!AK184","v":0},{"$f":"HOJA_CAPTURA!AL184","v":0},{"$f":"HOJA_CAPTURA!AT184","v":0},{"$f":"HOJA_CAPTURA!AU184","v":0}]
[null,null,null,null,null,{"$f":"HOJA_CAPTURA!R184","v":"00:00:00"}]
[{"$f":"HOJA_CAPTURA!J185","v":0},{"$f":"HOJA_CAPTURA!K185","v":0},{"$f":"HOJA_CAPTURA!M185","v":0},{"$f":"HOJA_CAPTURA!N185","v":0},{"$f":"HOJA_CAPTURA!P185","v":0},{"$f":"HOJA_CAPTURA!Q185","v":"00:00:00"},{"$f":"HOJA_CAPTURA!V185","v":0},{"$f":"HOJA_CAPTURA!AF185","v":0},{"$f":"HOJA_CAPTURA!AG185","v":0},{"$f":"HOJA_CAPTURA!AH185","v":0},{"$f":"HOJA_CAPTURA!AI185","v":0},{"$f":"HOJA_CAPTURA!AJ185","v":0},{"$f":"HOJA_CAPTURA!AK185","v":0},{"$f":"HOJA_CAPTURA!AL185","v":0},{"$f":"HOJA_CAPTURA!AT185","v":0},{"$f":"HOJA_CAPTURA!AU185","v":0}]
[null,null,null,null,null,{"$f":"HOJA_CAPTURA!R185","v":"00:00:00"}]
[{"$f":"HOJA_CAPTURA!J186","v":0},{"$f":"HOJA_CAPTURA!K186","v":0},{"$f":"HOJA_CAPTURA!M186","v":0},{"$f":"HOJA_CAPTURA!N186","v":0},{"$f":"HOJA_CAPTURA!P186","v":0},{"$f":"HOJA_CAPTURA!Q186","v":"00:00:00"},{"$f":"HOJA_CAPTURA!V186","v":0},{"$f":"HOJA_CAPTURA!AF186","v":0},{"$f":"HOJA_CAPTURA!AG186","v":0},{"$f":"HOJA_CAPTURA!AH186","v":0},{"$f":"HOJA_CAPTURA!AI186","v":0},{"$f":"HOJA_CAPTURA!AJ186","v":0},{"$f":"HOJA_CAPTURA!AK186","v":0},{"$f":"HOJA_CAPTURA!AL186","v":0},{"$f":"HOJA_CAPTURA!AT186","v":0},{"$f":"HOJA_CAPTURA!AU186","v":0}]
[null,null,null,null,null,{"$f":"HOJA_CAPTURA!R186","v":"00:00:00"}]
[]
[{"$f":"HOJA_CAPTURA!F183","v":0},null,null,null,null,null,null,null,null,null,{"$f":"HOJA_CAPTURA!E183","v":0}]
["Nombre, firma y cargo de la persona que elaboró",null,null,null,null,null,null,null,null,null,"Nombre y firma del titular del Área productora"]
[]
[]
[]
[]
[null,"           "]
["Nombre de la dependencia o entidad: ",null,null,null,{"$f":"HOJA_CAPTURA!A187","v":"Instituto Nacional de Pediatría"},null,null,null,null,null,null,null,null,"Hoja: 47 de",{"$f":"O5","v":0}]
["Unidad administrativa/Área productora:",null,null,null,{"$f":"HOJA_CAPTURA!C187","v":0}]
[{"$f":"HOJA_CAPTURA!B187","v":"Fondo: INP"},null,"Sección:",{"$f":"HOJA_CAPTURA!G187","v":0},null,null,"Serie: ",{"$f":"HOJA_CAPTURA!H187","v":0}]
[null,null,null,null,null,null,"Subserie:",null,{"$f":"HOJA_CAPTURA!I187","v":0}]
["No. Consecutivo","No. de caja","No. de expediente","Clasificación archivística del expediente","Descripción o asunto ","                                                                                                                                                                                                                                                          Periodo de trámite","No.  de folios ","Valor documental",null,null,"Vigencia documental",null,null,"Condiciones de acceso (Reservada y confidencial)","Ubicación topográfica","Tradición documental "]
[null,null,null,null,null,null,null,"A","L","F/C","AT","AC","Total"]
[{"$f":"HOJA_CAPTURA!J187","v":0},{"$f":"HOJA_CAPTURA!K187","v":0},{"$f":"HOJA_CAPTURA!M187","v":0},{"$f":"HOJA_CAPTURA!N187","v":0},{"$f":"HOJA_CAPTURA!P187","v":0},{"$f":"HOJA_CAPTURA!Q187","v":"00:00:00"},{"$f":"HOJA_CAPTURA!V187","v":0},{"$f":"HOJA_CAPTURA!AF187","v":0},{"$f":"HOJA_CAPTURA!AG187","v":0},{"$f":"HOJA_CAPTURA!AH187","v":0},{"$f":"HOJA_CAPTURA!AI187","v":0},{"$f":"HOJA_CAPTURA!AJ187","v":0},{"$f":"HOJA_CAPTURA!AK187","v":0},{"$f":"HOJA_CAPTURA!AL187","v":0},{"$f":"HOJA_CAPTURA!AT187","v":0},{"$f":"HOJA_CAPTURA!AU187","v":0}]
[null,null,null,null,null,{"$f":"HOJA_CAPTURA!R187","v":"00:00:00"}]
[{"$f":"HOJA_CAPTURA!J188","v":0},{"$f":"HOJA_CAPTURA!K188","v":0},{"$f":"HOJA_CAPTURA!M188","v":0},{"$f":"HOJA_CAPTURA!N188","v":0},{"$f":"HOJA_CAPTURA!P188","v":0},{"$f":"HOJA_CAPTURA!Q188","v":"00:00:00"},{"$f":"HOJA_CAPTURA!V188","v":0},{"$f":"HOJA_CAPTURA!AF188","v":0},{"$f":"HOJA_CAPTURA!AG188","v":0},{"$f":"HOJA_CAPTURA!AH188","v":0},{"$f":"HOJA_CAPTURA!AI188","v":0},{"$f":"HOJA_CAPTURA!AJ188","v":0},{"$f":"HOJA_CAPTURA!AK188","v":0},{"$f":"HOJA_CAPTURA!AL188","v":0},{"$f":"HOJA_CAPTURA!AT188","v":0},{"$f":"HOJA_CAPTURA!AU188","v":0}]
[null,null,null,null,null,{"$f":"HOJA_CAPTURA!R188","v":"00:00:00"}]
[{"$f":"HOJA_CAPTURA!J189","v":0},{"$f":"HOJA_CAPTURA!K189","v":0},{"$f":"HOJA_CAPTURA!M189","v":0},{"$f":"HOJA_CAPTURA!N189","v":0},{"$f":"HOJA_CAPTURA!P189","v":0},{"$f":"HOJA_CAPTURA!Q189","v":"00:00:00"},{"$f":"HOJA_CAPTURA!V189","v":0},{"$f":"HOJA_CAPTURA!AF189","v":0},{"$f":"HOJA_CAPTURA!AG189","v":0},{"$f":"HOJA_CAPTURA!AH189","v":0},{"$f":"HOJA_CAPTURA!AI189","v":0},{"$f":"HOJA_CAPTURA!AJ189","v":0},{"$f":"HOJA_CAPTURA!AK189","v":0},{"$f":"HOJA_CAPTURA!AL189","v":0},{"$f":"HOJA_CAPTURA!AT189","v":0},{"$f":"HOJA_CAPTURA!AU189","v":0}]
[null,null,null,null,null,{"$f":"HOJA_CAPTURA!R189","v":"00:00:00"}]
[{"$f":"HOJA_CAPTURA!J90","v":0},{"$f":"HOJA_CAPTURA!K190","v":0},{"$f":"HOJA_CAPTURA!M190","v":0},{"$f":"HOJA_CAPTURA!N190","v":0},{"$f":"HOJA_CAPTURA!P190","v":0},{"$f":"HOJA_CAPTURA!Q190","v":"00:00:00"},{"$f":"HOJA_CAPTURA!V190","v":0},{"$f":"HOJA_CAPTURA!AF190","v":0},{"$f":"HOJA_CAPTURA!AG190","v":0},{"$f":"HOJA_CAPTURA!AH190","v":0},{"$f":"HOJA_CAPTURA!AI190","v":0},{"$f":"HOJA_CAPTURA!AJ190","v":0},{"$f":"HOJA_CAPTURA!AK190","v":0},{"$f":"HOJA_CAPTURA!AL190","v":0},{"$f":"HOJA_CAPTURA!AT190","v":0},{"$f":"HOJA_CAPTURA!AU190","v":0}]
[null,null,null,null,null,{"$f":"HOJA_CAPTURA!R190","v":"00:00:00"}]
[]
[{"$f":"HOJA_CAPTURA!F187","v":0},null,null,null,null,null,null,null,null,null,{"$f":"HOJA_CAPTURA!E187","v":0}]
["Nombre, firma y cargo de la persona que elaboró",null,null,null,null,null,null,null,null,null,"Nombre y firma del titular del Área productora"]
[]
[]
[]
[]
[null,"           "]
["Nombre de la dependencia o entidad: ",null,null,null,{"$f":"HOJA_CAPTURA!A191","v":"Instituto Nacional de Pediatría"},null,null,null,null,null,null,null,null,"Hoja: 48 de",{"$f":"O5","v":0}]
["Unidad administrativa/Área productora:",null,null,null,{"$f":"HOJA_CAPTURA!C191","v":0}]
[{"$f":"HOJA_CAPTURA!B191","v":"Fondo: INP"},null,"Sección:",{"$f":"HOJA_CAPTURA!G191","v":0},null,null,"Serie: ",{"$f":"HOJA_CAPTURA!H191","v":0}]
[null,null,null,null,null,null,"Subserie:",null,{"$f":"HOJA_CAPTURA!I191","v":0}]
["No. Consecutivo","No. de caja","No. de expediente","Clasificación archivística del expediente","Descripción o asunto ","                                                                                                                                                                                                                                                          Periodo de trámite","No.  de folios ","Valor documental",null,null,"Vigencia documental",null,null,"Condiciones de acceso (Reservada y confidencial)","Ubicación topográfica","Tradición documental "]
[null,null,null,null,null,null,null,"A","L","F/C","AT","AC","Total"]
[{"$f":"HOJA_CAPTURA!J191","v":0},{"$f":"HOJA_CAPTURA!K191","v":0},{"$f":"HOJA_CAPTURA!M191","v":0},{"$f":"HOJA_CAPTURA!N191","v":0},{"$f":"HOJA_CAPTURA!P191","v":0},{"$f":"HOJA_CAPTURA!Q191","v":"00:00:00"},{"$f":"HOJA_CAPTURA!V191","v":0},{"$f":"HOJA_CAPTURA!AF191","v":0},{"$f":"HOJA_CAPTURA!AG191","v":0},{"$f":"HOJA_CAPTURA!AH191","v":0},{"$f":"HOJA_CAPTURA!AI191","v":0},{"$f":"HOJA_CAPTURA!AJ191","v":0},{"$f":"HOJA_CAPTURA!AK191","v":0},{"$f":"HOJA_CAPTURA!AL191","v":0},{"$f":"HOJA_CAPTURA!AT191","v":0},{"$f":"HOJA_CAPTURA!AU191","v":0}]
[null,null,null,null,null,{"$f":"HOJA_CAPTURA!R191","v":"00:00:00"}]
[{"$f":"HOJA_CAPTURA!J192","v":0},{"$f":"HOJA_CAPTURA!K192","v":0},{"$f":"HOJA_CAPTURA!M192","v":0},{"$f":"HOJA_CAPTURA!N192","v":0},{"$f":"HOJA_CAPTURA!P192","v":0},{"$f":"HOJA_CAPTURA!Q192","v":"00:00:00"},{"$f":"HOJA_CAPTURA!V192","v":0},{"$f":"HOJA_CAPTURA!AF192","v":0},{"$f":"HOJA_CAPTURA!AG192","v":0},{"$f":"HOJA_CAPTURA!AH192","v":0},{"$f":"HOJA_CAPTURA!AI192","v":0},{"$f":"HOJA_CAPTURA!AJ192","v":0},{"$f":"HOJA_CAPTURA!AK192","v":0},{"$f":"HOJA_CAPTURA!AL192","v":0},{"$f":"HOJA_CAPTURA!AT192","v":0},{"$f":"HOJA_CAPTURA!AU192","v":0}]
[null,null,null,null,null,{"$f":"HOJA_CAPTURA!R192","v":"00:00:00"}]
[{"$f":"HOJA_CAPTURA!J193","v":0},{"$f":"HOJA_CAPTURA!K193","v":0},{"$f":"HOJA_CAPTURA!M193","v":0},{"$f":"HOJA_CAPTURA!N193","v":0},{"$f":"HOJA_CAPTURA!P193","v":0},{"$f":"HOJA_CAPTURA!Q193","v":"00:00:00"},{"$f":"HOJA_CAPTURA!V193","v":0},{"$f":"HOJA_CAPTURA!AF193","v":0},{"$f":"HOJA_CAPTURA!AG193","v":0},{"$f":"HOJA_CAPTURA!AH193","v":0},{"$f":"HOJA_CAPTURA!AI193","v":0},{"$f":"HOJA_CAPTURA!AJ193","v":0},{"$f":"HOJA_CAPTURA!AK193","v":0},{"$f":"HOJA_CAPTURA!AL193","v":0},{"$f":"HOJA_CAPTURA!AT193","v":0},{"$f":"HOJA_CAPTURA!AU193","v":0}]
[null,null,null,null,null,{"$f":"HOJA_CAPTURA!R193","v":"00:00:00"}]
[{"$f":"HOJA_CAPTURA!J194","v":0},{"$f":"HOJA_CAPTURA!K194","v":0},{"$f":"HOJA_CAPTURA!M194","v":0},{"$f":"HOJA_CAPTURA!N194","v":0},{"$f":"HOJA_CAPTURA!P194","v":0},{"$f":"HOJA_CAPTURA!Q194","v":"00:00:00"},{"$f":"HOJA_CAPTURA!V194","v":0},{"$f":"HOJA_CAPTURA!AF194","v":0},{"$f":"HOJA_CAPTURA!AG194","v":0},{"$f":"HOJA_CAPTURA!AH194","v":0},{"$f":"HOJA_CAPTURA!AI194","v":0},{"$f":"HOJA_CAPTURA!AJ194","v":0},{"$f":"HOJA_CAPTURA!AK194","v":0},{"$f":"HOJA_CAPTURA!AL194","v":0},{"$f":"HOJA_CAPTURA!AT194","v":0},{"$f":"HOJA_CAPTURA!AU194","v":0}]
[null,null,null,null,null,{"$f":"HOJA_CAPTURA!R194","v":"00:00:00"}]
[]
[{"$f":"HOJA_CAPTURA!F191","v":0},null,null,null,null,null,null,null,null,null,{"$f":"HOJA_CAPTURA!E191","v":0}]
["Nombre, firma y cargo de la persona que elaboró",null,null,null,null,null,null,null,null,null,"Nombre y firma del titular del Área productora"]
[]
[]
[]
[]
[null,"           "]
["Nombre de la dependencia o entidad: ",null,null,null,{"$f":"HOJA_CAPTURA!A195","v":"Instituto Nacional de Pediatría"},null,null,null,null,null,null,null,null,"Hoja: 49 de",{"$f":"O5","v":0}]
["Unidad administrativa/Área productora:",null,null,null,{"$f":"HOJA_CAPTURA!C195","v":0}]
[{"$f":"HOJA_CAPTURA!B195","v":"Fondo: INP"},null,"Sección:",{"$f":"HOJA_CAPTURA!G195","v":0},null,null,"Serie: ",{"$f":"HOJA_CAPTURA!H195","v":0}]
[null,null,null,null,null,null,"Subserie:",null,{"$f":"HOJA_CAPTURA!I195","v":0}]
["No. Consecutivo","No. de caja","No. de expediente","Clasificación archivística del expediente","Descripción o asunto ","                                                                                                                                                                                                                                                          Periodo de trámite","No.  de folios ","Valor documental",null,null,"Vigencia documental",null,null,"Condiciones de acceso (Reservada y confidencial)","Ubicación topográfica","Tradición documental "]
[null,null,null,null,null,null,null,"A","L","F/C","AT","AC","Total"]
[{"$f":"HOJA_CAPTURA!J195","v":0},{"$f":"HOJA_CAPTURA!K195","v":0},{"$f":"HOJA_CAPTURA!M195","v":0},{"$f":"HOJA_CAPTURA!N195","v":0},{"$f":"HOJA_CAPTURA!P195","v":0},{"$f":"HOJA_CAPTURA!Q195","v":"00:00:00"},{"$f":"HOJA_CAPTURA!V195","v":0},{"$f":"HOJA_CAPTURA!AF195","v":0},{"$f":"HOJA_CAPTURA!AG195","v":0},{"$f":"HOJA_CAPTURA!AH195","v":0},{"$f":"HOJA_CAPTURA!AI195","v":0},{"$f":"HOJA_CAPTURA!AJ195","v":0},{"$f":"HOJA_CAPTURA!AK195","v":0},{"$f":"HOJA_CAPTURA!AL195","v":0},{"$f":"HOJA_CAPTURA!AT195","v":0},{"$f":"HOJA_CAPTURA!AU195","v":0}]
[null,null,null,null,null,{"$f":"HOJA_CAPTURA!R195","v":"00:00:00"}]
[{"$f":"HOJA_CAPTURA!J196","v":0},{"$f":"HOJA_CAPTURA!K196","v":0},{"$f":"HOJA_CAPTURA!M196","v":0},{"$f":"HOJA_CAPTURA!N196","v":0},{"$f":"HOJA_CAPTURA!P196","v":0},{"$f":"HOJA_CAPTURA!Q196","v":"00:00:00"},{"$f":"HOJA_CAPTURA!V196","v":0},{"$f":"HOJA_CAPTURA!AF196","v":0},{"$f":"HOJA_CAPTURA!AG196","v":0},{"$f":"HOJA_CAPTURA!AH196","v":0},{"$f":"HOJA_CAPTURA!AI196","v":0},{"$f":"HOJA_CAPTURA!AJ196","v":0},{"$f":"HOJA_CAPTURA!AK196","v":0},{"$f":"HOJA_CAPTURA!AL196","v":0},{"$f":"HOJA_CAPTURA!AT196","v":0},{"$f":"HOJA_CAPTURA!AU196","v":0}]
[null,null,null,null,null,{"$f":"HOJA_CAPTURA!R196","v":"00:00:00"}]
[{"$f":"HOJA_CAPTURA!J197","v":0},{"$f":"HOJA_CAPTURA!K197","v":0},{"$f":"HOJA_CAPTURA!M197","v":0},{"$f":"HOJA_CAPTURA!N197","v":0},{"$f":"HOJA_CAPTURA!P197","v":0},{"$f":"HOJA_CAPTURA!Q197","v":"00:00:00"},{"$f":"HOJA_CAPTURA!V197","v":0},{"$f":"HOJA_CAPTURA!AF197","v":0},{"$f":"HOJA_CAPTURA!AG197","v":0},{"$f":"HOJA_CAPTURA!AH197","v":0},{"$f":"HOJA_CAPTURA!AI197","v":0},{"$f":"HOJA_CAPTURA!AJ197","v":0},{"$f":"HOJA_CAPTURA!AK197","v":0},{"$f":"HOJA_CAPTURA!AL197","v":0},{"$f":"HOJA_CAPTURA!AT197","v":0},{"$f":"HOJA_CAPTURA!AU197","v":0}]
[null,null,null,null,null,{"$f":"HOJA_CAPTURA!R197","v":"00:00:00"}]
[{"$f":"HOJA_CAPTURA!J198","v":0},{"$f":"HOJA_CAPTURA!K198","v":0},{"$f":"HOJA_CAPTURA!M198","v":0},{"$f":"HOJA_CAPTURA!N198","v":0},{"$f":"HOJA_CAPTURA!P198","v":0},{"$f":"HOJA_CAPTURA!Q198","v":"00:00:00"},{"$f":"HOJA_CAPTURA!V198","v":0},{"$f":"HOJA_CAPTURA!AF198","v":0},{"$f":"HOJA_CAPTURA!AG198","v":0},{"$f":"HOJA_CAPTURA!AH198","v":0},{"$f":"HOJA_CAPTURA!AI198","v":0},{"$f":"HOJA_CAPTURA!AJ198","v":0},{"$f":"HOJA_CAPTURA!AK198","v":0},{"$f":"HOJA_CAPTURA!AL198","v":0},{"$f":"HOJA_CAPTURA!AT198","v":0},{"$f":"HOJA_CAPTURA!AU198","v":0}]
[null,null,null,null,null,{"$f":"HOJA_CAPTURA!R198","v":"00:00:00"}]
[]
[{"$f":"HOJA_CAPTURA!F195","v":0},null,null,null,null,null,null,null,null,null,{"$f":"HOJA_CAPTURA!E195","v":0}]
["Nombre, firma y cargo de la persona que elaboró",null,null,null,null,null,null,null,null,null,"Nombre y firma del titular del Área productora"]
[]
[]
[]
[]
[null,"           "]
["Nombre de la dependencia o entidad: ",null,null,null,{"$f":"HOJA_CAPTURA!A199","v":"Instituto Nacional de Pediatría"},null,null,null,null,null,null,null,null,"Hoja: 50 de",{"$f":"O5","v":0}]
["Unidad administrativa/Área productora:",null,null,null,{"$f":"HOJA_CAPTURA!C199","v":0}]
[{"$f":"HOJA_CAPTURA!B199","v":"Fondo: INP"},null,"Sección:",{"$f":"HOJA_CAPTURA!G199","v":0},null,null,"Serie: ",{"$f":"HOJA_CAPTURA!H199","v":0}]
[null,null,null,null,null,null,"Subserie:",null,{"$f":"HOJA_CAPTURA!I199","v":0}]
["No. Consecutivo","No. de caja","No. de expediente","Clasificación archivística del expediente","Descripción o asunto ","                                                                                                                                                                                                                                                          Periodo de trámite","No.  de folios ","Valor documental",null,null,"Vigencia documental",null,null,"Condiciones de acceso (Reservada y confidencial)","Ubicación topográfica","Tradición documental "]
[null,null,null,null,null,null,null,"A","L","F/C","AT","AC","Total"]
[{"$f":"HOJA_CAPTURA!J199","v":0},{"$f":"HOJA_CAPTURA!K199","v":0},{"$f":"HOJA_CAPTURA!M199","v":0},{"$f":"HOJA_CAPTURA!N199","v":0},{"$f":"HOJA_CAPTURA!P199","v":0},{"$f":"HOJA_CAPTURA!Q199","v":"00:00:00"},{"$f":"HOJA_CAPTURA!V199","v":0},{"$f":"HOJA_CAPTURA!AF199","v":0},{"$f":"HOJA_CAPTURA!AG199","v":0},{"$f":"HOJA_CAPTURA!AH199","v":0},{"$f":"HOJA_CAPTURA!AI199","v":0},{"$f":"HOJA_CAPTURA!AJ199","v":0},{"$f":"HOJA_CAPTURA!AK199","v":0},{"$f":"HOJA_CAPTURA!AL199","v":0},{"$f":"HOJA_CAPTURA!AT199","v":0},{"$f":"HOJA_CAPTURA!AU199","v":0}]
[null,null,null,null,null,{"$f":"HOJA_CAPTURA!R199","v":"00:00:00"}]
[{"$f":"HOJA_CAPTURA!J200","v":0},{"$f":"HOJA_CAPTURA!K200","v":0},{"$f":"HOJA_CAPTURA!M200","v":0},{"$f":"HOJA_CAPTURA!N200","v":0},{"$f":"HOJA_CAPTURA!P200","v":0},{"$f":"HOJA_CAPTURA!Q200","v":"00:00:00"},{"$f":"HOJA_CAPTURA!V200","v":0},{"$f":"HOJA_CAPTURA!AF200","v":0},{"$f":"HOJA_CAPTURA!AG200","v":0},{"$f":"HOJA_CAPTURA!AH200","v":0},{"$f":"HOJA_CAPTURA!AI200","v":0},{"$f":"HOJA_CAPTURA!AJ200","v":0},{"$f":"HOJA_CAPTURA!AK200","v":0},{"$f":"HOJA_CAPTURA!AL200","v":0},{"$f":"HOJA_CAPTURA!AT200","v":0},{"$f":"HOJA_CAPTURA!AU200","v":0}]
[null,null,null,null,null,{"$f":"HOJA_CAPTURA!R200","v":"00:00:00"}]
[{"$f":"HOJA_CAPTURA!J201","v":0},{"$f":"HOJA_CAPTURA!K201","v":0},{"$f":"HOJA_CAPTURA!M201","v":0},{"$f":"HOJA_CAPTURA!N201","v":0},{"$f":"HOJA_CAPTURA!P201","v":0},{"$f":"HOJA_CAPTURA!Q201","v":"00:00:00"},{"$f":"HOJA_CAPTURA!V201","v":0},{"$f":"HOJA_CAPTURA!AF201","v":0},{"$f":"HOJA_CAPTURA!AG201","v":0},{"$f":"HOJA_CAPTURA!AH201","v":0},{"$f":"HOJA_CAPTURA!AI201","v":0},{"$f":"HOJA_CAPTURA!AJ201","v":0},{"$f":"HOJA_CAPTURA!AK201","v":0},{"$f":"HOJA_CAPTURA!AL201","v":0},{"$f":"HOJA_CAPTURA!AT201","v":0},{"$f":"HOJA_CAPTURA!AU201","v":0}]
[null,null,null,null,null,{"$f":"HOJA_CAPTURA!R201","v":"00:00:00"}]
[{"$f":"HOJA_CAPTURA!J202","v":0},{"$f":"HOJA_CAPTURA!K202","v":0},{"$f":"HOJA_CAPTURA!M202","v":0},{"$f":"HOJA_CAPTURA!N202","v":0},{"$f":"HOJA_CAPTURA!P202","v":0},{"$f":"HOJA_CAPTURA!Q202","v":"00:00:00"},{"$f":"HOJA_CAPTURA!V202","v":0},{"$f":"HOJA_CAPTURA!AF202","v":0},{"$f":"HOJA_CAPTURA!AG202","v":0},{"$f":"HOJA_CAPTURA!AH202","v":0},{"$f":"HOJA_CAPTURA!AI202","v":0},{"$f":"HOJA_CAPTURA!AJ202","v":0},{"$f":"HOJA_CAPTURA!AK202","v":0},{"$f":"HOJA_CAPTURA!AL202","v":0},{"$f":"HOJA_CAPTURA!AT202","v":0},{"$f":"HOJA_CAPTURA!AU202","v":0}]
[null,null,null,null,null,{"$f":"HOJA_CAPTURA!R202","v":"00:00:00"}]
[]
[{"$f":"HOJA_CAPTURA!F199","v":0},null,null,null,null,null,null,null,null,null,{"$f":"HOJA_CAPTURA!E199","v":0}]
["Nombre, firma y cargo de la persona que elaboró",null,null,null,null,null,null,null,null,null,"Nombre y firma del titular del Área productora"]
[]
[]
[]
[]
[null,"           "]
["Nombre de la dependencia o entidad: ",null,null,null,{"$f":"HOJA_CAPTURA!A203","v":"Instituto Nacional de Pediatría"},null,null,null,null,null,null,null,null,"Hoja: 51 de",{"$f":"O5","v":0}]
["Unidad administrativa/Área productora:",null,null,null,{"$f":"HOJA_CAPTURA!C203","v":0}]
[{"$f":"HOJA_CAPTURA!B203","v":"Fondo: INP"},null,"Sección:",{"$f":"HOJA_CAPTURA!G203","v":0},null,null,"Serie: ",{"$f":"HOJA_CAPTURA!H203","v":0}]
[null,null,null,null,null,null,"Subserie:",null,{"$f":"HOJA_CAPTURA!I203","v":0}]
["No. Consecutivo","No. de caja","No. de expediente","Clasificación archivística del expediente","Descripción o asunto ","                                                                                                                                                                                                                                                          Periodo de trámite","No.  de folios ","Valor documental",null,null,"Vigencia documental",null,null,"Condiciones de acceso (Reservada y confidencial)","Ubicación topográfica","Tradición documental "]
[null,null,null,null,null,null,null,"A","L","F/C","AT","AC","Total"]
[{"$f":"HOJA_CAPTURA!J203","v":0},{"$f":"HOJA_CAPTURA!K203","v":0},{"$f":"HOJA_CAPTURA!M203","v":0},{"$f":"HOJA_CAPTURA!N203","v":0},{"$f":"HOJA_CAPTURA!P203","v":0},{"$f":"HOJA_CAPTURA!Q203","v":"00:00:00"},{"$f":"HOJA_CAPTURA!V203","v":0},{"$f":"HOJA_CAPTURA!AF203","v":0},{"$f":"HOJA_CAPTURA!AG203","v":0},{"$f":"HOJA_CAPTURA!AH203","v":0},{"$f":"HOJA_CAPTURA!AI203","v":0},{"$f":"HOJA_CAPTURA!AJ203","v":0},{"$f":"HOJA_CAPTURA!AK203","v":0},{"$f":"HOJA_CAPTURA!AL203","v":0},{"$f":"HOJA_CAPTURA!AT203","v":0},{"$f":"HOJA_CAPTURA!AU203","v":0}]
[null,null,null,null,null,{"$f":"HOJA_CAPTURA!R203","v":"00:00:00"}]
[{"$f":"HOJA_CAPTURA!J204","v":0},{"$f":"HOJA_CAPTURA!K204","v":0},{"$f":"HOJA_CAPTURA!M204","v":0},{"$f":"HOJA_CAPTURA!N204","v":0},{"$f":"HOJA_CAPTURA!P204","v":0},{"$f":"HOJA_CAPTURA!Q204","v":"00:00:00"},{"$f":"HOJA_CAPTURA!V204","v":0},{"$f":"HOJA_CAPTURA!AF204","v":0},{"$f":"HOJA_CAPTURA!AG204","v":0},{"$f":"HOJA_CAPTURA!AH204","v":0},{"$f":"HOJA_CAPTURA!AI204","v":0},{"$f":"HOJA_CAPTURA!AJ204","v":0},{"$f":"HOJA_CAPTURA!AK204","v":0},{"$f":"HOJA_CAPTURA!AL204","v":0},{"$f":"HOJA_CAPTURA!AT204","v":0},{"$f":"HOJA_CAPTURA!AU204","v":0}]
[null,null,null,null,null,{"$f":"HOJA_CAPTURA!R204","v":"00:00:00"}]
[{"$f":"HOJA_CAPTURA!J205","v":0},{"$f":"HOJA_CAPTURA!K205","v":0},{"$f":"HOJA_CAPTURA!M205","v":0},{"$f":"HOJA_CAPTURA!N205","v":0},{"$f":"HOJA_CAPTURA!P205","v":0},{"$f":"HOJA_CAPTURA!Q205","v":"00:00:00"},{"$f":"HOJA_CAPTURA!V205","v":0},{"$f":"HOJA_CAPTURA!AF205","v":0},{"$f":"HOJA_CAPTURA!AG205","v":0},{"$f":"HOJA_CAPTURA!AH205","v":0},{"$f":"HOJA_CAPTURA!AI205","v":0},{"$f":"HOJA_CAPTURA!AJ205","v":0},{"$f":"HOJA_CAPTURA!AK205","v":0},{"$f":"HOJA_CAPTURA!AL205","v":0},{"$f":"HOJA_CAPTURA!AT205","v":0},{"$f":"HOJA_CAPTURA!AU205","v":0}]
[null,null,null,null,null,{"$f":"HOJA_CAPTURA!R205","v":"00:00:00"}]
[{"$f":"HOJA_CAPTURA!J206","v":0},{"$f":"HOJA_CAPTURA!K206","v":0},{"$f":"HOJA_CAPTURA!M206","v":0},{"$f":"HOJA_CAPTURA!N206","v":0},{"$f":"HOJA_CAPTURA!P206","v":0},{"$f":"HOJA_CAPTURA!Q206","v":"00:00:00"},{"$f":"HOJA_CAPTURA!V206","v":0},{"$f":"HOJA_CAPTURA!AF206","v":0},{"$f":"HOJA_CAPTURA!AG206","v":0},{"$f":"HOJA_CAPTURA!AH206","v":0},{"$f":"HOJA_CAPTURA!AI206","v":0},{"$f":"HOJA_CAPTURA!AJ206","v":0},{"$f":"HOJA_CAPTURA!AK206","v":0},{"$f":"HOJA_CAPTURA!AL206","v":0},{"$f":"HOJA_CAPTURA!AT206","v":0},{"$f":"HOJA_CAPTURA!AU206","v":0}]
[null,null,null,null,null,{"$f":"HOJA_CAPTURA!R206","v":"00:00:00"}]
[]
[{"$f":"HOJA_CAPTURA!F203","v":0},null,null,null,null,null,null,null,{"$f":"HOJA_CAPTURA!E203","v":0}]
[]
["Nombre, firma y cargo de la persona que elaboró",null,null,null,null,null,null,null,null,"Nombre y firma del titular del Área productora"]
[]
[]
[]
[]
[null,"           "]
["Nombre de la dependencia o entidad: ",null,null,null,{"$f":"HOJA_CAPTURA!A207","v":"Instituto Nacional de Pediatría"},null,null,null,null,null,null,null,null,"Hoja: 52 de",{"$f":"O5","v":0}]
["Unidad administrativa/Área productora:",null,null,null,{"$f":"HOJA_CAPTURA!C207","v":0}]
[{"$f":"HOJA_CAPTURA!B207","v":"Fondo: INP"},null,"Sección:",{"$f":"HOJA_CAPTURA!G244","v":0},null,null,"Serie: ",{"$f":"HOJA_CAPTURA!H207","v":0}]
[null,null,null,null,null,null,"Subserie:",null,{"$f":"HOJA_CAPTURA!I208","v":0}]
["No. Consecutivo","No. de caja","No. de expediente","Clasificación archivística del expediente","Descripción o asunto ","                                                                                                                                                                                                                                                          Periodo de trámite","No.  de folios ","Valor documental",null,null,"Vigencia documental",null,null,"Condiciones de acceso (Reservada y confidencial)","Ubicación topográfica","Tradición documental "]
[null,null,null,null,null,null,null,"A","L","F/C","AT","AC","Total"]
[{"$f":"HOJA_CAPTURA!J207","v":0},{"$f":"HOJA_CAPTURA!K207","v":0},{"$f":"HOJA_CAPTURA!M207","v":0},{"$f":"HOJA_CAPTURA!N207","v":0},{"$f":"HOJA_CAPTURA!P207","v":0},{"$f":"HOJA_CAPTURA!Q207","v":"00:00:00"},{"$f":"HOJA_CAPTURA!V207","v":0},{"$f":"HOJA_CAPTURA!AF207","v":0},{"$f":"HOJA_CAPTURA!AG207","v":0},{"$f":"HOJA_CAPTURA!AH207","v":0},{"$f":"HOJA_CAPTURA!AI207","v":0},{"$f":"HOJA_CAPTURA!AJ207","v":0},{"$f":"HOJA_CAPTURA!AK207","v":0},{"$f":"HOJA_CAPTURA!AL207","v":0},{"$f":"HOJA_CAPTURA!AT207","v":0},{"$f":"HOJA_CAPTURA!AU207","v":0}]
[null,null,null,null,null,{"$f":"HOJA_CAPTURA!R207","v":"00:00:00"}]
[{"$f":"HOJA_CAPTURA!J208","v":0},{"$f":"HOJA_CAPTURA!K208","v":0},{"$f":"HOJA_CAPTURA!M208","v":0},{"$f":"HOJA_CAPTURA!N208","v":0},{"$f":"HOJA_CAPTURA!P208","v":0},{"$f":"HOJA_CAPTURA!Q208","v":"00:00:00"},{"$f":"HOJA_CAPTURA!V208","v":0},{"$f":"HOJA_CAPTURA!AF208","v":0},{"$f":"HOJA_CAPTURA!AG208","v":0},{"$f":"HOJA_CAPTURA!AH208","v":0},{"$f":"HOJA_CAPTURA!AI208","v":0},{"$f":"HOJA_CAPTURA!AJ208","v":0},{"$f":"HOJA_CAPTURA!AK208","v":0},{"$f":"HOJA_CAPTURA!AL208","v":0},{"$f":"HOJA_CAPTURA!AT209","v":0},{"$f":"HOJA_CAPTURA!AU209","v":0}]
[null,null,null,null,null,{"$f":"HOJA_CAPTURA!R208","v":"00:00:00"}]
[{"$f":"HOJA_CAPTURA!J209","v":0},{"$f":"HOJA_CAPTURA!K209","v":0},{"$f":"HOJA_CAPTURA!M209","v":0},{"$f":"HOJA_CAPTURA!N209","v":0},{"$f":"HOJA_CAPTURA!P209","v":0},{"$f":"HOJA_CAPTURA!Q209","v":"00:00:00"},{"$f":"HOJA_CAPTURA!V209","v":0},{"$f":"HOJA_CAPTURA!AF209","v":0},{"$f":"HOJA_CAPTURA!AG209","v":0},{"$f":"HOJA_CAPTURA!AH209","v":0},{"$f":"HOJA_CAPTURA!AI209","v":0},{"$f":"HOJA_CAPTURA!AJ209","v":0},{"$f":"HOJA_CAPTURA!AK209","v":0},{"$f":"HOJA_CAPTURA!AL209","v":0},{"$f":"HOJA_CAPTURA!AT209","v":0},{"$f":"HOJA_CAPTURA!AU209","v":0}]
[null,null,null,null,null,{"$f":"HOJA_CAPTURA!R209","v":"00:00:00"}]
[{"$f":"HOJA_CAPTURA!J210","v":0},{"$f":"HOJA_CAPTURA!K210","v":0},{"$f":"HOJA_CAPTURA!M210","v":0},{"$f":"HOJA_CAPTURA!N246","v":0},{"$f":"HOJA_CAPTURA!P210","v":0},{"$f":"HOJA_CAPTURA!Q210","v":"00:00:00"},{"$f":"HOJA_CAPTURA!V210","v":0},{"$f":"HOJA_CAPTURA!AF210","v":0},{"$f":"HOJA_CAPTURA!AG210","v":0},{"$f":"HOJA_CAPTURA!AH210","v":0},{"$f":"HOJA_CAPTURA!AI210","v":0},{"$f":"HOJA_CAPTURA!AJ210","v":0},{"$f":"HOJA_CAPTURA!AK210","v":0},{"$f":"HOJA_CAPTURA!AL210","v":0},{"$f":"HOJA_CAPTURA!AT210","v":0},{"$f":"HOJA_CAPTURA!AU210","v":0}]
[null,null,null,null,null,{"$f":"HOJA_CAPTURA!R210","v":"00:00:00"}]
[]
[null,{"$f":"HOJA_CAPTURA!F207","v":0},null,null,null,null,null,null,null,{"$f":"HOJA_CAPTURA!E207","v":0}]
["Nombre, firma y cargo de la persona que elaboró",null,null,null,null,null,null,null,"Nombre y firma del titular del Área productora"]
[]
[]
[]
[]
[null,"           "]
["Nombre de la dependencia o entidad: ",null,null,null,{"$f":"HOJA_CAPTURA!A212","v":"Instituto Nacional de Pediatría"},null,null,null,null,null,null,null,null,"Hoja: 53 de",{"$f":"O5","v":0}]
["Unidad administrativa/Área productora:",null,null,null,{"$f":"HOJA_CAPTURA!C212","v":0}]
[{"$f":"HOJA_CAPTURA!B212","v":"Fondo: INP"},null,"Sección:",{"$f":"HOJA_CAPTURA!G265","v":0},null,null,"Serie: ",{"$f":"HOJA_CAPTURA!H212","v":0}]
[null,null,null,null,null,null,"Subserie:",null,{"$f":"HOJA_CAPTURA!I212","v":0}]
["No. Consecutivo","No. de caja","No. de expediente","Clasificación archivística del expediente","Descripción o asunto ","                                                                                                                                                                                                                                                          Periodo de trámite","No.  de folios ","Valor documental",null,null,"Vigencia documental",null,null,"Condiciones de acceso (Reservada y confidencial)","Ubicación topográfica","Tradición documental "]
[null,null,null,null,null,null,null,"A","L","F/C","AT","AC","Total"]
[{"$f":"HOJA_CAPTURA!J211","v":0},{"$f":"HOJA_CAPTURA!K211","v":0},{"$f":"HOJA_CAPTURA!M211","v":0},{"$f":"HOJA_CAPTURA!N211","v":0},{"$f":"HOJA_CAPTURA!P211","v":0},{"$f":"HOJA_CAPTURA!Q247","v":"00:00:00"},{"$f":"HOJA_CAPTURA!V211","v":0},{"$f":"HOJA_CAPTURA!AF211","v":0},{"$f":"HOJA_CAPTURA!AG211","v":0},{"$f":"HOJA_CAPTURA!AH211","v":0},{"$f":"HOJA_CAPTURA!AI211","v":0},{"$f":"HOJA_CAPTURA!AJ211","v":0},{"$f":"HOJA_CAPTURA!AK211","v":0},{"$f":"HOJA_CAPTURA!AL211","v":0},{"$f":"HOJA_CAPTURA!AT211","v":0},{"$f":"HOJA_CAPTURA!AU211","v":0}]
[null,null,null,null,null,{"$f":"HOJA_CAPTURA!R211","v":"00:00:00"}]
[{"$f":"HOJA_CAPTURA!J212","v":0},{"$f":"HOJA_CAPTURA!K212","v":0},{"$f":"HOJA_CAPTURA!M212","v":0},{"$f":"HOJA_CAPTURA!N212","v":0},{"$f":"HOJA_CAPTURA!P212","v":0},{"$f":"HOJA_CAPTURA!Q212","v":"00:00:00"},{"$f":"HOJA_CAPTURA!V212","v":0},{"$f":"HOJA_CAPTURA!AF212","v":0},{"$f":"HOJA_CAPTURA!AG212","v":0},{"$f":"HOJA_CAPTURA!AH212","v":0},{"$f":"HOJA_CAPTURA!AI211","v":0},{"$f":"HOJA_CAPTURA!AJ211","v":0},{"$f":"HOJA_CAPTURA!AK211","v":0},{"$f":"HOJA_CAPTURA!AL212","v":0},{"$f":"HOJA_CAPTURA!AT212","v":0},{"$f":"HOJA_CAPTURA!AU212","v":0}]
[]
[{"$f":"HOJA_CAPTURA!J213","v":0},{"$f":"HOJA_CAPTURA!K213","v":0},{"$f":"HOJA_CAPTURA!M213","v":0},{"$f":"HOJA_CAPTURA!N213","v":0},{"$f":"HOJA_CAPTURA!P213","v":0},{"$f":"HOJA_CAPTURA!Q213","v":"00:00:00"},{"$f":"HOJA_CAPTURA!V213","v":0},{"$f":"HOJA_CAPTURA!AF213","v":0},{"$f":"HOJA_CAPTURA!AG213","v":0},{"$f":"HOJA_CAPTURA!AH213","v":0},{"$f":"HOJA_CAPTURA!AI213","v":0},{"$f":"HOJA_CAPTURA!AJ213","v":0},{"$f":"HOJA_CAPTURA!AK213","v":0},{"$f":"HOJA_CAPTURA!AL213","v":0},{"$f":"HOJA_CAPTURA!AT213","v":0},{"$f":"HOJA_CAPTURA!AU213","v":0}]
[]
[{"$f":"HOJA_CAPTURA!J214","v":0},{"$f":"HOJA_CAPTURA!K214","v":0},{"$f":"HOJA_CAPTURA!M214","v":0},{"$f":"HOJA_CAPTURA!N214","v":0},{"$f":"HOJA_CAPTURA!P214","v":0},{"$f":"HOJA_CAPTURA!Q214","v":"00:00:00"},{"$f":"HOJA_CAPTURA!V214","v":0},{"$f":"HOJA_CAPTURA!AF214","v":0},{"$f":"HOJA_CAPTURA!AG214","v":0},{"$f":"HOJA_CAPTURA!AH214","v":0},{"$f":"HOJA_CAPTURA!AI214","v":0},{"$f":"HOJA_CAPTURA!AJ214","v":0},{"$f":"HOJA_CAPTURA!AK214","v":0},{"$f":"HOJA_CAPTURA!AL214","v":0},{"$f":"HOJA_CAPTURA!AT214","v":0},{"$f":"HOJA_CAPTURA!AU214","v":0}]
[null,null,null,null,null,{"$f":"HOJA_CAPTURA!R214","v":"00:00:00"}]
[]
[{"$f":"HOJA_CAPTURA!F212","v":0},null,null,null,null,null,null,null,{"$f":"HOJA_CAPTURA!E212","v":0}]
[]
["Nombre, firma y cargo de la persona que elaboró",null,null,null,null,null,null,null,"Nombre y firma del titular del Área productora"]
[null,"           "]
[]
[]
[]
[]
["Nombre de la dependencia o entidad: ",null,null,null,{"$f":"HOJA_CAPTURA!A284","v":"Instituto Nacional de Pediatría"},null,null,null,null,null,null,null,null,"Hoja: 54 de",{"$f":"O5","v":0}]
["Unidad administrativa/Área productora:",null,null,null,{"$f":"HOJA_CAPTURA!C284","v":0}]
[{"$f":"HOJA_CAPTURA!B284","v":"Fondo: INP"},null,"Sección:",{"$f":"HOJA_CAPTURA!G216","v":0},null,null,"Serie: ",{"$f":"HOJA_CAPTURA!H216","v":0}]
[null,null,null,null,null,null,"Subserie:",null,{"$f":"HOJA_CAPTURA!I216","v":0}]
["No. Consecutivo","No. de caja","No. de expediente","Clasificación archivística del expediente","Descripción o asunto ","                                                                                                                                                                                                                                                          Periodo de trámite","No.  de folios ","Valor documental",null,null,"Vigencia documental",null,null,"Condiciones de acceso (Reservada y confidencial)","Ubicación topográfica","Tradición documental "]
[null,null,null,null,null,null,null,"A","L","F/C","AT","AC","Total"]
[{"$f":"HOJA_CAPTURA!J215","v":0},{"$f":"HOJA_CAPTURA!K215","v":0},{"$f":"HOJA_CAPTURA!M215","v":0},{"$f":"HOJA_CAPTURA!N215","v":0},{"$f":"HOJA_CAPTURA!P215","v":0},{"$f":"HOJA_CAPTURA!Q215","v":"00:00:00"},{"$f":"HOJA_CAPTURA!V215","v":0},{"$f":"HOJA_CAPTURA!AF215","v":0},{"$f":"HOJA_CAPTURA!AG215","v":0},{"$f":"HOJA_CAPTURA!AH215","v":0},{"$f":"HOJA_CAPTURA!AI215","v":0},{"$f":"HOJA_CAPTURA!AJ215","v":0},{"$f":"HOJA_CAPTURA!AK215","v":0},{"$f":"HOJA_CAPTURA!AL215","v":0},{"$f":"HOJA_CAPTURA!AT215","v":0},{"$f":"HOJA_CAPTURA!AU215","v":0}]
[null,null,null,null,null,{"$f":"HOJA_CAPTURA!R215","v":"00:00:00"}]
[{"$f":"HOJA_CAPTURA!J216","v":0},{"$f":"HOJA_CAPTURA!K216","v":0},{"$f":"HOJA_CAPTURA!M216","v":0},{"$f":"HOJA_CAPTURA!N216","v":0},{"$f":"HOJA_CAPTURA!P216","v":0},{"$f":"HOJA_CAPTURA!Q216","v":"00:00:00"},{"$f":"HOJA_CAPTURA!V216","v":0},{"$f":"HOJA_CAPTURA!AF216","v":0},{"$f":"HOJA_CAPTURA!AG216","v":0},{"$f":"HOJA_CAPTURA!AH216","v":0},{"$f":"HOJA_CAPTURA!AI216","v":0},{"$f":"HOJA_CAPTURA!AJ216","v":0},{"$f":"HOJA_CAPTURA!AK216","v":0},{"$f":"HOJA_CAPTURA!AL216","v":0},{"$f":"HOJA_CAPTURA!AT216","v":0},{"$f":"HOJA_CAPTURA!AU216","v":0}]
[null,null,null,null,null,{"$f":"HOJA_CAPTURA!R216","v":"00:00:00"}]
[{"$f":"HOJA_CAPTURA!J217","v":0},{"$f":"HOJA_CAPTURA!K217","v":0},{"$f":"HOJA_CAPTURA!M217","v":0},{"$f":"HOJA_CAPTURA!N217","v":0},{"$f":"HOJA_CAPTURA!P217","v":0},{"$f":"HOJA_CAPTURA!Q217","v":"00:00:00"},{"$f":"HOJA_CAPTURA!V217","v":0},{"$f":"HOJA_CAPTURA!AF217","v":0},{"$f":"HOJA_CAPTURA!AG217","v":0},{"$f":"HOJA_CAPTURA!AH217","v":0},{"$f":"HOJA_CAPTURA!AI217","v":0},{"$f":"HOJA_CAPTURA!AJ217","v":0},{"$f":"HOJA_CAPTURA!AK217","v":0},{"$f":"HOJA_CAPTURA!AL217","v":0},{"$f":"HOJA_CAPTURA!AT217","v":0},{"$f":"HOJA_CAPTURA!AU217","v":0}]
[null,null,null,null,null,{"$f":"HOJA_CAPTURA!R217","v":"00:00:00"}]
[{"$f":"HOJA_CAPTURA!J218","v":0},{"$f":"HOJA_CAPTURA!K218","v":0},{"$f":"HOJA_CAPTURA!M218","v":0},{"$f":"HOJA_CAPTURA!N218","v":0},{"$f":"HOJA_CAPTURA!P218","v":0},{"$f":"HOJA_CAPTURA!Q286","v":"00:00:00"},{"$f":"HOJA_CAPTURA!V218","v":0},{"$f":"HOJA_CAPTURA!AF218","v":0},{"$f":"HOJA_CAPTURA!AG218","v":0},{"$f":"HOJA_CAPTURA!AH218","v":0},{"$f":"HOJA_CAPTURA!AI218","v":0},{"$f":"HOJA_CAPTURA!AJ218","v":0},{"$f":"HOJA_CAPTURA!AK218","v":0},{"$f":"HOJA_CAPTURA!AL218","v":0},{"$f":"HOJA_CAPTURA!AT218","v":0},{"$f":"HOJA_CAPTURA!AU218","v":0}]
[null,null,null,null,null,{"$f":"HOJA_CAPTURA!R218","v":"00:00:00"}]
[]
[{"$f":"HOJA_CAPTURA!F216","v":0},null,null,null,null,null,null,null,{"$f":"HOJA_CAPTURA!E216","v":0}]
["Nombre, firma y cargo de la persona que elaboró",null,null,null,null,null,null,"Nombre y firma del titular del Área productora"]
[]
[]
[]
[]
[]
["Nombre de la dependencia o entidad: ",null,null,null,{"$f":"HOJA_CAPTURA!A303","v":"Instituto Nacional de Pediatría"},null,null,null,null,null,null,null,null,"Hoja: 55 de",{"$f":"O5","v":0}]
["Unidad administrativa/Área productora:",null,null,null,{"$f":"HOJA_CAPTURA!C303","v":0}]
[{"$f":"HOJA_CAPTURA!B303","v":"Fondo: INP"},null,"Sección:",{"$f":"HOJA_CAPTURA!G220","v":0},null,null,"Serie: ",{"$f":"HOJA_CAPTURA!H220","v":0}]
[null,null,null,null,null,null,"Subserie:",null,{"$f":"HOJA_CAPTURA!I220","v":0}]
["No. Consecutivo","No. de caja","No. de expediente","Clasificación archivística del expediente","Descripción o asunto ","                                                                                                                                                                                                                                                          Periodo de trámite","No.  de folios ","Valor documental",null,null,"Vigencia documental",null,null,"Condiciones de acceso (Reservada y confidencial)","Ubicación topográfica","Tradición documental "]
[null,null,null,null,null,null,null,"A","L","F/C","AT","AC","Total"]
[{"$f":"HOJA_CAPTURA!J219","v":0},{"$f":"HOJA_CAPTURA!K219","v":0},{"$f":"HOJA_CAPTURA!M219","v":0},{"$f":"HOJA_CAPTURA!N219","v":0},{"$f":"HOJA_CAPTURA!P219","v":0},{"$f":"HOJA_CAPTURA!Q219","v":"00:00:00"},{"$f":"HOJA_CAPTURA!V219","v":0},{"$f":"HOJA_CAPTURA!AF219","v":0},{"$f":"HOJA_CAPTURA!AG219","v":0},{"$f":"HOJA_CAPTURA!AH219","v":0},{"$f":"HOJA_CAPTURA!AI219","v":0},{"$f":"HOJA_CAPTURA!AJ219","v":0},{"$f":"HOJA_CAPTURA!AK219","v":0},{"$f":"HOJA_CAPTURA!AL219","v":0},{"$f":"HOJA_CAPTURA!AT219","v":0},{"$f":"HOJA_CAPTURA!AU219","v":0}]
[null,null,null,null,null,{"$f":"HOJA_CAPTURA!R219","v":"00:00:00"}]
[{"$f":"HOJA_CAPTURA!J220","v":0},{"$f":"HOJA_CAPTURA!K220","v":0},{"$f":"HOJA_CAPTURA!M220","v":0},{"$f":"HOJA_CAPTURA!N220","v":0},{"$f":"HOJA_CAPTURA!P220","v":0},{"$f":"HOJA_CAPTURA!Q220","v":"00:00:00"},{"$f":"HOJA_CAPTURA!V220","v":0},{"$f":"HOJA_CAPTURA!AF220","v":0},{"$f":"HOJA_CAPTURA!AG220","v":0},{"$f":"HOJA_CAPTURA!AH220","v":0},{"$f":"HOJA_CAPTURA!AI220","v":0},{"$f":"HOJA_CAPTURA!AJ220","v":0},{"$f":"HOJA_CAPTURA!AK220","v":0},{"$f":"HOJA_CAPTURA!AL220","v":0},{"$f":"HOJA_CAPTURA!AT220","v":0},{"$f":"HOJA_CAPTURA!AU220","v":0}]
[null,null,null,null,null,{"$f":"HOJA_CAPTURA!R220","v":"00:00:00"}]
[{"$f":"HOJA_CAPTURA!J221","v":0},{"$f":"HOJA_CAPTURA!K221","v":0},{"$f":"HOJA_CAPTURA!M221","v":0},{"$f":"HOJA_CAPTURA!N221","v":0},{"$f":"HOJA_CAPTURA!P221","v":0},{"$f":"HOJA_CAPTURA!Q221","v":"00:00:00"},{"$f":"HOJA_CAPTURA!V221","v":0},{"$f":"HOJA_CAPTURA!AF221","v":0},{"$f":"HOJA_CAPTURA!AG221","v":0},{"$f":"HOJA_CAPTURA!AH221","v":0},{"$f":"HOJA_CAPTURA!AI221","v":0},{"$f":"HOJA_CAPTURA!AJ221","v":0},{"$f":"HOJA_CAPTURA!AK221","v":0},{"$f":"HOJA_CAPTURA!AL221","v":0},{"$f":"HOJA_CAPTURA!AT221","v":0},{"$f":"HOJA_CAPTURA!AU221","v":0}]
[null,null,null,null,null,{"$f":"HOJA_CAPTURA!R221","v":"00:00:00"}]
[{"$f":"HOJA_CAPTURA!J222","v":0},{"$f":"HOJA_CAPTURA!K222","v":0},{"$f":"HOJA_CAPTURA!M222","v":0},{"$f":"HOJA_CAPTURA!N222","v":0},{"$f":"HOJA_CAPTURA!P222","v":0},{"$f":"HOJA_CAPTURA!Q222","v":"00:00:00"},{"$f":"HOJA_CAPTURA!V222","v":0},{"$f":"HOJA_CAPTURA!AF222","v":0},{"$f":"HOJA_CAPTURA!AG222","v":0},{"$f":"HOJA_CAPTURA!AH222","v":0},{"$f":"HOJA_CAPTURA!AI222","v":0},{"$f":"HOJA_CAPTURA!AJ222","v":0},{"$f":"HOJA_CAPTURA!AK222","v":0},{"$f":"HOJA_CAPTURA!AL222","v":0},{"$f":"HOJA_CAPTURA!AT222","v":0},{"$f":"HOJA_CAPTURA!AU222","v":0}]
[null,null,null,null,null,{"$f":"HOJA_CAPTURA!R222","v":"00:00:00"}]
[{"$f":"HOJA_CAPTURA!F220","v":0},null,null,null,null,null,null,null,{"$f":"HOJA_CAPTURA!E220","v":0}]
[]
["Nombre, firma y cargo de la persona que elaboró",null,null,null,null,null,null,null,"Nombre y firma del titular del Área productora"]
[]
[]
[]
[]
[]
["Nombre de la dependencia o entidad: ",null,null,null,"Instituto Nacional de Pediatria ",null,null,null,null,null,null,null,null,"Hoja: 56 de",{"$f":"O5","v":0}]
["Unidad administrativa/Área productora:",null,null,null,{"$f":"HOJA_CAPTURA!C224","v":0}]
["Fondo: INP ",null,"Sección:",{"$f":"HOJA_CAPTURA!G224","v":0},null,null,"Serie: ",{"$f":"HOJA_CAPTURA!H224","v":0}]
[null,null,null,null,null,null,"Subserie:",null,{"$f":"HOJA_CAPTURA!I224","v":0}]
["No. Consecutivo","No. de caja","No. de expediente","Clasificación archivística del expediente","Descripción o asunto ","                                                                                                                                                                                                                                                          Periodo de trámite","No.  de folios ","Valor documental",null,null,"Vigencia documental",null,null,"Condiciones de acceso (Reservada y confidencial)","Ubicación topográfica","Tradición documental "]
[null,null,null,null,null,null,null,"A","L","F/C","AT","AC","Total"]
[{"$f":"HOJA_CAPTURA!J223","v":0},{"$f":"HOJA_CAPTURA!K223","v":0},{"$f":"HOJA_CAPTURA!M223","v":0},{"$f":"HOJA_CAPTURA!N223","v":0},{"$f":"HOJA_CAPTURA!P223","v":0},{"$f":"HOJA_CAPTURA!Q223","v":"00:00:00"},{"$f":"HOJA_CAPTURA!V223","v":0},{"$f":"HOJA_CAPTURA!AF223","v":0},{"$f":"HOJA_CAPTURA!AG223","v":0},{"$f":"HOJA_CAPTURA!AH223","v":0},{"$f":"HOJA_CAPTURA!AI223","v":0},{"$f":"HOJA_CAPTURA!AJ223","v":0},{"$f":"HOJA_CAPTURA!AK223","v":0},{"$f":"HOJA_CAPTURA!AL223","v":0},{"$f":"HOJA_CAPTURA!AT223","v":0},{"$f":"HOJA_CAPTURA!AU223","v":0}]
[null,null,null,null,null,{"$f":"HOJA_CAPTURA!R223","v":"00:00:00"}]
[{"$f":"HOJA_CAPTURA!J224","v":0},{"$f":"HOJA_CAPTURA!K224","v":0},{"$f":"HOJA_CAPTURA!M224","v":0},{"$f":"HOJA_CAPTURA!N224","v":0},{"$f":"HOJA_CAPTURA!P224","v":0},{"$f":"HOJA_CAPTURA!Q224","v":"00:00:00"},{"$f":"HOJA_CAPTURA!V224","v":0},{"$f":"HOJA_CAPTURA!AF224","v":0},{"$f":"HOJA_CAPTURA!AG224","v":0},{"$f":"HOJA_CAPTURA!AH224","v":0},{"$f":"HOJA_CAPTURA!AI224","v":0},{"$f":"HOJA_CAPTURA!AJ224","v":0},{"$f":"HOJA_CAPTURA!AK224","v":0},{"$f":"HOJA_CAPTURA!AL224","v":0},{"$f":"HOJA_CAPTURA!AT224","v":0},{"$f":"HOJA_CAPTURA!AU224","v":0}]
[null,null,null,null,null,{"$f":"HOJA_CAPTURA!R224","v":"00:00:00"}]
[{"$f":"HOJA_CAPTURA!J225","v":0},{"$f":"HOJA_CAPTURA!K225","v":0},{"$f":"HOJA_CAPTURA!M225","v":0},{"$f":"HOJA_CAPTURA!N225","v":0},{"$f":"HOJA_CAPTURA!P225","v":0},{"$f":"HOJA_CAPTURA!Q225","v":"00:00:00"},{"$f":"HOJA_CAPTURA!V225","v":0},{"$f":"HOJA_CAPTURA!AF225","v":0},{"$f":"HOJA_CAPTURA!AG225","v":0},{"$f":"HOJA_CAPTURA!AH225","v":0},{"$f":"HOJA_CAPTURA!AI225","v":0},{"$f":"HOJA_CAPTURA!AJ225","v":0},{"$f":"HOJA_CAPTURA!AK225","v":0},{"$f":"HOJA_CAPTURA!AL225","v":0},{"$f":"HOJA_CAPTURA!AT225","v":0},{"$f":"HOJA_CAPTURA!AU225","v":0}]
[null,null,null,null,null,{"$f":"HOJA_CAPTURA!R225","v":"00:00:00"}]
[{"$f":"HOJA_CAPTURA!J226","v":0},{"$f":"HOJA_CAPTURA!K226","v":0},{"$f":"HOJA_CAPTURA!M226","v":0},{"$f":"HOJA_CAPTURA!N226","v":0},{"$f":"HOJA_CAPTURA!P226","v":0},{"$f":"HOJA_CAPTURA!Q226","v":"00:00:00"},{"$f":"HOJA_CAPTURA!V226","v":0},{"$f":"HOJA_CAPTURA!AF226","v":0},{"$f":"HOJA_CAPTURA!AG226","v":0},{"$f":"HOJA_CAPTURA!AH226","v":0},{"$f":"HOJA_CAPTURA!AI226","v":0},{"$f":"HOJA_CAPTURA!AJ226","v":0},{"$f":"HOJA_CAPTURA!AK226","v":0},{"$f":"HOJA_CAPTURA!AL226","v":0},{"$f":"HOJA_CAPTURA!AT226","v":0},{"$f":"HOJA_CAPTURA!AU226","v":0}]
[null,null,null,null,null,{"$f":"HOJA_CAPTURA!R226","v":"00:00:00"}]
[{"$f":"HOJA_CAPTURA!F224","v":0},null,null,null,null,null,null,null,null,{"$f":"HOJA_CAPTURA!E224","v":0}]
[]
["Nombre, firma y cargo de la persona que elaboró",null,null,null,null,null,null,null,null,"Nombre y firma del titular del Área productora"]
[null,"           "]
[]
[]
[]
[]
["Nombre de la dependencia o entidad: ",null,null,null,"Instituto Nacional de Pediatria ",null,null,null,null,null,null,null,null,"Hoja: 57 de",{"$f":"O5","v":0}]
["Unidad administrativa/Área productora:",null,null,null,{"$f":"HOJA_CAPTURA!C228","v":0}]
["Fondo: INP ",null,"Sección:",{"$f":"HOJA_CAPTURA!G228","v":0},null,null,"Serie: ",{"$f":"HOJA_CAPTURA!H228","v":0}]
[null,null,null,null,null,null,"Subserie:",null,{"$f":"HOJA_CAPTURA!I228","v":0}]
["No. Consecutivo","No. de caja","No. de expediente","Clasificación archivística del expediente","Descripción o asunto ","                                                                                                                                                                                                                                                          Periodo de trámite","No.  de folios ","Valor documental",null,null,"Vigencia documental",null,null,"Condiciones de acceso (Reservada y confidencial)","Ubicación topográfica","Tradición documental "]
[null,null,null,null,null,null,null,"A","L","F/C","AT","AC","Total"]
[{"$f":"HOJA_CAPTURA!J227","v":0},{"$f":"HOJA_CAPTURA!K227","v":0},{"$f":"HOJA_CAPTURA!M227","v":0},{"$f":"HOJA_CAPTURA!N227","v":0},{"$f":"HOJA_CAPTURA!P227","v":0},{"$f":"HOJA_CAPTURA!Q227","v":"00:00:00"},{"$f":"HOJA_CAPTURA!V227","v":0},{"$f":"HOJA_CAPTURA!AF227","v":0},{"$f":"HOJA_CAPTURA!AG227","v":0},{"$f":"HOJA_CAPTURA!AH227","v":0},{"$f":"HOJA_CAPTURA!AI227","v":0},{"$f":"HOJA_CAPTURA!AJ227","v":0},{"$f":"HOJA_CAPTURA!AK227","v":0},{"$f":"HOJA_CAPTURA!AL227","v":0},{"$f":"HOJA_CAPTURA!AT227","v":0},{"$f":"HOJA_CAPTURA!AU227","v":0}]
[null,null,null,null,null,{"$f":"HOJA_CAPTURA!R227","v":"00:00:00"}]
[{"$f":"HOJA_CAPTURA!J228","v":0},{"$f":"HOJA_CAPTURA!K228","v":0},{"$f":"HOJA_CAPTURA!M228","v":0},{"$f":"HOJA_CAPTURA!N228","v":0},{"$f":"HOJA_CAPTURA!P228","v":0},{"$f":"HOJA_CAPTURA!Q228","v":"00:00:00"},{"$f":"HOJA_CAPTURA!V228","v":0},{"$f":"HOJA_CAPTURA!AF228","v":0},{"$f":"HOJA_CAPTURA!AG228","v":0},{"$f":"HOJA_CAPTURA!AH228","v":0},{"$f":"HOJA_CAPTURA!AI228","v":0},{"$f":"HOJA_CAPTURA!AJ228","v":0},{"$f":"HOJA_CAPTURA!AK228","v":0},{"$f":"HOJA_CAPTURA!AL228","v":0},{"$f":"HOJA_CAPTURA!AT228","v":0},{"$f":"HOJA_CAPTURA!AU228","v":0}]
[null,null,null,null,null,{"$f":"HOJA_CAPTURA!R228","v":"00:00:00"}]
[{"$f":"HOJA_CAPTURA!J229","v":0},{"$f":"HOJA_CAPTURA!K229","v":0},{"$f":"HOJA_CAPTURA!M229","v":0},{"$f":"HOJA_CAPTURA!N229","v":0},{"$f":"HOJA_CAPTURA!P229","v":0},{"$f":"HOJA_CAPTURA!Q229","v":"00:00:00"},{"$f":"HOJA_CAPTURA!V229","v":0},{"$f":"HOJA_CAPTURA!AF229","v":0},{"$f":"HOJA_CAPTURA!AG229","v":0},{"$f":"HOJA_CAPTURA!AH229","v":0},{"$f":"HOJA_CAPTURA!AI229","v":0},{"$f":"HOJA_CAPTURA!AJ229","v":0},{"$f":"HOJA_CAPTURA!AK229","v":0},{"$f":"HOJA_CAPTURA!AL229","v":0},{"$f":"HOJA_CAPTURA!AT229","v":0},{"$f":"HOJA_CAPTURA!AU229","v":0}]
[null,null,null,null,null,{"$f":"HOJA_CAPTURA!R229","v":"00:00:00"}]
[{"$f":"HOJA_CAPTURA!J230","v":0},{"$f":"HOJA_CAPTURA!K230","v":0},{"$f":"HOJA_CAPTURA!M230","v":0},{"$f":"HOJA_CAPTURA!N230","v":0},{"$f":"HOJA_CAPTURA!P230","v":0},{"$f":"HOJA_CAPTURA!Q230","v":"00:00:00"},{"$f":"HOJA_CAPTURA!V230","v":0},{"$f":"HOJA_CAPTURA!AF230","v":0},{"$f":"HOJA_CAPTURA!AG230","v":0},{"$f":"HOJA_CAPTURA!AH230","v":0},{"$f":"HOJA_CAPTURA!AI230","v":0},{"$f":"HOJA_CAPTURA!AJ230","v":0},{"$f":"HOJA_CAPTURA!AK230","v":0},{"$f":"HOJA_CAPTURA!AL230","v":0},{"$f":"HOJA_CAPTURA!AT230","v":0},{"$f":"HOJA_CAPTURA!AU230","v":0}]
[null,null,null,null,null,{"$f":"HOJA_CAPTURA!R230","v":"00:00:00"}]
[]
[{"$f":"HOJA_CAPTURA!F228","v":0},null,null,null,null,null,null,null,null,{"$f":"HOJA_CAPTURA!E228","v":0}]
["Nombre, firma y cargo de la persona que elaboró",null,null,null,null,null,null,null,null,"Nombre y firma del titular del Área productora"]
[]
[]
[]
[]
[null,"           "]
["Nombre de la dependencia o entidad: ",null,null,null,"Instituto Nacional de Pediatria ",null,null,null,null,null,null,null,null,"Hoja: 58 de",{"$f":"O5","v":0}]
["Unidad administrativa/Área productora:",null,null,null,{"$f":"HOJA_CAPTURA!C232","v":0}]
["Fondo: INP ",null,"Sección:",{"$f":"HOJA_CAPTURA!G232","v":0},null,null,"Serie: ",{"$f":"HOJA_CAPTURA!H232","v":0}]
[null,null,null,null,null,null,"Subserie:",null,{"$f":"HOJA_CAPTURA!I232","v":0}]
["No. Consecutivo","No. de caja","No. de expediente","Clasificación archivística del expediente","Descripción o asunto ","                                                                                                                                                                                                                                                          Periodo de trámite","No.  de folios ","Valor documental",null,null,"Vigencia documental",null,null,"Condiciones de acceso (Reservada y confidencial)","Ubicación topográfica","Tradición documental "]
[null,null,null,null,null,null,null,"A","L","F/C","AT","AC","Total"]
[{"$f":"HOJA_CAPTURA!J231","v":0},{"$f":"HOJA_CAPTURA!K231","v":0},{"$f":"HOJA_CAPTURA!M231","v":0},{"$f":"HOJA_CAPTURA!N231","v":0},{"$f":"HOJA_CAPTURA!P231","v":0},{"$f":"HOJA_CAPTURA!Q231","v":"00:00:00"},{"$f":"HOJA_CAPTURA!V231","v":0},{"$f":"HOJA_CAPTURA!AF231","v":0},{"$f":"HOJA_CAPTURA!AG231","v":0},{"$f":"HOJA_CAPTURA!AH231","v":0},{"$f":"HOJA_CAPTURA!AI231","v":0},{"$f":"HOJA_CAPTURA!AJ231","v":0},{"$f":"HOJA_CAPTURA!AK231","v":0},{"$f":"HOJA_CAPTURA!AL231","v":0},{"$f":"HOJA_CAPTURA!AT231","v":0},{"$f":"HOJA_CAPTURA!AU231","v":0}]
[null,null,null,null,null,{"$f":"HOJA_CAPTURA!R231","v":"00:00:00"}]
[{"$f":"HOJA_CAPTURA!J232","v":0},{"$f":"HOJA_CAPTURA!K232","v":0},{"$f":"HOJA_CAPTURA!M232","v":0},{"$f":"HOJA_CAPTURA!N232","v":0},{"$f":"HOJA_CAPTURA!P232","v":0},{"$f":"HOJA_CAPTURA!Q232","v":"00:00:00"},{"$f":"HOJA_CAPTURA!V232","v":0},{"$f":"HOJA_CAPTURA!AF232","v":0},{"$f":"HOJA_CAPTURA!AG232","v":0},{"$f":"HOJA_CAPTURA!AH232","v":0},{"$f":"HOJA_CAPTURA!AI232","v":0},{"$f":"HOJA_CAPTURA!AJ232","v":0},{"$f":"HOJA_CAPTURA!AK232","v":0},{"$f":"HOJA_CAPTURA!AL232","v":0},{"$f":"HOJA_CAPTURA!AT232","v":0},{"$f":"HOJA_CAPTURA!AU232","v":0}]
[null,null,null,null,null,{"$f":"HOJA_CAPTURA!R232","v":"00:00:00"}]
[{"$f":"HOJA_CAPTURA!J233","v":0},{"$f":"HOJA_CAPTURA!K233","v":0},{"$f":"HOJA_CAPTURA!M233","v":0},{"$f":"HOJA_CAPTURA!N233","v":0},{"$f":"HOJA_CAPTURA!P233","v":0},{"$f":"HOJA_CAPTURA!Q233","v":"00:00:00"},{"$f":"HOJA_CAPTURA!V233","v":0},{"$f":"HOJA_CAPTURA!AF233","v":0},{"$f":"HOJA_CAPTURA!AG233","v":0},{"$f":"HOJA_CAPTURA!AH233","v":0},{"$f":"HOJA_CAPTURA!AI233","v":0},{"$f":"HOJA_CAPTURA!AJ233","v":0},{"$f":"HOJA_CAPTURA!AK233","v":0},{"$f":"HOJA_CAPTURA!AL233","v":0},{"$f":"HOJA_CAPTURA!AT233","v":0},{"$f":"HOJA_CAPTURA!AU233","v":0}]
[null,null,null,null,null,{"$f":"HOJA_CAPTURA!R233","v":"00:00:00"}]
[{"$f":"HOJA_CAPTURA!J234","v":0},{"$f":"HOJA_CAPTURA!K234","v":0},{"$f":"HOJA_CAPTURA!M234","v":0},{"$f":"HOJA_CAPTURA!N234","v":0},{"$f":"HOJA_CAPTURA!P234","v":0},{"$f":"HOJA_CAPTURA!Q234","v":"00:00:00"},{"$f":"HOJA_CAPTURA!V234","v":0},{"$f":"HOJA_CAPTURA!AF234","v":0},{"$f":"HOJA_CAPTURA!AG234","v":0},{"$f":"HOJA_CAPTURA!AH234","v":0},{"$f":"HOJA_CAPTURA!AI234","v":0},{"$f":"HOJA_CAPTURA!AJ234","v":0},{"$f":"HOJA_CAPTURA!AK234","v":0},{"$f":"HOJA_CAPTURA!AL234","v":0},{"$f":"HOJA_CAPTURA!AT234","v":0},{"$f":"HOJA_CAPTURA!AU234","v":0}]
[null,null,null,null,null,{"$f":"HOJA_CAPTURA!R234","v":"00:00:00"}]
[]
[{"$f":"HOJA_CAPTURA!F232","v":0},null,null,null,null,null,null,null,{"$f":"HOJA_CAPTURA!E232","v":0}]
["Nombre, firma y cargo de la persona que elaboró",null,null,null,null,null,null,null,null,"Nombre y firma del titular del Área productora"]
[]
[]
[]
[]
[]
["Nombre de la dependencia o entidad: ",null,null,null,"Instituto Nacional de Pediatria ",null,null,null,null,null,null,null,null,"Hoja: 59 de",{"$f":"O5","v":0}]
["Unidad administrativa/Área productora:",null,null,null,{"$f":"HOJA_CAPTURA!C236","v":0}]
["Fondo: INP ",null,"Sección:",{"$f":"HOJA_CAPTURA!G236","v":0},null,null,"Serie: ",{"$f":"HOJA_CAPTURA!H236","v":0}]
[null,null,null,null,null,null,"Subserie:",null,{"$f":"HOJA_CAPTURA!I236","v":0}]
["No. Consecutivo","No. de caja","No. de expediente","Clasificación archivística del expediente","Descripción o asunto ","                                                                                                                                                                                                                                                          Periodo de trámite","No.  de folios ","Valor documental",null,null,"Vigencia documental",null,null,"Condiciones de acceso (Reservada y confidencial)","Ubicación topográfica","Tradición documental "]
[null,null,null,null,null,null,null,"A","L","F/C","AT","AC","Total"]
[{"$f":"HOJA_CAPTURA!J235","v":0},{"$f":"HOJA_CAPTURA!K235","v":0},{"$f":"HOJA_CAPTURA!M235","v":0},{"$f":"HOJA_CAPTURA!N235","v":0},{"$f":"HOJA_CAPTURA!P235","v":0},{"$f":"HOJA_CAPTURA!Q235","v":"00:00:00"},{"$f":"HOJA_CAPTURA!V235","v":0},{"$f":"HOJA_CAPTURA!AF235","v":0},{"$f":"HOJA_CAPTURA!AG235","v":0},{"$f":"HOJA_CAPTURA!AH235","v":0},{"$f":"HOJA_CAPTURA!AI235","v":0},{"$f":"HOJA_CAPTURA!AJ235","v":0},{"$f":"HOJA_CAPTURA!AK235","v":0},{"$f":"HOJA_CAPTURA!AL235","v":0},{"$f":"HOJA_CAPTURA!AT235","v":0},{"$f":"HOJA_CAPTURA!AU235","v":0}]
[null,null,null,null,null,{"$f":"HOJA_CAPTURA!R235","v":"00:00:00"}]
[{"$f":"HOJA_CAPTURA!J236","v":0},{"$f":"HOJA_CAPTURA!K236","v":0},{"$f":"HOJA_CAPTURA!M236","v":0},{"$f":"HOJA_CAPTURA!N236","v":0},{"$f":"HOJA_CAPTURA!P236","v":0},{"$f":"HOJA_CAPTURA!Q236","v":"00:00:00"},{"$f":"HOJA_CAPTURA!V236","v":0},{"$f":"HOJA_CAPTURA!AF236","v":0},{"$f":"HOJA_CAPTURA!AG236","v":0},{"$f":"HOJA_CAPTURA!AH236","v":0},{"$f":"HOJA_CAPTURA!AI236","v":0},{"$f":"HOJA_CAPTURA!AJ236","v":0},{"$f":"HOJA_CAPTURA!AK236","v":0},{"$f":"HOJA_CAPTURA!AL236","v":0},{"$f":"HOJA_CAPTURA!AT236","v":0},{"$f":"HOJA_CAPTURA!AU236","v":0}]
[null,null,null,null,null,{"$f":"HOJA_CAPTURA!R236","v":"00:00:00"}]
[{"$f":"HOJA_CAPTURA!J237","v":0},{"$f":"HOJA_CAPTURA!K237","v":0},{"$f":"HOJA_CAPTURA!M237","v":0},{"$f":"HOJA_CAPTURA!N237","v":0},{"$f":"HOJA_CAPTURA!P237","v":0},{"$f":"HOJA_CAPTURA!Q237","v":"00:00:00"},{"$f":"HOJA_CAPTURA!V237","v":0},{"$f":"HOJA_CAPTURA!AF237","v":0},{"$f":"HOJA_CAPTURA!AG237","v":0},{"$f":"HOJA_CAPTURA!AH237","v":0},{"$f":"HOJA_CAPTURA!AI237","v":0},{"$f":"HOJA_CAPTURA!AJ237","v":0},{"$f":"HOJA_CAPTURA!AK237","v":0},{"$f":"HOJA_CAPTURA!AL237","v":0},{"$f":"HOJA_CAPTURA!AT237","v":0},{"$f":"HOJA_CAPTURA!AU237","v":0}]
[null,null,null,null,null,{"$f":"HOJA_CAPTURA!R237","v":"00:00:00"}]
[{"$f":"HOJA_CAPTURA!J238","v":0},{"$f":"HOJA_CAPTURA!K238","v":0},{"$f":"HOJA_CAPTURA!M238","v":0},{"$f":"HOJA_CAPTURA!N238","v":0},{"$f":"HOJA_CAPTURA!P238","v":0},{"$f":"HOJA_CAPTURA!Q238","v":"00:00:00"},{"$f":"HOJA_CAPTURA!V238","v":0},{"$f":"HOJA_CAPTURA!AF238","v":0},{"$f":"HOJA_CAPTURA!AG238","v":0},{"$f":"HOJA_CAPTURA!AH238","v":0},{"$f":"HOJA_CAPTURA!AI238","v":0},{"$f":"HOJA_CAPTURA!AJ238","v":0},{"$f":"HOJA_CAPTURA!AK238","v":0},{"$f":"HOJA_CAPTURA!AL238","v":0},{"$f":"HOJA_CAPTURA!AT238","v":0},{"$f":"HOJA_CAPTURA!AU238","v":0}]
[null,null,null,null,null,{"$f":"HOJA_CAPTURA!R238","v":"00:00:00"}]
[]
[{"$f":"HOJA_CAPTURA!F236","v":0},null,null,null,null,null,null,null,null,{"$f":"HOJA_CAPTURA!E236","v":0}]
["Nombre, firma y cargo de la persona que elaboró",null,null,null,null,null,null,null,null,"Nombre y firma del titular del Área productora"]
[null,"           "]
[]
[]
[]
[]
["Nombre de la dependencia o entidad: ",null,null,null,"Instituto Nacional de Pediatria ",null,null,null,null,null,null,null,null,"Hoja: 60 de",{"$f":"O5","v":0}]
["Unidad administrativa/Área productora:",null,null,null,{"$f":"HOJA_CAPTURA!C240","v":0}]
["Fondo: INP ",null,"Sección:",{"$f":"HOJA_CAPTURA!G240","v":0},null,null,"Serie: ",{"$f":"HOJA_CAPTURA!H240","v":0}]
[null,null,null,null,null,null,"Subserie:",null,{"$f":"HOJA_CAPTURA!I240","v":0}]
["No. Consecutivo","No. de caja","No. de expediente","Clasificación archivística del expediente","Descripción o asunto ","                                                                                                                                                                                                                                                          Periodo de trámite","No.  de folios ","Valor documental",null,null,"Vigencia documental",null,null,"Condiciones de acceso (Reservada y confidencial)","Ubicación topográfica","Tradición documental "]
[null,null,null,null,null,null,null,"A","L","F/C","AT","AC","Total"]
[{"$f":"HOJA_CAPTURA!J239","v":0},{"$f":"HOJA_CAPTURA!K239","v":0},{"$f":"HOJA_CAPTURA!M239","v":0},{"$f":"HOJA_CAPTURA!N239","v":0},{"$f":"HOJA_CAPTURA!P239","v":0},{"$f":"HOJA_CAPTURA!Q239","v":"00:00:00"},{"$f":"HOJA_CAPTURA!V239","v":0},{"$f":"HOJA_CAPTURA!AF239","v":0},{"$f":"HOJA_CAPTURA!AG239","v":0},{"$f":"HOJA_CAPTURA!AH239","v":0},{"$f":"HOJA_CAPTURA!AI239","v":0},{"$f":"HOJA_CAPTURA!AJ239","v":0},{"$f":"HOJA_CAPTURA!AK239","v":0},{"$f":"HOJA_CAPTURA!AL239","v":0},{"$f":"HOJA_CAPTURA!AT239","v":0},{"$f":"HOJA_CAPTURA!AU239","v":0}]
[null,null,null,null,null,{"$f":"HOJA_CAPTURA!R239","v":"00:00:00"}]
[{"$f":"HOJA_CAPTURA!J240","v":0},{"$f":"HOJA_CAPTURA!K240","v":0},{"$f":"HOJA_CAPTURA!M240","v":0},{"$f":"HOJA_CAPTURA!N240","v":0},{"$f":"HOJA_CAPTURA!P240","v":0},{"$f":"HOJA_CAPTURA!Q240","v":"00:00:00"},{"$f":"HOJA_CAPTURA!V240","v":0},{"$f":"HOJA_CAPTURA!AF240","v":0},{"$f":"HOJA_CAPTURA!AG240","v":0},{"$f":"HOJA_CAPTURA!AH240","v":0},{"$f":"HOJA_CAPTURA!AI240","v":0},{"$f":"HOJA_CAPTURA!AJ240","v":0},{"$f":"HOJA_CAPTURA!AK240","v":0},{"$f":"HOJA_CAPTURA!AL240","v":0},{"$f":"HOJA_CAPTURA!AT240","v":0},{"$f":"HOJA_CAPTURA!AU240","v":0}]
[null,null,null,null,null,{"$f":"HOJA_CAPTURA!R240","v":"00:00:00"}]
[{"$f":"HOJA_CAPTURA!J241","v":0},{"$f":"HOJA_CAPTURA!K241","v":0},{"$f":"HOJA_CAPTURA!M241","v":0},{"$f":"HOJA_CAPTURA!N241","v":0},{"$f":"HOJA_CAPTURA!P241","v":0},{"$f":"HOJA_CAPTURA!Q241","v":"00:00:00"},{"$f":"HOJA_CAPTURA!V241","v":0},{"$f":"HOJA_CAPTURA!AF241","v":0},{"$f":"HOJA_CAPTURA!AG241","v":0},{"$f":"HOJA_CAPTURA!AH241","v":0},{"$f":"HOJA_CAPTURA!AI241","v":0},{"$f":"HOJA_CAPTURA!AJ241","v":0},{"$f":"HOJA_CAPTURA!AK241","v":0},{"$f":"HOJA_CAPTURA!AL241","v":0},{"$f":"HOJA_CAPTURA!AT241","v":0},{"$f":"HOJA_CAPTURA!AU241","v":0}]
[null,null,null,null,null,{"$f":"HOJA_CAPTURA!R241","v":"00:00:00"}]
[{"$f":"HOJA_CAPTURA!J242","v":0},{"$f":"HOJA_CAPTURA!K242","v":0},{"$f":"HOJA_CAPTURA!M242","v":0},{"$f":"HOJA_CAPTURA!N242","v":0},{"$f":"HOJA_CAPTURA!P242","v":0},{"$f":"HOJA_CAPTURA!Q242","v":"00:00:00"},{"$f":"HOJA_CAPTURA!V242","v":0},{"$f":"HOJA_CAPTURA!AF242","v":0},{"$f":"HOJA_CAPTURA!AG242","v":0},{"$f":"HOJA_CAPTURA!AH242","v":0},{"$f":"HOJA_CAPTURA!AI242","v":0},{"$f":"HOJA_CAPTURA!AJ242","v":0},{"$f":"HOJA_CAPTURA!AK242","v":0},{"$f":"HOJA_CAPTURA!AL242","v":0},{"$f":"HOJA_CAPTURA!AT242","v":0},{"$f":"HOJA_CAPTURA!AU242","v":0}]
[null,null,null,null,null,{"$f":"HOJA_CAPTURA!R242","v":"00:00:00"}]
[]
[{"$f":"HOJA_CAPTURA!F240","v":0},null,null,null,null,null,null,null,null,{"$f":"HOJA_CAPTURA!E240","v":0}]
["Nombre, firma y cargo de la persona que elaboró",null,null,null,null,null,null,null,null,"Nombre y firma del titular del Área productora"]
[null,"           "]
[]
[]
[]
[]
["Nombre de la dependencia o entidad: ",null,null,null,"Instituto Nacional de Pediatria ",null,null,null,null,null,null,null,null,"Hoja: 61 de",{"$f":"O5","v":0}]
["Unidad administrativa/Área productora:",null,null,null,{"$f":"HOJA_CAPTURA!C244","v":0}]
["Fondo: INP ",null,"Sección:",{"$f":"HOJA_CAPTURA!G244","v":0},null,null,"Serie: ",{"$f":"HOJA_CAPTURA!H244","v":0}]
[null,null,null,null,null,null,"Subserie:",null,{"$f":"HOJA_CAPTURA!I244","v":0}]
["No. Consecutivo","No. de caja","No. de expediente","Clasificación archivística del expediente","Descripción o asunto ","                                                                                                                                                                                                                                                          Periodo de trámite","No.  de folios ","Valor documental",null,null,"Vigencia documental",null,null,"Condiciones de acceso (Reservada y confidencial)","Ubicación topográfica","Tradición documental "]
[null,null,null,null,null,null,null,"A","L","F/C","AT","AC","Total"]
[{"$f":"HOJA_CAPTURA!J243","v":0},{"$f":"HOJA_CAPTURA!K243","v":0},{"$f":"HOJA_CAPTURA!M243","v":0},{"$f":"HOJA_CAPTURA!N243","v":0},{"$f":"HOJA_CAPTURA!P243","v":0},{"$f":"HOJA_CAPTURA!Q243","v":"00:00:00"},{"$f":"HOJA_CAPTURA!V243","v":0},{"$f":"HOJA_CAPTURA!AF243","v":0},{"$f":"HOJA_CAPTURA!AG243","v":0},{"$f":"HOJA_CAPTURA!AH243","v":0},{"$f":"HOJA_CAPTURA!AI243","v":0},{"$f":"HOJA_CAPTURA!AJ243","v":0},{"$f":"HOJA_CAPTURA!AK243","v":0},{"$f":"HOJA_CAPTURA!AL243","v":0},{"$f":"HOJA_CAPTURA!AT243","v":0},{"$f":"HOJA_CAPTURA!AU243","v":0}]
[null,null,null,null,null,{"$f":"HOJA_CAPTURA!R243","v":"00:00:00"}]
[{"$f":"HOJA_CAPTURA!J244","v":0},{"$f":"HOJA_CAPTURA!K244","v":0},{"$f":"HOJA_CAPTURA!M244","v":0},{"$f":"HOJA_CAPTURA!N244","v":0},{"$f":"HOJA_CAPTURA!P244","v":0},{"$f":"HOJA_CAPTURA!Q244","v":"00:00:00"},{"$f":"HOJA_CAPTURA!V244","v":0},{"$f":"HOJA_CAPTURA!AF244","v":0},{"$f":"HOJA_CAPTURA!AG244","v":0},{"$f":"HOJA_CAPTURA!AH244","v":0},{"$f":"HOJA_CAPTURA!AI244","v":0},{"$f":"HOJA_CAPTURA!AJ244","v":0},{"$f":"HOJA_CAPTURA!AK244","v":0},{"$f":"HOJA_CAPTURA!AL244","v":0},{"$f":"HOJA_CAPTURA!AT244","v":0},{"$f":"HOJA_CAPTURA!AU244","v":0}]
[null,null,null,null,null,{"$f":"HOJA_CAPTURA!R244","v":"00:00:00"}]
[{"$f":"HOJA_CAPTURA!J245","v":0},{"$f":"HOJA_CAPTURA!K245","v":0},{"$f":"HOJA_CAPTURA!M245","v":0},{"$f":"HOJA_CAPTURA!N245","v":0},{"$f":"HOJA_CAPTURA!P245","v":0},{"$f":"HOJA_CAPTURA!Q245","v":"00:00:00"},{"$f":"HOJA_CAPTURA!V245","v":0},{"$f":"HOJA_CAPTURA!AF245","v":0},{"$f":"HOJA_CAPTURA!AG245","v":0},{"$f":"HOJA_CAPTURA!AH245","v":0},{"$f":"HOJA_CAPTURA!AI245","v":0},{"$f":"HOJA_CAPTURA!AJ245","v":0},{"$f":"HOJA_CAPTURA!AK245","v":0},{"$f":"HOJA_CAPTURA!AL245","v":0},{"$f":"HOJA_CAPTURA!AT245","v":0},{"$f":"HOJA_CAPTURA!AU245","v":0}]
[null,null,null,null,null,{"$f":"HOJA_CAPTURA!R245","v":"00:00:00"}]
[{"$f":"HOJA_CAPTURA!J246","v":0},{"$f":"HOJA_CAPTURA!K246","v":0},{"$f":"HOJA_CAPTURA!M246","v":0},{"$f":"HOJA_CAPTURA!N246","v":0},{"$f":"HOJA_CAPTURA!P246","v":0},{"$f":"HOJA_CAPTURA!Q246","v":"00:00:00"},{"$f":"HOJA_CAPTURA!V246","v":0},{"$f":"HOJA_CAPTURA!AF246","v":0},{"$f":"HOJA_CAPTURA!AG246","v":0},{"$f":"HOJA_CAPTURA!AH246","v":0},{"$f":"HOJA_CAPTURA!AI246","v":0},{"$f":"HOJA_CAPTURA!AJ246","v":0},{"$f":"HOJA_CAPTURA!AK246","v":0},{"$f":"HOJA_CAPTURA!AL246","v":0},{"$f":"HOJA_CAPTURA!AT246","v":0},{"$f":"HOJA_CAPTURA!AU246","v":0}]
[null,null,null,null,null,{"$f":"HOJA_CAPTURA!R246","v":"00:00:00"}]
[]
[{"$f":"HOJA_CAPTURA!F244","v":0},null,null,null,null,null,null,null,null,{"$f":"HOJA_CAPTURA!E244","v":0}]
["Nombre, firma y cargo de la persona que elaboró",null,null,null,null,null,null,null,null,"Nombre y firma del titular del Área productora"]
[null,"           "]
[]
[]
[]
[]
["Nombre de la dependencia o entidad: ",null,null,null,"Instituto Nacional de Pediatria ",null,null,null,null,null,null,null,null,"Hoja: 62 de",{"$f":"O5","v":0}]
["Unidad administrativa/Área productora:",null,null,null,{"$f":"HOJA_CAPTURA!C248","v":0}]
["Fondo: INP ",null,"Sección:",{"$f":"HOJA_CAPTURA!G248","v":0},null,null,"Serie: ",{"$f":"HOJA_CAPTURA!H248","v":0}]
[null,null,null,null,null,null,"Subserie:",null,{"$f":"HOJA_CAPTURA!I248","v":0}]
["No. Consecutivo","No. de caja","No. de expediente","Clasificación archivística del expediente","Descripción o asunto ","                                                                                                                                                                                                                                                          Periodo de trámite","No.  de folios ","Valor documental",null,null,"Vigencia documental",null,null,"Condiciones de acceso (Reservada y confidencial)","Ubicación topográfica","Tradición documental "]
[null,null,null,null,null,null,null,"A","L","F/C","AT","AC","Total"]
[{"$f":"HOJA_CAPTURA!J247","v":0},{"$f":"HOJA_CAPTURA!K247","v":0},{"$f":"HOJA_CAPTURA!M247","v":0},{"$f":"HOJA_CAPTURA!N247","v":0},{"$f":"HOJA_CAPTURA!P247","v":0},{"$f":"HOJA_CAPTURA!Q247","v":"00:00:00"},{"$f":"HOJA_CAPTURA!V247","v":0},{"$f":"HOJA_CAPTURA!AF247","v":0},{"$f":"HOJA_CAPTURA!AG247","v":0},{"$f":"HOJA_CAPTURA!AH247","v":0},{"$f":"HOJA_CAPTURA!AI247","v":0},{"$f":"HOJA_CAPTURA!AJ247","v":0},{"$f":"HOJA_CAPTURA!AK247","v":0},{"$f":"HOJA_CAPTURA!AL247","v":0},{"$f":"HOJA_CAPTURA!AT247","v":0},{"$f":"HOJA_CAPTURA!AU247","v":0}]
[null,null,null,null,null,{"$f":"HOJA_CAPTURA!R247","v":"00:00:00"}]
[{"$f":"HOJA_CAPTURA!J248","v":0},{"$f":"HOJA_CAPTURA!K248","v":0},{"$f":"HOJA_CAPTURA!M248","v":0},{"$f":"HOJA_CAPTURA!N248","v":0},{"$f":"HOJA_CAPTURA!P248","v":0},{"$f":"HOJA_CAPTURA!Q248","v":"00:00:00"},{"$f":"HOJA_CAPTURA!V248","v":0},{"$f":"HOJA_CAPTURA!AF248","v":0},{"$f":"HOJA_CAPTURA!AG248","v":0},{"$f":"HOJA_CAPTURA!AH248","v":0},{"$f":"HOJA_CAPTURA!AI248","v":0},{"$f":"HOJA_CAPTURA!AJ248","v":0},{"$f":"HOJA_CAPTURA!AK248","v":0},{"$f":"HOJA_CAPTURA!AL248","v":0},{"$f":"HOJA_CAPTURA!AT248","v":0},{"$f":"HOJA_CAPTURA!AU248","v":0}]
[null,null,null,null,null,{"$f":"HOJA_CAPTURA!R248","v":"00:00:00"}]
[{"$f":"HOJA_CAPTURA!J249","v":0},{"$f":"HOJA_CAPTURA!K249","v":0},{"$f":"HOJA_CAPTURA!M249","v":0},{"$f":"HOJA_CAPTURA!N249","v":0},{"$f":"HOJA_CAPTURA!P249","v":0},{"$f":"HOJA_CAPTURA!Q249","v":"00:00:00"},{"$f":"HOJA_CAPTURA!V249","v":0},{"$f":"HOJA_CAPTURA!AF249","v":0},{"$f":"HOJA_CAPTURA!AG249","v":0},{"$f":"HOJA_CAPTURA!AH249","v":0},{"$f":"HOJA_CAPTURA!AI249","v":0},{"$f":"HOJA_CAPTURA!AJ249","v":0},{"$f":"HOJA_CAPTURA!AK249","v":0},{"$f":"HOJA_CAPTURA!AL249","v":0},{"$f":"HOJA_CAPTURA!AT249","v":0},{"$f":"HOJA_CAPTURA!AU249","v":0}]
[null,null,null,null,null,{"$f":"HOJA_CAPTURA!R249","v":"00:00:00"}]
[{"$f":"HOJA_CAPTURA!J250","v":0},{"$f":"HOJA_CAPTURA!K250","v":0},{"$f":"HOJA_CAPTURA!M250","v":0},{"$f":"HOJA_CAPTURA!N250","v":0},{"$f":"HOJA_CAPTURA!P250","v":0},{"$f":"HOJA_CAPTURA!Q250","v":"00:00:00"},{"$f":"HOJA_CAPTURA!V250","v":0},{"$f":"HOJA_CAPTURA!AF250","v":0},{"$f":"HOJA_CAPTURA!AG250","v":0},{"$f":"HOJA_CAPTURA!AH250","v":0},{"$f":"HOJA_CAPTURA!AI250","v":0},{"$f":"HOJA_CAPTURA!AJ250","v":0},{"$f":"HOJA_CAPTURA!AK250","v":0},{"$f":"HOJA_CAPTURA!AL250","v":0},{"$f":"HOJA_CAPTURA!AT250","v":0},{"$f":"HOJA_CAPTURA!AU250","v":0}]
[null,null,null,null,null,{"$f":"HOJA_CAPTURA!R250","v":"00:00:00"}]
[]
[{"$f":"HOJA_CAPTURA!F248","v":0},null,null,null,null,null,null,null,null,{"$f":"HOJA_CAPTURA!E248","v":0}]
["Nombre, firma y cargo de la persona que elaboró",null,null,null,null,null,null,null,null,"Nombre y firma del titular del Área productora"]
[null,"           "]
[]
[]
[]
[]
["Nombre de la dependencia o entidad: ",null,null,null,"Instituto Nacional de Pediatria ",null,null,null,null,null,null,null,null,"Hoja: 63 de",{"$f":"O5","v":0}]
["Unidad administrativa/Área productora:",null,null,null,{"$f":"HOJA_CAPTURA!C252","v":0}]
["Fondo: INP ",null,"Sección:",{"$f":"HOJA_CAPTURA!G252","v":0},null,null,"Serie: ",{"$f":"HOJA_CAPTURA!H252","v":0}]
[null,null,null,null,null,null,"Subserie:",null,{"$f":"HOJA_CAPTURA!I252","v":0}]
["No. Consecutivo","No. de caja","No. de expediente","Clasificación archivística del expediente","Descripción o asunto ","                                                                                                                                                                                                                                                          Periodo de trámite","No.  de folios ","Valor documental",null,null,"Vigencia documental",null,null,"Condiciones de acceso (Reservada y confidencial)","Ubicación topográfica","Tradición documental "]
[null,null,null,null,null,null,null,"A","L","F/C","AT","AC","Total"]
[{"$f":"HOJA_CAPTURA!J251","v":0},{"$f":"HOJA_CAPTURA!K251","v":0},{"$f":"HOJA_CAPTURA!M251","v":0},{"$f":"HOJA_CAPTURA!N251","v":0},{"$f":"HOJA_CAPTURA!P251","v":0},{"$f":"HOJA_CAPTURA!Q251","v":"00:00:00"},{"$f":"HOJA_CAPTURA!V251","v":0},{"$f":"HOJA_CAPTURA!AF251","v":0},{"$f":"HOJA_CAPTURA!AG251","v":0},{"$f":"HOJA_CAPTURA!AH251","v":0},{"$f":"HOJA_CAPTURA!AI251","v":0},{"$f":"HOJA_CAPTURA!AJ251","v":0},{"$f":"HOJA_CAPTURA!AK251","v":0},{"$f":"HOJA_CAPTURA!AL251","v":0},{"$f":"HOJA_CAPTURA!AT251","v":0},{"$f":"HOJA_CAPTURA!AU251","v":0}]
[null,null,null,null,null,{"$f":"HOJA_CAPTURA!R251","v":"00:00:00"}]
[{"$f":"HOJA_CAPTURA!J252","v":0},{"$f":"HOJA_CAPTURA!K252","v":0},{"$f":"HOJA_CAPTURA!M252","v":0},{"$f":"HOJA_CAPTURA!N252","v":0},{"$f":"HOJA_CAPTURA!P252","v":0},{"$f":"HOJA_CAPTURA!Q252","v":"00:00:00"},{"$f":"HOJA_CAPTURA!V252","v":0},{"$f":"HOJA_CAPTURA!AF252","v":0},{"$f":"HOJA_CAPTURA!AG252","v":0},{"$f":"HOJA_CAPTURA!AH252","v":0},{"$f":"HOJA_CAPTURA!AI252","v":0},{"$f":"HOJA_CAPTURA!AJ252","v":0},{"$f":"HOJA_CAPTURA!AK252","v":0},{"$f":"HOJA_CAPTURA!AL252","v":0},{"$f":"HOJA_CAPTURA!AT252","v":0},{"$f":"HOJA_CAPTURA!AU252","v":0}]
[null,null,null,null,null,{"$f":"HOJA_CAPTURA!R252","v":"00:00:00"}]
[{"$f":"HOJA_CAPTURA!J253","v":0},{"$f":"HOJA_CAPTURA!K253","v":0},{"$f":"HOJA_CAPTURA!M253","v":0},{"$f":"HOJA_CAPTURA!N253","v":0},{"$f":"HOJA_CAPTURA!P253","v":0},{"$f":"HOJA_CAPTURA!Q253","v":"00:00:00"},{"$f":"HOJA_CAPTURA!V253","v":0},{"$f":"HOJA_CAPTURA!AF253","v":0},{"$f":"HOJA_CAPTURA!AG253","v":0},{"$f":"HOJA_CAPTURA!AH253","v":0},{"$f":"HOJA_CAPTURA!AI253","v":0},{"$f":"HOJA_CAPTURA!AJ253","v":0},{"$f":"HOJA_CAPTURA!AK253","v":0},{"$f":"HOJA_CAPTURA!AL253","v":0},{"$f":"HOJA_CAPTURA!AT253","v":0},{"$f":"HOJA_CAPTURA!AU253","v":0}]
[null,null,null,null,null,{"$f":"HOJA_CAPTURA!R253","v":"00:00:00"}]
[{"$f":"HOJA_CAPTURA!J254","v":0},{"$f":"HOJA_CAPTURA!K254","v":0},{"$f":"HOJA_CAPTURA!M254","v":0},{"$f":"HOJA_CAPTURA!N254","v":0},{"$f":"HOJA_CAPTURA!P254","v":0},{"$f":"HOJA_CAPTURA!Q254","v":"00:00:00"},{"$f":"HOJA_CAPTURA!V254","v":0},{"$f":"HOJA_CAPTURA!AF254","v":0},{"$f":"HOJA_CAPTURA!AG254","v":0},{"$f":"HOJA_CAPTURA!AH254","v":0},{"$f":"HOJA_CAPTURA!AI254","v":0},{"$f":"HOJA_CAPTURA!AJ254","v":0},{"$f":"HOJA_CAPTURA!AK254","v":0},{"$f":"HOJA_CAPTURA!AL254","v":0},{"$f":"HOJA_CAPTURA!AT254","v":0},{"$f":"HOJA_CAPTURA!AU254","v":0}]
[null,null,null,null,null,{"$f":"HOJA_CAPTURA!R254","v":"00:00:00"}]
[]
[{"$f":"HOJA_CAPTURA!F252","v":0},null,null,null,null,null,null,null,null,{"$f":"HOJA_CAPTURA!E252","v":0}]
["Nombre, firma y cargo de la persona que elaboró",null,null,null,null,null,null,null,null,"Nombre y firma del titular del Área productora"]
[]
[]
[]
[]
[null,"           "]
["Nombre de la dependencia o entidad: ",null,null,null,"Instituto Nacional de Pediatria ",null,null,null,null,null,null,null,null,"Hoja: 64 de",{"$f":"O5","v":0}]
["Unidad administrativa/Área productora:",null,null,null,{"$f":"HOJA_CAPTURA!C256","v":0}]
["Fondo: INP ",null,"Sección:",{"$f":"HOJA_CAPTURA!G256","v":0},null,null,"Serie: ",{"$f":"HOJA_CAPTURA!H256","v":0}]
[null,null,null,null,null,null,"Subserie:",null,{"$f":"HOJA_CAPTURA!I256","v":0}]
["No. Consecutivo","No. de caja","No. de expediente","Clasificación archivística del expediente","Descripción o asunto ","                                                                                                                                                                                                                                                          Periodo de trámite","No.  de folios ","Valor documental",null,null,"Vigencia documental",null,null,"Condiciones de acceso (Reservada y confidencial)","Ubicación topográfica","Tradición documental "]
[null,null,null,null,null,null,null,"A","L","F/C","AT","AC","Total"]
[{"$f":"HOJA_CAPTURA!J255","v":0},{"$f":"HOJA_CAPTURA!K255","v":0},{"$f":"HOJA_CAPTURA!M255","v":0},{"$f":"HOJA_CAPTURA!N255","v":0},{"$f":"HOJA_CAPTURA!P255","v":0},{"$f":"HOJA_CAPTURA!Q255","v":"00:00:00"},{"$f":"HOJA_CAPTURA!V255","v":0},{"$f":"HOJA_CAPTURA!AF255","v":0},{"$f":"HOJA_CAPTURA!AG255","v":0},{"$f":"HOJA_CAPTURA!AH255","v":0},{"$f":"HOJA_CAPTURA!AI255","v":0},{"$f":"HOJA_CAPTURA!AJ255","v":0},{"$f":"HOJA_CAPTURA!AK255","v":0},{"$f":"HOJA_CAPTURA!AL255","v":0},{"$f":"HOJA_CAPTURA!AT255","v":0},{"$f":"HOJA_CAPTURA!AU255","v":0}]
[null,null,null,null,null,{"$f":"HOJA_CAPTURA!R255","v":"00:00:00"}]
[{"$f":"HOJA_CAPTURA!J256","v":0},{"$f":"HOJA_CAPTURA!K256","v":0},{"$f":"HOJA_CAPTURA!M256","v":0},{"$f":"HOJA_CAPTURA!N256","v":0},{"$f":"HOJA_CAPTURA!P256","v":0},{"$f":"HOJA_CAPTURA!Q256","v":"00:00:00"},{"$f":"HOJA_CAPTURA!V256","v":0},{"$f":"HOJA_CAPTURA!AF256","v":0},{"$f":"HOJA_CAPTURA!AG256","v":0},{"$f":"HOJA_CAPTURA!AH256","v":0},{"$f":"HOJA_CAPTURA!AI256","v":0},{"$f":"HOJA_CAPTURA!AJ256","v":0},{"$f":"HOJA_CAPTURA!AK256","v":0},{"$f":"HOJA_CAPTURA!AL256","v":0},{"$f":"HOJA_CAPTURA!AT256","v":0},{"$f":"HOJA_CAPTURA!AU256","v":0}]
[null,null,null,null,null,{"$f":"HOJA_CAPTURA!R256","v":"00:00:00"}]
[{"$f":"HOJA_CAPTURA!J257","v":0},{"$f":"HOJA_CAPTURA!K257","v":0},{"$f":"HOJA_CAPTURA!M257","v":0},{"$f":"HOJA_CAPTURA!N257","v":0},{"$f":"HOJA_CAPTURA!P257","v":0},{"$f":"HOJA_CAPTURA!Q257","v":"00:00:00"},{"$f":"HOJA_CAPTURA!V257","v":0},{"$f":"HOJA_CAPTURA!AF257","v":0},{"$f":"HOJA_CAPTURA!AG257","v":0},{"$f":"HOJA_CAPTURA!AH257","v":0},{"$f":"HOJA_CAPTURA!AI257","v":0},{"$f":"HOJA_CAPTURA!AJ257","v":0},{"$f":"HOJA_CAPTURA!AK257","v":0},{"$f":"HOJA_CAPTURA!AL257","v":0},{"$f":"HOJA_CAPTURA!AT257","v":0},{"$f":"HOJA_CAPTURA!AU257","v":0}]
[null,null,null,null,null,{"$f":"HOJA_CAPTURA!R257","v":"00:00:00"}]
[{"$f":"HOJA_CAPTURA!J258","v":0},{"$f":"HOJA_CAPTURA!K258","v":0},{"$f":"HOJA_CAPTURA!M258","v":0},{"$f":"HOJA_CAPTURA!N258","v":0},{"$f":"HOJA_CAPTURA!P258","v":0},{"$f":"HOJA_CAPTURA!Q258","v":"00:00:00"},{"$f":"HOJA_CAPTURA!V258","v":0},{"$f":"HOJA_CAPTURA!AF258","v":0},{"$f":"HOJA_CAPTURA!AG258","v":0},{"$f":"HOJA_CAPTURA!AH258","v":0},{"$f":"HOJA_CAPTURA!AI258","v":0},{"$f":"HOJA_CAPTURA!AJ258","v":0},{"$f":"HOJA_CAPTURA!AK258","v":0},{"$f":"HOJA_CAPTURA!AL258","v":0},{"$f":"HOJA_CAPTURA!AT258","v":0},{"$f":"HOJA_CAPTURA!AU258","v":0}]
[null,null,null,null,null,{"$f":"HOJA_CAPTURA!R258","v":"00:00:00"}]
[]
[{"$f":"HOJA_CAPTURA!F256","v":0},null,null,null,null,null,null,null,null,{"$f":"HOJA_CAPTURA!E256","v":0}]
["Nombre, firma y cargo de la persona que elaboró",null,null,null,null,null,null,null,null,"Nombre y firma del titular del Área productora"]
[null,"           "]
[]
[]
[]
[]
["Nombre de la dependencia o entidad: ",null,null,null,"Instituto Nacional de Pediatria ",null,null,null,null,null,null,null,null,"Hoja: 65 de",{"$f":"O5","v":0}]
["Unidad administrativa/Área productora:",null,null,null,{"$f":"HOJA_CAPTURA!C260","v":0}]
["Fondo: INP ",null,"Sección:",{"$f":"HOJA_CAPTURA!G260","v":0},null,null,"Serie: ",{"$f":"HOJA_CAPTURA!H260","v":0}]
[null,null,null,null,null,null,"Subserie:",null,{"$f":"HOJA_CAPTURA!I260","v":0}]
["No. Consecutivo","No. de caja","No. de expediente","Clasificación archivística del expediente","Descripción o asunto ","                                                                                                                                                                                                                                                          Periodo de trámite","No.  de folios ","Valor documental",null,null,"Vigencia documental",null,null,"Condiciones de acceso (Reservada y confidencial)","Ubicación topográfica","Tradición documental "]
[null,null,null,null,null,null,null,"A","L","F/C","AT","AC","Total"]
[{"$f":"HOJA_CAPTURA!J259","v":0},{"$f":"HOJA_CAPTURA!K259","v":0},{"$f":"HOJA_CAPTURA!M259","v":0},{"$f":"HOJA_CAPTURA!N259","v":0},{"$f":"HOJA_CAPTURA!P259","v":0},{"$f":"HOJA_CAPTURA!Q259","v":"00:00:00"},{"$f":"HOJA_CAPTURA!V259","v":0},{"$f":"HOJA_CAPTURA!AF259","v":0},{"$f":"HOJA_CAPTURA!AG259","v":0},{"$f":"HOJA_CAPTURA!AH259","v":0},{"$f":"HOJA_CAPTURA!AI259","v":0},{"$f":"HOJA_CAPTURA!AJ259","v":0},{"$f":"HOJA_CAPTURA!AK259","v":0},{"$f":"HOJA_CAPTURA!AL259","v":0},{"$f":"HOJA_CAPTURA!AT259","v":0},{"$f":"HOJA_CAPTURA!AU259","v":0}]
[null,null,null,null,null,{"$f":"HOJA_CAPTURA!R259","v":"00:00:00"}]
[{"$f":"HOJA_CAPTURA!J260","v":0},{"$f":"HOJA_CAPTURA!K260","v":0},{"$f":"HOJA_CAPTURA!M260","v":0},{"$f":"HOJA_CAPTURA!N260","v":0},{"$f":"HOJA_CAPTURA!P260","v":0},{"$f":"HOJA_CAPTURA!Q260","v":"00:00:00"},{"$f":"HOJA_CAPTURA!V260","v":0},{"$f":"HOJA_CAPTURA!AF260","v":0},{"$f":"HOJA_CAPTURA!AG260","v":0},{"$f":"HOJA_CAPTURA!AH260","v":0},{"$f":"HOJA_CAPTURA!AI260","v":0},{"$f":"HOJA_CAPTURA!AJ260","v":0},{"$f":"HOJA_CAPTURA!AK260","v":0},{"$f":"HOJA_CAPTURA!AL260","v":0},{"$f":"HOJA_CAPTURA!AT260","v":0},{"$f":"HOJA_CAPTURA!AU260","v":0}]
[null,null,null,null,null,{"$f":"HOJA_CAPTURA!R260","v":"00:00:00"}]
[{"$f":"HOJA_CAPTURA!J261","v":0},{"$f":"HOJA_CAPTURA!K261","v":0},{"$f":"HOJA_CAPTURA!M261","v":0},{"$f":"HOJA_CAPTURA!N261","v":0},{"$f":"HOJA_CAPTURA!P261","v":0},{"$f":"HOJA_CAPTURA!Q261","v":"00:00:00"},{"$f":"HOJA_CAPTURA!V261","v":0},{"$f":"HOJA_CAPTURA!AF261","v":0},{"$f":"HOJA_CAPTURA!AG261","v":0},{"$f":"HOJA_CAPTURA!AH261","v":0},{"$f":"HOJA_CAPTURA!AI261","v":0},{"$f":"HOJA_CAPTURA!AJ261","v":0},{"$f":"HOJA_CAPTURA!AK261","v":0},{"$f":"HOJA_CAPTURA!AL261","v":0},{"$f":"HOJA_CAPTURA!AT261","v":0},{"$f":"HOJA_CAPTURA!AU261","v":0}]
[null,null,null,null,null,{"$f":"HOJA_CAPTURA!R261","v":"00:00:00"}]
[{"$f":"HOJA_CAPTURA!J262","v":0},{"$f":"HOJA_CAPTURA!K262","v":0},{"$f":"HOJA_CAPTURA!M262","v":0},{"$f":"HOJA_CAPTURA!N262","v":0},{"$f":"HOJA_CAPTURA!P262","v":0},{"$f":"HOJA_CAPTURA!Q262","v":"00:00:00"},{"$f":"HOJA_CAPTURA!V262","v":0},{"$f":"HOJA_CAPTURA!AF262","v":0},{"$f":"HOJA_CAPTURA!AG262","v":0},{"$f":"HOJA_CAPTURA!AH262","v":0},{"$f":"HOJA_CAPTURA!AI262","v":0},{"$f":"HOJA_CAPTURA!AJ262","v":0},{"$f":"HOJA_CAPTURA!AK262","v":0},{"$f":"HOJA_CAPTURA!AL262","v":0},{"$f":"HOJA_CAPTURA!AT262","v":0},{"$f":"HOJA_CAPTURA!AU262","v":0}]
[null,null,null,null,null,{"$f":"HOJA_CAPTURA!R262","v":"00:00:00"}]
[]
[{"$f":"HOJA_CAPTURA!F260","v":0},null,null,null,null,null,null,null,null,{"$f":"HOJA_CAPTURA!E260","v":0}]
["Nombre, firma y cargo de la persona que elaboró",null,null,null,null,null,null,null,null,"Nombre y firma del titular del Área productora"]
[null,"           "]
[]
[]
[]
[]
["Nombre de la dependencia o entidad: ",null,null,null,"Instituto Nacional de Pediatria ",null,null,null,null,null,null,null,null,"Hoja: 66 de",{"$f":"O5","v":0}]
["Unidad administrativa/Área productora:",null,null,null,{"$f":"HOJA_CAPTURA!C264","v":0}]
["Fondo: INP ",null,"Sección:",{"$f":"HOJA_CAPTURA!G264","v":0},null,null,"Serie: ",{"$f":"HOJA_CAPTURA!H264","v":0}]
[null,null,null,null,null,null,"Subserie:",null,{"$f":"HOJA_CAPTURA!I264","v":0}]
["No. Consecutivo","No. de caja","No. de expediente","Clasificación archivística del expediente","Descripción o asunto ","                                                                                                                                                                                                                                                          Periodo de trámite","No.  de folios ","Valor documental",null,null,"Vigencia documental",null,null,"Condiciones de acceso (Reservada y confidencial)","Ubicación topográfica","Tradición documental "]
[null,null,null,null,null,null,null,"A","L","F/C","AT","AC","Total"]
[{"$f":"HOJA_CAPTURA!J263","v":0},{"$f":"HOJA_CAPTURA!K263","v":0},{"$f":"HOJA_CAPTURA!M263","v":0},{"$f":"HOJA_CAPTURA!N263","v":0},{"$f":"HOJA_CAPTURA!P263","v":0},{"$f":"HOJA_CAPTURA!Q263","v":"00:00:00"},{"$f":"HOJA_CAPTURA!V263","v":0},{"$f":"HOJA_CAPTURA!AF263","v":0},{"$f":"HOJA_CAPTURA!AG263","v":0},{"$f":"HOJA_CAPTURA!AH263","v":0},{"$f":"HOJA_CAPTURA!AI263","v":0},{"$f":"HOJA_CAPTURA!AJ263","v":0},{"$f":"HOJA_CAPTURA!AK263","v":0},{"$f":"HOJA_CAPTURA!AL263","v":0},{"$f":"HOJA_CAPTURA!AT263","v":0},{"$f":"HOJA_CAPTURA!AU263","v":0}]
[null,null,null,null,null,{"$f":"HOJA_CAPTURA!R263","v":"00:00:00"}]
[{"$f":"HOJA_CAPTURA!J264","v":0},{"$f":"HOJA_CAPTURA!K264","v":0},{"$f":"HOJA_CAPTURA!M264","v":0},{"$f":"HOJA_CAPTURA!N264","v":0},{"$f":"HOJA_CAPTURA!P264","v":0},{"$f":"HOJA_CAPTURA!Q264","v":"00:00:00"},{"$f":"HOJA_CAPTURA!V264","v":0},{"$f":"HOJA_CAPTURA!AF264","v":0},{"$f":"HOJA_CAPTURA!AG264","v":0},{"$f":"HOJA_CAPTURA!AH264","v":0},{"$f":"HOJA_CAPTURA!AI264","v":0},{"$f":"HOJA_CAPTURA!AJ264","v":0},{"$f":"HOJA_CAPTURA!AK264","v":0},{"$f":"HOJA_CAPTURA!AL264","v":0},{"$f":"HOJA_CAPTURA!AT264","v":0},{"$f":"HOJA_CAPTURA!AU264","v":0}]
[null,null,null,null,null,{"$f":"HOJA_CAPTURA!R264","v":"00:00:00"}]
[{"$f":"HOJA_CAPTURA!J265","v":0},{"$f":"HOJA_CAPTURA!K265","v":0},{"$f":"HOJA_CAPTURA!M265","v":0},{"$f":"HOJA_CAPTURA!N265","v":0},{"$f":"HOJA_CAPTURA!P265","v":0},{"$f":"HOJA_CAPTURA!Q265","v":"00:00:00"},{"$f":"HOJA_CAPTURA!V265","v":0},{"$f":"HOJA_CAPTURA!AF265","v":0},{"$f":"HOJA_CAPTURA!AG265","v":0},{"$f":"HOJA_CAPTURA!AH265","v":0},{"$f":"HOJA_CAPTURA!AI265","v":0},{"$f":"HOJA_CAPTURA!AJ265","v":0},{"$f":"HOJA_CAPTURA!AK265","v":0},{"$f":"HOJA_CAPTURA!AL265","v":0},{"$f":"HOJA_CAPTURA!AT265","v":0},{"$f":"HOJA_CAPTURA!AU265","v":0}]
[null,null,null,null,null,{"$f":"HOJA_CAPTURA!R265","v":"00:00:00"}]
[{"$f":"HOJA_CAPTURA!J266","v":0},{"$f":"HOJA_CAPTURA!K266","v":0},{"$f":"HOJA_CAPTURA!M266","v":0},{"$f":"HOJA_CAPTURA!N266","v":0},{"$f":"HOJA_CAPTURA!P266","v":0},{"$f":"HOJA_CAPTURA!Q266","v":"00:00:00"},{"$f":"HOJA_CAPTURA!V266","v":0},{"$f":"HOJA_CAPTURA!AF266","v":0},{"$f":"HOJA_CAPTURA!AG266","v":0},{"$f":"HOJA_CAPTURA!AH266","v":0},{"$f":"HOJA_CAPTURA!AI266","v":0},{"$f":"HOJA_CAPTURA!AJ266","v":0},{"$f":"HOJA_CAPTURA!AK266","v":0},{"$f":"HOJA_CAPTURA!AL266","v":0},{"$f":"HOJA_CAPTURA!AT266","v":0},{"$f":"HOJA_CAPTURA!AU266","v":0}]
[null,null,null,null,null,{"$f":"HOJA_CAPTURA!R266","v":"00:00:00"}]
[]
[{"$f":"HOJA_CAPTURA!F264","v":0},null,null,null,null,null,null,null,null,{"$f":"HOJA_CAPTURA!E264","v":0}]
["Nombre, firma y cargo de la persona que elaboró",null,null,null,null,null,null,null,null,"Nombre y firma del titular del Área productora"]
[null,"           "]
[]
[]
[]
[]
["Nombre de la dependencia o entidad: ",null,null,null,"Instituto Nacional de Pediatria ",null,null,null,null,null,null,null,null,"Hoja: 67 de",{"$f":"O5","v":0}]
["Unidad administrativa/Área productora:",null,null,null,{"$f":"HOJA_CAPTURA!C268","v":0}]
["Fondo: INP ",null,"Sección:",{"$f":"HOJA_CAPTURA!G268","v":0},null,null,"Serie: ",{"$f":"HOJA_CAPTURA!H268","v":0}]
[null,null,null,null,null,null,"Subserie:",null,{"$f":"HOJA_CAPTURA!I268","v":0}]
["No. Consecutivo","No. de caja","No. de expediente","Clasificación archivística del expediente","Descripción o asunto ","                                                                                                                                                                                                                                                          Periodo de trámite","No.  de folios ","Valor documental",null,null,"Vigencia documental",null,null,"Condiciones de acceso (Reservada y confidencial)","Ubicación topográfica","Tradición documental "]
[null,null,null,null,null,null,null,"A","L","F/C","AT","AC","Total"]
[{"$f":"HOJA_CAPTURA!J267","v":0},{"$f":"HOJA_CAPTURA!K267","v":0},{"$f":"HOJA_CAPTURA!M267","v":0},{"$f":"HOJA_CAPTURA!N267","v":0},{"$f":"HOJA_CAPTURA!P267","v":0},{"$f":"HOJA_CAPTURA!Q267","v":"00:00:00"},{"$f":"HOJA_CAPTURA!V267","v":0},{"$f":"HOJA_CAPTURA!AF267","v":0},{"$f":"HOJA_CAPTURA!AG267","v":0},{"$f":"HOJA_CAPTURA!AH267","v":0},{"$f":"HOJA_CAPTURA!AI267","v":0},{"$f":"HOJA_CAPTURA!AJ267","v":0},{"$f":"HOJA_CAPTURA!AK267","v":0},{"$f":"HOJA_CAPTURA!AL267","v":0},{"$f":"HOJA_CAPTURA!AT267","v":0},{"$f":"HOJA_CAPTURA!AU267","v":0}]
[null,null,null,null,null,{"$f":"HOJA_CAPTURA!R267","v":"00:00:00"}]
[{"$f":"HOJA_CAPTURA!J268","v":0},{"$f":"HOJA_CAPTURA!K268","v":0},{"$f":"HOJA_CAPTURA!M268","v":0},{"$f":"HOJA_CAPTURA!N268","v":0},{"$f":"HOJA_CAPTURA!P268","v":0},{"$f":"HOJA_CAPTURA!Q268","v":"00:00:00"},{"$f":"HOJA_CAPTURA!V268","v":0},{"$f":"HOJA_CAPTURA!AF268","v":0},{"$f":"HOJA_CAPTURA!AG268","v":0},{"$f":"HOJA_CAPTURA!AH268","v":0},{"$f":"HOJA_CAPTURA!AI268","v":0},{"$f":"HOJA_CAPTURA!AJ268","v":0},{"$f":"HOJA_CAPTURA!AK268","v":0},{"$f":"HOJA_CAPTURA!AL268","v":0},{"$f":"HOJA_CAPTURA!AT268","v":0},{"$f":"HOJA_CAPTURA!AU268","v":0}]
[null,null,null,null,null,{"$f":"HOJA_CAPTURA!R268","v":"00:00:00"}]
[{"$f":"HOJA_CAPTURA!J269","v":0},{"$f":"HOJA_CAPTURA!K269","v":0},{"$f":"HOJA_CAPTURA!M269","v":0},{"$f":"HOJA_CAPTURA!N269","v":0},{"$f":"HOJA_CAPTURA!P269","v":0},{"$f":"HOJA_CAPTURA!Q269","v":"00:00:00"},{"$f":"HOJA_CAPTURA!V269","v":0},{"$f":"HOJA_CAPTURA!AF269","v":0},{"$f":"HOJA_CAPTURA!AG269","v":0},{"$f":"HOJA_CAPTURA!AH269","v":0},{"$f":"HOJA_CAPTURA!AI269","v":0},{"$f":"HOJA_CAPTURA!AJ269","v":0},{"$f":"HOJA_CAPTURA!AK269","v":0},{"$f":"HOJA_CAPTURA!AL269","v":0},{"$f":"HOJA_CAPTURA!AT269","v":0},{"$f":"HOJA_CAPTURA!AU269","v":0}]
[null,null,null,null,null,{"$f":"HOJA_CAPTURA!R269","v":"00:00:00"}]
[{"$f":"HOJA_CAPTURA!J270","v":0},{"$f":"HOJA_CAPTURA!K270","v":0},{"$f":"HOJA_CAPTURA!M270","v":0},{"$f":"HOJA_CAPTURA!N270","v":0},{"$f":"HOJA_CAPTURA!P270","v":0},{"$f":"HOJA_CAPTURA!Q270","v":"00:00:00"},{"$f":"HOJA_CAPTURA!V270","v":0},{"$f":"HOJA_CAPTURA!AF270","v":0},{"$f":"HOJA_CAPTURA!AG270","v":0},{"$f":"HOJA_CAPTURA!AH270","v":0},{"$f":"HOJA_CAPTURA!AI270","v":0},{"$f":"HOJA_CAPTURA!AJ270","v":0},{"$f":"HOJA_CAPTURA!AK270","v":0},{"$f":"HOJA_CAPTURA!AL270","v":0},{"$f":"HOJA_CAPTURA!AT270","v":0},{"$f":"HOJA_CAPTURA!AU270","v":0}]
[null,null,null,null,null,{"$f":"HOJA_CAPTURA!R270","v":"00:00:00"}]
[]
[{"$f":"HOJA_CAPTURA!F268","v":0},null,null,null,null,null,null,null,null,{"$f":"HOJA_CAPTURA!E268","v":0}]
["Nombre, firma y cargo de la persona que elaboró",null,null,null,null,null,null,null,null,"Nombre y firma del titular del Área productora"]
[null,"           "]
[]
[]
[]
[]
["Nombre de la dependencia o entidad: ",null,null,null,"Instituto Nacional de Pediatria ",null,null,null,null,null,null,null,null,"Hoja: 68 de",{"$f":"O5","v":0}]
["Unidad administrativa/Área productora:",null,null,null,{"$f":"HOJA_CAPTURA!C272","v":0}]
["Fondo: INP ",null,"Sección:",{"$f":"HOJA_CAPTURA!G272","v":0},null,null,"Serie: ",{"$f":"HOJA_CAPTURA!H272","v":0}]
[null,null,null,null,null,null,"Subserie:",null,{"$f":"HOJA_CAPTURA!I272","v":0}]
["No. Consecutivo","No. de caja","No. de expediente","Clasificación archivística del expediente","Descripción o asunto ","                                                                                                                                                                                                                                                          Periodo de trámite","No.  de folios ","Valor documental",null,null,"Vigencia documental",null,null,"Condiciones de acceso (Reservada y confidencial)","Ubicación topográfica","Tradición documental "]
[null,null,null,null,null,null,null,"A","L","F/C","AT","AC","Total"]
[{"$f":"HOJA_CAPTURA!J271","v":0},{"$f":"HOJA_CAPTURA!K271","v":0},{"$f":"HOJA_CAPTURA!M271","v":0},{"$f":"HOJA_CAPTURA!N271","v":0},{"$f":"HOJA_CAPTURA!P271","v":0},{"$f":"HOJA_CAPTURA!Q271","v":"00:00:00"},{"$f":"HOJA_CAPTURA!V271","v":0},{"$f":"HOJA_CAPTURA!AF271","v":0},{"$f":"HOJA_CAPTURA!AG271","v":0},{"$f":"HOJA_CAPTURA!AH271","v":0},{"$f":"HOJA_CAPTURA!AI271","v":0},{"$f":"HOJA_CAPTURA!AJ271","v":0},{"$f":"HOJA_CAPTURA!AK271","v":0},{"$f":"HOJA_CAPTURA!AL271","v":0},{"$f":"HOJA_CAPTURA!AT271","v":0},{"$f":"HOJA_CAPTURA!AU271","v":0}]
[null,null,null,null,null,{"$f":"HOJA_CAPTURA!R271","v":"00:00:00"}]
[{"$f":"HOJA_CAPTURA!J272","v":0},{"$f":"HOJA_CAPTURA!K272","v":0},{"$f":"HOJA_CAPTURA!M272","v":0},{"$f":"HOJA_CAPTURA!N272","v":0},{"$f":"HOJA_CAPTURA!P272","v":0},{"$f":"HOJA_CAPTURA!Q272","v":"00:00:00"},{"$f":"HOJA_CAPTURA!V272","v":0},{"$f":"HOJA_CAPTURA!AF272","v":0},{"$f":"HOJA_CAPTURA!AG272","v":0},{"$f":"HOJA_CAPTURA!AH272","v":0},{"$f":"HOJA_CAPTURA!AI272","v":0},{"$f":"HOJA_CAPTURA!AJ272","v":0},{"$f":"HOJA_CAPTURA!AK272","v":0},{"$f":"HOJA_CAPTURA!AL272","v":0},{"$f":"HOJA_CAPTURA!AT272","v":0},{"$f":"HOJA_CAPTURA!AU272","v":0}]
[null,null,null,null,null,{"$f":"HOJA_CAPTURA!R272","v":"00:00:00"}]
[{"$f":"HOJA_CAPTURA!J273","v":0},{"$f":"HOJA_CAPTURA!K273","v":0},{"$f":"HOJA_CAPTURA!M273","v":0},{"$f":"HOJA_CAPTURA!N273","v":0},{"$f":"HOJA_CAPTURA!P273","v":0},{"$f":"HOJA_CAPTURA!Q273","v":"00:00:00"},{"$f":"HOJA_CAPTURA!V273","v":0},{"$f":"HOJA_CAPTURA!AF273","v":0},{"$f":"HOJA_CAPTURA!AG273","v":0},{"$f":"HOJA_CAPTURA!AH273","v":0},{"$f":"HOJA_CAPTURA!AI273","v":0},{"$f":"HOJA_CAPTURA!AJ273","v":0},{"$f":"HOJA_CAPTURA!AK273","v":0},{"$f":"HOJA_CAPTURA!AL273","v":0},{"$f":"HOJA_CAPTURA!AT273","v":0},{"$f":"HOJA_CAPTURA!AU273","v":0}]
[null,null,null,null,null,{"$f":"HOJA_CAPTURA!R273","v":"00:00:00"}]
[{"$f":"HOJA_CAPTURA!J274","v":0},{"$f":"HOJA_CAPTURA!K274","v":0},{"$f":"HOJA_CAPTURA!M274","v":0},{"$f":"HOJA_CAPTURA!N274","v":0},{"$f":"HOJA_CAPTURA!P274","v":0},{"$f":"HOJA_CAPTURA!Q274","v":"00:00:00"},{"$f":"HOJA_CAPTURA!V274","v":0},{"$f":"HOJA_CAPTURA!AF274","v":0},{"$f":"HOJA_CAPTURA!AG274","v":0},{"$f":"HOJA_CAPTURA!AH274","v":0},{"$f":"HOJA_CAPTURA!AI274","v":0},{"$f":"HOJA_CAPTURA!AJ274","v":0},{"$f":"HOJA_CAPTURA!AK274","v":0},{"$f":"HOJA_CAPTURA!AL274","v":0},{"$f":"HOJA_CAPTURA!AT274","v":0},{"$f":"HOJA_CAPTURA!AU274","v":0}]
[null,null,null,null,null,{"$f":"HOJA_CAPTURA!R274","v":"00:00:00"}]
[]
[{"$f":"HOJA_CAPTURA!F272","v":0},null,null,null,null,null,null,null,null,{"$f":"HOJA_CAPTURA!E272","v":0}]
["Nombre, firma y cargo de la persona que elaboró",null,null,null,null,null,null,null,null,"Nombre y firma del titular del Área productora"]
[null,"           "]
[]
[]
[]
[]
["Nombre de la dependencia o entidad: ",null,null,null,"Instituto Nacional de Pediatria ",null,null,null,null,null,null,null,null,"Hoja: 69 de",{"$f":"O5","v":0}]
["Unidad administrativa/Área productora:",null,null,null,{"$f":"HOJA_CAPTURA!C276","v":0}]
["Fondo: INP ",null,"Sección:",{"$f":"HOJA_CAPTURA!G276","v":0},null,null,"Serie: ",{"$f":"HOJA_CAPTURA!H276","v":0}]
[null,null,null,null,null,null,"Subserie:",null,{"$f":"HOJA_CAPTURA!I276","v":0}]
["No. Consecutivo","No. de caja","No. de expediente","Clasificación archivística del expediente","Descripción o asunto ","                                                                                                                                                                                                                                                          Periodo de trámite","No.  de folios ","Valor documental",null,null,"Vigencia documental",null,null,"Condiciones de acceso (Reservada y confidencial)","Ubicación topográfica","Tradición documental "]
[null,null,null,null,null,null,null,"A","L","F/C","AT","AC","Total"]
[{"$f":"HOJA_CAPTURA!J275","v":0},{"$f":"HOJA_CAPTURA!K275","v":0},{"$f":"HOJA_CAPTURA!M275","v":0},{"$f":"HOJA_CAPTURA!N275","v":0},{"$f":"HOJA_CAPTURA!P275","v":0},{"$f":"HOJA_CAPTURA!Q275","v":"00:00:00"},{"$f":"HOJA_CAPTURA!V275","v":0},{"$f":"HOJA_CAPTURA!AF275","v":0},{"$f":"HOJA_CAPTURA!AG275","v":0},{"$f":"HOJA_CAPTURA!AH275","v":0},{"$f":"HOJA_CAPTURA!AI275","v":0},{"$f":"HOJA_CAPTURA!AJ275","v":0},{"$f":"HOJA_CAPTURA!AK275","v":0},{"$f":"HOJA_CAPTURA!AL275","v":0},{"$f":"HOJA_CAPTURA!AT275","v":0},{"$f":"HOJA_CAPTURA!AU275","v":0}]
[null,null,null,null,null,{"$f":"HOJA_CAPTURA!R275","v":"00:00:00"}]
[{"$f":"HOJA_CAPTURA!J276","v":0},{"$f":"HOJA_CAPTURA!K276","v":0},{"$f":"HOJA_CAPTURA!M276","v":0},{"$f":"HOJA_CAPTURA!N276","v":0},{"$f":"HOJA_CAPTURA!P276","v":0},{"$f":"HOJA_CAPTURA!Q276","v":"00:00:00"},{"$f":"HOJA_CAPTURA!V276","v":0},{"$f":"HOJA_CAPTURA!AF276","v":0},{"$f":"HOJA_CAPTURA!AG276","v":0},{"$f":"HOJA_CAPTURA!AH276","v":0},{"$f":"HOJA_CAPTURA!AI276","v":0},{"$f":"HOJA_CAPTURA!AJ276","v":0},{"$f":"HOJA_CAPTURA!AK276","v":0},{"$f":"HOJA_CAPTURA!AL276","v":0},{"$f":"HOJA_CAPTURA!AT276","v":0},{"$f":"HOJA_CAPTURA!AU276","v":0}]
[null,null,null,null,null,{"$f":"HOJA_CAPTURA!R276","v":"00:00:00"}]
[{"$f":"HOJA_CAPTURA!J277","v":0},{"$f":"HOJA_CAPTURA!K277","v":0},{"$f":"HOJA_CAPTURA!M277","v":0},{"$f":"HOJA_CAPTURA!N277","v":0},{"$f":"HOJA_CAPTURA!P277","v":0},{"$f":"HOJA_CAPTURA!Q277","v":"00:00:00"},{"$f":"HOJA_CAPTURA!V277","v":0},{"$f":"HOJA_CAPTURA!AF277","v":0},{"$f":"HOJA_CAPTURA!AG277","v":0},{"$f":"HOJA_CAPTURA!AH277","v":0},{"$f":"HOJA_CAPTURA!AI277","v":0},{"$f":"HOJA_CAPTURA!AJ277","v":0},{"$f":"HOJA_CAPTURA!AK277","v":0},{"$f":"HOJA_CAPTURA!AL277","v":0},{"$f":"HOJA_CAPTURA!AT277","v":0},{"$f":"HOJA_CAPTURA!AU277","v":0}]
[null,null,null,null,null,{"$f":"HOJA_CAPTURA!R277","v":"00:00:00"}]
[{"$f":"HOJA_CAPTURA!J278","v":0},{"$f":"HOJA_CAPTURA!K278","v":0},{"$f":"HOJA_CAPTURA!M278","v":0},{"$f":"HOJA_CAPTURA!N278","v":0},{"$f":"HOJA_CAPTURA!P278","v":0},{"$f":"HOJA_CAPTURA!Q278","v":"00:00:00"},{"$f":"HOJA_CAPTURA!V278","v":0},{"$f":"HOJA_CAPTURA!AF278","v":0},{"$f":"HOJA_CAPTURA!AG278","v":0},{"$f":"HOJA_CAPTURA!AH278","v":0},{"$f":"HOJA_CAPTURA!AI278","v":0},{"$f":"HOJA_CAPTURA!AJ278","v":0},{"$f":"HOJA_CAPTURA!AK278","v":0},{"$f":"HOJA_CAPTURA!AL278","v":0},{"$f":"HOJA_CAPTURA!AT278","v":0},{"$f":"HOJA_CAPTURA!AU278","v":0}]
[null,null,null,null,null,{"$f":"HOJA_CAPTURA!R278","v":"00:00:00"}]
[]
[{"$f":"HOJA_CAPTURA!F276","v":0},null,null,null,null,null,null,null,null,{"$f":"HOJA_CAPTURA!E276","v":0}]
["Nombre, firma y cargo de la persona que elaboró",null,null,null,null,null,null,null,null,"Nombre y firma del titular del Área productora"]
[null,"           "]
[]
[]
[]
[]
["Nombre de la dependencia o entidad: ",null,null,null,"Instituto Nacional de Pediatria ",null,null,null,null,null,null,null,null,"Hoja: 70 de",{"$f":"O5","v":0}]
["Unidad administrativa/Área productora:",null,null,null,{"$f":"HOJA_CAPTURA!C280","v":0}]
["Fondo: INP ",null,"Sección:",{"$f":"HOJA_CAPTURA!G280","v":0},null,null,"Serie: ",{"$f":"HOJA_CAPTURA!H280","v":0}]
[null,null,null,null,null,null,"Subserie:",null,{"$f":"HOJA_CAPTURA!I280","v":0}]
["No. Consecutivo","No. de caja","No. de expediente","Clasificación archivística del expediente","Descripción o asunto ","                                                                                                                                                                                                                                                          Periodo de trámite","No.  de folios ","Valor documental",null,null,"Vigencia documental",null,null,"Condiciones de acceso (Reservada y confidencial)","Ubicación topográfica","Tradición documental "]
[null,null,null,null,null,null,null,"A","L","F/C","AT","AC","Total"]
[{"$f":"HOJA_CAPTURA!J279","v":0},{"$f":"HOJA_CAPTURA!K279","v":0},{"$f":"HOJA_CAPTURA!M279","v":0},{"$f":"HOJA_CAPTURA!N279","v":0},{"$f":"HOJA_CAPTURA!P279","v":0},{"$f":"HOJA_CAPTURA!Q279","v":"00:00:00"},{"$f":"HOJA_CAPTURA!V279","v":0},{"$f":"HOJA_CAPTURA!AF279","v":0},{"$f":"HOJA_CAPTURA!AG279","v":0},{"$f":"HOJA_CAPTURA!AH279","v":0},{"$f":"HOJA_CAPTURA!AI279","v":0},{"$f":"HOJA_CAPTURA!AJ279","v":0},{"$f":"HOJA_CAPTURA!AK279","v":0},{"$f":"HOJA_CAPTURA!AL279","v":0},{"$f":"HOJA_CAPTURA!AT279","v":0},{"$f":"HOJA_CAPTURA!AU279","v":0}]
[null,null,null,null,null,{"$f":"HOJA_CAPTURA!R279","v":"00:00:00"}]
[{"$f":"HOJA_CAPTURA!J280","v":0},{"$f":"HOJA_CAPTURA!K280","v":0},{"$f":"HOJA_CAPTURA!M280","v":0},{"$f":"HOJA_CAPTURA!N280","v":0},{"$f":"HOJA_CAPTURA!P280","v":0},{"$f":"HOJA_CAPTURA!Q280","v":"00:00:00"},{"$f":"HOJA_CAPTURA!V280","v":0},{"$f":"HOJA_CAPTURA!AF280","v":0},{"$f":"HOJA_CAPTURA!AG280","v":0},{"$f":"HOJA_CAPTURA!AH280","v":0},{"$f":"HOJA_CAPTURA!AI280","v":0},{"$f":"HOJA_CAPTURA!AJ280","v":0},{"$f":"HOJA_CAPTURA!AK280","v":0},{"$f":"HOJA_CAPTURA!AL280","v":0},{"$f":"HOJA_CAPTURA!AT280","v":0},{"$f":"HOJA_CAPTURA!AU280","v":0}]
[null,null,null,null,null,{"$f":"HOJA_CAPTURA!R280","v":"00:00:00"}]
[{"$f":"HOJA_CAPTURA!J281","v":0},{"$f":"HOJA_CAPTURA!K281","v":0},{"$f":"HOJA_CAPTURA!M281","v":0},{"$f":"HOJA_CAPTURA!N281","v":0},{"$f":"HOJA_CAPTURA!P281","v":0},{"$f":"HOJA_CAPTURA!Q281","v":"00:00:00"},{"$f":"HOJA_CAPTURA!V281","v":0},{"$f":"HOJA_CAPTURA!AF281","v":0},{"$f":"HOJA_CAPTURA!AG281","v":0},{"$f":"HOJA_CAPTURA!AH281","v":0},{"$f":"HOJA_CAPTURA!AI281","v":0},{"$f":"HOJA_CAPTURA!AJ281","v":0},{"$f":"HOJA_CAPTURA!AK281","v":0},{"$f":"HOJA_CAPTURA!AL281","v":0},{"$f":"HOJA_CAPTURA!AT281","v":0},{"$f":"HOJA_CAPTURA!AU281","v":0}]
[null,null,null,null,null,{"$f":"HOJA_CAPTURA!R281","v":"00:00:00"}]
[{"$f":"HOJA_CAPTURA!J282","v":0},{"$f":"HOJA_CAPTURA!K282","v":0},{"$f":"HOJA_CAPTURA!M282","v":0},{"$f":"HOJA_CAPTURA!N282","v":0},{"$f":"HOJA_CAPTURA!P282","v":0},{"$f":"HOJA_CAPTURA!Q282","v":"00:00:00"},{"$f":"HOJA_CAPTURA!V282","v":0},{"$f":"HOJA_CAPTURA!AF282","v":0},{"$f":"HOJA_CAPTURA!AG282","v":0},{"$f":"HOJA_CAPTURA!AH282","v":0},{"$f":"HOJA_CAPTURA!AI282","v":0},{"$f":"HOJA_CAPTURA!AJ282","v":0},{"$f":"HOJA_CAPTURA!AK282","v":0},{"$f":"HOJA_CAPTURA!AL282","v":0},{"$f":"HOJA_CAPTURA!AT282","v":0},{"$f":"HOJA_CAPTURA!AU282","v":0}]
[null,null,null,null,null,{"$f":"HOJA_CAPTURA!R282","v":"00:00:00"}]
[]
[{"$f":"HOJA_CAPTURA!F283","v":0},null,null,null,null,null,null,null,null,{"$f":"HOJA_CAPTURA!E283","v":0}]
["Nombre, firma y cargo de la persona que elaboró",null,null,null,null,null,null,null,null,"Nombre y firma del titular del Área productora"]
[null,"           "]
[]
[]
[]
[]
["Nombre de la dependencia o entidad: ",null,null,null,"Instituto Nacional de Pediatria ",null,null,null,null,null,null,null,null,"Hoja: 71 de",{"$f":"O5","v":0}]
["Unidad administrativa/Área productora:",null,null,null,{"$f":"HOJA_CAPTURA!C284","v":0}]
["Fondo: INP ",null,"Sección:",{"$f":"HOJA_CAPTURA!G284","v":0},null,null,"Serie: ",{"$f":"HOJA_CAPTURA!H284","v":0}]
[null,null,null,null,null,null,"Subserie:",null,{"$f":"HOJA_CAPTURA!I284","v":0}]
["No. Consecutivo","No. de caja","No. de expediente","Clasificación archivística del expediente","Descripción o asunto ","                                                                                                                                                                                                                                                          Periodo de trámite","No.  de folios ","Valor documental",null,null,"Vigencia documental",null,null,"Condiciones de acceso (Reservada y confidencial)","Ubicación topográfica","Tradición documental "]
[null,null,null,null,null,null,null,"A","L","F/C","AT","AC","Total"]
[{"$f":"HOJA_CAPTURA!J283","v":0},{"$f":"HOJA_CAPTURA!K283","v":0},{"$f":"HOJA_CAPTURA!M283","v":0},{"$f":"HOJA_CAPTURA!N283","v":0},{"$f":"HOJA_CAPTURA!P283","v":0},{"$f":"HOJA_CAPTURA!Q283","v":"00:00:00"},{"$f":"HOJA_CAPTURA!V283","v":0},{"$f":"HOJA_CAPTURA!AF283","v":0},{"$f":"HOJA_CAPTURA!AG283","v":0},{"$f":"HOJA_CAPTURA!AH283","v":0},{"$f":"HOJA_CAPTURA!AI283","v":0},{"$f":"HOJA_CAPTURA!AJ283","v":0},{"$f":"HOJA_CAPTURA!AK283","v":0},{"$f":"HOJA_CAPTURA!AL283","v":0},{"$f":"HOJA_CAPTURA!AT283","v":0},{"$f":"HOJA_CAPTURA!AU283","v":0}]
[null,null,null,null,null,{"$f":"HOJA_CAPTURA!R283","v":"00:00:00"}]
[{"$f":"HOJA_CAPTURA!J284","v":0},{"$f":"HOJA_CAPTURA!K284","v":0},{"$f":"HOJA_CAPTURA!M284","v":0},{"$f":"HOJA_CAPTURA!N284","v":0},{"$f":"HOJA_CAPTURA!P284","v":0},{"$f":"HOJA_CAPTURA!Q284","v":"00:00:00"},{"$f":"HOJA_CAPTURA!V284","v":0},{"$f":"HOJA_CAPTURA!AF284","v":0},{"$f":"HOJA_CAPTURA!AG284","v":0},{"$f":"HOJA_CAPTURA!AH284","v":0},{"$f":"HOJA_CAPTURA!AI284","v":0},{"$f":"HOJA_CAPTURA!AJ284","v":0},{"$f":"HOJA_CAPTURA!AK284","v":0},{"$f":"HOJA_CAPTURA!AL284","v":0},{"$f":"HOJA_CAPTURA!AT284","v":0},{"$f":"HOJA_CAPTURA!AU284","v":0}]
[null,null,null,null,null,{"$f":"HOJA_CAPTURA!R284","v":"00:00:00"}]
[{"$f":"HOJA_CAPTURA!J285","v":0},{"$f":"HOJA_CAPTURA!K285","v":0},{"$f":"HOJA_CAPTURA!M285","v":0},{"$f":"HOJA_CAPTURA!N285","v":0},{"$f":"HOJA_CAPTURA!P285","v":0},{"$f":"HOJA_CAPTURA!Q285","v":"00:00:00"},{"$f":"HOJA_CAPTURA!V285","v":0},{"$f":"HOJA_CAPTURA!AF285","v":0},{"$f":"HOJA_CAPTURA!AG285","v":0},{"$f":"HOJA_CAPTURA!AH285","v":0},{"$f":"HOJA_CAPTURA!AI285","v":0},{"$f":"HOJA_CAPTURA!AJ285","v":0},{"$f":"HOJA_CAPTURA!AK285","v":0},{"$f":"HOJA_CAPTURA!AL285","v":0},{"$f":"HOJA_CAPTURA!AT285","v":0},{"$f":"HOJA_CAPTURA!AU285","v":0}]
[null,null,null,null,null,{"$f":"HOJA_CAPTURA!R285","v":"00:00:00"}]
[{"$f":"HOJA_CAPTURA!J286","v":0},{"$f":"HOJA_CAPTURA!K286","v":0},{"$f":"HOJA_CAPTURA!M286","v":0},{"$f":"HOJA_CAPTURA!N286","v":0},{"$f":"HOJA_CAPTURA!P286","v":0},{"$f":"HOJA_CAPTURA!Q286","v":"00:00:00"},{"$f":"HOJA_CAPTURA!V286","v":0},{"$f":"HOJA_CAPTURA!AF286","v":0},{"$f":"HOJA_CAPTURA!AG286","v":0},{"$f":"HOJA_CAPTURA!AH286","v":0},{"$f":"HOJA_CAPTURA!AI286","v":0},{"$f":"HOJA_CAPTURA!AJ286","v":0},{"$f":"HOJA_CAPTURA!AK286","v":0},{"$f":"HOJA_CAPTURA!AL286","v":0},{"$f":"HOJA_CAPTURA!AT286","v":0},{"$f":"HOJA_CAPTURA!AU286","v":0}]
[null,null,null,null,null,{"$f":"HOJA_CAPTURA!R286","v":"00:00:00"}]
[]
[{"$f":"HOJA_CAPTURA!F284","v":0},null,null,null,null,null,null,null,null,{"$f":"HOJA_CAPTURA!E284","v":0}]
["Nombre, firma y cargo de la persona que elaboró",null,null,null,null,null,null,null,null,"Nombre y firma del titular del Área productora"]
[null,"           "]
[]
[]
[]
[]
["Nombre de la dependencia o entidad: ",null,null,null,"Instituto Nacional de Pediatria ",null,null,null,null,null,null,null,null,"Hoja: 72 de",{"$f":"O5","v":0}]
["Unidad administrativa/Área productora:",null,null,null,{"$f":"HOJA_CAPTURA!C288","v":0}]
["Fondo: INP ",null,"Sección:",{"$f":"HOJA_CAPTURA!G288","v":0},null,null,"Serie: ",{"$f":"HOJA_CAPTURA!H288","v":0}]
[null,null,null,null,null,null,"Subserie:",null,{"$f":"HOJA_CAPTURA!I288","v":0}]
["No. Consecutivo","No. de caja","No. de expediente","Clasificación archivística del expediente","Descripción o asunto ","                                                                                                                                                                                                                                                          Periodo de trámite","No.  de folios ","Valor documental",null,null,"Vigencia documental",null,null,"Condiciones de acceso (Reservada y confidencial)","Ubicación topográfica","Tradición documental "]
[null,null,null,null,null,null,null,"A","L","F/C","AT","AC","Total"]
[{"$f":"HOJA_CAPTURA!J287","v":0},{"$f":"HOJA_CAPTURA!K287","v":0},{"$f":"HOJA_CAPTURA!M287","v":0},{"$f":"HOJA_CAPTURA!N287","v":0},{"$f":"HOJA_CAPTURA!P287","v":0},{"$f":"HOJA_CAPTURA!Q287","v":"00:00:00"},{"$f":"HOJA_CAPTURA!V287","v":0},{"$f":"HOJA_CAPTURA!AF287","v":0},{"$f":"HOJA_CAPTURA!AG287","v":0},{"$f":"HOJA_CAPTURA!AH287","v":0},{"$f":"HOJA_CAPTURA!AI287","v":0},{"$f":"HOJA_CAPTURA!AJ287","v":0},{"$f":"HOJA_CAPTURA!AK287","v":0},{"$f":"HOJA_CAPTURA!AL287","v":0},{"$f":"HOJA_CAPTURA!AT287","v":0},{"$f":"HOJA_CAPTURA!AU287","v":0}]
[null,null,null,null,null,{"$f":"HOJA_CAPTURA!R287","v":"00:00:00"}]
[{"$f":"HOJA_CAPTURA!J288","v":0},{"$f":"HOJA_CAPTURA!K288","v":0},{"$f":"HOJA_CAPTURA!M288","v":0},{"$f":"HOJA_CAPTURA!N288","v":0},{"$f":"HOJA_CAPTURA!P288","v":0},{"$f":"HOJA_CAPTURA!Q288","v":"00:00:00"},{"$f":"HOJA_CAPTURA!V288","v":0},{"$f":"HOJA_CAPTURA!AF288","v":0},{"$f":"HOJA_CAPTURA!AG288","v":0},{"$f":"HOJA_CAPTURA!AH288","v":0},{"$f":"HOJA_CAPTURA!AI288","v":0},{"$f":"HOJA_CAPTURA!AJ288","v":0},{"$f":"HOJA_CAPTURA!AK288","v":0},{"$f":"HOJA_CAPTURA!AL288","v":0},{"$f":"HOJA_CAPTURA!AT288","v":0},{"$f":"HOJA_CAPTURA!AU288","v":0}]
[null,null,null,null,null,{"$f":"HOJA_CAPTURA!R288","v":"00:00:00"}]
[{"$f":"HOJA_CAPTURA!J289","v":0},{"$f":"HOJA_CAPTURA!K289","v":0},{"$f":"HOJA_CAPTURA!M289","v":0},{"$f":"HOJA_CAPTURA!N289","v":0},{"$f":"HOJA_CAPTURA!P289","v":0},{"$f":"HOJA_CAPTURA!Q289","v":"00:00:00"},{"$f":"HOJA_CAPTURA!V289","v":0},{"$f":"HOJA_CAPTURA!AF289","v":0},{"$f":"HOJA_CAPTURA!AG289","v":0},{"$f":"HOJA_CAPTURA!AH289","v":0},{"$f":"HOJA_CAPTURA!AI289","v":0},{"$f":"HOJA_CAPTURA!AJ289","v":0},{"$f":"HOJA_CAPTURA!AK289","v":0},{"$f":"HOJA_CAPTURA!AL289","v":0},{"$f":"HOJA_CAPTURA!AT289","v":0},{"$f":"HOJA_CAPTURA!AU289","v":0}]
[null,null,null,null,null,{"$f":"HOJA_CAPTURA!R289","v":"00:00:00"}]
[{"$f":"HOJA_CAPTURA!J290","v":0},{"$f":"HOJA_CAPTURA!K290","v":0},{"$f":"HOJA_CAPTURA!M290","v":0},{"$f":"HOJA_CAPTURA!N290","v":0},{"$f":"HOJA_CAPTURA!P290","v":0},{"$f":"HOJA_CAPTURA!Q290","v":"00:00:00"},{"$f":"HOJA_CAPTURA!V290","v":0},{"$f":"HOJA_CAPTURA!AF290","v":0},{"$f":"HOJA_CAPTURA!AG290","v":0},{"$f":"HOJA_CAPTURA!AH290","v":0},{"$f":"HOJA_CAPTURA!AI290","v":0},{"$f":"HOJA_CAPTURA!AJ290","v":0},{"$f":"HOJA_CAPTURA!AK290","v":0},{"$f":"HOJA_CAPTURA!AL290","v":0},{"$f":"HOJA_CAPTURA!AT290","v":0},{"$f":"HOJA_CAPTURA!AU290","v":0}]
[null,null,null,null,null,{"$f":"HOJA_CAPTURA!R290","v":"00:00:00"}]
[]
[{"$f":"HOJA_CAPTURA!F288","v":0},null,null,null,null,null,null,null,null,{"$f":"HOJA_CAPTURA!E288","v":0}]
["Nombre, firma y cargo de la persona que elaboró",null,null,null,null,null,null,null,null,"Nombre y firma del titular del Área productora"]
[]
[]
[]
[]
[null,"           "]
["Nombre de la dependencia o entidad: ",null,null,null,"Instituto Nacional de Pediatria ",null,null,null,null,null,null,null,null,"Hoja: 73 de",{"$f":"O5","v":0}]
["Unidad administrativa/Área productora:",null,null,null,{"$f":"HOJA_CAPTURA!C292","v":0}]
["Fondo: INP ",null,"Sección:",{"$f":"HOJA_CAPTURA!G292","v":0},null,null,"Serie: ",{"$f":"HOJA_CAPTURA!H292","v":0}]
[null,null,null,null,null,null,"Subserie:",null,{"$f":"HOJA_CAPTURA!I292","v":0}]
["No. Consecutivo","No. de caja","No. de expediente","Clasificación archivística del expediente","Descripción o asunto ","                                                                                                                                                                                                                                                          Periodo de trámite","No.  de folios ","Valor documental",null,null,"Vigencia documental",null,null,"Condiciones de acceso (Reservada y confidencial)","Ubicación topográfica","Tradición documental "]
[null,null,null,null,null,null,null,"A","L","F/C","AT","AC","Total"]
[{"$f":"HOJA_CAPTURA!J291","v":0},{"$f":"HOJA_CAPTURA!K291","v":0},{"$f":"HOJA_CAPTURA!M291","v":0},{"$f":"HOJA_CAPTURA!N291","v":0},{"$f":"HOJA_CAPTURA!P291","v":0},{"$f":"HOJA_CAPTURA!Q291","v":"00:00:00"},{"$f":"HOJA_CAPTURA!V291","v":0},{"$f":"HOJA_CAPTURA!AF291","v":0},{"$f":"HOJA_CAPTURA!AG291","v":0},{"$f":"HOJA_CAPTURA!AH291","v":0},{"$f":"HOJA_CAPTURA!AI291","v":0},{"$f":"HOJA_CAPTURA!AJ291","v":0},{"$f":"HOJA_CAPTURA!AK291","v":0},{"$f":"HOJA_CAPTURA!AL291","v":0},{"$f":"HOJA_CAPTURA!AT291","v":0},{"$f":"HOJA_CAPTURA!AU291","v":0}]
[null,null,null,null,null,{"$f":"HOJA_CAPTURA!R291","v":"00:00:00"}]
[{"$f":"HOJA_CAPTURA!J292","v":0},{"$f":"HOJA_CAPTURA!K292","v":0},{"$f":"HOJA_CAPTURA!M292","v":0},{"$f":"HOJA_CAPTURA!N292","v":0},{"$f":"HOJA_CAPTURA!P292","v":0},{"$f":"HOJA_CAPTURA!Q292","v":"00:00:00"},{"$f":"HOJA_CAPTURA!V292","v":0},{"$f":"HOJA_CAPTURA!AF292","v":0},{"$f":"HOJA_CAPTURA!AG292","v":0},{"$f":"HOJA_CAPTURA!AH292","v":0},{"$f":"HOJA_CAPTURA!AI292","v":0},{"$f":"HOJA_CAPTURA!AJ292","v":0},{"$f":"HOJA_CAPTURA!AK292","v":0},{"$f":"HOJA_CAPTURA!AL292","v":0},{"$f":"HOJA_CAPTURA!AT292","v":0},{"$f":"HOJA_CAPTURA!AU292","v":0}]
[null,null,null,null,null,{"$f":"HOJA_CAPTURA!R292","v":"00:00:00"}]
[{"$f":"HOJA_CAPTURA!J293","v":0},{"$f":"HOJA_CAPTURA!K293","v":0},{"$f":"HOJA_CAPTURA!M293","v":0},{"$f":"HOJA_CAPTURA!N293","v":0},{"$f":"HOJA_CAPTURA!P293","v":0},{"$f":"HOJA_CAPTURA!Q293","v":"00:00:00"},{"$f":"HOJA_CAPTURA!V293","v":0},{"$f":"HOJA_CAPTURA!AF293","v":0},{"$f":"HOJA_CAPTURA!AG293","v":0},{"$f":"HOJA_CAPTURA!AH293","v":0},{"$f":"HOJA_CAPTURA!AI293","v":0},{"$f":"HOJA_CAPTURA!AJ293","v":0},{"$f":"HOJA_CAPTURA!AK293","v":0},{"$f":"HOJA_CAPTURA!AL293","v":0},{"$f":"HOJA_CAPTURA!AT293","v":0},{"$f":"HOJA_CAPTURA!AU293","v":0}]
[null,null,null,null,null,{"$f":"HOJA_CAPTURA!R293","v":"00:00:00"}]
[{"$f":"HOJA_CAPTURA!J294","v":0},{"$f":"HOJA_CAPTURA!K294","v":0},{"$f":"HOJA_CAPTURA!M294","v":0},{"$f":"HOJA_CAPTURA!N294","v":0},{"$f":"HOJA_CAPTURA!P294","v":0},{"$f":"HOJA_CAPTURA!Q294","v":"00:00:00"},{"$f":"HOJA_CAPTURA!V294","v":0},{"$f":"HOJA_CAPTURA!AF294","v":0},{"$f":"HOJA_CAPTURA!AG294","v":0},{"$f":"HOJA_CAPTURA!AH294","v":0},{"$f":"HOJA_CAPTURA!AI294","v":0},{"$f":"HOJA_CAPTURA!AJ294","v":0},{"$f":"HOJA_CAPTURA!AK294","v":0},{"$f":"HOJA_CAPTURA!AL294","v":0},{"$f":"HOJA_CAPTURA!AT294","v":0},{"$f":"HOJA_CAPTURA!AU294","v":0}]
[null,null,null,null,null,{"$f":"HOJA_CAPTURA!R294","v":"00:00:00"}]
[]
[{"$f":"HOJA_CAPTURA!F292","v":0},null,null,null,null,null,null,null,null,{"$f":"HOJA_CAPTURA!E292","v":0}]
["Nombre, firma y cargo de la persona que elaboró",null,null,null,null,null,null,null,null,"Nombre y firma del titular del Área productora"]
[null,"           "]
[]
[]
[]
[]
["Nombre de la dependencia o entidad: ",null,null,null,"Instituto Nacional de Pediatria ",null,null,null,null,null,null,null,null,"Hoja: 74 de",{"$f":"O5","v":0}]
["Unidad administrativa/Área productora:",null,null,null,{"$f":"HOJA_CAPTURA!C296","v":0}]
["Fondo: INP ",null,"Sección:",{"$f":"HOJA_CAPTURA!G296","v":0},null,null,"Serie: ",{"$f":"HOJA_CAPTURA!H296","v":0}]
[null,null,null,null,null,null,"Subserie:",null,{"$f":"HOJA_CAPTURA!I296","v":0}]
["No. Consecutivo","No. de caja","No. de expediente","Clasificación archivística del expediente","Descripción o asunto ","                                                                                                                                                                                                                                                          Periodo de trámite","No.  de folios ","Valor documental",null,null,"Vigencia documental",null,null,"Condiciones de acceso (Reservada y confidencial)","Ubicación topográfica","Tradición documental "]
[null,null,null,null,null,null,null,"A","L","F/C","AT","AC","Total"]
[{"$f":"HOJA_CAPTURA!J295","v":0},{"$f":"HOJA_CAPTURA!K295","v":0},{"$f":"HOJA_CAPTURA!M295","v":0},{"$f":"HOJA_CAPTURA!N295","v":0},{"$f":"HOJA_CAPTURA!P295","v":0},{"$f":"HOJA_CAPTURA!Q295","v":"00:00:00"},{"$f":"HOJA_CAPTURA!V295","v":0},{"$f":"HOJA_CAPTURA!AF295","v":0},{"$f":"HOJA_CAPTURA!AG295","v":0},{"$f":"HOJA_CAPTURA!AH295","v":0},{"$f":"HOJA_CAPTURA!AI295","v":0},{"$f":"HOJA_CAPTURA!AJ295","v":0},{"$f":"HOJA_CAPTURA!AK295","v":0},{"$f":"HOJA_CAPTURA!AL295","v":0},{"$f":"HOJA_CAPTURA!AT295","v":0},{"$f":"HOJA_CAPTURA!AU295","v":0}]
[null,null,null,null,null,{"$f":"HOJA_CAPTURA!R295","v":"00:00:00"}]
[{"$f":"HOJA_CAPTURA!J296","v":0},{"$f":"HOJA_CAPTURA!K296","v":0},{"$f":"HOJA_CAPTURA!M296","v":0},{"$f":"HOJA_CAPTURA!N296","v":0},{"$f":"HOJA_CAPTURA!P296","v":0},{"$f":"HOJA_CAPTURA!Q296","v":"00:00:00"},{"$f":"HOJA_CAPTURA!V296","v":0},{"$f":"HOJA_CAPTURA!AF296","v":0},{"$f":"HOJA_CAPTURA!AG296","v":0},{"$f":"HOJA_CAPTURA!AH296","v":0},{"$f":"HOJA_CAPTURA!AI296","v":0},{"$f":"HOJA_CAPTURA!AJ296","v":0},{"$f":"HOJA_CAPTURA!AK296","v":0},{"$f":"HOJA_CAPTURA!AL296","v":0},{"$f":"HOJA_CAPTURA!AT296","v":0},{"$f":"HOJA_CAPTURA!AU296","v":0}]
[null,null,null,null,null,{"$f":"HOJA_CAPTURA!R296","v":"00:00:00"}]
[{"$f":"HOJA_CAPTURA!J297","v":0},{"$f":"HOJA_CAPTURA!K297","v":0},{"$f":"HOJA_CAPTURA!M297","v":0},{"$f":"HOJA_CAPTURA!N297","v":0},{"$f":"HOJA_CAPTURA!P297","v":0},{"$f":"HOJA_CAPTURA!Q297","v":"00:00:00"},{"$f":"HOJA_CAPTURA!V297","v":0},{"$f":"HOJA_CAPTURA!AF297","v":0},{"$f":"HOJA_CAPTURA!AG297","v":0},{"$f":"HOJA_CAPTURA!AH297","v":0},{"$f":"HOJA_CAPTURA!AI297","v":0},{"$f":"HOJA_CAPTURA!AJ297","v":0},{"$f":"HOJA_CAPTURA!AK297","v":0},{"$f":"HOJA_CAPTURA!AL297","v":0},{"$f":"HOJA_CAPTURA!AT297","v":0},{"$f":"HOJA_CAPTURA!AU297","v":0}]
[null,null,null,null,null,{"$f":"HOJA_CAPTURA!R297","v":"00:00:00"}]
[{"$f":"HOJA_CAPTURA!J298","v":0},{"$f":"HOJA_CAPTURA!K298","v":0},{"$f":"HOJA_CAPTURA!M298","v":0},{"$f":"HOJA_CAPTURA!N298","v":0},{"$f":"HOJA_CAPTURA!P298","v":0},{"$f":"HOJA_CAPTURA!Q298","v":"00:00:00"},{"$f":"HOJA_CAPTURA!V298","v":0},{"$f":"HOJA_CAPTURA!AF298","v":0},{"$f":"HOJA_CAPTURA!AG298","v":0},{"$f":"HOJA_CAPTURA!AH298","v":0},{"$f":"HOJA_CAPTURA!AI298","v":0},{"$f":"HOJA_CAPTURA!AJ298","v":0},{"$f":"HOJA_CAPTURA!AK298","v":0},{"$f":"HOJA_CAPTURA!AL298","v":0},{"$f":"HOJA_CAPTURA!AT298","v":0},{"$f":"HOJA_CAPTURA!AU298","v":0}]
[null,null,null,null,null,{"$f":"HOJA_CAPTURA!R298","v":"00:00:00"}]
[]
[{"$f":"HOJA_CAPTURA!F296","v":0},null,null,null,null,null,null,null,null,{"$f":"HOJA_CAPTURA!E296","v":0}]
["Nombre, firma y cargo de la persona que elaboró",null,null,null,null,null,null,null,null,"Nombre y firma del titular del Área productora"]
[null,"           "]
[]
[]
[]
[]
["Nombre de la dependencia o entidad: ",null,null,null,"Instituto Nacional de Pediatria ",null,null,null,null,null,null,null,null,"Hoja: 75 de",{"$f":"O5","v":0}]
["Unidad administrativa/Área productora:",null,null,null,{"$f":"HOJA_CAPTURA!C300","v":0}]
["Fondo: INP ",null,"Sección:",{"$f":"HOJA_CAPTURA!G300","v":0},null,null,"Serie: ",{"$f":"HOJA_CAPTURA!H300","v":0}]
[null,null,null,null,null,null,"Subserie:",null,{"$f":"HOJA_CAPTURA!I300","v":0}]
["No. Consecutivo","No. de caja","No. de expediente","Clasificación archivística del expediente","Descripción o asunto ","                                                                                                                                                                                                                                                          Periodo de trámite","No.  de folios ","Valor documental",null,null,"Vigencia documental",null,null,"Condiciones de acceso (Reservada y confidencial)","Ubicación topográfica","Tradición documental "]
[null,null,null,null,null,null,null,"A","L","F/C","AT","AC","Total"]
[{"$f":"HOJA_CAPTURA!J299","v":0},{"$f":"HOJA_CAPTURA!K299","v":0},{"$f":"HOJA_CAPTURA!M299","v":0},{"$f":"HOJA_CAPTURA!N299","v":0},{"$f":"HOJA_CAPTURA!P299","v":0},{"$f":"HOJA_CAPTURA!Q299","v":"00:00:00"},{"$f":"HOJA_CAPTURA!V299","v":0},{"$f":"HOJA_CAPTURA!AF299","v":0},{"$f":"HOJA_CAPTURA!AG299","v":0},{"$f":"HOJA_CAPTURA!AH299","v":0},{"$f":"HOJA_CAPTURA!AI299","v":0},{"$f":"HOJA_CAPTURA!AJ299","v":0},{"$f":"HOJA_CAPTURA!AK299","v":0},{"$f":"HOJA_CAPTURA!AL299","v":0},{"$f":"HOJA_CAPTURA!AT299","v":0},{"$f":"HOJA_CAPTURA!AU299","v":0}]
[null,null,null,null,null,{"$f":"HOJA_CAPTURA!R299","v":"00:00:00"}]
[{"$f":"HOJA_CAPTURA!J300","v":0},{"$f":"HOJA_CAPTURA!K300","v":0},{"$f":"HOJA_CAPTURA!M300","v":0},{"$f":"HOJA_CAPTURA!N300","v":0},{"$f":"HOJA_CAPTURA!P300","v":0},{"$f":"HOJA_CAPTURA!Q300","v":"00:00:00"},{"$f":"HOJA_CAPTURA!V300","v":0},{"$f":"HOJA_CAPTURA!AF300","v":0},{"$f":"HOJA_CAPTURA!AG300","v":0},{"$f":"HOJA_CAPTURA!AH300","v":0},{"$f":"HOJA_CAPTURA!AI300","v":0},{"$f":"HOJA_CAPTURA!AJ300","v":0},{"$f":"HOJA_CAPTURA!AK300","v":0},{"$f":"HOJA_CAPTURA!AL300","v":0},{"$f":"HOJA_CAPTURA!AT300","v":0},{"$f":"HOJA_CAPTURA!AU300","v":0}]
[null,null,null,null,null,{"$f":"HOJA_CAPTURA!R300","v":"00:00:00"}]
[{"$f":"HOJA_CAPTURA!J301","v":0},{"$f":"HOJA_CAPTURA!K301","v":0},{"$f":"HOJA_CAPTURA!M301","v":0},{"$f":"HOJA_CAPTURA!N301","v":0},{"$f":"HOJA_CAPTURA!P301","v":0},{"$f":"HOJA_CAPTURA!Q301","v":"00:00:00"},{"$f":"HOJA_CAPTURA!V301","v":0},{"$f":"HOJA_CAPTURA!AF301","v":0},{"$f":"HOJA_CAPTURA!AG301","v":0},{"$f":"HOJA_CAPTURA!AH301","v":0},{"$f":"HOJA_CAPTURA!AI301","v":0},{"$f":"HOJA_CAPTURA!AJ301","v":0},{"$f":"HOJA_CAPTURA!AK301","v":0},{"$f":"HOJA_CAPTURA!AL301","v":0},{"$f":"HOJA_CAPTURA!AT301","v":0},{"$f":"HOJA_CAPTURA!AU301","v":0}]
[null,null,null,null,null,{"$f":"HOJA_CAPTURA!R301","v":"00:00:00"}]
[{"$f":"HOJA_CAPTURA!J302","v":0},{"$f":"HOJA_CAPTURA!K302","v":0},{"$f":"HOJA_CAPTURA!M302","v":0},{"$f":"HOJA_CAPTURA!N302","v":0},{"$f":"HOJA_CAPTURA!P302","v":0},{"$f":"HOJA_CAPTURA!Q302","v":"00:00:00"},{"$f":"HOJA_CAPTURA!V302","v":0},{"$f":"HOJA_CAPTURA!AF302","v":0},{"$f":"HOJA_CAPTURA!AG302","v":0},{"$f":"HOJA_CAPTURA!AH302","v":0},{"$f":"HOJA_CAPTURA!AI302","v":0},{"$f":"HOJA_CAPTURA!AJ302","v":0},{"$f":"HOJA_CAPTURA!AK302","v":0},{"$f":"HOJA_CAPTURA!AL302","v":0},{"$f":"HOJA_CAPTURA!AT302","v":0},{"$f":"HOJA_CAPTURA!AU302","v":0}]
[null,null,null,null,null,{"$f":"HOJA_CAPTURA!R302","v":"00:00:00"}]
[]
[{"$f":"HOJA_CAPTURA!F300","v":0},null,null,null,null,null,null,null,null,{"$f":"HOJA_CAPTURA!E300","v":0}]
["Nombre, firma y cargo de la persona que elaboró",null,null,null,null,null,null,null,null,"Nombre y firma del titular del Área productora"]
[null,"           "]
[]
[]
[]
[]
["Nombre de la dependencia o entidad: ",null,null,null,"Instituto Nacional de Pediatria ",null,null,null,null,null,null,null,null,"Hoja: 76 de",{"$f":"O5","v":0}]
["Unidad administrativa/Área productora:",null,null,null,{"$f":"HOJA_CAPTURA!C304","v":0}]
["Fondo: INP ",null,"Sección:",{"$f":"HOJA_CAPTURA!G304","v":0},null,null,"Serie: ",{"$f":"HOJA_CAPTURA!H304","v":0}]
[null,null,null,null,null,null,"Subserie:",null,{"$f":"HOJA_CAPTURA!I304","v":0}]
["No. Consecutivo","No. de caja","No. de expediente","Clasificación archivística del expediente","Descripción o asunto ","                                                                                                                                                                                                                                                          Periodo de trámite","No.  de folios ","Valor documental",null,null,"Vigencia documental",null,null,"Condiciones de acceso (Reservada y confidencial)","Ubicación topográfica","Tradición documental "]
[null,null,null,null,null,null,null,"A","L","F/C","AT","AC","Total"]
[{"$f":"HOJA_CAPTURA!J303","v":0},{"$f":"HOJA_CAPTURA!K303","v":0},{"$f":"HOJA_CAPTURA!M303","v":0},{"$f":"HOJA_CAPTURA!N303","v":0},{"$f":"HOJA_CAPTURA!P303","v":0},{"$f":"HOJA_CAPTURA!Q303","v":"00:00:00"},{"$f":"HOJA_CAPTURA!V303","v":0},{"$f":"HOJA_CAPTURA!AF303","v":0},{"$f":"HOJA_CAPTURA!AG303","v":0},{"$f":"HOJA_CAPTURA!AH303","v":0},{"$f":"HOJA_CAPTURA!AI303","v":0},{"$f":"HOJA_CAPTURA!AJ303","v":0},{"$f":"HOJA_CAPTURA!AK303","v":0},{"$f":"HOJA_CAPTURA!AL303","v":0},{"$f":"HOJA_CAPTURA!AT303","v":0},{"$f":"HOJA_CAPTURA!AU303","v":0}]
[null,null,null,null,null,{"$f":"HOJA_CAPTURA!R303","v":"00:00:00"}]
[{"$f":"HOJA_CAPTURA!J304","v":0},{"$f":"HOJA_CAPTURA!K304","v":0},{"$f":"HOJA_CAPTURA!M304","v":0},{"$f":"HOJA_CAPTURA!N304","v":0},{"$f":"HOJA_CAPTURA!P304","v":0},{"$f":"HOJA_CAPTURA!Q304","v":"00:00:00"},{"$f":"HOJA_CAPTURA!V304","v":0},{"$f":"HOJA_CAPTURA!AF304","v":0},{"$f":"HOJA_CAPTURA!AG304","v":0},{"$f":"HOJA_CAPTURA!AH304","v":0},{"$f":"HOJA_CAPTURA!AI304","v":0},{"$f":"HOJA_CAPTURA!AJ304","v":0},{"$f":"HOJA_CAPTURA!AK304","v":0},{"$f":"HOJA_CAPTURA!AL304","v":0},{"$f":"HOJA_CAPTURA!AT304","v":0},{"$f":"HOJA_CAPTURA!AU304","v":0}]
[null,null,null,null,null,{"$f":"HOJA_CAPTURA!R304","v":"00:00:00"}]
[{"$f":"HOJA_CAPTURA!J305","v":0},{"$f":"HOJA_CAPTURA!K305","v":0},{"$f":"HOJA_CAPTURA!M305","v":0},{"$f":"HOJA_CAPTURA!N305","v":0},{"$f":"HOJA_CAPTURA!P305","v":0},{"$f":"HOJA_CAPTURA!Q305","v":"00:00:00"},{"$f":"HOJA_CAPTURA!V305","v":0},{"$f":"HOJA_CAPTURA!AF305","v":0},{"$f":"HOJA_CAPTURA!AG305","v":0},{"$f":"HOJA_CAPTURA!AH305","v":0},{"$f":"HOJA_CAPTURA!AI305","v":0},{"$f":"HOJA_CAPTURA!AJ305","v":0},{"$f":"HOJA_CAPTURA!AK305","v":0},{"$f":"HOJA_CAPTURA!AL305","v":0},{"$f":"HOJA_CAPTURA!AT305","v":0},{"$f":"HOJA_CAPTURA!AU305","v":0}]
[null,null,null,null,null,{"$f":"HOJA_CAPTURA!R305","v":"00:00:00"}]
[{"$f":"HOJA_CAPTURA!J306","v":0},{"$f":"HOJA_CAPTURA!K306","v":0},{"$f":"HOJA_CAPTURA!M306","v":0},{"$f":"HOJA_CAPTURA!N306","v":0},{"$f":"HOJA_CAPTURA!P306","v":0},{"$f":"HOJA_CAPTURA!Q306","v":"00:00:00"},{"$f":"HOJA_CAPTURA!V306","v":0},{"$f":"HOJA_CAPTURA!AF306","v":0},{"$f":"HOJA_CAPTURA!AG306","v":0},{"$f":"HOJA_CAPTURA!AH306","v":0},{"$f":"HOJA_CAPTURA!AI306","v":0},{"$f":"HOJA_CAPTURA!AJ306","v":0},{"$f":"HOJA_CAPTURA!AK306","v":0},{"$f":"HOJA_CAPTURA!AL306","v":0},{"$f":"HOJA_CAPTURA!AT306","v":0},{"$f":"HOJA_CAPTURA!AU306","v":0}]
[null,null,null,null,null,{"$f":"HOJA_CAPTURA!R306","v":"00:00:00"}]
[]
[{"$f":"HOJA_CAPTURA!F304","v":0},null,null,null,null,null,null,null,null,{"$f":"HOJA_CAPTURA!E304","v":0}]
["Nombre, firma y cargo de la persona que elaboró",null,null,null,null,null,null,null,null,"Nombre y firma del titular del Área productora"]
[null,"           "]
[]
[]
[]
[]
["Nombre de la dependencia o entidad: ",null,null,null,"Instituto Nacional de Pediatria ",null,null,null,null,null,null,null,null,"Hoja: 77 de",{"$f":"O5","v":0}]
["Unidad administrativa/Área productora:",null,null,null,{"$f":"HOJA_CAPTURA!C308","v":0}]
["Fondo: INP ",null,"Sección:",{"$f":"HOJA_CAPTURA!G308","v":0},null,null,"Serie: ",{"$f":"HOJA_CAPTURA!H308","v":0}]
[null,null,null,null,null,null,"Subserie:",null,{"$f":"HOJA_CAPTURA!I308","v":0}]
["No. Consecutivo","No. de caja","No. de expediente","Clasificación archivística del expediente","Descripción o asunto ","                                                                                                                                                                                                                                                          Periodo de trámite","No.  de folios ","Valor documental",null,null,"Vigencia documental",null,null,"Condiciones de acceso (Reservada y confidencial)","Ubicación topográfica","Tradición documental "]
[null,null,null,null,null,null,null,"A","L","F/C","AT","AC","Total"]
[{"$f":"HOJA_CAPTURA!J307","v":0},{"$f":"HOJA_CAPTURA!K307","v":0},{"$f":"HOJA_CAPTURA!M307","v":0},{"$f":"HOJA_CAPTURA!N307","v":0},{"$f":"HOJA_CAPTURA!P307","v":0},{"$f":"HOJA_CAPTURA!Q307","v":"00:00:00"},{"$f":"HOJA_CAPTURA!V307","v":0},{"$f":"HOJA_CAPTURA!AF307","v":0},{"$f":"HOJA_CAPTURA!AG307","v":0},{"$f":"HOJA_CAPTURA!AH307","v":0},{"$f":"HOJA_CAPTURA!AI307","v":0},{"$f":"HOJA_CAPTURA!AJ307","v":0},{"$f":"HOJA_CAPTURA!AK307","v":0},{"$f":"HOJA_CAPTURA!AL307","v":0},{"$f":"HOJA_CAPTURA!AT307","v":0},{"$f":"HOJA_CAPTURA!AU307","v":0}]
[null,null,null,null,null,{"$f":"HOJA_CAPTURA!R307","v":"00:00:00"}]
[{"$f":"HOJA_CAPTURA!J308","v":0},{"$f":"HOJA_CAPTURA!K308","v":0},{"$f":"HOJA_CAPTURA!M308","v":0},{"$f":"HOJA_CAPTURA!N308","v":0},{"$f":"HOJA_CAPTURA!P308","v":0},{"$f":"HOJA_CAPTURA!Q308","v":"00:00:00"},{"$f":"HOJA_CAPTURA!V308","v":0},{"$f":"HOJA_CAPTURA!AF308","v":0},{"$f":"HOJA_CAPTURA!AG308","v":0},{"$f":"HOJA_CAPTURA!AH308","v":0},{"$f":"HOJA_CAPTURA!AI308","v":0},{"$f":"HOJA_CAPTURA!AJ308","v":0},{"$f":"HOJA_CAPTURA!AK308","v":0},{"$f":"HOJA_CAPTURA!AL308","v":0},{"$f":"HOJA_CAPTURA!AT308","v":0},{"$f":"HOJA_CAPTURA!AU308","v":0}]
[null,null,null,null,null,{"$f":"HOJA_CAPTURA!R308","v":"00:00:00"}]
[{"$f":"HOJA_CAPTURA!J309","v":0},{"$f":"HOJA_CAPTURA!K309","v":0},{"$f":"HOJA_CAPTURA!M309","v":0},{"$f":"HOJA_CAPTURA!N309","v":0},{"$f":"HOJA_CAPTURA!P309","v":0},{"$f":"HOJA_CAPTURA!Q309","v":"00:00:00"},{"$f":"HOJA_CAPTURA!V309","v":0},{"$f":"HOJA_CAPTURA!AF309","v":0},{"$f":"HOJA_CAPTURA!AG309","v":0},{"$f":"HOJA_CAPTURA!AH309","v":0},{"$f":"HOJA_CAPTURA!AI309","v":0},{"$f":"HOJA_CAPTURA!AJ309","v":0},{"$f":"HOJA_CAPTURA!AK309","v":0},{"$f":"HOJA_CAPTURA!AL309","v":0},{"$f":"HOJA_CAPTURA!AT309","v":0},{"$f":"HOJA_CAPTURA!AU309","v":0}]
[null,null,null,null,null,{"$f":"HOJA_CAPTURA!R309","v":"00:00:00"}]
[{"$f":"HOJA_CAPTURA!J310","v":0},{"$f":"HOJA_CAPTURA!K310","v":0},{"$f":"HOJA_CAPTURA!M310","v":0},{"$f":"HOJA_CAPTURA!N310","v":0},{"$f":"HOJA_CAPTURA!P310","v":0},{"$f":"HOJA_CAPTURA!Q310","v":"00:00:00"},{"$f":"HOJA_CAPTURA!V310","v":0},{"$f":"HOJA_CAPTURA!AF310","v":0},{"$f":"HOJA_CAPTURA!AG310","v":0},{"$f":"HOJA_CAPTURA!AH310","v":0},{"$f":"HOJA_CAPTURA!AI310","v":0},{"$f":"HOJA_CAPTURA!AJ310","v":0},{"$f":"HOJA_CAPTURA!AK310","v":0},{"$f":"HOJA_CAPTURA!AL310","v":0},{"$f":"HOJA_CAPTURA!AT310","v":0},{"$f":"HOJA_CAPTURA!AU310","v":0}]
[null,null,null,null,null,{"$f":"HOJA_CAPTURA!R310","v":"00:00:00"}]
[]
[{"$f":"HOJA_CAPTURA!F308","v":0},null,null,null,null,null,null,null,null,{"$f":"HOJA_CAPTURA!E308","v":0}]
["Nombre, firma y cargo de la persona que elaboró",null,null,null,null,null,null,null,null,"Nombre y firma del titular del Área productora"]
[null,"           "]
[]
[]
[]
[]
["Nombre de la dependencia o entidad: ",null,null,null,"Instituto Nacional de Pediatria ",null,null,null,null,null,null,null,null,"Hoja: 78 de",{"$f":"O5","v":0}]
["Unidad administrativa/Área productora:",null,null,null,{"$f":"HOJA_CAPTURA!C312","v":0}]
["Fondo: INP ",null,"Sección:",{"$f":"HOJA_CAPTURA!G312","v":0},null,null,"Serie: ",{"$f":"HOJA_CAPTURA!H312","v":0}]
[null,null,null,null,null,null,"Subserie:",null,{"$f":"HOJA_CAPTURA!I312","v":0}]
["No. Consecutivo","No. de caja","No. de expediente","Clasificación archivística del expediente","Descripción o asunto ","                                                                                                                                                                                                                                                          Periodo de trámite","No.  de folios ","Valor documental",null,null,"Vigencia documental",null,null,"Condiciones de acceso (Reservada y confidencial)","Ubicación topográfica","Tradición documental "]
[null,null,null,null,null,null,null,"A","L","F/C","AT","AC","Total"]
[{"$f":"HOJA_CAPTURA!J311","v":0},{"$f":"HOJA_CAPTURA!K311","v":0},{"$f":"HOJA_CAPTURA!M311","v":0},{"$f":"HOJA_CAPTURA!N311","v":0},{"$f":"HOJA_CAPTURA!P311","v":0},{"$f":"HOJA_CAPTURA!Q311","v":"00:00:00"},{"$f":"HOJA_CAPTURA!V311","v":0},{"$f":"HOJA_CAPTURA!AF311","v":0},{"$f":"HOJA_CAPTURA!AG311","v":0},{"$f":"HOJA_CAPTURA!AH311","v":0},{"$f":"HOJA_CAPTURA!AI311","v":0},{"$f":"HOJA_CAPTURA!AJ311","v":0},{"$f":"HOJA_CAPTURA!AK311","v":0},{"$f":"HOJA_CAPTURA!AL311","v":0},{"$f":"HOJA_CAPTURA!AT311","v":0},{"$f":"HOJA_CAPTURA!AU311","v":0}]
[null,null,null,null,null,{"$f":"HOJA_CAPTURA!R311","v":"00:00:00"}]
[{"$f":"HOJA_CAPTURA!J312","v":0},{"$f":"HOJA_CAPTURA!K312","v":0},{"$f":"HOJA_CAPTURA!M312","v":0},{"$f":"HOJA_CAPTURA!N312","v":0},{"$f":"HOJA_CAPTURA!P312","v":0},{"$f":"HOJA_CAPTURA!Q312","v":"00:00:00"},{"$f":"HOJA_CAPTURA!V312","v":0},{"$f":"HOJA_CAPTURA!AF312","v":0},{"$f":"HOJA_CAPTURA!AG312","v":0},{"$f":"HOJA_CAPTURA!AH312","v":0},{"$f":"HOJA_CAPTURA!AI312","v":0},{"$f":"HOJA_CAPTURA!AJ312","v":0},{"$f":"HOJA_CAPTURA!AK312","v":0},{"$f":"HOJA_CAPTURA!AL312","v":0},{"$f":"HOJA_CAPTURA!AT312","v":0},{"$f":"HOJA_CAPTURA!AU312","v":0}]
[null,null,null,null,null,{"$f":"HOJA_CAPTURA!R312","v":"00:00:00"}]
[{"$f":"HOJA_CAPTURA!J313","v":0},{"$f":"HOJA_CAPTURA!K313","v":0},{"$f":"HOJA_CAPTURA!M313","v":0},{"$f":"HOJA_CAPTURA!N313","v":0},{"$f":"HOJA_CAPTURA!P313","v":0},{"$f":"HOJA_CAPTURA!Q313","v":"00:00:00"},{"$f":"HOJA_CAPTURA!V313","v":0},{"$f":"HOJA_CAPTURA!AF313","v":0},{"$f":"HOJA_CAPTURA!AG313","v":0},{"$f":"HOJA_CAPTURA!AH313","v":0},{"$f":"HOJA_CAPTURA!AI313","v":0},{"$f":"HOJA_CAPTURA!AJ313","v":0},{"$f":"HOJA_CAPTURA!AK313","v":0},{"$f":"HOJA_CAPTURA!AL313","v":0},{"$f":"HOJA_CAPTURA!AT313","v":0},{"$f":"HOJA_CAPTURA!AU313","v":0}]
[null,null,null,null,null,{"$f":"HOJA_CAPTURA!R313","v":"00:00:00"}]
[{"$f":"HOJA_CAPTURA!J314","v":0},{"$f":"HOJA_CAPTURA!K314","v":0},{"$f":"HOJA_CAPTURA!M314","v":0},{"$f":"HOJA_CAPTURA!N314","v":0},{"$f":"HOJA_CAPTURA!P314","v":0},{"$f":"HOJA_CAPTURA!Q314","v":"00:00:00"},{"$f":"HOJA_CAPTURA!V314","v":0},{"$f":"HOJA_CAPTURA!AF314","v":0},{"$f":"HOJA_CAPTURA!AG314","v":0},{"$f":"HOJA_CAPTURA!AH314","v":0},{"$f":"HOJA_CAPTURA!AI314","v":0},{"$f":"HOJA_CAPTURA!AJ314","v":0},{"$f":"HOJA_CAPTURA!AK314","v":0},{"$f":"HOJA_CAPTURA!AL314","v":0},{"$f":"HOJA_CAPTURA!AT314","v":0},{"$f":"HOJA_CAPTURA!AU314","v":0}]
[null,null,null,null,null,{"$f":"HOJA_CAPTURA!R314","v":"00:00:00"}]
[]
[{"$f":"HOJA_CAPTURA!F312","v":0},null,null,null,null,null,null,null,null,{"$f":"HOJA_CAPTURA!E312","v":0}]
["Nombre, firma y cargo de la persona que elaboró",null,null,null,null,null,null,null,null,"Nombre y firma del titular del Área productora"]
[null,"           "]
[]
[]
[]
[]
["Nombre de la dependencia o entidad: ",null,null,null,"Instituto Nacional de Pediatria ",null,null,null,null,null,null,null,null,"Hoja: 79 de",{"$f":"O5","v":0}]
["Unidad administrativa/Área productora:",null,null,null,{"$f":"HOJA_CAPTURA!C316","v":0}]
["Fondo: INP ",null,"Sección:",{"$f":"HOJA_CAPTURA!G316","v":0},null,null,"Serie: ",{"$f":"HOJA_CAPTURA!H316","v":0}]
[null,null,null,null,null,null,"Subserie:",null,{"$f":"HOJA_CAPTURA!I316","v":0}]
["No. Consecutivo","No. de caja","No. de expediente","Clasificación archivística del expediente","Descripción o asunto ","                                                                                                                                                                                                                                                          Periodo de trámite","No.  de folios ","Valor documental",null,null,"Vigencia documental",null,null,"Condiciones de acceso (Reservada y confidencial)","Ubicación topográfica","Tradición documental "]
[null,null,null,null,null,null,null,"A","L","F/C","AT","AC","Total"]
[{"$f":"HOJA_CAPTURA!J315","v":0},{"$f":"HOJA_CAPTURA!K315","v":0},{"$f":"HOJA_CAPTURA!M315","v":0},{"$f":"HOJA_CAPTURA!N315","v":0},{"$f":"HOJA_CAPTURA!P315","v":0},{"$f":"HOJA_CAPTURA!Q315","v":"00:00:00"},{"$f":"HOJA_CAPTURA!V315","v":0},{"$f":"HOJA_CAPTURA!AF315","v":0},{"$f":"HOJA_CAPTURA!AG315","v":0},{"$f":"HOJA_CAPTURA!AH315","v":0},{"$f":"HOJA_CAPTURA!AI315","v":0},{"$f":"HOJA_CAPTURA!AJ315","v":0},{"$f":"HOJA_CAPTURA!AK315","v":0},{"$f":"HOJA_CAPTURA!AL315","v":0},{"$f":"HOJA_CAPTURA!AT315","v":0},{"$f":"HOJA_CAPTURA!AU315","v":0}]
[null,null,null,null,null,{"$f":"HOJA_CAPTURA!R315","v":"00:00:00"}]
[{"$f":"HOJA_CAPTURA!J316","v":0},{"$f":"HOJA_CAPTURA!K316","v":0},{"$f":"HOJA_CAPTURA!M316","v":0},{"$f":"HOJA_CAPTURA!N316","v":0},{"$f":"HOJA_CAPTURA!P316","v":0},{"$f":"HOJA_CAPTURA!Q316","v":"00:00:00"},{"$f":"HOJA_CAPTURA!V316","v":0},{"$f":"HOJA_CAPTURA!AF316","v":0},{"$f":"HOJA_CAPTURA!AG316","v":0},{"$f":"HOJA_CAPTURA!AH316","v":0},{"$f":"HOJA_CAPTURA!AI316","v":0},{"$f":"HOJA_CAPTURA!AJ316","v":0},{"$f":"HOJA_CAPTURA!AK316","v":0},{"$f":"HOJA_CAPTURA!AL316","v":0},{"$f":"HOJA_CAPTURA!AT316","v":0},{"$f":"HOJA_CAPTURA!AU316","v":0}]
[null,null,null,null,null,{"$f":"HOJA_CAPTURA!R316","v":"00:00:00"}]
[{"$f":"HOJA_CAPTURA!J317","v":0},{"$f":"HOJA_CAPTURA!K317","v":0},{"$f":"HOJA_CAPTURA!M317","v":0},{"$f":"HOJA_CAPTURA!N317","v":0},{"$f":"HOJA_CAPTURA!P317","v":0},{"$f":"HOJA_CAPTURA!Q317","v":"00:00:00"},{"$f":"HOJA_CAPTURA!V317","v":0},{"$f":"HOJA_CAPTURA!AF317","v":0},{"$f":"HOJA_CAPTURA!AG317","v":0},{"$f":"HOJA_CAPTURA!AH317","v":0},{"$f":"HOJA_CAPTURA!AI317","v":0},{"$f":"HOJA_CAPTURA!AJ317","v":0},{"$f":"HOJA_CAPTURA!AK317","v":0},{"$f":"HOJA_CAPTURA!AL317","v":0},{"$f":"HOJA_CAPTURA!AT317","v":0},{"$f":"HOJA_CAPTURA!AU317","v":0}]
[null,null,null,null,null,{"$f":"HOJA_CAPTURA!R317","v":"00:00:00"}]
[{"$f":"HOJA_CAPTURA!J318","v":0},{"$f":"HOJA_CAPTURA!K318","v":0},{"$f":"HOJA_CAPTURA!M318","v":0},{"$f":"HOJA_CAPTURA!N318","v":0},{"$f":"HOJA_CAPTURA!P318","v":0},{"$f":"HOJA_CAPTURA!Q318","v":"00:00:00"},{"$f":"HOJA_CAPTURA!V318","v":0},{"$f":"HOJA_CAPTURA!AF318","v":0},{"$f":"HOJA_CAPTURA!AG318","v":0},{"$f":"HOJA_CAPTURA!AH318","v":0},{"$f":"HOJA_CAPTURA!AI318","v":0},{"$f":"HOJA_CAPTURA!AJ318","v":0},{"$f":"HOJA_CAPTURA!AK318","v":0},{"$f":"HOJA_CAPTURA!AL318","v":0},{"$f":"HOJA_CAPTURA!AT318","v":0},{"$f":"HOJA_CAPTURA!AU318","v":0}]
[null,null,null,null,null,{"$f":"HOJA_CAPTURA!R318","v":"00:00:00"}]
[]
[{"$f":"HOJA_CAPTURA!F316","v":0},null,null,null,null,null,null,null,null,{"$f":"HOJA_CAPTURA!E316","v":0}]
["Nombre, firma y cargo de la persona que elaboró",null,null,null,null,null,null,null,null,"Nombre y firma del titular del Área productora"]
[null,"           "]
[]
[]
[]
[]
["Nombre de la dependencia o entidad: ",null,null,null,"Instituto Nacional de Pediatria ",null,null,null,null,null,null,null,null,"Hoja: 80 de",{"$f":"O5","v":0}]
["Unidad administrativa/Área productora:",null,null,null,{"$f":"HOJA_CAPTURA!C320","v":0}]
["Fondo: INP ",null,"Sección:",{"$f":"HOJA_CAPTURA!G320","v":0},null,null,"Serie: ",{"$f":"HOJA_CAPTURA!H320","v":0}]
[null,null,null,null,null,null,"Subserie:",null,{"$f":"HOJA_CAPTURA!I320","v":0}]
["No. Consecutivo","No. de caja","No. de expediente","Clasificación archivística del expediente","Descripción o asunto ","                                                                                                                                                                                                                                                          Periodo de trámite","No.  de folios ","Valor documental",null,null,"Vigencia documental",null,null,"Condiciones de acceso (Reservada y confidencial)","Ubicación topográfica","Tradición documental "]
[null,null,null,null,null,null,null,"A","L","F/C","AT","AC","Total"]
[{"$f":"HOJA_CAPTURA!J319","v":0},{"$f":"HOJA_CAPTURA!K319","v":0},{"$f":"HOJA_CAPTURA!M319","v":0},{"$f":"HOJA_CAPTURA!N319","v":0},{"$f":"HOJA_CAPTURA!P319","v":0},{"$f":"HOJA_CAPTURA!Q319","v":"00:00:00"},{"$f":"HOJA_CAPTURA!V319","v":0},{"$f":"HOJA_CAPTURA!AF319","v":0},{"$f":"HOJA_CAPTURA!AG319","v":0},{"$f":"HOJA_CAPTURA!AH319","v":0},{"$f":"HOJA_CAPTURA!AI319","v":0},{"$f":"HOJA_CAPTURA!AJ319","v":0},{"$f":"HOJA_CAPTURA!AK319","v":0},{"$f":"HOJA_CAPTURA!AL319","v":0},{"$f":"HOJA_CAPTURA!AT319","v":0},{"$f":"HOJA_CAPTURA!AU319","v":0}]
[null,null,null,null,null,{"$f":"HOJA_CAPTURA!R319","v":"00:00:00"}]
[{"$f":"HOJA_CAPTURA!J320","v":0},{"$f":"HOJA_CAPTURA!K320","v":0},{"$f":"HOJA_CAPTURA!M320","v":0},{"$f":"HOJA_CAPTURA!N320","v":0},{"$f":"HOJA_CAPTURA!P320","v":0},{"$f":"HOJA_CAPTURA!Q320","v":"00:00:00"},{"$f":"HOJA_CAPTURA!V320","v":0},{"$f":"HOJA_CAPTURA!AF320","v":0},{"$f":"HOJA_CAPTURA!AG320","v":0},{"$f":"HOJA_CAPTURA!AH320","v":0},{"$f":"HOJA_CAPTURA!AI320","v":0},{"$f":"HOJA_CAPTURA!AJ320","v":0},{"$f":"HOJA_CAPTURA!AK320","v":0},{"$f":"HOJA_CAPTURA!AL320","v":0},{"$f":"HOJA_CAPTURA!AT320","v":0},{"$f":"HOJA_CAPTURA!AU320","v":0}]
[null,null,null,null,null,{"$f":"HOJA_CAPTURA!R320","v":"00:00:00"}]
[{"$f":"HOJA_CAPTURA!J321","v":0},{"$f":"HOJA_CAPTURA!K321","v":0},{"$f":"HOJA_CAPTURA!M321","v":0},{"$f":"HOJA_CAPTURA!N321","v":0},{"$f":"HOJA_CAPTURA!P321","v":0},{"$f":"HOJA_CAPTURA!Q321","v":"00:00:00"},{"$f":"HOJA_CAPTURA!V321","v":0},{"$f":"HOJA_CAPTURA!AF321","v":0},{"$f":"HOJA_CAPTURA!AG321","v":0},{"$f":"HOJA_CAPTURA!AH321","v":0},{"$f":"HOJA_CAPTURA!AI321","v":0},{"$f":"HOJA_CAPTURA!AJ321","v":0},{"$f":"HOJA_CAPTURA!AK321","v":0},{"$f":"HOJA_CAPTURA!AL321","v":0},{"$f":"HOJA_CAPTURA!AT321","v":0},{"$f":"HOJA_CAPTURA!AU321","v":0}]
[null,null,null,null,null,{"$f":"HOJA_CAPTURA!R321","v":"00:00:00"}]
[{"$f":"HOJA_CAPTURA!J322","v":0},{"$f":"HOJA_CAPTURA!K322","v":0},{"$f":"HOJA_CAPTURA!M322","v":0},{"$f":"HOJA_CAPTURA!N322","v":0},{"$f":"HOJA_CAPTURA!P322","v":0},{"$f":"HOJA_CAPTURA!Q322","v":"00:00:00"},{"$f":"HOJA_CAPTURA!V322","v":0},{"$f":"HOJA_CAPTURA!AF322","v":0},{"$f":"HOJA_CAPTURA!AG322","v":0},{"$f":"HOJA_CAPTURA!AH322","v":0},{"$f":"HOJA_CAPTURA!AI322","v":0},{"$f":"HOJA_CAPTURA!AJ322","v":0},{"$f":"HOJA_CAPTURA!AK322","v":0},{"$f":"HOJA_CAPTURA!AL322","v":0},{"$f":"HOJA_CAPTURA!AT322","v":0},{"$f":"HOJA_CAPTURA!AU322","v":0}]
[null,null,null,null,null,{"$f":"HOJA_CAPTURA!R322","v":"00:00:00"}]
[]
[{"$f":"HOJA_CAPTURA!F320","v":0},null,null,null,null,null,null,null,null,{"$f":"HOJA_CAPTURA!E320","v":0}]
["Nombre, firma y cargo de la persona que elaboró",null,null,null,null,null,null,null,null,"Nombre y firma del titular del Área productora"]
[null,"           "]
[]
[]
[]
[]
["Nombre de la dependencia o entidad: ",null,null,null,"Instituto Nacional de Pediatria ",null,null,null,null,null,null,null,null,"Hoja: 81 de",{"$f":"O5","v":0}]
["Unidad administrativa/Área productora:",null,null,null,{"$f":"HOJA_CAPTURA!C324","v":0}]
["Fondo: INP ",null,"Sección:",{"$f":"HOJA_CAPTURA!G324","v":0},null,null,"Serie: ",{"$f":"HOJA_CAPTURA!H324","v":0}]
[null,null,null,null,null,null,"Subserie:",null,{"$f":"HOJA_CAPTURA!I324","v":0}]
["No. Consecutivo","No. de caja","No. de expediente","Clasificación archivística del expediente","Descripción o asunto ","                                                                                                                                                                                                                                                          Periodo de trámite","No.  de folios ","Valor documental",null,null,"Vigencia documental",null,null,"Condiciones de acceso (Reservada y confidencial)","Ubicación topográfica","Tradición documental "]
[null,null,null,null,null,null,null,"A","L","F/C","AT","AC","Total"]
[{"$f":"HOJA_CAPTURA!J323","v":0},{"$f":"HOJA_CAPTURA!K323","v":0},{"$f":"HOJA_CAPTURA!M323","v":0},{"$f":"HOJA_CAPTURA!N323","v":0},{"$f":"HOJA_CAPTURA!P323","v":0},{"$f":"HOJA_CAPTURA!Q323","v":"00:00:00"},{"$f":"HOJA_CAPTURA!V323","v":0},{"$f":"HOJA_CAPTURA!AF323","v":0},{"$f":"HOJA_CAPTURA!AG323","v":0},{"$f":"HOJA_CAPTURA!AH323","v":0},{"$f":"HOJA_CAPTURA!AI323","v":0},{"$f":"HOJA_CAPTURA!AJ323","v":0},{"$f":"HOJA_CAPTURA!AK323","v":0},{"$f":"HOJA_CAPTURA!AL323","v":0},{"$f":"HOJA_CAPTURA!AT323","v":0},{"$f":"HOJA_CAPTURA!AU323","v":0}]
[null,null,null,null,null,{"$f":"HOJA_CAPTURA!R323","v":"00:00:00"}]
[{"$f":"HOJA_CAPTURA!J324","v":0},{"$f":"HOJA_CAPTURA!K324","v":0},{"$f":"HOJA_CAPTURA!M324","v":0},{"$f":"HOJA_CAPTURA!N324","v":0},{"$f":"HOJA_CAPTURA!P324","v":0},{"$f":"HOJA_CAPTURA!Q324","v":"00:00:00"},{"$f":"HOJA_CAPTURA!V324","v":0},{"$f":"HOJA_CAPTURA!AF324","v":0},{"$f":"HOJA_CAPTURA!AG324","v":0},{"$f":"HOJA_CAPTURA!AH324","v":0},{"$f":"HOJA_CAPTURA!AI324","v":0},{"$f":"HOJA_CAPTURA!AJ324","v":0},{"$f":"HOJA_CAPTURA!AK324","v":0},{"$f":"HOJA_CAPTURA!AL324","v":0},{"$f":"HOJA_CAPTURA!AT324","v":0},{"$f":"HOJA_CAPTURA!AU324","v":0}]
[null,null,null,null,null,{"$f":"HOJA_CAPTURA!R324","v":"00:00:00"}]
[{"$f":"HOJA_CAPTURA!J325","v":0},{"$f":"HOJA_CAPTURA!K325","v":0},{"$f":"HOJA_CAPTURA!M325","v":0},{"$f":"HOJA_CAPTURA!N325","v":0},{"$f":"HOJA_CAPTURA!P325","v":0},{"$f":"HOJA_CAPTURA!Q325","v":"00:00:00"},{"$f":"HOJA_CAPTURA!V325","v":0},{"$f":"HOJA_CAPTURA!AF325","v":0},{"$f":"HOJA_CAPTURA!AG325","v":0},{"$f":"HOJA_CAPTURA!AH325","v":0},{"$f":"HOJA_CAPTURA!AI325","v":0},{"$f":"HOJA_CAPTURA!AJ325","v":0},{"$f":"HOJA_CAPTURA!AK325","v":0},{"$f":"HOJA_CAPTURA!AL325","v":0},{"$f":"HOJA_CAPTURA!AT325","v":0},{"$f":"HOJA_CAPTURA!AU325","v":0}]
[null,null,null,null,null,{"$f":"HOJA_CAPTURA!R325","v":"00:00:00"}]
[{"$f":"HOJA_CAPTURA!J326","v":0},{"$f":"HOJA_CAPTURA!K326","v":0},{"$f":"HOJA_CAPTURA!M326","v":0},{"$f":"HOJA_CAPTURA!N326","v":0},{"$f":"HOJA_CAPTURA!P326","v":0},{"$f":"HOJA_CAPTURA!Q326","v":"00:00:00"},{"$f":"HOJA_CAPTURA!V326","v":0},{"$f":"HOJA_CAPTURA!AF326","v":0},{"$f":"HOJA_CAPTURA!AG326","v":0},{"$f":"HOJA_CAPTURA!AH326","v":0},{"$f":"HOJA_CAPTURA!AI326","v":0},{"$f":"HOJA_CAPTURA!AJ326","v":0},{"$f":"HOJA_CAPTURA!AK326","v":0},{"$f":"HOJA_CAPTURA!AL326","v":0},{"$f":"HOJA_CAPTURA!AT326","v":0},{"$f":"HOJA_CAPTURA!AU326","v":0}]
[null,null,null,null,null,{"$f":"HOJA_CAPTURA!R326","v":"00:00:00"}]
[]
[{"$f":"HOJA_CAPTURA!F324","v":0},null,null,null,null,null,null,null,null,{"$f":"HOJA_CAPTURA!E324","v":0}]
["Nombre, firma y cargo de la persona que elaboró",null,null,null,null,null,null,null,null,"Nombre y firma del titular del Área productora"]
[null,"           "]
[]
[]
[]
[]
["Nombre de la dependencia o entidad: ",null,null,null,"Instituto Nacional de Pediatria ",null,null,null,null,null,null,null,null,"Hoja: 82 de",{"$f":"O5","v":0}]
["Unidad administrativa/Área productora:",null,null,null,{"$f":"HOJA_CAPTURA!C328","v":0}]
["Fondo: INP ",null,"Sección:",{"$f":"HOJA_CAPTURA!G328","v":0},null,null,"Serie: ",{"$f":"HOJA_CAPTURA!H328","v":0}]
[null,null,null,null,null,null,"Subserie:",null,{"$f":"HOJA_CAPTURA!I328","v":0}]
["No. Consecutivo","No. de caja","No. de expediente","Clasificación archivística del expediente","Descripción o asunto ","                                                                                                                                                                                                                                                          Periodo de trámite","No.  de folios ","Valor documental",null,null,"Vigencia documental",null,null,"Condiciones de acceso (Reservada y confidencial)","Ubicación topográfica","Tradición documental "]
[null,null,null,null,null,null,null,"A","L","F/C","AT","AC","Total"]
[{"$f":"HOJA_CAPTURA!J327","v":0},{"$f":"HOJA_CAPTURA!K327","v":0},{"$f":"HOJA_CAPTURA!M327","v":0},{"$f":"HOJA_CAPTURA!N327","v":0},{"$f":"HOJA_CAPTURA!P327","v":0},{"$f":"HOJA_CAPTURA!Q327","v":"00:00:00"},{"$f":"HOJA_CAPTURA!V327","v":0},{"$f":"HOJA_CAPTURA!AF327","v":0},{"$f":"HOJA_CAPTURA!AG327","v":0},{"$f":"HOJA_CAPTURA!AH327","v":0},{"$f":"HOJA_CAPTURA!AI327","v":0},{"$f":"HOJA_CAPTURA!AJ327","v":0},{"$f":"HOJA_CAPTURA!AK327","v":0},{"$f":"HOJA_CAPTURA!AL327","v":0},{"$f":"HOJA_CAPTURA!AT327","v":0},{"$f":"HOJA_CAPTURA!AU327","v":0}]
[null,null,null,null,null,{"$f":"HOJA_CAPTURA!R327","v":"00:00:00"}]
[{"$f":"HOJA_CAPTURA!J328","v":0},{"$f":"HOJA_CAPTURA!K328","v":0},{"$f":"HOJA_CAPTURA!M328","v":0},{"$f":"HOJA_CAPTURA!N328","v":0},{"$f":"HOJA_CAPTURA!P328","v":0},{"$f":"HOJA_CAPTURA!Q328","v":"00:00:00"},{"$f":"HOJA_CAPTURA!V328","v":0},{"$f":"HOJA_CAPTURA!AF328","v":0},{"$f":"HOJA_CAPTURA!AG328","v":0},{"$f":"HOJA_CAPTURA!AH328","v":0},{"$f":"HOJA_CAPTURA!AI328","v":0},{"$f":"HOJA_CAPTURA!AJ328","v":0},{"$f":"HOJA_CAPTURA!AK328","v":0},{"$f":"HOJA_CAPTURA!AL328","v":0},{"$f":"HOJA_CAPTURA!AT328","v":0},{"$f":"HOJA_CAPTURA!AU328","v":0}]
[null,null,null,null,null,{"$f":"HOJA_CAPTURA!R328","v":"00:00:00"}]
[{"$f":"HOJA_CAPTURA!J329","v":0},{"$f":"HOJA_CAPTURA!K329","v":0},{"$f":"HOJA_CAPTURA!M329","v":0},{"$f":"HOJA_CAPTURA!N329","v":0},{"$f":"HOJA_CAPTURA!P329","v":0},{"$f":"HOJA_CAPTURA!Q329","v":"00:00:00"},{"$f":"HOJA_CAPTURA!V329","v":0},{"$f":"HOJA_CAPTURA!AF329","v":0},{"$f":"HOJA_CAPTURA!AG329","v":0},{"$f":"HOJA_CAPTURA!AH329","v":0},{"$f":"HOJA_CAPTURA!AI329","v":0},{"$f":"HOJA_CAPTURA!AJ329","v":0},{"$f":"HOJA_CAPTURA!AK329","v":0},{"$f":"HOJA_CAPTURA!AL329","v":0},{"$f":"HOJA_CAPTURA!AT329","v":0},{"$f":"HOJA_CAPTURA!AU329","v":0}]
[null,null,null,null,null,{"$f":"HOJA_CAPTURA!R329","v":"00:00:00"}]
[{"$f":"HOJA_CAPTURA!J330","v":0},{"$f":"HOJA_CAPTURA!K330","v":0},{"$f":"HOJA_CAPTURA!M330","v":0},{"$f":"HOJA_CAPTURA!N330","v":0},{"$f":"HOJA_CAPTURA!P330","v":0},{"$f":"HOJA_CAPTURA!Q330","v":"00:00:00"},{"$f":"HOJA_CAPTURA!V330","v":0},{"$f":"HOJA_CAPTURA!AF330","v":0},{"$f":"HOJA_CAPTURA!AG330","v":0},{"$f":"HOJA_CAPTURA!AH330","v":0},{"$f":"HOJA_CAPTURA!AI330","v":0},{"$f":"HOJA_CAPTURA!AJ330","v":0},{"$f":"HOJA_CAPTURA!AK330","v":0},{"$f":"HOJA_CAPTURA!AL330","v":0},{"$f":"HOJA_CAPTURA!AT330","v":0},{"$f":"HOJA_CAPTURA!AU330","v":0}]
[null,null,null,null,null,{"$f":"HOJA_CAPTURA!R330","v":"00:00:00"}]
[]
[{"$f":"HOJA_CAPTURA!F328","v":0},null,null,null,null,null,null,null,null,{"$f":"HOJA_CAPTURA!E328","v":0}]
["Nombre, firma y cargo de la persona que elaboró",null,null,null,null,null,null,null,null,"Nombre y firma del titular del Área productora"]
[null,"           "]
[]
[]
[]
[]
["Nombre de la dependencia o entidad: ",null,null,null,"Instituto Nacional de Pediatria ",null,null,null,null,null,null,null,null,"Hoja: 83 de",{"$f":"O5","v":0}]
["Unidad administrativa/Área productora:",null,null,null,{"$f":"HOJA_CAPTURA!C332","v":0}]
["Fondo: INP ",null,"Sección:",{"$f":"HOJA_CAPTURA!G332","v":0},null,null,"Serie: ",{"$f":"HOJA_CAPTURA!H332","v":0}]
[null,null,null,null,null,null,"Subserie:",null,{"$f":"HOJA_CAPTURA!I332","v":0}]
["No. Consecutivo","No. de caja","No. de expediente","Clasificación archivística del expediente","Descripción o asunto ","                                                                                                                                                                                                                                                          Periodo de trámite","No.  de folios ","Valor documental",null,null,"Vigencia documental",null,null,"Condiciones de acceso (Reservada y confidencial)","Ubicación topográfica","Tradición documental "]
[null,null,null,null,null,null,null,"A","L","F/C","AT","AC","Total"]
[{"$f":"HOJA_CAPTURA!J331","v":0},{"$f":"HOJA_CAPTURA!K331","v":0},{"$f":"HOJA_CAPTURA!M331","v":0},{"$f":"HOJA_CAPTURA!N331","v":0},{"$f":"HOJA_CAPTURA!P331","v":0},{"$f":"HOJA_CAPTURA!Q331","v":"00:00:00"},{"$f":"HOJA_CAPTURA!V331","v":0},{"$f":"HOJA_CAPTURA!AF331","v":0},{"$f":"HOJA_CAPTURA!AG331","v":0},{"$f":"HOJA_CAPTURA!AH331","v":0},{"$f":"HOJA_CAPTURA!AI331","v":0},{"$f":"HOJA_CAPTURA!AJ331","v":0},{"$f":"HOJA_CAPTURA!AK331","v":0},{"$f":"HOJA_CAPTURA!AL331","v":0},{"$f":"HOJA_CAPTURA!AT331","v":0},{"$f":"HOJA_CAPTURA!AU331","v":0}]
[null,null,null,null,null,{"$f":"HOJA_CAPTURA!R331","v":"00:00:00"}]
[{"$f":"HOJA_CAPTURA!J332","v":0},{"$f":"HOJA_CAPTURA!K332","v":0},{"$f":"HOJA_CAPTURA!M332","v":0},{"$f":"HOJA_CAPTURA!N332","v":0},{"$f":"HOJA_CAPTURA!P332","v":0},{"$f":"HOJA_CAPTURA!Q332","v":"00:00:00"},{"$f":"HOJA_CAPTURA!V332","v":0},{"$f":"HOJA_CAPTURA!AF332","v":0},{"$f":"HOJA_CAPTURA!AG332","v":0},{"$f":"HOJA_CAPTURA!AH332","v":0},{"$f":"HOJA_CAPTURA!AI332","v":0},{"$f":"HOJA_CAPTURA!AJ332","v":0},{"$f":"HOJA_CAPTURA!AK332","v":0},{"$f":"HOJA_CAPTURA!AL332","v":0},{"$f":"HOJA_CAPTURA!AT332","v":0},{"$f":"HOJA_CAPTURA!AU332","v":0}]
[null,null,null,null,null,{"$f":"HOJA_CAPTURA!R332","v":"00:00:00"}]
[{"$f":"HOJA_CAPTURA!J333","v":0},{"$f":"HOJA_CAPTURA!K333","v":0},{"$f":"HOJA_CAPTURA!M333","v":0},{"$f":"HOJA_CAPTURA!N333","v":0},{"$f":"HOJA_CAPTURA!P333","v":0},{"$f":"HOJA_CAPTURA!Q333","v":"00:00:00"},{"$f":"HOJA_CAPTURA!V333","v":0},{"$f":"HOJA_CAPTURA!AF333","v":0},{"$f":"HOJA_CAPTURA!AG333","v":0},{"$f":"HOJA_CAPTURA!AH333","v":0},{"$f":"HOJA_CAPTURA!AI333","v":0},{"$f":"HOJA_CAPTURA!AJ333","v":0},{"$f":"HOJA_CAPTURA!AK333","v":0},{"$f":"HOJA_CAPTURA!AL333","v":0},{"$f":"HOJA_CAPTURA!AT333","v":0},{"$f":"HOJA_CAPTURA!AU333","v":0}]
[null,null,null,null,null,{"$f":"HOJA_CAPTURA!R333","v":"00:00:00"}]
[{"$f":"HOJA_CAPTURA!J334","v":0},{"$f":"HOJA_CAPTURA!K334","v":0},{"$f":"HOJA_CAPTURA!M334","v":0},{"$f":"HOJA_CAPTURA!N334","v":0},{"$f":"HOJA_CAPTURA!P334","v":0},{"$f":"HOJA_CAPTURA!Q334","v":"00:00:00"},{"$f":"HOJA_CAPTURA!V334","v":0},{"$f":"HOJA_CAPTURA!AF334","v":0},{"$f":"HOJA_CAPTURA!AG334","v":0},{"$f":"HOJA_CAPTURA!AH334","v":0},{"$f":"HOJA_CAPTURA!AI334","v":0},{"$f":"HOJA_CAPTURA!AJ334","v":0},{"$f":"HOJA_CAPTURA!AK334","v":0},{"$f":"HOJA_CAPTURA!AL334","v":0},{"$f":"HOJA_CAPTURA!AT334","v":0},{"$f":"HOJA_CAPTURA!AU334","v":0}]
[null,null,null,null,null,{"$f":"HOJA_CAPTURA!R334","v":"00:00:00"}]
[]
[{"$f":"HOJA_CAPTURA!F332","v":0},null,null,null,null,null,null,null,null,{"$f":"HOJA_CAPTURA!E332","v":0}]
["Nombre, firma y cargo de la persona que elaboró",null,null,null,null,null,null,null,null,"Nombre y firma del titular del Área productora"]
[null,"           "]
[]
[]
[]
[]
["Nombre de la dependencia o entidad: ",null,null,null,"Instituto Nacional de Pediatria ",null,null,null,null,null,null,null,null,"Hoja: 84 de",{"$f":"O5","v":0}]
["Unidad administrativa/Área productora:",null,null,null,{"$f":"HOJA_CAPTURA!C336","v":0}]
["Fondo: INP ",null,"Sección:",{"$f":"HOJA_CAPTURA!G336","v":0},null,null,"Serie: ",{"$f":"HOJA_CAPTURA!H336","v":0}]
[null,null,null,null,null,null,"Subserie:",null,{"$f":"HOJA_CAPTURA!I336","v":0}]
["No. Consecutivo","No. de caja","No. de expediente","Clasificación archivística del expediente","Descripción o asunto ","                                                                                                                                                                                                                                                          Periodo de trámite","No.  de folios ","Valor documental",null,null,"Vigencia documental",null,null,"Condiciones de acceso (Reservada y confidencial)","Ubicación topográfica","Tradición documental "]
[null,null,null,null,null,null,null,"A","L","F/C","AT","AC","Total"]
[{"$f":"HOJA_CAPTURA!J335","v":0},{"$f":"HOJA_CAPTURA!K335","v":0},{"$f":"HOJA_CAPTURA!M335","v":0},{"$f":"HOJA_CAPTURA!N335","v":0},{"$f":"HOJA_CAPTURA!P335","v":0},{"$f":"HOJA_CAPTURA!Q335","v":"00:00:00"},{"$f":"HOJA_CAPTURA!V335","v":0},{"$f":"HOJA_CAPTURA!AF335","v":0},{"$f":"HOJA_CAPTURA!AG335","v":0},{"$f":"HOJA_CAPTURA!AH335","v":0},{"$f":"HOJA_CAPTURA!AI335","v":0},{"$f":"HOJA_CAPTURA!AJ335","v":0},{"$f":"HOJA_CAPTURA!AK335","v":0},{"$f":"HOJA_CAPTURA!AL335","v":0},{"$f":"HOJA_CAPTURA!AT335","v":0},{"$f":"HOJA_CAPTURA!AU335","v":0}]
[null,null,null,null,null,{"$f":"HOJA_CAPTURA!R335","v":"00:00:00"}]
[{"$f":"HOJA_CAPTURA!J336","v":0},{"$f":"HOJA_CAPTURA!K336","v":0},{"$f":"HOJA_CAPTURA!M336","v":0},{"$f":"HOJA_CAPTURA!N336","v":0},{"$f":"HOJA_CAPTURA!P336","v":0},{"$f":"HOJA_CAPTURA!Q336","v":"00:00:00"},{"$f":"HOJA_CAPTURA!V336","v":0},{"$f":"HOJA_CAPTURA!AF336","v":0},{"$f":"HOJA_CAPTURA!AG336","v":0},{"$f":"HOJA_CAPTURA!AH336","v":0},{"$f":"HOJA_CAPTURA!AI336","v":0},{"$f":"HOJA_CAPTURA!AJ336","v":0},{"$f":"HOJA_CAPTURA!AK336","v":0},{"$f":"HOJA_CAPTURA!AL336","v":0},{"$f":"HOJA_CAPTURA!AT336","v":0},{"$f":"HOJA_CAPTURA!AU336","v":0}]
[null,null,null,null,null,{"$f":"HOJA_CAPTURA!R336","v":"00:00:00"}]
[{"$f":"HOJA_CAPTURA!J337","v":0},{"$f":"HOJA_CAPTURA!K337","v":0},{"$f":"HOJA_CAPTURA!M337","v":0},{"$f":"HOJA_CAPTURA!N337","v":0},{"$f":"HOJA_CAPTURA!P337","v":0},{"$f":"HOJA_CAPTURA!Q337","v":"00:00:00"},{"$f":"HOJA_CAPTURA!V337","v":0},{"$f":"HOJA_CAPTURA!AF337","v":0},{"$f":"HOJA_CAPTURA!AG337","v":0},{"$f":"HOJA_CAPTURA!AH337","v":0},{"$f":"HOJA_CAPTURA!AI337","v":0},{"$f":"HOJA_CAPTURA!AJ337","v":0},{"$f":"HOJA_CAPTURA!AK337","v":0},{"$f":"HOJA_CAPTURA!AL337","v":0},{"$f":"HOJA_CAPTURA!AT337","v":0},{"$f":"HOJA_CAPTURA!AU337","v":0}]
[null,null,null,null,null,{"$f":"HOJA_CAPTURA!R337","v":"00:00:00"}]
[{"$f":"HOJA_CAPTURA!J338","v":0},{"$f":"HOJA_CAPTURA!K338","v":0},{"$f":"HOJA_CAPTURA!M338","v":0},{"$f":"HOJA_CAPTURA!N338","v":0},{"$f":"HOJA_CAPTURA!P338","v":0},{"$f":"HOJA_CAPTURA!Q338","v":"00:00:00"},{"$f":"HOJA_CAPTURA!V338","v":0},{"$f":"HOJA_CAPTURA!AF338","v":0},{"$f":"HOJA_CAPTURA!AG338","v":0},{"$f":"HOJA_CAPTURA!AH338","v":0},{"$f":"HOJA_CAPTURA!AI338","v":0},{"$f":"HOJA_CAPTURA!AJ338","v":0},{"$f":"HOJA_CAPTURA!AK338","v":0},{"$f":"HOJA_CAPTURA!AL338","v":0},{"$f":"HOJA_CAPTURA!AT338","v":0},{"$f":"HOJA_CAPTURA!AU338","v":0}]
[null,null,null,null,null,{"$f":"HOJA_CAPTURA!R338","v":"00:00:00"}]
[]
[{"$f":"HOJA_CAPTURA!F336","v":0},null,null,null,null,null,null,null,null,{"$f":"HOJA_CAPTURA!E336","v":0}]
["Nombre, firma y cargo de la persona que elaboró",null,null,null,null,null,null,null,null,"Nombre y firma del titular del Área productora"]
[]
[]
[]
[]
[]
["Nombre de la dependencia o entidad: ",null,null,null,"Instituto Nacional de Pediatria ",null,null,null,null,null,null,null,null,"Hoja: 85 de",{"$f":"O5","v":0}]
["Unidad administrativa/Área productora:",null,null,null,{"$f":"HOJA_CAPTURA!C340","v":0}]
["Fondo: INP ",null,"Sección:",{"$f":"HOJA_CAPTURA!G340","v":0},null,null,"Serie: ",{"$f":"HOJA_CAPTURA!H340","v":0}]
[null,null,null,null,null,null,"Subserie:",null,{"$f":"HOJA_CAPTURA!I340","v":0}]
["No. Consecutivo","No. de caja","No. de expediente","Clasificación archivística del expediente","Descripción o asunto ","                                                                                                                                                                                                                                                          Periodo de trámite","No.  de folios ","Valor documental",null,null,"Vigencia documental",null,null,"Condiciones de acceso (Reservada y confidencial)","Ubicación topográfica","Tradición documental "]
[null,null,null,null,null,null,null,"A","L","F/C","AT","AC","Total"]
[{"$f":"HOJA_CAPTURA!J339","v":0},{"$f":"HOJA_CAPTURA!K339","v":0},{"$f":"HOJA_CAPTURA!M339","v":0},{"$f":"HOJA_CAPTURA!N339","v":0},{"$f":"HOJA_CAPTURA!P339","v":0},{"$f":"HOJA_CAPTURA!Q339","v":"00:00:00"},{"$f":"HOJA_CAPTURA!V339","v":0},{"$f":"HOJA_CAPTURA!AF339","v":0},{"$f":"HOJA_CAPTURA!AG339","v":0},{"$f":"HOJA_CAPTURA!AH339","v":0},{"$f":"HOJA_CAPTURA!AI339","v":0},{"$f":"HOJA_CAPTURA!AJ339","v":0},{"$f":"HOJA_CAPTURA!AK339","v":0},{"$f":"HOJA_CAPTURA!AL339","v":0},{"$f":"HOJA_CAPTURA!AT339","v":0},{"$f":"HOJA_CAPTURA!AU339","v":0}]
[null,null,null,null,null,{"$f":"HOJA_CAPTURA!R339","v":"00:00:00"}]
[{"$f":"HOJA_CAPTURA!J340","v":0},{"$f":"HOJA_CAPTURA!K340","v":0},{"$f":"HOJA_CAPTURA!M340","v":0},{"$f":"HOJA_CAPTURA!N340","v":0},{"$f":"HOJA_CAPTURA!P340","v":0},{"$f":"HOJA_CAPTURA!Q340","v":"00:00:00"},{"$f":"HOJA_CAPTURA!V340","v":0},{"$f":"HOJA_CAPTURA!AF340","v":0},{"$f":"HOJA_CAPTURA!AG340","v":0},{"$f":"HOJA_CAPTURA!AH340","v":0},{"$f":"HOJA_CAPTURA!AI340","v":0},{"$f":"HOJA_CAPTURA!AJ340","v":0},{"$f":"HOJA_CAPTURA!AK340","v":0},{"$f":"HOJA_CAPTURA!AL340","v":0},{"$f":"HOJA_CAPTURA!AT340","v":0},{"$f":"HOJA_CAPTURA!AU340","v":0}]
[null,null,null,null,null,{"$f":"HOJA_CAPTURA!R340","v":"00:00:00"}]
[{"$f":"HOJA_CAPTURA!J341","v":0},{"$f":"HOJA_CAPTURA!K341","v":0},{"$f":"HOJA_CAPTURA!M341","v":0},{"$f":"HOJA_CAPTURA!N341","v":0},{"$f":"HOJA_CAPTURA!P341","v":0},{"$f":"HOJA_CAPTURA!Q341","v":"00:00:00"},{"$f":"HOJA_CAPTURA!V341","v":0},{"$f":"HOJA_CAPTURA!AF341","v":0},{"$f":"HOJA_CAPTURA!AG341","v":0},{"$f":"HOJA_CAPTURA!AH341","v":0},{"$f":"HOJA_CAPTURA!AI341","v":0},{"$f":"HOJA_CAPTURA!AJ341","v":0},{"$f":"HOJA_CAPTURA!AK341","v":0},{"$f":"HOJA_CAPTURA!AL341","v":0},{"$f":"HOJA_CAPTURA!AT341","v":0},{"$f":"HOJA_CAPTURA!AU341","v":0}]
[null,null,null,null,null,{"$f":"HOJA_CAPTURA!R341","v":"00:00:00"}]
[{"$f":"HOJA_CAPTURA!J342","v":0},{"$f":"HOJA_CAPTURA!K342","v":0},{"$f":"HOJA_CAPTURA!M342","v":0},{"$f":"HOJA_CAPTURA!N342","v":0},{"$f":"HOJA_CAPTURA!P342","v":0},{"$f":"HOJA_CAPTURA!Q342","v":"00:00:00"},{"$f":"HOJA_CAPTURA!V342","v":0},{"$f":"HOJA_CAPTURA!AF342","v":0},{"$f":"HOJA_CAPTURA!AG342","v":0},{"$f":"HOJA_CAPTURA!AH342","v":0},{"$f":"HOJA_CAPTURA!AI342","v":0},{"$f":"HOJA_CAPTURA!AJ342","v":0},{"$f":"HOJA_CAPTURA!AK342","v":0},{"$f":"HOJA_CAPTURA!AL342","v":0},{"$f":"HOJA_CAPTURA!AT342","v":0},{"$f":"HOJA_CAPTURA!AU342","v":0}]
[null,null,null,null,null,{"$f":"HOJA_CAPTURA!R342","v":"00:00:00"}]
[]
[{"$f":"HOJA_CAPTURA!F340","v":0},null,null,null,null,null,null,null,null,{"$f":"HOJA_CAPTURA!E340","v":0}]
["Nombre, firma y cargo de la persona que elaboró",null,null,null,null,null,null,null,null,"Nombre y firma del titular del Área productora"]
[null,"           "]
[]
[]
[]
[]
["Nombre de la dependencia o entidad: ",null,null,null,"Instituto Nacional de Pediatria ",null,null,null,null,null,null,null,null,"Hoja: 86 de",{"$f":"O5","v":0}]
["Unidad administrativa/Área productora:",null,null,null,{"$f":"HOJA_CAPTURA!C344","v":0}]
["Fondo: INP ",null,"Sección:",{"$f":"HOJA_CAPTURA!G344","v":0},null,null,"Serie: ",{"$f":"HOJA_CAPTURA!H344","v":0}]
[null,null,null,null,null,null,"Subserie:",null,{"$f":"HOJA_CAPTURA!I344","v":0}]
["No. Consecutivo","No. de caja","No. de expediente","Clasificación archivística del expediente","Descripción o asunto ","                                                                                                                                                                                                                                                          Periodo de trámite","No.  de folios ","Valor documental",null,null,"Vigencia documental",null,null,"Condiciones de acceso (Reservada y confidencial)","Ubicación topográfica","Tradición documental "]
[null,null,null,null,null,null,null,"A","L","F/C","AT","AC","Total"]
[{"$f":"HOJA_CAPTURA!J343","v":0},{"$f":"HOJA_CAPTURA!K343","v":0},{"$f":"HOJA_CAPTURA!M343","v":0},{"$f":"HOJA_CAPTURA!N343","v":0},{"$f":"HOJA_CAPTURA!P343","v":0},{"$f":"HOJA_CAPTURA!Q343","v":"00:00:00"},{"$f":"HOJA_CAPTURA!V343","v":0},{"$f":"HOJA_CAPTURA!AF343","v":0},{"$f":"HOJA_CAPTURA!AG343","v":0},{"$f":"HOJA_CAPTURA!AH343","v":0},{"$f":"HOJA_CAPTURA!AI343","v":0},{"$f":"HOJA_CAPTURA!AJ343","v":0},{"$f":"HOJA_CAPTURA!AK343","v":0},{"$f":"HOJA_CAPTURA!AL343","v":0},{"$f":"HOJA_CAPTURA!AT343","v":0},{"$f":"HOJA_CAPTURA!AU343","v":0}]
[null,null,null,null,null,{"$f":"HOJA_CAPTURA!R343","v":"00:00:00"}]
[{"$f":"HOJA_CAPTURA!J344","v":0},{"$f":"HOJA_CAPTURA!K344","v":0},{"$f":"HOJA_CAPTURA!M344","v":0},{"$f":"HOJA_CAPTURA!N344","v":0},{"$f":"HOJA_CAPTURA!P344","v":0},{"$f":"HOJA_CAPTURA!Q344","v":"00:00:00"},{"$f":"HOJA_CAPTURA!V344","v":0},{"$f":"HOJA_CAPTURA!AF344","v":0},{"$f":"HOJA_CAPTURA!AG344","v":0},{"$f":"HOJA_CAPTURA!AH344","v":0},{"$f":"HOJA_CAPTURA!AI344","v":0},{"$f":"HOJA_CAPTURA!AJ344","v":0},{"$f":"HOJA_CAPTURA!AK344","v":0},{"$f":"HOJA_CAPTURA!AL344","v":0},{"$f":"HOJA_CAPTURA!AT344","v":0},{"$f":"HOJA_CAPTURA!AU344","v":0}]
[null,null,null,null,null,{"$f":"HOJA_CAPTURA!R344","v":"00:00:00"}]
[{"$f":"HOJA_CAPTURA!J345","v":0},{"$f":"HOJA_CAPTURA!K345","v":0},{"$f":"HOJA_CAPTURA!M345","v":0},{"$f":"HOJA_CAPTURA!N345","v":0},{"$f":"HOJA_CAPTURA!P345","v":0},{"$f":"HOJA_CAPTURA!Q345","v":"00:00:00"},{"$f":"HOJA_CAPTURA!V345","v":0},{"$f":"HOJA_CAPTURA!AF345","v":0},{"$f":"HOJA_CAPTURA!AG345","v":0},{"$f":"HOJA_CAPTURA!AH345","v":0},{"$f":"HOJA_CAPTURA!AI345","v":0},{"$f":"HOJA_CAPTURA!AJ345","v":0},{"$f":"HOJA_CAPTURA!AK345","v":0},{"$f":"HOJA_CAPTURA!AL345","v":0},{"$f":"HOJA_CAPTURA!AT345","v":0},{"$f":"HOJA_CAPTURA!AU345","v":0}]
[null,null,null,null,null,{"$f":"HOJA_CAPTURA!R345","v":"00:00:00"}]
[{"$f":"HOJA_CAPTURA!J346","v":0},{"$f":"HOJA_CAPTURA!K346","v":0},{"$f":"HOJA_CAPTURA!M346","v":0},{"$f":"HOJA_CAPTURA!N346","v":0},{"$f":"HOJA_CAPTURA!P346","v":0},{"$f":"HOJA_CAPTURA!Q346","v":"00:00:00"},{"$f":"HOJA_CAPTURA!V346","v":0},{"$f":"HOJA_CAPTURA!AF346","v":0},{"$f":"HOJA_CAPTURA!AG346","v":0},{"$f":"HOJA_CAPTURA!AH346","v":0},{"$f":"HOJA_CAPTURA!AI346","v":0},{"$f":"HOJA_CAPTURA!AJ346","v":0},{"$f":"HOJA_CAPTURA!AK346","v":0},{"$f":"HOJA_CAPTURA!AL346","v":0},{"$f":"HOJA_CAPTURA!AT346","v":0},{"$f":"HOJA_CAPTURA!AU346","v":0}]
[null,null,null,null,null,{"$f":"HOJA_CAPTURA!R346","v":"00:00:00"}]
[]
[{"$f":"HOJA_CAPTURA!F344","v":0},null,null,null,null,null,null,null,null,{"$f":"HOJA_CAPTURA!E344","v":0}]
["Nombre, firma y cargo de la persona que elaboró",null,null,null,null,null,null,null,null,"Nombre y firma del titular del Área productora"]
[]
[]
[]
[]
[null,"           "]
["Nombre de la dependencia o entidad: ",null,null,null,"Instituto Nacional de Pediatria ",null,null,null,null,null,null,null,null,"Hoja: 87 de",{"$f":"O5","v":0}]
["Unidad administrativa/Área productora:",null,null,null,{"$f":"HOJA_CAPTURA!C348","v":0}]
["Fondo: INP ",null,"Sección:",{"$f":"HOJA_CAPTURA!G348","v":0},null,null,"Serie: ",{"$f":"HOJA_CAPTURA!H348","v":0}]
[null,null,null,null,null,null,"Subserie:",null,{"$f":"HOJA_CAPTURA!I348","v":0}]
["No. Consecutivo","No. de caja","No. de expediente","Clasificación archivística del expediente","Descripción o asunto ","                                                                                                                                                                                                                                                          Periodo de trámite","No.  de folios ","Valor documental",null,null,"Vigencia documental",null,null,"Condiciones de acceso (Reservada y confidencial)","Ubicación topográfica","Tradición documental "]
[null,null,null,null,null,null,null,"A","L","F/C","AT","AC","Total"]
[{"$f":"HOJA_CAPTURA!J347","v":0},{"$f":"HOJA_CAPTURA!K347","v":0},{"$f":"HOJA_CAPTURA!M347","v":0},{"$f":"HOJA_CAPTURA!N347","v":0},{"$f":"HOJA_CAPTURA!P347","v":0},{"$f":"HOJA_CAPTURA!Q347","v":"00:00:00"},{"$f":"HOJA_CAPTURA!V347","v":0},{"$f":"HOJA_CAPTURA!AF347","v":0},{"$f":"HOJA_CAPTURA!AG347","v":0},{"$f":"HOJA_CAPTURA!AH347","v":0},{"$f":"HOJA_CAPTURA!AI347","v":0},{"$f":"HOJA_CAPTURA!AJ347","v":0},{"$f":"HOJA_CAPTURA!AK347","v":0},{"$f":"HOJA_CAPTURA!AL347","v":0},{"$f":"HOJA_CAPTURA!AT347","v":0},{"$f":"HOJA_CAPTURA!AU347","v":0}]
[null,null,null,null,null,{"$f":"HOJA_CAPTURA!R347","v":"00:00:00"}]
[{"$f":"HOJA_CAPTURA!J348","v":0},{"$f":"HOJA_CAPTURA!K348","v":0},{"$f":"HOJA_CAPTURA!M348","v":0},{"$f":"HOJA_CAPTURA!N348","v":0},{"$f":"HOJA_CAPTURA!P348","v":0},{"$f":"HOJA_CAPTURA!Q348","v":"00:00:00"},{"$f":"HOJA_CAPTURA!V348","v":0},{"$f":"HOJA_CAPTURA!AF348","v":0},{"$f":"HOJA_CAPTURA!AG348","v":0},{"$f":"HOJA_CAPTURA!AH348","v":0},{"$f":"HOJA_CAPTURA!AI348","v":0},{"$f":"HOJA_CAPTURA!AJ348","v":0},{"$f":"HOJA_CAPTURA!AK348","v":0},{"$f":"HOJA_CAPTURA!AL348","v":0},{"$f":"HOJA_CAPTURA!AT348","v":0},{"$f":"HOJA_CAPTURA!AU348","v":0}]
[null,null,null,null,null,{"$f":"HOJA_CAPTURA!R348","v":"00:00:00"}]
[{"$f":"HOJA_CAPTURA!J349","v":0},{"$f":"HOJA_CAPTURA!K349","v":0},{"$f":"HOJA_CAPTURA!M349","v":0},{"$f":"HOJA_CAPTURA!N349","v":0},{"$f":"HOJA_CAPTURA!P349","v":0},{"$f":"HOJA_CAPTURA!Q349","v":"00:00:00"},{"$f":"HOJA_CAPTURA!V349","v":0},{"$f":"HOJA_CAPTURA!AF349","v":0},{"$f":"HOJA_CAPTURA!AG349","v":0},{"$f":"HOJA_CAPTURA!AH349","v":0},{"$f":"HOJA_CAPTURA!AI349","v":0},{"$f":"HOJA_CAPTURA!AJ349","v":0},{"$f":"HOJA_CAPTURA!AK349","v":0},{"$f":"HOJA_CAPTURA!AL349","v":0},{"$f":"HOJA_CAPTURA!AT349","v":0},{"$f":"HOJA_CAPTURA!AU349","v":0}]
[null,null,null,null,null,{"$f":"HOJA_CAPTURA!R349","v":"00:00:00"}]
[{"$f":"HOJA_CAPTURA!J350","v":0},{"$f":"HOJA_CAPTURA!K350","v":0},{"$f":"HOJA_CAPTURA!M350","v":0},{"$f":"HOJA_CAPTURA!N350","v":0},{"$f":"HOJA_CAPTURA!P350","v":0},{"$f":"HOJA_CAPTURA!Q350","v":"00:00:00"},{"$f":"HOJA_CAPTURA!V350","v":0},{"$f":"HOJA_CAPTURA!AF350","v":0},{"$f":"HOJA_CAPTURA!AG350","v":0},{"$f":"HOJA_CAPTURA!AH350","v":0},{"$f":"HOJA_CAPTURA!AI350","v":0},{"$f":"HOJA_CAPTURA!AJ350","v":0},{"$f":"HOJA_CAPTURA!AK350","v":0},{"$f":"HOJA_CAPTURA!AL350","v":0},{"$f":"HOJA_CAPTURA!AT350","v":0},{"$f":"HOJA_CAPTURA!AU350","v":0}]
[null,null,null,null,null,{"$f":"HOJA_CAPTURA!R350","v":"00:00:00"}]
[]
[{"$f":"HOJA_CAPTURA!F348","v":0},null,null,null,null,null,null,null,null,{"$f":"HOJA_CAPTURA!E348","v":0}]
["Nombre, firma y cargo de la persona que elaboró",null,null,null,null,null,null,null,null,"Nombre y firma del titular del Área productora"]
[null,"           "]
[]
[]
[]
[]
["Nombre de la dependencia o entidad: ",null,null,null,"Instituto Nacional de Pediatria ",null,null,null,null,null,null,null,null,"Hoja: 88 de",{"$f":"O5","v":0}]
["Unidad administrativa/Área productora:",null,null,null,{"$f":"HOJA_CAPTURA!C352","v":0}]
["Fondo: INP ",null,"Sección:",{"$f":"HOJA_CAPTURA!G352","v":0},null,null,"Serie: ",{"$f":"HOJA_CAPTURA!H352","v":0}]
[null,null,null,null,null,null,"Subserie:",null,{"$f":"HOJA_CAPTURA!I352","v":0}]
["No. Consecutivo","No. de caja","No. de expediente","Clasificación archivística del expediente","Descripción o asunto ","                                                                                                                                                                                                                                                          Periodo de trámite","No.  de folios ","Valor documental",null,null,"Vigencia documental",null,null,"Condiciones de acceso (Reservada y confidencial)","Ubicación topográfica","Tradición documental "]
[null,null,null,null,null,null,null,"A","L","F/C","AT","AC","Total"]
[{"$f":"HOJA_CAPTURA!J351","v":0},{"$f":"HOJA_CAPTURA!K351","v":0},{"$f":"HOJA_CAPTURA!M351","v":0},{"$f":"HOJA_CAPTURA!N351","v":0},{"$f":"HOJA_CAPTURA!P351","v":0},{"$f":"HOJA_CAPTURA!Q351","v":"00:00:00"},{"$f":"HOJA_CAPTURA!V351","v":0},{"$f":"HOJA_CAPTURA!AF351","v":0},{"$f":"HOJA_CAPTURA!AG351","v":0},{"$f":"HOJA_CAPTURA!AH351","v":0},{"$f":"HOJA_CAPTURA!AI351","v":0},{"$f":"HOJA_CAPTURA!AJ351","v":0},{"$f":"HOJA_CAPTURA!AK351","v":0},{"$f":"HOJA_CAPTURA!AL351","v":0},{"$f":"HOJA_CAPTURA!AT351","v":0},{"$f":"HOJA_CAPTURA!AU351","v":0}]
[null,null,null,null,null,{"$f":"HOJA_CAPTURA!R351","v":"00:00:00"}]
[{"$f":"HOJA_CAPTURA!J352","v":0},{"$f":"HOJA_CAPTURA!K352","v":0},{"$f":"HOJA_CAPTURA!M352","v":0},{"$f":"HOJA_CAPTURA!N352","v":0},{"$f":"HOJA_CAPTURA!P352","v":0},{"$f":"HOJA_CAPTURA!Q352","v":"00:00:00"},{"$f":"HOJA_CAPTURA!V352","v":0},{"$f":"HOJA_CAPTURA!AF352","v":0},{"$f":"HOJA_CAPTURA!AG352","v":0},{"$f":"HOJA_CAPTURA!AH352","v":0},{"$f":"HOJA_CAPTURA!AI352","v":0},{"$f":"HOJA_CAPTURA!AJ352","v":0},{"$f":"HOJA_CAPTURA!AK352","v":0},{"$f":"HOJA_CAPTURA!AL352","v":0},{"$f":"HOJA_CAPTURA!AT352","v":0},{"$f":"HOJA_CAPTURA!AU352","v":0}]
[null,null,null,null,null,{"$f":"HOJA_CAPTURA!R352","v":"00:00:00"}]
[{"$f":"HOJA_CAPTURA!J353","v":0},{"$f":"HOJA_CAPTURA!K353","v":0},{"$f":"HOJA_CAPTURA!M353","v":0},{"$f":"HOJA_CAPTURA!N353","v":0},{"$f":"HOJA_CAPTURA!P353","v":0},{"$f":"HOJA_CAPTURA!Q353","v":"00:00:00"},{"$f":"HOJA_CAPTURA!V353","v":0},{"$f":"HOJA_CAPTURA!AF353","v":0},{"$f":"HOJA_CAPTURA!AG353","v":0},{"$f":"HOJA_CAPTURA!AH353","v":0},{"$f":"HOJA_CAPTURA!AI353","v":0},{"$f":"HOJA_CAPTURA!AJ353","v":0},{"$f":"HOJA_CAPTURA!AK353","v":0},{"$f":"HOJA_CAPTURA!AL353","v":0},{"$f":"HOJA_CAPTURA!AT353","v":0},{"$f":"HOJA_CAPTURA!AU353","v":0}]
[null,null,null,null,null,{"$f":"HOJA_CAPTURA!R353","v":"00:00:00"}]
[{"$f":"HOJA_CAPTURA!J354","v":0},{"$f":"HOJA_CAPTURA!K354","v":0},{"$f":"HOJA_CAPTURA!M354","v":0},{"$f":"HOJA_CAPTURA!N354","v":0},{"$f":"HOJA_CAPTURA!P354","v":0},{"$f":"HOJA_CAPTURA!Q354","v":"00:00:00"},{"$f":"HOJA_CAPTURA!V354","v":0},{"$f":"HOJA_CAPTURA!AF354","v":0},{"$f":"HOJA_CAPTURA!AG354","v":0},{"$f":"HOJA_CAPTURA!AH354","v":0},{"$f":"HOJA_CAPTURA!AI354","v":0},{"$f":"HOJA_CAPTURA!AJ354","v":0},{"$f":"HOJA_CAPTURA!AK354","v":0},{"$f":"HOJA_CAPTURA!AL354","v":0},{"$f":"HOJA_CAPTURA!AT354","v":0},{"$f":"HOJA_CAPTURA!AU354","v":0}]
[null,null,null,null,null,{"$f":"HOJA_CAPTURA!R354","v":"00:00:00"}]
[]
[{"$f":"HOJA_CAPTURA!F352","v":0},null,null,null,null,null,null,null,null,{"$f":"HOJA_CAPTURA!E352","v":0}]
["Nombre, firma y cargo de la persona que elaboró",null,null,null,null,null,null,null,null,"Nombre y firma del titular del Área productora"]
[null,"           "]
[]
[]
[]
[]
["Nombre de la dependencia o entidad: ",null,null,null,"Instituto Nacional de Pediatria ",null,null,null,null,null,null,null,null,"Hoja: 89 de",{"$f":"O5","v":0}]
["Unidad administrativa/Área productora:",null,null,null,{"$f":"HOJA_CAPTURA!C356","v":0}]
["Fondo: INP ",null,"Sección:",{"$f":"HOJA_CAPTURA!G356","v":0},null,null,"Serie: ",{"$f":"HOJA_CAPTURA!H356","v":0}]
[null,null,null,null,null,null,"Subserie:",null,{"$f":"HOJA_CAPTURA!I356","v":0}]
["No. Consecutivo","No. de caja","No. de expediente","Clasificación archivística del expediente","Descripción o asunto ","                                                                                                                                                                                                                                                          Periodo de trámite","No.  de folios ","Valor documental",null,null,"Vigencia documental",null,null,"Condiciones de acceso (Reservada y confidencial)","Ubicación topográfica","Tradición documental "]
[null,null,null,null,null,null,null,"A","L","F/C","AT","AC","Total"]
[{"$f":"HOJA_CAPTURA!J355","v":0},{"$f":"HOJA_CAPTURA!K355","v":0},{"$f":"HOJA_CAPTURA!M355","v":0},{"$f":"HOJA_CAPTURA!N355","v":0},{"$f":"HOJA_CAPTURA!P355","v":0},{"$f":"HOJA_CAPTURA!Q355","v":"00:00:00"},{"$f":"HOJA_CAPTURA!V355","v":0},{"$f":"HOJA_CAPTURA!AF355","v":0},{"$f":"HOJA_CAPTURA!AG355","v":0},{"$f":"HOJA_CAPTURA!AH355","v":0},{"$f":"HOJA_CAPTURA!AI355","v":0},{"$f":"HOJA_CAPTURA!AJ355","v":0},{"$f":"HOJA_CAPTURA!AK355","v":0},{"$f":"HOJA_CAPTURA!AL355","v":0},{"$f":"HOJA_CAPTURA!AT355","v":0},{"$f":"HOJA_CAPTURA!AU355","v":0}]
[null,null,null,null,null,{"$f":"HOJA_CAPTURA!R355","v":"00:00:00"}]
[{"$f":"HOJA_CAPTURA!J356","v":0},{"$f":"HOJA_CAPTURA!K356","v":0},{"$f":"HOJA_CAPTURA!M356","v":0},{"$f":"HOJA_CAPTURA!N356","v":0},{"$f":"HOJA_CAPTURA!P356","v":0},{"$f":"HOJA_CAPTURA!Q356","v":"00:00:00"},{"$f":"HOJA_CAPTURA!V356","v":0},{"$f":"HOJA_CAPTURA!AF356","v":0},{"$f":"HOJA_CAPTURA!AG356","v":0},{"$f":"HOJA_CAPTURA!AH356","v":0},{"$f":"HOJA_CAPTURA!AI356","v":0},{"$f":"HOJA_CAPTURA!AJ356","v":0},{"$f":"HOJA_CAPTURA!AK356","v":0},{"$f":"HOJA_CAPTURA!AL356","v":0},{"$f":"HOJA_CAPTURA!AT356","v":0},{"$f":"HOJA_CAPTURA!AU356","v":0}]
[null,null,null,null,null,{"$f":"HOJA_CAPTURA!R356","v":"00:00:00"}]
[{"$f":"HOJA_CAPTURA!J357","v":0},{"$f":"HOJA_CAPTURA!K357","v":0},{"$f":"HOJA_CAPTURA!M357","v":0},{"$f":"HOJA_CAPTURA!N357","v":0},{"$f":"HOJA_CAPTURA!P357","v":0},{"$f":"HOJA_CAPTURA!Q357","v":"00:00:00"},{"$f":"HOJA_CAPTURA!V357","v":0},{"$f":"HOJA_CAPTURA!AF357","v":0},{"$f":"HOJA_CAPTURA!AG357","v":0},{"$f":"HOJA_CAPTURA!AH357","v":0},{"$f":"HOJA_CAPTURA!AI357","v":0},{"$f":"HOJA_CAPTURA!AJ357","v":0},{"$f":"HOJA_CAPTURA!AK357","v":0},{"$f":"HOJA_CAPTURA!AL357","v":0},{"$f":"HOJA_CAPTURA!AT357","v":0},{"$f":"HOJA_CAPTURA!AU357","v":0}]
[null,null,null,null,null,{"$f":"HOJA_CAPTURA!R357","v":"00:00:00"}]
[{"$f":"HOJA_CAPTURA!J358","v":0},{"$f":"HOJA_CAPTURA!K358","v":0},{"$f":"HOJA_CAPTURA!M358","v":0},{"$f":"HOJA_CAPTURA!N358","v":0},{"$f":"HOJA_CAPTURA!P358","v":0},{"$f":"HOJA_CAPTURA!Q358","v":"00:00:00"},{"$f":"HOJA_CAPTURA!V358","v":0},{"$f":"HOJA_CAPTURA!AF358","v":0},{"$f":"HOJA_CAPTURA!AG358","v":0},{"$f":"HOJA_CAPTURA!AH358","v":0},{"$f":"HOJA_CAPTURA!AI358","v":0},{"$f":"HOJA_CAPTURA!AJ358","v":0},{"$f":"HOJA_CAPTURA!AK358","v":0},{"$f":"HOJA_CAPTURA!AL358","v":0},{"$f":"HOJA_CAPTURA!AT358","v":0},{"$f":"HOJA_CAPTURA!AU358","v":0}]
[null,null,null,null,null,{"$f":"HOJA_CAPTURA!R358","v":"00:00:00"}]
[]
[{"$f":"HOJA_CAPTURA!F356","v":0},null,null,null,null,null,null,null,null,{"$f":"HOJA_CAPTURA!E356","v":0}]
["Nombre, firma y cargo de la persona que elaboró",null,null,null,null,null,null,null,null,"Nombre y firma del titular del Área productora"]
[null,"           "]
[]
[]
[]
[]
["Nombre de la dependencia o entidad: ",null,null,null,"Instituto Nacional de Pediatria ",null,null,null,null,null,null,null,null,"Hoja: 90 de",{"$f":"O5","v":0}]
["Unidad administrativa/Área productora:",null,null,null,{"$f":"HOJA_CAPTURA!C360","v":0}]
["Fondo: INP ",null,"Sección:",{"$f":"HOJA_CAPTURA!G360","v":0},null,null,"Serie: ",{"$f":"HOJA_CAPTURA!H360","v":0}]
[null,null,null,null,null,null,"Subserie:",null,{"$f":"HOJA_CAPTURA!I360","v":0}]
["No. Consecutivo","No. de caja","No. de expediente","Clasificación archivística del expediente","Descripción o asunto ","                                                                                                                                                                                                                                                          Periodo de trámite","No.  de folios ","Valor documental",null,null,"Vigencia documental",null,null,"Condiciones de acceso (Reservada y confidencial)","Ubicación topográfica","Tradición documental "]
[null,null,null,null,null,null,null,"A","L","F/C","AT","AC","Total"]
[{"$f":"HOJA_CAPTURA!J359","v":0},{"$f":"HOJA_CAPTURA!K359","v":0},{"$f":"HOJA_CAPTURA!M359","v":0},{"$f":"HOJA_CAPTURA!N359","v":0},{"$f":"HOJA_CAPTURA!P359","v":0},{"$f":"HOJA_CAPTURA!Q359","v":"00:00:00"},{"$f":"HOJA_CAPTURA!V359","v":0},{"$f":"HOJA_CAPTURA!AF359","v":0},{"$f":"HOJA_CAPTURA!AG359","v":0},{"$f":"HOJA_CAPTURA!AH359","v":0},{"$f":"HOJA_CAPTURA!AI359","v":0},{"$f":"HOJA_CAPTURA!AJ359","v":0},{"$f":"HOJA_CAPTURA!AK359","v":0},{"$f":"HOJA_CAPTURA!AL359","v":0},{"$f":"HOJA_CAPTURA!AT359","v":0},{"$f":"HOJA_CAPTURA!AU359","v":0}]
[null,null,null,null,null,{"$f":"HOJA_CAPTURA!R359","v":"00:00:00"}]
[{"$f":"HOJA_CAPTURA!J360","v":0},{"$f":"HOJA_CAPTURA!K360","v":0},{"$f":"HOJA_CAPTURA!M360","v":0},{"$f":"HOJA_CAPTURA!N360","v":0},{"$f":"HOJA_CAPTURA!P360","v":0},{"$f":"HOJA_CAPTURA!Q360","v":"00:00:00"},{"$f":"HOJA_CAPTURA!V360","v":0},{"$f":"HOJA_CAPTURA!AF360","v":0},{"$f":"HOJA_CAPTURA!AG360","v":0},{"$f":"HOJA_CAPTURA!AH360","v":0},{"$f":"HOJA_CAPTURA!AI360","v":0},{"$f":"HOJA_CAPTURA!AJ360","v":0},{"$f":"HOJA_CAPTURA!AK360","v":0},{"$f":"HOJA_CAPTURA!AL360","v":0},{"$f":"HOJA_CAPTURA!AT360","v":0},{"$f":"HOJA_CAPTURA!AU360","v":0}]
[null,null,null,null,null,{"$f":"HOJA_CAPTURA!R360","v":"00:00:00"}]
[{"$f":"HOJA_CAPTURA!J361","v":0},{"$f":"HOJA_CAPTURA!K361","v":0},{"$f":"HOJA_CAPTURA!M361","v":0},{"$f":"HOJA_CAPTURA!N361","v":0},{"$f":"HOJA_CAPTURA!P361","v":0},{"$f":"HOJA_CAPTURA!Q361","v":"00:00:00"},{"$f":"HOJA_CAPTURA!V361","v":0},{"$f":"HOJA_CAPTURA!AF361","v":0},{"$f":"HOJA_CAPTURA!AG361","v":0},{"$f":"HOJA_CAPTURA!AH361","v":0},{"$f":"HOJA_CAPTURA!AI361","v":0},{"$f":"HOJA_CAPTURA!AJ361","v":0},{"$f":"HOJA_CAPTURA!AK361","v":0},{"$f":"HOJA_CAPTURA!AL361","v":0},{"$f":"HOJA_CAPTURA!AT361","v":0},{"$f":"HOJA_CAPTURA!AU361","v":0}]
[null,null,null,null,null,{"$f":"HOJA_CAPTURA!R361","v":"00:00:00"}]
[{"$f":"HOJA_CAPTURA!J362","v":0},{"$f":"HOJA_CAPTURA!K362","v":0},{"$f":"HOJA_CAPTURA!M362","v":0},{"$f":"HOJA_CAPTURA!N362","v":0},{"$f":"HOJA_CAPTURA!P362","v":0},{"$f":"HOJA_CAPTURA!Q362","v":"00:00:00"},{"$f":"HOJA_CAPTURA!V362","v":0},{"$f":"HOJA_CAPTURA!AF362","v":0},{"$f":"HOJA_CAPTURA!AG362","v":0},{"$f":"HOJA_CAPTURA!AH362","v":0},{"$f":"HOJA_CAPTURA!AI362","v":0},{"$f":"HOJA_CAPTURA!AJ362","v":0},{"$f":"HOJA_CAPTURA!AK362","v":0},{"$f":"HOJA_CAPTURA!AL362","v":0},{"$f":"HOJA_CAPTURA!AT362","v":0},{"$f":"HOJA_CAPTURA!AU362","v":0}]
[null,null,null,null,null,{"$f":"HOJA_CAPTURA!R362","v":"00:00:00"}]
[]
[{"$f":"HOJA_CAPTURA!F360","v":0},null,null,null,null,null,null,null,null,{"$f":"HOJA_CAPTURA!E360","v":0}]
["Nombre, firma y cargo de la persona que elaboró",null,null,null,null,null,null,null,null,"Nombre y firma del titular del Área productora"]
[null,"           "]
[]
[]
[]
[]
["Nombre de la dependencia o entidad: ",null,null,null,"Instituto Nacional de Pediatria ",null,null,null,null,null,null,null,null,"Hoja: 91 de",{"$f":"O5","v":0}]
["Unidad administrativa/Área productora:",null,null,null,{"$f":"HOJA_CAPTURA!C364","v":0}]
["Fondo: INP ",null,"Sección:",{"$f":"HOJA_CAPTURA!G364","v":0},null,null,"Serie: ",{"$f":"HOJA_CAPTURA!H364","v":0}]
[null,null,null,null,null,null,"Subserie:",null,{"$f":"HOJA_CAPTURA!I364","v":0}]
["No. Consecutivo","No. de caja","No. de expediente","Clasificación archivística del expediente","Descripción o asunto ","                                                                                                                                                                                                                                                          Periodo de trámite","No.  de folios ","Valor documental",null,null,"Vigencia documental",null,null,"Condiciones de acceso (Reservada y confidencial)","Ubicación topográfica","Tradición documental "]
[null,null,null,null,null,null,null,"A","L","F/C","AT","AC","Total"]
[{"$f":"HOJA_CAPTURA!J363","v":0},{"$f":"HOJA_CAPTURA!K363","v":0},{"$f":"HOJA_CAPTURA!M363","v":0},{"$f":"HOJA_CAPTURA!N363","v":0},{"$f":"HOJA_CAPTURA!P363","v":0},{"$f":"HOJA_CAPTURA!Q363","v":"00:00:00"},{"$f":"HOJA_CAPTURA!V363","v":0},{"$f":"HOJA_CAPTURA!AF363","v":0},{"$f":"HOJA_CAPTURA!AG363","v":0},{"$f":"HOJA_CAPTURA!AH363","v":0},{"$f":"HOJA_CAPTURA!AI363","v":0},{"$f":"HOJA_CAPTURA!AJ363","v":0},{"$f":"HOJA_CAPTURA!AK363","v":0},{"$f":"HOJA_CAPTURA!AL363","v":0},{"$f":"HOJA_CAPTURA!AT363","v":0},{"$f":"HOJA_CAPTURA!AU363","v":0}]
[null,null,null,null,null,{"$f":"HOJA_CAPTURA!R363","v":"00:00:00"}]
[{"$f":"HOJA_CAPTURA!J364","v":0},{"$f":"HOJA_CAPTURA!K364","v":0},{"$f":"HOJA_CAPTURA!M364","v":0},{"$f":"HOJA_CAPTURA!N364","v":0},{"$f":"HOJA_CAPTURA!P364","v":0},{"$f":"HOJA_CAPTURA!Q364","v":"00:00:00"},{"$f":"HOJA_CAPTURA!V364","v":0},{"$f":"HOJA_CAPTURA!AF364","v":0},{"$f":"HOJA_CAPTURA!AG364","v":0},{"$f":"HOJA_CAPTURA!AH364","v":0},{"$f":"HOJA_CAPTURA!AI364","v":0},{"$f":"HOJA_CAPTURA!AJ364","v":0},{"$f":"HOJA_CAPTURA!AK364","v":0},{"$f":"HOJA_CAPTURA!AL364","v":0},{"$f":"HOJA_CAPTURA!AT364","v":0},{"$f":"HOJA_CAPTURA!AU364","v":0}]
[null,null,null,null,null,{"$f":"HOJA_CAPTURA!R364","v":"00:00:00"}]
[{"$f":"HOJA_CAPTURA!J365","v":0},{"$f":"HOJA_CAPTURA!K365","v":0},{"$f":"HOJA_CAPTURA!M365","v":0},{"$f":"HOJA_CAPTURA!N365","v":0},{"$f":"HOJA_CAPTURA!P365","v":0},{"$f":"HOJA_CAPTURA!Q365","v":"00:00:00"},{"$f":"HOJA_CAPTURA!V365","v":0},{"$f":"HOJA_CAPTURA!AF365","v":0},{"$f":"HOJA_CAPTURA!AG365","v":0},{"$f":"HOJA_CAPTURA!AH365","v":0},{"$f":"HOJA_CAPTURA!AI365","v":0},{"$f":"HOJA_CAPTURA!AJ365","v":0},{"$f":"HOJA_CAPTURA!AK365","v":0},{"$f":"HOJA_CAPTURA!AL365","v":0},{"$f":"HOJA_CAPTURA!AT365","v":0},{"$f":"HOJA_CAPTURA!AU365","v":0}]
[null,null,null,null,null,{"$f":"HOJA_CAPTURA!R365","v":"00:00:00"}]
[{"$f":"HOJA_CAPTURA!J366","v":0},{"$f":"HOJA_CAPTURA!K366","v":0},{"$f":"HOJA_CAPTURA!M366","v":0},{"$f":"HOJA_CAPTURA!N366","v":0},{"$f":"HOJA_CAPTURA!P366","v":0},{"$f":"HOJA_CAPTURA!Q366","v":"00:00:00"},{"$f":"HOJA_CAPTURA!V366","v":0},{"$f":"HOJA_CAPTURA!AF366","v":0},{"$f":"HOJA_CAPTURA!AG366","v":0},{"$f":"HOJA_CAPTURA!AH366","v":0},{"$f":"HOJA_CAPTURA!AI366","v":0},{"$f":"HOJA_CAPTURA!AJ366","v":0},{"$f":"HOJA_CAPTURA!AK366","v":0},{"$f":"HOJA_CAPTURA!AL366","v":0},{"$f":"HOJA_CAPTURA!AT366","v":0},{"$f":"HOJA_CAPTURA!AU366","v":0}]
[null,null,null,null,null,{"$f":"HOJA_CAPTURA!R366","v":"00:00:00"}]
[]
[{"$f":"HOJA_CAPTURA!F364","v":0},null,null,null,null,null,null,null,null,{"$f":"HOJA_CAPTURA!E364","v":0}]
["Nombre, firma y cargo de la persona que elaboró",null,null,null,null,null,null,null,null,"Nombre y firma del titular del Área productora"]
[null,"           "]
[]
[]
[]
[]
["Nombre de la dependencia o entidad: ",null,null,null,"Instituto Nacional de Pediatria ",null,null,null,null,null,null,null,null,"Hoja: 92 de",{"$f":"O5","v":0}]
["Unidad administrativa/Área productora:",null,null,null,{"$f":"HOJA_CAPTURA!C368","v":0}]
["Fondo: INP ",null,"Sección:",{"$f":"HOJA_CAPTURA!G368","v":0},null,null,"Serie: ",{"$f":"HOJA_CAPTURA!H368","v":0}]
[null,null,null,null,null,null,"Subserie:",null,{"$f":"HOJA_CAPTURA!I368","v":0}]
["No. Consecutivo","No. de caja","No. de expediente","Clasificación archivística del expediente","Descripción o asunto ","                                                                                                                                                                                                                                                          Periodo de trámite","No.  de folios ","Valor documental",null,null,"Vigencia documental",null,null,"Condiciones de acceso (Reservada y confidencial)","Ubicación topográfica","Tradición documental "]
[null,null,null,null,null,null,null,"A","L","F/C","AT","AC","Total"]
[{"$f":"HOJA_CAPTURA!J367","v":0},{"$f":"HOJA_CAPTURA!K367","v":0},{"$f":"HOJA_CAPTURA!M367","v":0},{"$f":"HOJA_CAPTURA!N367","v":0},{"$f":"HOJA_CAPTURA!P367","v":0},{"$f":"HOJA_CAPTURA!Q367","v":"00:00:00"},{"$f":"HOJA_CAPTURA!V367","v":0},{"$f":"HOJA_CAPTURA!AF367","v":0},{"$f":"HOJA_CAPTURA!AG367","v":0},{"$f":"HOJA_CAPTURA!AH367","v":0},{"$f":"HOJA_CAPTURA!AI367","v":0},{"$f":"HOJA_CAPTURA!AJ367","v":0},{"$f":"HOJA_CAPTURA!AK367","v":0},{"$f":"HOJA_CAPTURA!AL367","v":0},{"$f":"HOJA_CAPTURA!AT367","v":0},{"$f":"HOJA_CAPTURA!AU367","v":0}]
[null,null,null,null,null,{"$f":"HOJA_CAPTURA!R367","v":"00:00:00"}]
[{"$f":"HOJA_CAPTURA!J368","v":0},{"$f":"HOJA_CAPTURA!K368","v":0},{"$f":"HOJA_CAPTURA!M368","v":0},{"$f":"HOJA_CAPTURA!N368","v":0},{"$f":"HOJA_CAPTURA!P368","v":0},{"$f":"HOJA_CAPTURA!Q368","v":"00:00:00"},{"$f":"HOJA_CAPTURA!V368","v":0},{"$f":"HOJA_CAPTURA!AF368","v":0},{"$f":"HOJA_CAPTURA!AG368","v":0},{"$f":"HOJA_CAPTURA!AH368","v":0},{"$f":"HOJA_CAPTURA!AI368","v":0},{"$f":"HOJA_CAPTURA!AJ368","v":0},{"$f":"HOJA_CAPTURA!AK368","v":0},{"$f":"HOJA_CAPTURA!AL368","v":0},{"$f":"HOJA_CAPTURA!AT368","v":0},{"$f":"HOJA_CAPTURA!AU368","v":0}]
[null,null,null,null,null,{"$f":"HOJA_CAPTURA!R368","v":"00:00:00"}]
[{"$f":"HOJA_CAPTURA!J369","v":0},{"$f":"HOJA_CAPTURA!K369","v":0},{"$f":"HOJA_CAPTURA!M369","v":0},{"$f":"HOJA_CAPTURA!N369","v":0},{"$f":"HOJA_CAPTURA!P369","v":0},{"$f":"HOJA_CAPTURA!Q369","v":"00:00:00"},{"$f":"HOJA_CAPTURA!V369","v":0},{"$f":"HOJA_CAPTURA!AF369","v":0},{"$f":"HOJA_CAPTURA!AG369","v":0},{"$f":"HOJA_CAPTURA!AH369","v":0},{"$f":"HOJA_CAPTURA!AI369","v":0},{"$f":"HOJA_CAPTURA!AJ369","v":0},{"$f":"HOJA_CAPTURA!AK369","v":0},{"$f":"HOJA_CAPTURA!AL369","v":0},{"$f":"HOJA_CAPTURA!AT369","v":0},{"$f":"HOJA_CAPTURA!AU369","v":0}]
[null,null,null,null,null,{"$f":"HOJA_CAPTURA!R369","v":"00:00:00"}]
[{"$f":"HOJA_CAPTURA!J370","v":0},{"$f":"HOJA_CAPTURA!K370","v":0},{"$f":"HOJA_CAPTURA!M370","v":0},{"$f":"HOJA_CAPTURA!N370","v":0},{"$f":"HOJA_CAPTURA!P370","v":0},{"$f":"HOJA_CAPTURA!Q370","v":"00:00:00"},{"$f":"HOJA_CAPTURA!V370","v":0},{"$f":"HOJA_CAPTURA!AF370","v":0},{"$f":"HOJA_CAPTURA!AG370","v":0},{"$f":"HOJA_CAPTURA!AH370","v":0},{"$f":"HOJA_CAPTURA!AI370","v":0},{"$f":"HOJA_CAPTURA!AJ370","v":0},{"$f":"HOJA_CAPTURA!AK370","v":0},{"$f":"HOJA_CAPTURA!AL370","v":0},{"$f":"HOJA_CAPTURA!AT370","v":0},{"$f":"HOJA_CAPTURA!AU370","v":0}]
[null,null,null,null,null,{"$f":"HOJA_CAPTURA!R370","v":"00:00:00"}]
[]
[{"$f":"HOJA_CAPTURA!F368","v":0},null,null,null,null,null,null,null,null,{"$f":"HOJA_CAPTURA!E368","v":0}]
["Nombre, firma y cargo de la persona que elaboró",null,null,null,null,null,null,null,null,"Nombre y firma del titular del Área productora"]
[null,"           "]
[]
[]
[]
[]
["Nombre de la dependencia o entidad: ",null,null,null,"Instituto Nacional de Pediatria ",null,null,null,null,null,null,null,null,"Hoja: 93 de",{"$f":"O5","v":0}]
["Unidad administrativa/Área productora:",null,null,null,{"$f":"HOJA_CAPTURA!C372","v":0}]
["Fondo: INP ",null,"Sección:",{"$f":"HOJA_CAPTURA!G372","v":0},null,null,"Serie: ",{"$f":"HOJA_CAPTURA!H372","v":0}]
[null,null,null,null,null,null,"Subserie:",null,{"$f":"HOJA_CAPTURA!I372","v":0}]
["No. Consecutivo","No. de caja","No. de expediente","Clasificación archivística del expediente","Descripción o asunto ","                                                                                                                                                                                                                                                          Periodo de trámite","No.  de folios ","Valor documental",null,null,"Vigencia documental",null,null,"Condiciones de acceso (Reservada y confidencial)","Ubicación topográfica","Tradición documental "]
[null,null,null,null,null,null,null,"A","L","F/C","AT","AC","Total"]
[{"$f":"HOJA_CAPTURA!J371","v":0},{"$f":"HOJA_CAPTURA!K371","v":0},{"$f":"HOJA_CAPTURA!M371","v":0},{"$f":"HOJA_CAPTURA!N371","v":0},{"$f":"HOJA_CAPTURA!P371","v":0},{"$f":"HOJA_CAPTURA!Q371","v":"00:00:00"},{"$f":"HOJA_CAPTURA!V371","v":0},{"$f":"HOJA_CAPTURA!AF371","v":0},{"$f":"HOJA_CAPTURA!AG371","v":0},{"$f":"HOJA_CAPTURA!AH371","v":0},{"$f":"HOJA_CAPTURA!AI371","v":0},{"$f":"HOJA_CAPTURA!AJ371","v":0},{"$f":"HOJA_CAPTURA!AK371","v":0},{"$f":"HOJA_CAPTURA!AL371","v":0},{"$f":"HOJA_CAPTURA!AT371","v":0},{"$f":"HOJA_CAPTURA!AU371","v":0}]
[null,null,null,null,null,{"$f":"HOJA_CAPTURA!R371","v":"00:00:00"}]
[{"$f":"HOJA_CAPTURA!J372","v":0},{"$f":"HOJA_CAPTURA!K372","v":0},{"$f":"HOJA_CAPTURA!M372","v":0},{"$f":"HOJA_CAPTURA!N372","v":0},{"$f":"HOJA_CAPTURA!P372","v":0},{"$f":"HOJA_CAPTURA!Q372","v":"00:00:00"},{"$f":"HOJA_CAPTURA!V372","v":0},{"$f":"HOJA_CAPTURA!AF372","v":0},{"$f":"HOJA_CAPTURA!AG372","v":0},{"$f":"HOJA_CAPTURA!AH372","v":0},{"$f":"HOJA_CAPTURA!AI372","v":0},{"$f":"HOJA_CAPTURA!AJ372","v":0},{"$f":"HOJA_CAPTURA!AK372","v":0},{"$f":"HOJA_CAPTURA!AL372","v":0},{"$f":"HOJA_CAPTURA!AT372","v":0},{"$f":"HOJA_CAPTURA!AU372","v":0}]
[null,null,null,null,null,{"$f":"HOJA_CAPTURA!R372","v":"00:00:00"}]
[{"$f":"HOJA_CAPTURA!J373","v":0},{"$f":"HOJA_CAPTURA!K373","v":0},{"$f":"HOJA_CAPTURA!M373","v":0},{"$f":"HOJA_CAPTURA!N373","v":0},{"$f":"HOJA_CAPTURA!P373","v":0},{"$f":"HOJA_CAPTURA!Q373","v":"00:00:00"},{"$f":"HOJA_CAPTURA!V373","v":0},{"$f":"HOJA_CAPTURA!AF373","v":0},{"$f":"HOJA_CAPTURA!AG373","v":0},{"$f":"HOJA_CAPTURA!AH373","v":0},{"$f":"HOJA_CAPTURA!AI373","v":0},{"$f":"HOJA_CAPTURA!AJ373","v":0},{"$f":"HOJA_CAPTURA!AK373","v":0},{"$f":"HOJA_CAPTURA!AL373","v":0},{"$f":"HOJA_CAPTURA!AT373","v":0},{"$f":"HOJA_CAPTURA!AU373","v":0}]
[null,null,null,null,null,{"$f":"HOJA_CAPTURA!R373","v":"00:00:00"}]
[{"$f":"HOJA_CAPTURA!J374","v":0},{"$f":"HOJA_CAPTURA!K374","v":0},{"$f":"HOJA_CAPTURA!M374","v":0},{"$f":"HOJA_CAPTURA!N374","v":0},{"$f":"HOJA_CAPTURA!P374","v":0},{"$f":"HOJA_CAPTURA!Q374","v":"00:00:00"},{"$f":"HOJA_CAPTURA!V374","v":0},{"$f":"HOJA_CAPTURA!AF374","v":0},{"$f":"HOJA_CAPTURA!AG374","v":0},{"$f":"HOJA_CAPTURA!AH374","v":0},{"$f":"HOJA_CAPTURA!AI274","v":0},{"$f":"HOJA_CAPTURA!AJ374","v":0},{"$f":"HOJA_CAPTURA!AK374","v":0},{"$f":"HOJA_CAPTURA!AL374","v":0},{"$f":"HOJA_CAPTURA!AT374","v":0},{"$f":"HOJA_CAPTURA!AU374","v":0}]
[null,null,null,null,null,{"$f":"HOJA_CAPTURA!R374","v":"00:00:00"}]
[]
[{"$f":"HOJA_CAPTURA!F372","v":0},null,null,null,null,null,null,null,null,{"$f":"HOJA_CAPTURA!E372","v":0}]
["Nombre, firma y cargo de la persona que elaboró",null,null,null,null,null,null,null,null,"Nombre y firma del titular del Área productora"]
[null,"           "]
[]
[]
[]
[]
["Nombre de la dependencia o entidad: ",null,null,null,"Instituto Nacional de Pediatria ",null,null,null,null,null,null,null,null,"Hoja: 94 de",{"$f":"O5","v":0}]
["Unidad administrativa/Área productora:",null,null,null,{"$f":"HOJA_CAPTURA!C376","v":0}]
["Fondo: INP ",null,"Sección:",{"$f":"HOJA_CAPTURA!G376","v":0},null,null,"Serie: ",{"$f":"HOJA_CAPTURA!H376","v":0}]
[null,null,null,null,null,null,"Subserie:",null,{"$f":"HOJA_CAPTURA!I376","v":0}]
["No. Consecutivo","No. de caja","No. de expediente","Clasificación archivística del expediente","Descripción o asunto ","                                                                                                                                                                                                                                                          Periodo de trámite","No.  de folios ","Valor documental",null,null,"Vigencia documental",null,null,"Condiciones de acceso (Reservada y confidencial)","Ubicación topográfica","Tradición documental "]
[null,null,null,null,null,null,null,"A","L","F/C","AT","AC","Total"]
[{"$f":"HOJA_CAPTURA!J375","v":0},{"$f":"HOJA_CAPTURA!K375","v":0},{"$f":"HOJA_CAPTURA!M375","v":0},{"$f":"HOJA_CAPTURA!N375","v":0},{"$f":"HOJA_CAPTURA!P375","v":0},{"$f":"HOJA_CAPTURA!Q375","v":"00:00:00"},{"$f":"HOJA_CAPTURA!V375","v":0},{"$f":"HOJA_CAPTURA!AF375","v":0},{"$f":"HOJA_CAPTURA!AG375","v":0},{"$f":"HOJA_CAPTURA!AH375","v":0},{"$f":"HOJA_CAPTURA!AI375","v":0},{"$f":"HOJA_CAPTURA!AJ375","v":0},{"$f":"HOJA_CAPTURA!AK375","v":0},{"$f":"HOJA_CAPTURA!AL375","v":0},{"$f":"HOJA_CAPTURA!AT375","v":0},{"$f":"HOJA_CAPTURA!AU375","v":0}]
[null,null,null,null,null,{"$f":"HOJA_CAPTURA!R375","v":"00:00:00"}]
[{"$f":"HOJA_CAPTURA!J376","v":0},{"$f":"HOJA_CAPTURA!K376","v":0},{"$f":"HOJA_CAPTURA!M376","v":0},{"$f":"HOJA_CAPTURA!N376","v":0},{"$f":"HOJA_CAPTURA!P376","v":0},{"$f":"HOJA_CAPTURA!Q376","v":"00:00:00"},{"$f":"HOJA_CAPTURA!V376","v":0},{"$f":"HOJA_CAPTURA!AF376","v":0},{"$f":"HOJA_CAPTURA!AG376","v":0},{"$f":"HOJA_CAPTURA!AH376","v":0},{"$f":"HOJA_CAPTURA!AI376","v":0},{"$f":"HOJA_CAPTURA!AJ376","v":0},{"$f":"HOJA_CAPTURA!AK376","v":0},{"$f":"HOJA_CAPTURA!AL376","v":0},{"$f":"HOJA_CAPTURA!AT376","v":0},{"$f":"HOJA_CAPTURA!AU376","v":0}]
[null,null,null,null,null,{"$f":"HOJA_CAPTURA!R376","v":"00:00:00"}]
[{"$f":"HOJA_CAPTURA!J377","v":0},{"$f":"HOJA_CAPTURA!K377","v":0},{"$f":"HOJA_CAPTURA!M377","v":0},{"$f":"HOJA_CAPTURA!N377","v":0},{"$f":"HOJA_CAPTURA!P377","v":0},{"$f":"HOJA_CAPTURA!Q377","v":"00:00:00"},{"$f":"HOJA_CAPTURA!V377","v":0},{"$f":"HOJA_CAPTURA!AF377","v":0},{"$f":"HOJA_CAPTURA!AG377","v":0},{"$f":"HOJA_CAPTURA!AH377","v":0},{"$f":"HOJA_CAPTURA!AI377","v":0},{"$f":"HOJA_CAPTURA!AJ377","v":0},{"$f":"HOJA_CAPTURA!AK377","v":0},{"$f":"HOJA_CAPTURA!AL377","v":0},{"$f":"HOJA_CAPTURA!AT377","v":0},{"$f":"HOJA_CAPTURA!AU377","v":0}]
[null,null,null,null,null,{"$f":"HOJA_CAPTURA!R377","v":"00:00:00"}]
[{"$f":"HOJA_CAPTURA!J378","v":0},{"$f":"HOJA_CAPTURA!K378","v":0},{"$f":"HOJA_CAPTURA!M378","v":0},{"$f":"HOJA_CAPTURA!N378","v":0},{"$f":"HOJA_CAPTURA!P378","v":0},{"$f":"HOJA_CAPTURA!Q378","v":"00:00:00"},{"$f":"HOJA_CAPTURA!V378","v":0},{"$f":"HOJA_CAPTURA!AF378","v":0},{"$f":"HOJA_CAPTURA!AG378","v":0},{"$f":"HOJA_CAPTURA!AH378","v":0},{"$f":"HOJA_CAPTURA!AI378","v":0},{"$f":"HOJA_CAPTURA!AJ378","v":0},{"$f":"HOJA_CAPTURA!AK378","v":0},{"$f":"HOJA_CAPTURA!AL378","v":0},{"$f":"HOJA_CAPTURA!AT378","v":0},{"$f":"HOJA_CAPTURA!AU378","v":0}]
[null,null,null,null,null,{"$f":"HOJA_CAPTURA!R378","v":"00:00:00"}]
[]
[{"$f":"HOJA_CAPTURA!F376","v":0},null,null,null,null,null,null,null,null,{"$f":"HOJA_CAPTURA!E376","v":0}]
["Nombre, firma y cargo de la persona que elaboró",null,null,null,null,null,null,null,null,"Nombre y firma del titular del Área productora"]
[null,"           "]
[]
[]
[]
[]
["Nombre de la dependencia o entidad: ",null,null,null,"Instituto Nacional de Pediatria ",null,null,null,null,null,null,null,null,"Hoja: 95 de",{"$f":"O5","v":0}]
["Unidad administrativa/Área productora:",null,null,null,{"$f":"HOJA_CAPTURA!C380","v":0}]
["Fondo: INP ",null,"Sección:",{"$f":"HOJA_CAPTURA!G380","v":0},null,null,"Serie: ",{"$f":"HOJA_CAPTURA!H380","v":0}]
[null,null,null,null,null,null,"Subserie:",null,{"$f":"HOJA_CAPTURA!I380","v":0}]
["No. Consecutivo","No. de caja","No. de expediente","Clasificación archivística del expediente","Descripción o asunto ","                                                                                                                                                                                                                                                          Periodo de trámite","No.  de folios ","Valor documental",null,null,"Vigencia documental",null,null,"Condiciones de acceso (Reservada y confidencial)","Ubicación topográfica","Tradición documental "]
[null,null,null,null,null,null,null,"A","L","F/C","AT","AC","Total"]
[{"$f":"HOJA_CAPTURA!J379","v":0},{"$f":"HOJA_CAPTURA!K379","v":0},{"$f":"HOJA_CAPTURA!M379","v":0},{"$f":"HOJA_CAPTURA!N379","v":0},{"$f":"HOJA_CAPTURA!P379","v":0},{"$f":"HOJA_CAPTURA!Q379","v":"00:00:00"},{"$f":"HOJA_CAPTURA!V379","v":0},{"$f":"HOJA_CAPTURA!AF379","v":0},{"$f":"HOJA_CAPTURA!AG379","v":0},{"$f":"HOJA_CAPTURA!AH379","v":0},{"$f":"HOJA_CAPTURA!AI379","v":0},{"$f":"HOJA_CAPTURA!AJ379","v":0},{"$f":"HOJA_CAPTURA!AK379","v":0},{"$f":"HOJA_CAPTURA!AL379","v":0},{"$f":"HOJA_CAPTURA!AT379","v":0},{"$f":"HOJA_CAPTURA!AU379","v":0}]
[null,null,null,null,null,{"$f":"HOJA_CAPTURA!R379","v":"00:00:00"}]
[{"$f":"HOJA_CAPTURA!J380","v":0},{"$f":"HOJA_CAPTURA!K380","v":0},{"$f":"HOJA_CAPTURA!M380","v":0},{"$f":"HOJA_CAPTURA!N380","v":0},{"$f":"HOJA_CAPTURA!P380","v":0},{"$f":"HOJA_CAPTURA!Q380","v":"00:00:00"},{"$f":"HOJA_CAPTURA!V380","v":0},{"$f":"HOJA_CAPTURA!AF380","v":0},{"$f":"HOJA_CAPTURA!AG380","v":0},{"$f":"HOJA_CAPTURA!AH380","v":0},{"$f":"HOJA_CAPTURA!AI380","v":0},{"$f":"HOJA_CAPTURA!AJ380","v":0},{"$f":"HOJA_CAPTURA!AK380","v":0},{"$f":"HOJA_CAPTURA!AL380","v":0},{"$f":"HOJA_CAPTURA!AT380","v":0},{"$f":"HOJA_CAPTURA!AU380","v":0}]
[null,null,null,null,null,{"$f":"HOJA_CAPTURA!R380","v":"00:00:00"}]
[{"$f":"HOJA_CAPTURA!J381","v":0},{"$f":"HOJA_CAPTURA!K381","v":0},{"$f":"HOJA_CAPTURA!M381","v":0},{"$f":"HOJA_CAPTURA!N381","v":0},{"$f":"HOJA_CAPTURA!P381","v":0},{"$f":"HOJA_CAPTURA!Q381","v":"00:00:00"},{"$f":"HOJA_CAPTURA!V381","v":0},{"$f":"HOJA_CAPTURA!AF381","v":0},{"$f":"HOJA_CAPTURA!AG381","v":0},{"$f":"HOJA_CAPTURA!AH381","v":0},{"$f":"HOJA_CAPTURA!AI381","v":0},{"$f":"HOJA_CAPTURA!AJ381","v":0},{"$f":"HOJA_CAPTURA!AK381","v":0},{"$f":"HOJA_CAPTURA!AL381","v":0},{"$f":"HOJA_CAPTURA!AT381","v":0},{"$f":"HOJA_CAPTURA!AU381","v":0}]
[null,null,null,null,null,{"$f":"HOJA_CAPTURA!R381","v":"00:00:00"}]
[{"$f":"HOJA_CAPTURA!J382","v":0},{"$f":"HOJA_CAPTURA!K382","v":0},{"$f":"HOJA_CAPTURA!M382","v":0},{"$f":"HOJA_CAPTURA!N382","v":0},{"$f":"HOJA_CAPTURA!P382","v":0},{"$f":"HOJA_CAPTURA!Q382","v":"00:00:00"},{"$f":"HOJA_CAPTURA!V382","v":0},{"$f":"HOJA_CAPTURA!AF382","v":0},{"$f":"HOJA_CAPTURA!AG382","v":0},{"$f":"HOJA_CAPTURA!AH382","v":0},{"$f":"HOJA_CAPTURA!AI382","v":0},{"$f":"HOJA_CAPTURA!AJ382","v":0},{"$f":"HOJA_CAPTURA!AK382","v":0},{"$f":"HOJA_CAPTURA!AL382","v":0},{"$f":"HOJA_CAPTURA!AT382","v":0},{"$f":"HOJA_CAPTURA!AU382","v":0}]
[null,null,null,null,null,{"$f":"HOJA_CAPTURA!R382","v":"00:00:00"}]
[]
[{"$f":"HOJA_CAPTURA!F380","v":0},null,null,null,null,null,null,null,null,{"$f":"HOJA_CAPTURA!E380","v":0}]
["Nombre, firma y cargo de la persona que elaboró",null,null,null,null,null,null,null,null,"Nombre y firma del titular del Área productora"]
[null,"           "]
[]
[]
[]
[]
["Nombre de la dependencia o entidad: ",null,null,null,"Instituto Nacional de Pediatria ",null,null,null,null,null,null,null,null,"Hoja: 96 de",{"$f":"O5","v":0}]
["Unidad administrativa/Área productora:",null,null,null,{"$f":"HOJA_CAPTURA!C384","v":0}]
["Fondo: INP ",null,"Sección:",{"$f":"HOJA_CAPTURA!G384","v":0},null,null,"Serie: ",{"$f":"HOJA_CAPTURA!H384","v":0}]
[null,null,null,null,null,null,"Subserie:",null,{"$f":"HOJA_CAPTURA!I384","v":0}]
["No. Consecutivo","No. de caja","No. de expediente","Clasificación archivística del expediente","Descripción o asunto ","                                                                                                                                                                                                                                                          Periodo de trámite","No.  de folios ","Valor documental",null,null,"Vigencia documental",null,null,"Condiciones de acceso (Reservada y confidencial)","Ubicación topográfica","Tradición documental "]
[null,null,null,null,null,null,null,"A","L","F/C","AT","AC","Total"]
[{"$f":"HOJA_CAPTURA!J383","v":0},{"$f":"HOJA_CAPTURA!K383","v":0},{"$f":"HOJA_CAPTURA!M383","v":0},{"$f":"HOJA_CAPTURA!N383","v":0},{"$f":"HOJA_CAPTURA!P383","v":0},{"$f":"HOJA_CAPTURA!Q383","v":"00:00:00"},{"$f":"HOJA_CAPTURA!V383","v":0},{"$f":"HOJA_CAPTURA!AF383","v":0},{"$f":"HOJA_CAPTURA!AG383","v":0},{"$f":"HOJA_CAPTURA!AH383","v":0},{"$f":"HOJA_CAPTURA!AI383","v":0},{"$f":"HOJA_CAPTURA!AJ383","v":0},{"$f":"HOJA_CAPTURA!AK383","v":0},{"$f":"HOJA_CAPTURA!AL383","v":0},{"$f":"HOJA_CAPTURA!AT383","v":0},{"$f":"HOJA_CAPTURA!AU383","v":0}]
[null,null,null,null,null,{"$f":"HOJA_CAPTURA!R383","v":"00:00:00"}]
[{"$f":"HOJA_CAPTURA!J384","v":0},{"$f":"HOJA_CAPTURA!K384","v":0},{"$f":"HOJA_CAPTURA!M384","v":0},{"$f":"HOJA_CAPTURA!N384","v":0},{"$f":"HOJA_CAPTURA!P384","v":0},{"$f":"HOJA_CAPTURA!Q384","v":"00:00:00"},{"$f":"HOJA_CAPTURA!V384","v":0},{"$f":"HOJA_CAPTURA!AF384","v":0},{"$f":"HOJA_CAPTURA!AG384","v":0},{"$f":"HOJA_CAPTURA!AH384","v":0},{"$f":"HOJA_CAPTURA!AI384","v":0},{"$f":"HOJA_CAPTURA!AJ384","v":0},{"$f":"HOJA_CAPTURA!AK384","v":0},{"$f":"HOJA_CAPTURA!AL384","v":0},{"$f":"HOJA_CAPTURA!AT384","v":0},{"$f":"HOJA_CAPTURA!AU384","v":0}]
[null,null,null,null,null,{"$f":"HOJA_CAPTURA!R384","v":"00:00:00"}]
[{"$f":"HOJA_CAPTURA!J385","v":0},{"$f":"HOJA_CAPTURA!K385","v":0},{"$f":"HOJA_CAPTURA!M385","v":0},{"$f":"HOJA_CAPTURA!N385","v":0},{"$f":"HOJA_CAPTURA!P385","v":0},{"$f":"HOJA_CAPTURA!Q385","v":"00:00:00"},{"$f":"HOJA_CAPTURA!V385","v":0},{"$f":"HOJA_CAPTURA!AF385","v":0},{"$f":"HOJA_CAPTURA!AG385","v":0},{"$f":"HOJA_CAPTURA!AH385","v":0},{"$f":"HOJA_CAPTURA!AI385","v":0},{"$f":"HOJA_CAPTURA!AJ385","v":0},{"$f":"HOJA_CAPTURA!AK385","v":0},{"$f":"HOJA_CAPTURA!AL385","v":0},{"$f":"HOJA_CAPTURA!AT385","v":0},{"$f":"HOJA_CAPTURA!AU385","v":0}]
[null,null,null,null,null,{"$f":"HOJA_CAPTURA!R385","v":"00:00:00"}]
[{"$f":"HOJA_CAPTURA!J386","v":0},{"$f":"HOJA_CAPTURA!K386","v":0},{"$f":"HOJA_CAPTURA!M386","v":0},{"$f":"HOJA_CAPTURA!N386","v":0},{"$f":"HOJA_CAPTURA!P386","v":0},{"$f":"HOJA_CAPTURA!Q386","v":"00:00:00"},{"$f":"HOJA_CAPTURA!V386","v":0},{"$f":"HOJA_CAPTURA!AF386","v":0},{"$f":"HOJA_CAPTURA!AG386","v":0},{"$f":"HOJA_CAPTURA!AH386","v":0},{"$f":"HOJA_CAPTURA!AI386","v":0},{"$f":"HOJA_CAPTURA!AJ386","v":0},{"$f":"HOJA_CAPTURA!AK386","v":0},{"$f":"HOJA_CAPTURA!AL386","v":0},{"$f":"HOJA_CAPTURA!AT386","v":0},{"$f":"HOJA_CAPTURA!AU386","v":0}]
[null,null,null,null,null,{"$f":"HOJA_CAPTURA!R386","v":"00:00:00"}]
[]
[{"$f":"HOJA_CAPTURA!F384","v":0},null,null,null,null,null,null,null,null,{"$f":"HOJA_CAPTURA!E384","v":0}]
["Nombre, firma y cargo de la persona que elaboró",null,null,null,null,null,null,null,null,"Nombre y firma del titular del Área productora"]
[null,"           "]
[]
[]
[]
[]
["Nombre de la dependencia o entidad: ",null,null,null,"Instituto Nacional de Pediatria ",null,null,null,null,null,null,null,null,"Hoja: 97 de",{"$f":"O5","v":0}]
["Unidad administrativa/Área productora:",null,null,null,{"$f":"HOJA_CAPTURA!C388","v":0}]
["Fondo: INP ",null,"Sección:",{"$f":"HOJA_CAPTURA!G388","v":0},null,null,"Serie: ",{"$f":"HOJA_CAPTURA!H388","v":0}]
[null,null,null,null,null,null,"Subserie:",null,{"$f":"HOJA_CAPTURA!I388","v":0}]
["No. Consecutivo","No. de caja","No. de expediente","Clasificación archivística del expediente","Descripción o asunto ","                                                                                                                                                                                                                                                          Periodo de trámite","No.  de folios ","Valor documental",null,null,"Vigencia documental",null,null,"Condiciones de acceso (Reservada y confidencial)","Ubicación topográfica","Tradición documental "]
[null,null,null,null,null,null,null,"A","L","F/C","AT","AC","Total"]
[{"$f":"HOJA_CAPTURA!J387","v":0},{"$f":"HOJA_CAPTURA!K387","v":0},{"$f":"HOJA_CAPTURA!M387","v":0},{"$f":"HOJA_CAPTURA!N387","v":0},{"$f":"HOJA_CAPTURA!P387","v":0},{"$f":"HOJA_CAPTURA!Q387","v":"00:00:00"},{"$f":"HOJA_CAPTURA!V387","v":0},{"$f":"HOJA_CAPTURA!AF387","v":0},{"$f":"HOJA_CAPTURA!AG387","v":0},{"$f":"HOJA_CAPTURA!AH387","v":0},{"$f":"HOJA_CAPTURA!AI387","v":0},{"$f":"HOJA_CAPTURA!AJ387","v":0},{"$f":"HOJA_CAPTURA!AK387","v":0},{"$f":"HOJA_CAPTURA!AL387","v":0},{"$f":"HOJA_CAPTURA!AT387","v":0},{"$f":"HOJA_CAPTURA!AU387","v":0}]
[null,null,null,null,null,{"$f":"HOJA_CAPTURA!R387","v":"00:00:00"}]
[{"$f":"HOJA_CAPTURA!J388","v":0},{"$f":"HOJA_CAPTURA!K388","v":0},{"$f":"HOJA_CAPTURA!M388","v":0},{"$f":"HOJA_CAPTURA!N388","v":0},{"$f":"HOJA_CAPTURA!P388","v":0},{"$f":"HOJA_CAPTURA!Q388","v":"00:00:00"},{"$f":"HOJA_CAPTURA!V388","v":0},{"$f":"HOJA_CAPTURA!AF388","v":0},{"$f":"HOJA_CAPTURA!AG388","v":0},{"$f":"HOJA_CAPTURA!AH388","v":0},{"$f":"HOJA_CAPTURA!AI388","v":0},{"$f":"HOJA_CAPTURA!AJ388","v":0},{"$f":"HOJA_CAPTURA!AK388","v":0},{"$f":"HOJA_CAPTURA!AL388","v":0},{"$f":"HOJA_CAPTURA!AT388","v":0},{"$f":"HOJA_CAPTURA!AU388","v":0}]
[null,null,null,null,null,{"$f":"HOJA_CAPTURA!R388","v":"00:00:00"}]
[{"$f":"HOJA_CAPTURA!J389","v":0},{"$f":"HOJA_CAPTURA!K389","v":0},{"$f":"HOJA_CAPTURA!M389","v":0},{"$f":"HOJA_CAPTURA!N389","v":0},{"$f":"HOJA_CAPTURA!P389","v":0},{"$f":"HOJA_CAPTURA!Q389","v":"00:00:00"},{"$f":"HOJA_CAPTURA!V389","v":0},{"$f":"HOJA_CAPTURA!AF389","v":0},{"$f":"HOJA_CAPTURA!AG389","v":0},{"$f":"HOJA_CAPTURA!AH389","v":0},{"$f":"HOJA_CAPTURA!AI389","v":0},{"$f":"HOJA_CAPTURA!AJ389","v":0},{"$f":"HOJA_CAPTURA!AK389","v":0},{"$f":"HOJA_CAPTURA!AL389","v":0},{"$f":"HOJA_CAPTURA!AT389","v":0},{"$f":"HOJA_CAPTURA!AU389","v":0}]
[null,null,null,null,null,{"$f":"HOJA_CAPTURA!R389","v":"00:00:00"}]
[{"$f":"HOJA_CAPTURA!J390","v":0},{"$f":"HOJA_CAPTURA!K390","v":0},{"$f":"HOJA_CAPTURA!M390","v":0},{"$f":"HOJA_CAPTURA!N390","v":0},{"$f":"HOJA_CAPTURA!P390","v":0},{"$f":"HOJA_CAPTURA!Q390","v":"00:00:00"},{"$f":"HOJA_CAPTURA!V390","v":0},{"$f":"HOJA_CAPTURA!AF390","v":0},{"$f":"HOJA_CAPTURA!AG390","v":0},{"$f":"HOJA_CAPTURA!AH390","v":0},{"$f":"HOJA_CAPTURA!AI390","v":0},{"$f":"HOJA_CAPTURA!AJ390","v":0},{"$f":"HOJA_CAPTURA!AK390","v":0},{"$f":"HOJA_CAPTURA!AL390","v":0},{"$f":"HOJA_CAPTURA!AT390","v":0},{"$f":"HOJA_CAPTURA!AU390","v":0}]
[null,null,null,null,null,{"$f":"HOJA_CAPTURA!R390","v":"00:00:00"}]
[]
[{"$f":"HOJA_CAPTURA!F388","v":0},null,null,null,null,null,null,null,null,{"$f":"HOJA_CAPTURA!E388","v":0}]
["Nombre, firma y cargo de la persona que elaboró",null,null,null,null,null,null,null,null,"Nombre y firma del titular del Área productora"]
[null,"           "]
[]
[]
[]
[]
["Nombre de la dependencia o entidad: ",null,null,null,"Instituto Nacional de Pediatria ",null,null,null,null,null,null,null,null,"Hoja: 98 de",{"$f":"O5","v":0}]
["Unidad administrativa/Área productora:",null,null,null,{"$f":"HOJA_CAPTURA!C392","v":0}]
["Fondo: INP ",null,"Sección:",{"$f":"HOJA_CAPTURA!G392","v":0},null,null,"Serie: ",{"$f":"HOJA_CAPTURA!H392","v":0}]
[null,null,null,null,null,null,"Subserie:",null,{"$f":"HOJA_CAPTURA!I392","v":0}]
["No. Consecutivo","No. de caja","No. de expediente","Clasificación archivística del expediente","Descripción o asunto ","                                                                                                                                                                                                                                                          Periodo de trámite","No.  de folios ","Valor documental",null,null,"Vigencia documental",null,null,"Condiciones de acceso (Reservada y confidencial)","Ubicación topográfica","Tradición documental "]
[null,null,null,null,null,null,null,"A","L","F/C","AT","AC","Total"]
[{"$f":"HOJA_CAPTURA!J391","v":0},{"$f":"HOJA_CAPTURA!K391","v":0},{"$f":"HOJA_CAPTURA!M391","v":0},{"$f":"HOJA_CAPTURA!N391","v":0},{"$f":"HOJA_CAPTURA!P391","v":0},{"$f":"HOJA_CAPTURA!Q391","v":"00:00:00"},{"$f":"HOJA_CAPTURA!V391","v":0},{"$f":"HOJA_CAPTURA!AF391","v":0},{"$f":"HOJA_CAPTURA!AG391","v":0},{"$f":"HOJA_CAPTURA!AH391","v":0},{"$f":"HOJA_CAPTURA!AI391","v":0},{"$f":"HOJA_CAPTURA!AJ391","v":0},{"$f":"HOJA_CAPTURA!AK391","v":0},{"$f":"HOJA_CAPTURA!AL391","v":0},{"$f":"HOJA_CAPTURA!AT391","v":0},{"$f":"HOJA_CAPTURA!AU391","v":0}]
[null,null,null,null,null,{"$f":"HOJA_CAPTURA!R391","v":"00:00:00"}]
[{"$f":"HOJA_CAPTURA!J392","v":0},{"$f":"HOJA_CAPTURA!K392","v":0},{"$f":"HOJA_CAPTURA!M392","v":0},{"$f":"HOJA_CAPTURA!N392","v":0},{"$f":"HOJA_CAPTURA!P392","v":0},{"$f":"HOJA_CAPTURA!Q392","v":"00:00:00"},{"$f":"HOJA_CAPTURA!V392","v":0},{"$f":"HOJA_CAPTURA!AF392","v":0},{"$f":"HOJA_CAPTURA!AG392","v":0},{"$f":"HOJA_CAPTURA!AH392","v":0},{"$f":"HOJA_CAPTURA!AI392","v":0},{"$f":"HOJA_CAPTURA!AJ392","v":0},{"$f":"HOJA_CAPTURA!AK392","v":0},{"$f":"HOJA_CAPTURA!AL392","v":0},{"$f":"HOJA_CAPTURA!AT392","v":0},{"$f":"HOJA_CAPTURA!AU392","v":0}]
[null,null,null,null,null,{"$f":"HOJA_CAPTURA!R392","v":"00:00:00"}]
[{"$f":"HOJA_CAPTURA!J393","v":0},{"$f":"HOJA_CAPTURA!K393","v":0},{"$f":"HOJA_CAPTURA!M393","v":0},{"$f":"HOJA_CAPTURA!N393","v":0},{"$f":"HOJA_CAPTURA!P393","v":0},{"$f":"HOJA_CAPTURA!Q393","v":"00:00:00"},{"$f":"HOJA_CAPTURA!V393","v":0},{"$f":"HOJA_CAPTURA!AF393","v":0},{"$f":"HOJA_CAPTURA!AG393","v":0},{"$f":"HOJA_CAPTURA!AH393","v":0},{"$f":"HOJA_CAPTURA!AI393","v":0},{"$f":"HOJA_CAPTURA!AJ393","v":0},{"$f":"HOJA_CAPTURA!AK393","v":0},{"$f":"HOJA_CAPTURA!AL393","v":0},{"$f":"HOJA_CAPTURA!AT393","v":0},{"$f":"HOJA_CAPTURA!AU393","v":0}]
[null,null,null,null,null,{"$f":"HOJA_CAPTURA!R393","v":"00:00:00"}]
[{"$f":"HOJA_CAPTURA!J394","v":0},{"$f":"HOJA_CAPTURA!K394","v":0},{"$f":"HOJA_CAPTURA!M394","v":0},{"$f":"HOJA_CAPTURA!N394","v":0},{"$f":"HOJA_CAPTURA!P394","v":0},{"$f":"HOJA_CAPTURA!Q394","v":"00:00:00"},{"$f":"HOJA_CAPTURA!V394","v":0},{"$f":"HOJA_CAPTURA!AF394","v":0},{"$f":"HOJA_CAPTURA!AG394","v":0},{"$f":"HOJA_CAPTURA!AH394","v":0},{"$f":"HOJA_CAPTURA!AI394","v":0},{"$f":"HOJA_CAPTURA!AJ94","v":0},{"$f":"HOJA_CAPTURA!AK394","v":0},{"$f":"HOJA_CAPTURA!AL394","v":0},{"$f":"HOJA_CAPTURA!AT394","v":0},{"$f":"HOJA_CAPTURA!AU394","v":0}]
[null,null,null,null,null,{"$f":"HOJA_CAPTURA!R394","v":"00:00:00"}]
[]
[{"$f":"HOJA_CAPTURA!F392","v":0},null,null,null,null,null,null,null,null,{"$f":"HOJA_CAPTURA!E392","v":0}]
["Nombre, firma y cargo de la persona que elaboró",null,null,null,null,null,null,null,null,"Nombre y firma del titular del Área productora"]
[null,"           "]
[]
[]
[]
[]
["Nombre de la dependencia o entidad: ",null,null,null,"Instituto Nacional de Pediatria ",null,null,null,null,null,null,null,null,"Hoja: 99 de",{"$f":"O5","v":0}]
["Unidad administrativa/Área productora:",null,null,null,{"$f":"HOJA_CAPTURA!C395","v":0}]
["Fondo: INP ",null,"Sección:",{"$f":"HOJA_CAPTURA!G395","v":0},null,null,"Serie: ",{"$f":"HOJA_CAPTURA!H395","v":0}]
[null,null,null,null,null,null,"Subserie:",null,{"$f":"HOJA_CAPTURA!I395","v":0}]
["No. Consecutivo","No. de caja","No. de expediente","Clasificación archivística del expediente","Descripción o asunto ","                                                                                                                                                                                                                                                          Periodo de trámite","No.  de folios ","Valor documental",null,null,"Vigencia documental",null,null,"Condiciones de acceso (Reservada y confidencial)","Ubicación topográfica","Tradición documental "]
[null,null,null,null,null,null,null,"A","L","F/C","AT","AC","Total"]
[{"$f":"HOJA_CAPTURA!J395","v":0},{"$f":"HOJA_CAPTURA!K395","v":0},{"$f":"HOJA_CAPTURA!M395","v":0},{"$f":"HOJA_CAPTURA!N395","v":0},{"$f":"HOJA_CAPTURA!P395","v":0},{"$f":"HOJA_CAPTURA!Q395","v":"00:00:00"},{"$f":"HOJA_CAPTURA!V395","v":0},{"$f":"HOJA_CAPTURA!AF395","v":0},{"$f":"HOJA_CAPTURA!AG395","v":0},{"$f":"HOJA_CAPTURA!AH395","v":0},{"$f":"HOJA_CAPTURA!AI395","v":0},{"$f":"HOJA_CAPTURA!AJ395","v":0},{"$f":"HOJA_CAPTURA!AK395","v":0},{"$f":"HOJA_CAPTURA!AL395","v":0},{"$f":"HOJA_CAPTURA!AT395","v":0},{"$f":"HOJA_CAPTURA!AU395","v":0}]
[null,null,null,null,null,{"$f":"HOJA_CAPTURA!R395","v":"00:00:00"}]
[{"$f":"HOJA_CAPTURA!J396","v":0},{"$f":"HOJA_CAPTURA!K396","v":0},{"$f":"HOJA_CAPTURA!M396","v":0},{"$f":"HOJA_CAPTURA!N396","v":0},{"$f":"HOJA_CAPTURA!P396","v":0},{"$f":"HOJA_CAPTURA!Q396","v":"00:00:00"},{"$f":"HOJA_CAPTURA!V396","v":0},{"$f":"HOJA_CAPTURA!AF396","v":0},{"$f":"HOJA_CAPTURA!AG396","v":0},{"$f":"HOJA_CAPTURA!AH396","v":0},{"$f":"HOJA_CAPTURA!AI396","v":0},{"$f":"HOJA_CAPTURA!AJ396","v":0},{"$f":"HOJA_CAPTURA!AK396","v":0},{"$f":"HOJA_CAPTURA!AL396","v":0},{"$f":"HOJA_CAPTURA!AT396","v":0},{"$f":"HOJA_CAPTURA!AU396","v":0}]
[null,null,null,null,null,{"$f":"HOJA_CAPTURA!R396","v":"00:00:00"}]
[{"$f":"HOJA_CAPTURA!J397","v":0},{"$f":"HOJA_CAPTURA!K397","v":0},{"$f":"HOJA_CAPTURA!M397","v":0},{"$f":"HOJA_CAPTURA!N397","v":0},{"$f":"HOJA_CAPTURA!P397","v":0},{"$f":"HOJA_CAPTURA!Q397","v":"00:00:00"},{"$f":"HOJA_CAPTURA!V397","v":0},{"$f":"HOJA_CAPTURA!AF397","v":0},{"$f":"HOJA_CAPTURA!AG397","v":0},{"$f":"HOJA_CAPTURA!AH397","v":0},{"$f":"HOJA_CAPTURA!AI397","v":0},{"$f":"HOJA_CAPTURA!AJ397","v":0},{"$f":"HOJA_CAPTURA!AK397","v":0},{"$f":"HOJA_CAPTURA!AL397","v":0},{"$f":"HOJA_CAPTURA!AT397","v":0},{"$f":"HOJA_CAPTURA!AU397","v":0}]
[null,null,null,null,null,{"$f":"HOJA_CAPTURA!R397","v":"00:00:00"}]
[{"$f":"HOJA_CAPTURA!J398","v":0},{"$f":"HOJA_CAPTURA!K398","v":0},{"$f":"HOJA_CAPTURA!M398","v":0},{"$f":"HOJA_CAPTURA!N398","v":0},{"$f":"HOJA_CAPTURA!P398","v":0},{"$f":"HOJA_CAPTURA!Q398","v":"00:00:00"},{"$f":"HOJA_CAPTURA!V398","v":0},{"$f":"HOJA_CAPTURA!AF398","v":0},{"$f":"HOJA_CAPTURA!AG398","v":0},{"$f":"HOJA_CAPTURA!AH398","v":0},{"$f":"HOJA_CAPTURA!AI398","v":0},{"$f":"HOJA_CAPTURA!AJ398","v":0},{"$f":"HOJA_CAPTURA!AK398","v":0},{"$f":"HOJA_CAPTURA!AL398","v":0},{"$f":"HOJA_CAPTURA!AT398","v":0},{"$f":"HOJA_CAPTURA!AU398","v":0}]
[null,null,null,null,null,{"$f":"HOJA_CAPTURA!R398","v":"00:00:00"}]
[]
[{"$f":"HOJA_CAPTURA!F395","v":0},null,null,null,null,null,null,null,null,{"$f":"HOJA_CAPTURA!E395","v":0}]
["Nombre, firma y cargo de la persona que elaboró",null,null,null,null,null,null,null,null,"Nombre y firma del titular del Área productora"]
[null,"           "]
[]
[]
[]
[]
["Nombre de la dependencia o entidad: ",null,null,null,"Instituto Nacional de Pediatria ",null,null,null,null,null,null,null,"Hoja: 100 de",null,{"$f":"O5","v":0}]
["Unidad administrativa/Área productora:",null,null,null,{"$f":"HOJA_CAPTURA!C399","v":0}]
["Fondo: INP ",null,"Sección:",{"$f":"HOJA_CAPTURA!G399","v":0},null,null,"Serie: ",{"$f":"HOJA_CAPTURA!H399","v":0}]
[null,null,null,null,null,null,"Subserie:",null,{"$f":"HOJA_CAPTURA!I399","v":0}]
["No. Consecutivo","No. de caja","No. de expediente","Clasificación archivística del expediente","Descripción o asunto ","                                                                                                                                                                                                                                                          Periodo de trámite","No.  de folios ","Valor documental",null,null,"Vigencia documental",null,null,"Condiciones de acceso (Reservada y confidencial)","Ubicación topográfica","Tradición documental "]
[null,null,null,null,null,null,null,"A","L","F/C","AT","AC","Total"]
[{"$f":"HOJA_CAPTURA!J399","v":0},{"$f":"HOJA_CAPTURA!K399","v":0},{"$f":"HOJA_CAPTURA!M399","v":0},{"$f":"HOJA_CAPTURA!N399","v":0},{"$f":"HOJA_CAPTURA!P399","v":0},{"$f":"HOJA_CAPTURA!Q399","v":"00:00:00"},{"$f":"HOJA_CAPTURA!V399","v":0},{"$f":"HOJA_CAPTURA!AF399","v":0},{"$f":"HOJA_CAPTURA!AG399","v":0},{"$f":"HOJA_CAPTURA!AH399","v":0},{"$f":"HOJA_CAPTURA!AI399","v":0},{"$f":"HOJA_CAPTURA!AJ399","v":0},{"$f":"HOJA_CAPTURA!AK399","v":0},{"$f":"HOJA_CAPTURA!AL399","v":0},{"$f":"HOJA_CAPTURA!AT399","v":0},{"$f":"HOJA_CAPTURA!AU399","v":0}]
[null,null,null,null,null,{"$f":"HOJA_CAPTURA!R399","v":"00:00:00"}]
[{"$f":"HOJA_CAPTURA!J400","v":0},{"$f":"HOJA_CAPTURA!K400","v":0},{"$f":"HOJA_CAPTURA!M400","v":0},{"$f":"HOJA_CAPTURA!N400","v":0},{"$f":"HOJA_CAPTURA!P400","v":0},{"$f":"HOJA_CAPTURA!Q400","v":"00:00:00"},{"$f":"HOJA_CAPTURA!V400","v":0},{"$f":"HOJA_CAPTURA!AF400","v":0},{"$f":"HOJA_CAPTURA!AG400","v":0},{"$f":"HOJA_CAPTURA!AH400","v":0},{"$f":"HOJA_CAPTURA!AI400","v":0},{"$f":"HOJA_CAPTURA!AJ400","v":0},{"$f":"HOJA_CAPTURA!AK400","v":0},{"$f":"HOJA_CAPTURA!AL400","v":0},{"$f":"HOJA_CAPTURA!AT400","v":0},{"$f":"HOJA_CAPTURA!AU400","v":0}]
[null,null,null,null,null,{"$f":"HOJA_CAPTURA!R400","v":"00:00:00"}]
[{"$f":"HOJA_CAPTURA!J401","v":0},{"$f":"HOJA_CAPTURA!K401","v":0},{"$f":"HOJA_CAPTURA!M401","v":0},{"$f":"HOJA_CAPTURA!N401","v":0},{"$f":"HOJA_CAPTURA!P401","v":0},{"$f":"HOJA_CAPTURA!Q401","v":"00:00:00"},{"$f":"HOJA_CAPTURA!V401","v":0},{"$f":"HOJA_CAPTURA!AF401","v":0},{"$f":"HOJA_CAPTURA!AG401","v":0},{"$f":"HOJA_CAPTURA!AH401","v":0},{"$f":"HOJA_CAPTURA!AI401","v":0},{"$f":"HOJA_CAPTURA!AJ401","v":0},{"$f":"HOJA_CAPTURA!AK401","v":0},{"$f":"HOJA_CAPTURA!AL401","v":0},{"$f":"HOJA_CAPTURA!AT401","v":0},{"$f":"HOJA_CAPTURA!AU401","v":0}]
[null,null,null,null,null,{"$f":"HOJA_CAPTURA!R401","v":"00:00:00"}]
[{"$f":"HOJA_CAPTURA!J402","v":0},{"$f":"HOJA_CAPTURA!K402","v":0},{"$f":"HOJA_CAPTURA!M402","v":0},{"$f":"HOJA_CAPTURA!N402","v":0},{"$f":"HOJA_CAPTURA!P402","v":0},{"$f":"HOJA_CAPTURA!Q402","v":"00:00:00"},{"$f":"HOJA_CAPTURA!V402","v":0},{"$f":"HOJA_CAPTURA!AF402","v":0},{"$f":"HOJA_CAPTURA!AG402","v":0},{"$f":"HOJA_CAPTURA!AH402","v":0},{"$f":"HOJA_CAPTURA!AI402","v":0},{"$f":"HOJA_CAPTURA!AJ402","v":0},{"$f":"HOJA_CAPTURA!AK402","v":0},{"$f":"HOJA_CAPTURA!AL402","v":0},{"$f":"HOJA_CAPTURA!AT402","v":0},{"$f":"HOJA_CAPTURA!AU402","v":0}]
[null,null,null,null,null,{"$f":"HOJA_CAPTURA!R402","v":"00:00:00"}]
[]
[{"$f":"HOJA_CAPTURA!F399","v":0},null,null,null,null,null,null,null,null,{"$f":"HOJA_CAPTURA!E399","v":0}]
["Nombre, firma y cargo de la persona que elaboró",null,null,null,null,null,null,null,null,"Nombre y firma del titular del Área productora"]

{"sheet":"PORTADA DE EXPEDIENTE","index":4,"n_rows":18405,"n_cols":25,"rows_kept":4500,"cut":true,"hidden":false,"merged":[[18401,12,18403,23],[18402,1,18403,9],[18374,5,18374,7],[18374,9,18374,11],[18374,14,18374,15],[18375,1,18375,10],[18375,18,18375,19],[18375,20,18375,22],[18376,1,18376,4],[18376,5,18376,8],[18376,13,18376,16],[18376,17,18376,19],[18378,1,18378,6],[18379,2,18379,22],[18380,5,18380,8],[18380,10,18380,13],[18380,15,18380,19],[18381,1,18381,4],[18381,5,18381,6],[18381,8,18381,11],[18381,17,18381,18],[18381,19,18381,22],[18382,17,18382,20],[18383,1,18383,5],[18383,6,18383,14],[18383,15,18383,18],[18384,1,18384,4],[18384,5,18384,6],[18384,7,18384,8],[18385,1,18385,4],[18385,5,18385,22],[18387,1,18388,22],[18334,5,18334,8],[18334,10,18334,13],[18334,15,18334,19],[18335,1,18335,4],[18335,5,18335,6],[18335,8,18335,11],[18335,17,18335,18],[18335,19,18335,22],[18336,17,18336,20],[18391,15,18391,16],[18391,17,18391,19],[18391,20,18391,22],[18392,6,18392,9],[18394,1,18394,9],[18394,12,18396,23],[18397,1,18398,10],[18397,12,18397,14],[18397,17,18397,18],[18398,12,18398,13],[18398,16,18398,17],[18399,4,18399,9],[18400,1,18400,9],[18353,4,18353,9],[18354,1,18354,9],[18355,12,18357,23],[18356,1,18357,9],[18365,4,18365,13],[18367,1,18367,22],[18368,3,18368,22],[18369,1,18369,2],[18369,3,18369,22],[18370,1,18370,2],[18370,3,18370,22],[18371,6,18371,14],[18371,15,18371,19],[18371,20,18371,22],[18372,9,18372,14],[18372,15,18372,17],[18373,1,18373,5],[18373,9,18373,14],[18373,15,18373,17],[18289,8,18289,11],[18289,17,18289,18],[18289,19,18289,22],[18290,17,18290,20],[18291,1,18291,5],[18291,6,18291,14],[18291,15,18291,18],[18292,1,18292,4],[18292,5,18292,6],[18292,7,18292,8],[18293,1,18293,4],[18293,5,18293,22],[18295,1,18296,22],[18298,5,18298,9],[18299,5,18299,9],[18299,12,18299,14],[18299,15,18299,16],[18299,17,18299,19],[18299,20,18299,22],[18300,6,18300,9],[18302,1,18302,9],[18302,12,18304,23],[18390,5,18390,9],[18391,5,18391,9],[18391,12,18391,14],[18326,15,18326,17],[18327,1,18327,5],[18327,9,18327,14],[18327,15,18327,17],[18328,5,18328,7],[18328,9,18328,11],[18328,14,18328,15],[18329,1,18329,10],[18329,18,18329,19],[18329,20,18329,22],[18330,1,18330,4],[18330,5,18330,8],[18330,13,18330,16],[18330,17,18330,19],[18337,1,18337,5],[18337,6,18337,14],[18337,15,18337,18],[18338,1,18338,4],[18338,5,18338,6],[18338,7,18338,8],[18339,1,18339,4],[18339,5,18339,22],[18341,1,18342,22],[18344,5,18344,9],[18345,5,18345,9],[18345,12,18345,14],[18345,15,18345,16],[18345,17,18345,19],[18345,20,18345,22],[18346,6,18346,9],[18348,1,18348,9],[18348,12,18350,23],[18351,1,18352,10],[18351,12,18351,14],[18351,17,18351,18],[18352,12,18352,13],[18352,16,18352,17],[18332,1,18332,6],[18333,2,18333,22],[18305,1,18306,10],[18305,12,18305,14],[18305,17,18305,18],[18306,12,18306,13],[18306,16,18306,17],[18307,4,18307,9],[18308,1,18308,9],[18309,12,18311,23],[18310,1,18311,9],[18319,4,18319,13],[18321,1,18321,22],[18322,3,18322,22],[18323,1,18323,2],[18323,3,18323,22],[18324,1,18324,2],[18324,3,18324,22],[18325,6,18325,14],[18325,15,18325,19],[18325,20,18325,22],[18326,9,18326,14],[18254,6,18254,9],[18256,1,18256,9],[18256,12,18258,23],[18259,1,18260,10],[18259,12,18259,14],[18259,17,18259,18],[18260,12,18260,13],[18260,16,18260,17],[18261,4,18261,9],[18262,1,18262,9],[18263,12,18265,23],[18264,1,18265,9],[18273,4,18273,13],[18275,1,18275,22],[18276,3,18276,22],[18277,1,18277,2],[18277,3,18277,22],[18278,1,18278,2],[18278,3,18278,22],[18279,6,18279,14],[18279,15,18279,19],[18279,20,18279,22],[18280,9,18280,14],[18280,15,18280,17],[18281,1,18281,5],[18281,9,18281,14],[18281,15,18281,17],[18282,5,18282,7],[18282,9,18282,11],[18282,14,18282,15],[18283,1,18283,10],[18283,18,18283,19],[18283,20,18283,22],[18284,1,18284,4],[18284,5,18284,8],[18284,13,18284,16],[18284,17,18284,19],[18286,1,18286,6],[18287,2,18287,22],[18288,5,18288,8],[18288,10,18288,13],[18288,15,18288,19],[18289,1,18289,4],[18289,5,18289,6],[18236,5,18236,7],[18236,9,18236,11],[18236,14,18236,15],[18237,1,18237,10],[18237,18,18237,19],[18237,20,18237,22],[18238,1,18238,4],[18238,5,18238,8],[18238,13,18238,16],[18238,17,18238,19],[18240,1,18240,6],[18241,2,18241,22],[18242,5,18242,8],[18242,10,18242,13],[18242,15,18242,19],[18243,1,18243,4],[18243,5,18243,6],[18243,8,18243,11],[18243,17,18243,18],[18243,19,18243,22],[18244,17,18244,20],[18245,1,18245,5],[18245,6,18245,14],[18245,15,18245,18],[18246,1,18246,4],[18246,5,18246,6],[18246,7,18246,8],[18247,1,18247,4],[18247,5,18247,22],[18249,1,18250,22],[18252,5,18252,9],[18253,5,18253,9],[18253,12,18253,14],[18253,15,18253,16],[18253,17,18253,19],[18253,20,18253,22],[18203,1,18204,22],[18206,5,18206,9],[18207,5,18207,9],[18207,12,18207,14],[18207,15,18207,16],[18207,17,18207,19],[18207,20,18207,22],[18208,6,18208,9],[18210,1,18210,9],[18210,12,18212,23],[18213,1,18214,10],[18213,12,18213,14],[18213,17,18213,18],[18214,12,18214,13],[18214,16,18214,17],[18215,4,18215,9],[18216,1,18216,9],[18217,12,18219,23],[18218,1,18219,9],[18227,4,18227,13],[18229,1,18229,22],[18230,3,18230,22],[18231,1,18231,2],[18231,3,18231,22],[18232,1,18232,2],[18232,3,18232,22],[18233,6,18233,14],[18233,15,18233,19],[18233,20,18233,22],[18234,9,18234,14],[18234,15,18234,17],[18235,1,18235,5],[18235,9,18235,14],[18235,15,18235,17],[18188,9,18188,14],[18188,15,18188,17],[18189,1,18189,5],[18189,9,18189,14],[18189,15,18189,17],[18190,5,18190,7],[18190,9,18190,11],[18190,14,18190,15],[18191,1,18191,10],[18191,18,18191,19],[18191,20,18191,22],[18192,1,18192,4],[18192,5,18192,8],[18192,13,18192,16],[18192,17,18192,19],[18194,1,18194,6],[18195,2,18195,22],[18196,5,18196,8],[18196,10,18196,13],[18196,15,18196,19],[18197,1,18197,4],[18197,5,18197,6],[18197,8,18197,11],[18197,17,18197,18],[18197,19,18197,22],[18198,17,18198,20],[18199,1,18199,5],[18199,6,18199,14],[18199,15,18199,18],[18200,1,18200,4],[18200,5,18200,6],[18200,7,18200,8],[18201,1,18201,4],[18201,5,18201,22],[18154,1,18154,4],[18154,5,18154,6],[18154,7,18154,8],[18155,1,18155,4],[18155,5,18155,22],[18157,1,18158,22],[18160,5,18160,9],[18161,5,18161,9],[18161,12,18161,14],[18161,15,18161,16],[18161,17,18161,19],[18161,20,18161,22],[18162,6,18162,9],[18164,1,18164,9],[18164,12,18166,23],[18167,1,18168,10],[18167,12,18167,14],[18167,17,18167,18],[18168,12,18168,13],[18168,16,18168,17],[18169,4,18169,9],[18170,1,18170,9],[18171,12,18173,23],[18172,1,18173,9],[18181,4,18181,13],[18183,1,18183,22],[18184,3,18184,22],[18185,1,18185,2],[18185,3,18185,22],[18186,1,18186,2],[18186,3,18186,22],[18187,6,18187,14],[18187,15,18187,19],[18187,20,18187,22],[18140,1,18140,2],[18140,3,18140,22],[18141,6,18141,14],[18141,15,18141,19],[18141,20,18141,22],[18142,9,18142,14],[18142,15,18142,17],[18143,1,18143,5],[18143,9,18143,14],[18143,15,18143,17],[18144,5,18144,7],[18144,9,18144,11],[18144,14,18144,15],[18145,1,18145,10],[18145,18,18145,19],[18145,20,18145,22],[18146,1,18146,4],[18146,5,18146,8],[18146,13,18146,16],[18146,17,18146,19],[18148,1,18148,6],[18149,2,18149,22],[18150,5,18150,8],[18150,10,18150,13],[18150,15,18150,19],[18151,1,18151,4],[18151,5,18151,6],[18151,8,18151,11],[18151,17,18151,18],[18151,19,18151,22],[18152,17,18152,20],[18153,1,18153,5],[18153,6,18153,14],[18153,15,18153,18],[18106,17,18106,20],[18107,1,18107,5],[18107,6,18107,14],[18107,15,18107,18],[18108,1,18108,4],[18108,5,18108,6],[18108,7,18108,8],[18109,1,18109,4],[18109,5,18109,22],[18111,1,18112,22],[18114,5,18114,9],[18115,5,18115,9],[18115,12,18115,14],[18115,15,18115,16],[18115,17,18115,19],[18115,20,18115,22],[18116,6,18116,9],[18118,1,18118,9],[18118,12,18120,23],[18121,1,18122,10],[18121,12,18121,14],[18121,17,18121,18],[18122,12,18122,13],[18122,16,18122,17],[18123,4,18123,9],[18124,1,18124,9],[18125,12,18127,23],[18126,1,18127,9],[18135,4,18135,13],[18137,1,18137,22],[18138,3,18138,22],[18139,1,18139,2],[18139,3,18139,22],[18089,4,18089,13],[18091,1,18091,22],[18092,3,18092,22],[18093,1,18093,2],[18093,3,18093,22],[18094,1,18094,2],[18094,3,18094,22],[18095,6,18095,14],[18095,15,18095,19],[18095,20,18095,22],[18096,9,18096,14],[18096,15,18096,17],[18097,1,18097,5],[18097,9,18097,14],[18097,15,18097,17],[18098,5,18098,7],[18098,9,18098,11],[18098,14,18098,15],[18099,1,18099,10],[18099,18,18099,19],[18099,20,18099,22],[18100,1,18100,4],[18100,5,18100,8],[18100,13,18100,16],[18100,17,18100,19],[18102,1,18102,6],[18103,2,18103,22],[18104,5,18104,8],[18104,10,18104,13],[18104,15,18104,19],[18105,1,18105,4],[18105,5,18105,6],[18105,8,18105,11],[18105,17,18105,18],[18105,19,18105,22],[18059,1,18059,4],[18059,5,18059,6],[18059,8,18059,11],[18059,17,18059,18],[18059,19,18059,22],[18060,17,18060,20],[18061,1,18061,5],[18061,6,18061,14],[18061,15,18061,18],[18062,1,18062,4],[18062,5,18062,6],[18062,7,18062,8],[18063,1,18063,4],[18063,5,18063,22],[18065,1,18066,22],[18068,5,18068,9],[18069,5,18069,9],[18069,12,18069,14],[18069,15,18069,16],[18069,17,18069,19],[18069,20,18069,22],[18070,6,18070,9],[18072,1,18072,9],[18072,12,18074,23],[18075,1,18076,10],[18075,12,18075,14],[18075,17,18075,18],[18076,12,18076,13],[18076,16,18076,17],[18077,4,18077,9],[18078,1,18078,9],[18079,12,18081,23],[18080,1,18081,9],[18031,4,18031,9],[18032,1,18032,9],[18033,12,18035,23],[18034,1,18035,9],[18043,4,18043,13],[18045,1,18045,22],[18046,3,18046,22],[18047,1,18047,2],[18047,3,18047,22],[18048,1,18048,2],[18048,3,18048,22],[18049,6,18049,14],[18049,15,18049,19],[18049,20,18049,22],[18050,9,18050,14],[18050,15,18050,17],[18051,1,18051,5],[18051,9,18051,14],[18051,15,18051,17],[18052,5,18052,7],[18052,9,18052,11],[18052,14,18052,15],[18053,1,18053,10],[18053,18,18053,19],[18053,20,18053,22],[18054,1,18054,4],[18054,5,18054,8],[18054,13,18054,16],[18054,17,18054,19],[18056,1,18056,6],[18057,2,18057,22],[18058,5,18058,8],[18058,10,18058,13],[18058,15,18058,19],[18010,1,18010,6],[18011,2,18011,22],[18012,5,18012,8],[18012,10,18012,13],[18012,15,18012,19],[18013,1,18013,4],[18013,5,18013,6],[18013,8,18013,11],[18013,17,18013,18],[18013,19,18013,22],[18014,17,18014,20],[18015,1,18015,5],[18015,6,18015,14],[18015,15,18015,18],[18016,1,18016,4],[18016,5,18016,6],[18016,7,18016,8],[18017,1,18017,4],[18017,5,18017,22],[18019,1,18020,22],[18022,5,18022,9],[18023,5,18023,9],[18023,12,18023,14],[18023,15,18023,16],[18023,17,18023,19],[18023,20,18023,22],[18024,6,18024,9],[18026,1,18026,9],[18026,12,18028,23],[18029,1,18030,10],[18029,12,18029,14],[18029,17,18029,18],[18030,12,18030,13],[18030,16,18030,17],[17983,1,17984,10],[17983,12,17983,14],[17983,17,17983,18],[17984,12,17984,13],[17984,16,17984,17],[17985,4,17985,9],[17986,1,17986,9],[17987,12,17989,23],[17988,1,17989,9],[17997,4,17997,13],[17999,1,17999,22],[18000,3,18000,22],[18001,1,18001,2],[18001,3,18001,22],[18002,1,18002,2],[18002,3,18002,22],[18003,6,18003,14],[18003,15,18003,19],[18003,20,18003,22],[18004,9,18004,14],[18004,15,18004,17],[18005,1,18005,5],[18005,9,18005,14],[18005,15,18005,17],[18006,5,18006,7],[18006,9,18006,11],[18006,14,18006,15],[18007,1,18007,10],[18007,18,18007,19],[18007,20,18007,22],[18008,1,18008,4],[18008,5,18008,8],[18008,13,18008,16],[18008,17,18008,19],[17962,1,17962,4],[17962,5,17962,8],[17962,13,17962,16],[17962,17,17962,19],[17964,1,17964,6],[17965,2,17965,22],[17966,5,17966,8],[17966,10,17966,13],[17966,15,17966,19],[17967,1,17967,4],[17967,5,17967,6],[17967,8,17967,11],[17967,17,17967,18],[17967,19,17967,22],[17968,17,17968,20],[17969,1,17969,5],[17969,6,17969,14],[17969,15,17969,18],[17970,1,17970,4],[17970,5,17970,6],[17970,7,17970,8],[17971,1,17971,4],[17971,5,17971,22],[17973,1,17974,22],[17976,5,17976,9],[17977,5,17977,9],[17977,12,17977,14],[17977,15,17977,16],[17977,17,17977,19],[17977,20,17977,22],[17978,6,17978,9],[17980,1,17980,9],[17980,12,17982,23],[17932,6,17932,9],[17934,1,17934,9],[17934,12,17936,23],[17937,1,17938,10],[17937,12,17937,14],[17937,17,17937,18],[17938,12,17938,13],[17938,16,17938,17],[17939,4,17939,9],[17940,1,17940,9],[17941,12,17943,23],[17942,1,17943,9],[17951,4,17951,13],[17953,1,17953,22],[17954,3,17954,22],[17955,1,17955,2],[17955,3,17955,22],[17956,1,17956,2],[17956,3,17956,22],[17957,6,17957,14],[17957,15,17957,19],[17957,20,17957,22],[17958,9,17958,14],[17958,15,17958,17],[17959,1,17959,5],[17959,9,17959,14],[17959,15,17959,17],[17960,5,17960,7],[17960,9,17960,11],[17960,14,17960,15],[17961,1,17961,10],[17961,18,17961,19],[17961,20,17961,22],[17914,5,17914,7],[17914,9,17914,11],[17914,14,17914,15],[17915,1,17915,10],[17915,18,17915,19],[17915,20,17915,22],[17916,1,17916,4],[17916,5,17916,8],[17916,13,17916,16],[17916,17,17916,19],[17918,1,17918,6],[17919,2,17919,22],[17920,5,17920,8],[17920,10,17920,13],[17920,15,17920,19],[17921,1,17921,4],[17921,5,17921,6],[17921,8,17921,11],[17921,17,17921,18],[17921,19,17921,22],[17922,17,17922,20],[17923,1,17923,5],[17923,6,17923,14],[17923,15,17923,18],[17924,1,17924,4],[17924,5,17924,6],[17924,7,17924,8],[17925,1,17925,4],[17925,5,17925,22],[17927,1,17928,22],[17930,5,17930,9],[17931,5,17931,9],[17931,12,17931,14],[17931,15,17931,16],[17931,17,17931,19],[17931,20,17931,22],[17881,1,17882,22],[17884,5,17884,9],[17885,5,17885,9],[17885,12,17885,14],[17885,15,17885,16],[17885,17,17885,19],[17885,20,17885,22],[17886,6,17886,9],[17888,1,17888,9],[17888,12,17890,23],[17891,1,17892,10],[17891,12,17891,14],[17891,17,17891,18],[17892,12,17892,13],[17892,16,17892,17],[17893,4,17893,9],[17894,1,17894,9],[17895,12,17897,23],[17896,1,17897,9],[17905,4,17905,13],[17907,1,17907,22],[17908,3,17908,22],[17909,1,17909,2],[17909,3,17909,22],[17910,1,17910,2],[17910,3,17910,22],[17911,6,17911,14],[17911,15,17911,19],[17911,20,17911,22],[17912,9,17912,14],[17912,15,17912,17],[17913,1,17913,5],[17913,9,17913,14],[17913,15,17913,17],[17866,9,17866,14],[17866,15,17866,17],[17867,1,17867,5],[17867,9,17867,14],[17867,15,17867,17],[17868,5,17868,7],[17868,9,17868,11],[17868,14,17868,15],[17869,1,17869,10],[17869,18,17869,19],[17869,20,17869,22],[17870,1,17870,4],[17870,5,17870,8],[17870,13,17870,16],[17870,17,17870,19],[17872,1,17872,6],[17873,2,17873,22],[17874,5,17874,8],[17874,10,17874,13],[17874,15,17874,19],[17875,1,17875,4],[17875,5,17875,6],[17875,8,17875,11],[17875,17,17875,18],[17875,19,17875,22],[17876,17,17876,20],[17877,1,17877,5],[17877,6,17877,14],[17877,15,17877,18],[17878,1,17878,4],[17878,5,17878,6],[17878,7,17878,8],[17879,1,17879,4],[17879,5,17879,22],[17832,1,17832,4],[17832,5,17832,6],[17832,7,17832,8],[17833,1,17833,4],[17833,5,17833,22],[17835,1,17836,22],[17838,5,17838,9],[17839,5,17839,9],[17839,12,17839,14],[17839,15,17839,16],[17839,17,17839,19],[17839,20,17839,22],[17840,6,17840,9],[17842,1,17842,9],[17842,12,17844,23],[17845,1,17846,10],[17845,12,17845,14],[17845,17,17845,18],[17846,12,17846,13],[17846,16,17846,17],[17847,4,17847,9],[17848,1,17848,9],[17849,12,17851,23],[17850,1,17851,9],[17859,4,17859,13],[17861,1,17861,22],[17862,3,17862,22],[17863,1,17863,2],[17863,3,17863,22],[17864,1,17864,2],[17864,3,17864,22],[17865,6,17865,14],[17865,15,17865,19],[17865,20,17865,22],[17818,1,17818,2],[17818,3,17818,22],[17819,6,17819,14],[17819,15,17819,19],[17819,20,17819,22],[17820,9,17820,14],[17820,15,17820,17],[17821,1,17821,5],[17821,9,17821,14],[17821,15,17821,17],[17822,5,17822,7],[17822,9,17822,11],[17822,14,17822,15],[17823,1,17823,10],[17823,18,17823,19],[17823,20,17823,22],[17824,1,17824,4],[17824,5,17824,8],[17824,13,17824,16],[17824,17,17824,19],[17826,1,17826,6],[17827,2,17827,22],[17828,5,17828,8],[17828,10,17828,13],[17828,15,17828,19],[17829,1,17829,4],[17829,5,17829,6],[17829,8,17829,11],[17829,17,17829,18],[17829,19,17829,22],[17830,17,17830,20],[17831,1,17831,5],[17831,6,17831,14],[17831,15,17831,18],[17784,17,17784,20],[17785,1,17785,5],[17785,6,17785,14],[17785,15,17785,18],[17786,1,17786,4],[17786,5,17786,6],[17786,7,17786,8],[17787,1,17787,4],[17787,5,17787,22],[17789,1,17790,22],[17792,5,17792,9],[17793,5,17793,9],[17793,12,17793,14],[17793,15,17793,16],[17793,17,17793,19],[17793,20,17793,22],[17794,6,17794,9],[17796,1,17796,9],[17796,12,17798,23],[17799,1,17800,10],[17799,12,17799,14],[17799,17,17799,18],[17800,12,17800,13],[17800,16,17800,17],[17801,4,17801,9],[17802,1,17802,9],[17803,12,17805,23],[17804,1,17805,9],[17813,4,17813,13],[17815,1,17815,22],[17816,3,17816,22],[17817,1,17817,2],[17817,3,17817,22],[17767,4,17767,13],[17769,1,17769,22],[17770,3,17770,22],[17771,1,17771,2],[17771,3,17771,22],[17772,1,17772,2],[17772,3,17772,22],[17773,6,17773,14],[17773,15,17773,19],[17773,20,17773,22],[17774,9,17774,14],[17774,15,17774,17],[17775,1,17775,5],[17775,9,17775,14],[17775,15,17775,17],[17776,5,17776,7],[17776,9,17776,11],[17776,14,17776,15],[17777,1,17777,10],[17777,18,17777,19],[17777,20,17777,22],[17778,1,17778,4],[17778,5,17778,8],[17778,13,17778,16],[17778,17,17778,19],[17780,1,17780,6],[17781,2,17781,22],[17782,5,17782,8],[17782,10,17782,13],[17782,15,17782,19],[17783,1,17783,4],[17783,5,17783,6],[17783,8,17783,11],[17783,17,17783,18],[17783,19,17783,22],[17737,1,17737,4],[17737,5,17737,6],[17737,8,17737,11],[17737,17,17737,18],[17737,19,17737,22],[17738,17,17738,20],[17739,1,17739,5],[17739,6,17739,14],[17739,15,17739,18],[17740,1,17740,4],[17740,5,17740,6],[17740,7,17740,8],[17741,1,17741,4],[17741,5,17741,22],[17743,1,17744,22],[17746,5,17746,9],[17747,5,17747,9],[17747,12,17747,14],[17747,15,17747,16],[17747,17,17747,19],[17747,20,17747,22],[17748,6,17748,9],[17750,1,17750,9],[17750,12,17752,23],[17753,1,17754,10],[17753,12,17753,14],[17753,17,17753,18],[17754,12,17754,13],[17754,16,17754,17],[17755,4,17755,9],[17756,1,17756,9],[17757,12,17759,23],[17758,1,17759,9],[17709,4,17709,9],[17710,1,17710,9],[17711,12,17713,23],[17712,1,17713,9],[17721,4,17721,13],[17723,1,17723,22],[17724,3,17724,22],[17725,1,17725,2],[17725,3,17725,22],[17726,1,17726,2],[17726,3,17726,22],[17727,6,17727,14],[17727,15,17727,19],[17727,20,17727,22],[17728,9,17728,14],[17728,15,17728,17],[17729,1,17729,5],[17729,9,17729,14],[17729,15,17729,17],[17730,5,17730,7],[17730,9,17730,11],[17730,14,17730,15],[17731,1,17731,10],[17731,18,17731,19],[17731,20,17731,22],[17732,1,17732,4],[17732,5,17732,8],[17732,13,17732,16],[17732,17,17732,19],[17734,1,17734,6],[17735,2,17735,22],[17736,5,17736,8],[17736,10,17736,13],[17736,15,17736,19],[17688,1,17688,6],[17689,2,17689,22],[17690,5,17690,8],[17690,10,17690,13],[17690,15,17690,19],[17691,1,17691,4],[17691,5,17691,6],[17691,8,17691,11],[17691,17,17691,18],[17691,19,17691,22],[17692,17,17692,20],[17693,1,17693,5],[17693,6,17693,14],[17693,15,17693,18],[17694,1,17694,4],[17694,5,17694,6],[17694,7,17694,8],[17695,1,17695,4],[17695,5,17695,22],[17697,1,17698,22],[17700,5,17700,9],[17701,5,17701,9],[17701,12,17701,14],[17701,15,17701,16],[17701,17,17701,19],[17701,20,17701,22],[17702,6,17702,9],[17704,1,17704,9],[17704,12,17706,23],[17707,1,17708,10],[17707,12,17707,14],[17707,17,17707,18],[17708,12,17708,13],[17708,16,17708,17],[17661,1,17662,10],[17661,12,17661,14],[17661,17,17661,18],[17662,12,17662,13],[17662,16,17662,17],[17663,4,17663,9],[17664,1,17664,9],[17665,12,17667,23],[17666,1,17667,9],[17675,4,17675,13],[17677,1,17677,22],[17678,3,17678,22],[17679,1,17679,2],[17679,3,17679,22],[17680,1,17680,2],[17680,3,17680,22],[17681,6,17681,14]],"bounds":{"rows_first":2000,"rows_last":500,"rows_between":2000,"halvings":0},"merged_total":25202,"flags":["merged_cut"]}
[]
[]
[]
[]
[]
[]
[]
[null,"Clasificación:",null,null,{"$f":"HOJA_CAPTURA!N3","v":0}]
[]
[null,{"$f":"HOJA_CAPTURA!C3","v":0},null,null,null,null,null,null,null,null,null,null,null,null,null,null,null,null,null,null,null,null,null,null," "]
[null,"Sección: ",null,{"$f":"HOJA_CAPTURA!G3","v":0}]
[null,"Serie: ",null,{"$f":"HOJA_CAPTURA!H3","v":0}]
[null,"Subserie: ",null,{"$f":"HOJA_CAPTURA!I3","v":0}]
[null,"Nombre del Expediente:                     ",null,null,null,null,{"$f":"HOJA_CAPTURA!O3","v":0},null,null,null,null,null,null,null,null,"Número del Expediente: ",null,null,null,null,{"$f":"HOJA_CAPTURA!M3","v":0}]
[null,"Número de Legajo: ",null,null,null,null,null,"de",{"$f":"HOJA_CAPTURA!U3","v":0},"Número de Fojas: "]
[null,"Número Total de Legajos: ",null,null,null,null,{"$f":"HOJA_CAPTURA!U3","v":0},null,null,"Número Total de Fojas:",null,null,null,null,null,{"$f":"HOJA_CAPTURA!V3","v":0}]
[null,"Tipo de Archivo:",null,null,null,"Trámite ",null,null,{"$f":"HOJA_CAPTURA!W3","v":0},"Concentración",null,null,{"$f":"HOJA_CAPTURA!X3","v":"X"},null,"Histórico  ",null,{"$f":"HOJA_CAPTURA!Y3","v":0}]
[null,"Vigencia documental (de acuerdo a CADIDO):",null,null,null,null,null,null,null,null,null,null,"AT",{"$f":"HOJA_CAPTURA!AI3","v":0},null,"AC",{"$f":"HOJA_CAPTURA!AJ3","v":0},null,"Total",null,{"$f":"HOJA_CAPTURA!AK3","v":0}]
[null,"Fecha de Apertura:",null,null,null,{"$f":"HOJA_CAPTURA!Q3","v":"00:00:00"},null,null,null,null,null,null,null," Fecha de Cierre:",null,null,null,{"$f":"HOJA_CAPTURA!R3","v":"00:00:00"}]
[null,null,null,null,null,"(DD-MM-AAAA) ",null,null,null,null,null,null,null,null,null,null,null,"(DD-MM-AAAA) "]
[null,"Asunto o Descripción:                        "]
[null,null,{"$f":"HOJA_CAPTURA!P3","v":0}]
[null,"Valor Documental:   ",null,null,null,"Administrativo",null,null,null,{"$f":"HOJA_CAPTURA!AF3","v":0},"Legal",null,null,null,{"$f":"HOJA_CAPTURA!AG3","v":0},"Contable y/o Fiscal",null,null,null,null,{"$f":"HOJA_CAPTURA!AH3","v":0}]
[null,"Soporte (Formato):",null,null,null,"Papel:",null,{"$f":"HOJA_CAPTURA!AO3","v":0},"Medio magnético:  ",null,null,null,{"$f":"HOJA_CAPTURA!AP3","v":0},"CD:",{"$f":"HOJA_CAPTURA!AQ3","v":0},"USB:",{"$f":"HOJA_CAPTURA!AR3","v":0},"Otros:",null,{"$f":"HOJA_CAPTURA!AS3","v":0}]
[null,null,null,null,null,null,null,null,null,null,null,null,null,null,null,null,null,"(Planos, Fotos, etc.)"]
[null,"Condiciones de acceso:",null,null,null,null,{"$f":"HOJA_CAPTURA!AL3","v":0}]
[null,"Periodo de Reserva:            ",null,null,null,{"$f":"HOJA_CAPTURA!AM3","v":0},null,"años"]
[null,"Fundamento Legal:",null,null,null,{"$f":"HOJA_CAPTURA!AN3","v":0}]
[]
[null,"(Llenar este apartado sólo en el caso de que la información del expediente sea reservada o confidencial)"]
[]
[]
[null,"Fecha de Clasificación: ",null,null,null,null,null,null,null,null,null,null,"Clasificación de la Información:"]
[null,"Plazo de Reserva: ",null,null,null,null,null,null,null,null,null,null,"Reservada:",null,null,null,null,"Confidencial:"]
[null,"Fecha de Desclasificación: "]
[null,"Ampliación de periodo de reserva:",null,null,null,null,null,null,null,null,null,null,"Parte(s) o sección(es) Reservada:"]
[]
[]
[null,"Nombre del Responsable de la Clasificación: "]
[null,null,null,null,null,null,null,null,null,null,null,null,"Folio: del",null,null,null,"al"]
[null,null,null,null,null,null,null,null,null,null,null,null,"Tomo(s): ",null,null,"de"]
[null,"Cargo:"]
[null,null,null,null,null,null,null,null,null,null,null,null,"Fundamento Legal:"]
[null,"Firma:"]
[]
[]
[null,null,null,null,null,null,null,null,null,null,null,null,null,null," "]
[]
[]
[]
[]
[]
[]
[]
[null,"Clasificación:",null,null,{"$f":"HOJA_CAPTURA!N4","v":0}]
[]
[null,{"$f":"HOJA_CAPTURA!C4","v":0},null,null,null,null,null,null,null,null,null,null,null,null,null,null,null,null,null,null,null,null,null,null," "]
[null,"Sección: ",null,{"$f":"HOJA_CAPTURA!G4","v":0}]
[null,"Serie: ",null,{"$f":"HOJA_CAPTURA!H4","v":0}]
[null,"Subserie: ",null,{"$f":"HOJA_CAPTURA!I4","v":0}]
[null,"Nombre del Expediente:                     ",null,null,null,null,{"$f":"HOJA_CAPTURA!O4","v":0},null,null,null,null,null,null,null,null,"Número del Expediente: ",null,null,null,null,{"$f":"HOJA_CAPTURA!M4","v":0}]
[null,"Número de Legajo: ",null,null,null,null,null,"de",{"$f":"HOJA_CAPTURA!U4","v":0},"Número de Fojas: "]
[null,"Número Total de Legajos: ",null,null,null,null,{"$f":"HOJA_CAPTURA!U4","v":0},null,null,"Número Total de Fojas:",null,null,null,null,null,{"$f":"HOJA_CAPTURA!V4","v":0}]
[null,"Tipo de Archivo:",null,null,null,"Trámite",null,{"$f":"HOJA_CAPTURA!W4","v":0},null,"Concentración",null,null,{"$f":"HOJA_CAPTURA!X4","v":0},null,"Histórico  ",null,{"$f":"HOJA_CAPTURA!Y4","v":0}]
[null,"Vigencia documental (de acuerdo a CADIDO):",null,null,null,null,null,null,null,null,null,null,"AT",{"$f":"HOJA_CAPTURA!AI4","v":0},null,"AC",{"$f":"HOJA_CAPTURA!AJ4","v":0},null,"Total",null,{"$f":"HOJA_CAPTURA!AK4","v":0}]
[null,"Fecha de Apertura:",null,null,null,{"$f":"HOJA_CAPTURA!Q4","v":"00:00:00"},null,null,null,null,null,null,null," Fecha de Cierre:",null,null,null,{"$f":"HOJA_CAPTURA!R4","v":"00:00:00"}]
[null,null,null,null,null,"(DD-MM-AAAA) ",null,null,null,null,null,null,null,null,null,null,null,"(DD-MM-AAAA) "]
[null,"Asunto o Descripción:                        "]
[null,null,{"$f":"HOJA_CAPTURA!P4","v":0}]
[null,"Valor Documental:   ",null,null,null,"Administrativo",null,null,null,{"$f":"HOJA_CAPTURA!AF4","v":0},"Legal",null,null,null,{"$f":"HOJA_CAPTURA!AG4","v":0},"Contable y/o Fiscal",null,null,null,null,{"$f":"HOJA_CAPTURA!AH4","v":0}]
[null,"Soporte (Formato):",null,null,null,"Papel:",null,{"$f":"HOJA_CAPTURA!AO4","v":0},"Medio magnético:  ",null,null,null,{"$f":"HOJA_CAPTURA!AP4","v":0},"CD:",{"$f":"HOJA_CAPTURA!AQ4","v":0},"USB:",{"$f":"HOJA_CAPTURA!AR4","v":0},"Otros:",null,{"$f":"HOJA_CAPTURA!AS4","v":0}]
[null,null,null,null,null,null,null,null,null,null,null,null,null,null,null,null,null,"(Planos, Fotos, etc.)"]
[null,"Condiciones de acceso:",null,null,null,null,{"$f":"HOJA_CAPTURA!AL4","v":0}]
[null,"Periodo de Reserva:            ",null,null,null,{"$f":"HOJA_CAPTURA!AM4","v":0},null,"años"]
[null,"Fundamento Legal:",null,null,null,{"$f":"HOJA_CAPTURA!AN4","v":0}]
[]
[null,"(Llenar este apartado sólo en el caso de que la información del expediente sea reservada o confidencial)"]
[]
[]
[null,"Fecha de Clasificación: ",null,null,null,null,null,null,null,null,null,null,"Clasificación de la Información:"]
[null,"Plazo de Reserva: ",null,null,null,null,null,null,null,null,null,null,"Reservada:",null,null,null,null,"Confidencial:"]
[null,"Fecha de Desclasificación: "]
[null,"Ampliación de periodo de reserva:",null,null,null,null,null,null,null,null,null,null,"Parte(s) o sección(es) Reservada:"]
[]
[]
[null,"Nombre del Responsable de la Clasificación: "]
[null,null,null,null,null,null,null,null,null,null,null,null,"Folio: del",null,null,null,"al"]
[null,null,null,null,null,null,null,null,null,null,null,null,"Tomo(s): ",null,null,"de"]
[null,"Cargo:"]
[null,null,null,null,null,null,null,null,null,null,null,null,"Fundamento Legal:"]
[null,"Firma:"]
[]
[]
[null,null,null,null,null,null,null,null,null,null,null,null,null,null," "]
[]
[]
[]
[]
[]
[]
[]
[null,"Clasificación:",null,null,{"$f":"HOJA_CAPTURA!N5","v":0}]
[]
[null,{"$f":"HOJA_CAPTURA!C5","v":0},null,null,null,null,null,null,null,null,null,null,null,null,null,null,null,null,null,null,null,null,null,null," "]
[null,"Sección: ",null,{"$f":"HOJA_CAPTURA!G5","v":0}]
[null,"Serie: ",null,{"$f":"HOJA_CAPTURA!H5","v":0}]
[null,"Subserie: ",null,{"$f":"HOJA_CAPTURA!I5","v":0}]
[null,"Nombre del Expediente:                     ",null,null,null,null,{"$f":"HOJA_CAPTURA!O5","v":0},null,null,null,null,null,null,null,null,"Número del Expediente: ",null,null,null,null,{"$f":"HOJA_CAPTURA!M5","v":0}]
[null,"Número de Legajo: ",null,null,null,null,null,"de",{"$f":"HOJA_CAPTURA!U5","v":0},"Número de Fojas: "]
[null,"Número Total de Legajos: ",null,null,null,null,{"$f":"HOJA_CAPTURA!U5","v":0},null,null,"Número Total de Fojas:",null,null,null,null,null,{"$f":"HOJA_CAPTURA!V5","v":0}]
[null,"Tipo de Archivo:",null,null,null,"Trámite ",null,null,{"$f":"HOJA_CAPTURA!W5","v":0},"Concentración",null,null,{"$f":"HOJA_CAPTURA!X5","v":0},null,"Histórico  ",null,{"$f":"HOJA_CAPTURA!Y5","v":0}]
[null,"Vigencia documental (de acuerdo a CADIDO):",null,null,null,null,null,null,null,null,null,null,"AT",{"$f":"HOJA_CAPTURA!AI5","v":0},null,"AC",{"$f":"HOJA_CAPTURA!AJ5","v":0},null,"Total",null,{"$f":"HOJA_CAPTURA!AK5","v":0}]
[null,"Fecha de Apertura:",null,null,null,{"$f":"HOJA_CAPTURA!Q5","v":"00:00:00"},null,null,null,null,null,null,null," Fecha de Cierre:",null,null,null,{"$f":"HOJA_CAPTURA!R5","v":"00:00:00"}]
[null,null,null,null,null,"(DD-MM-AAAA) ",null,null,null,null,null,null,null,null,null,null,null,"(DD-MM-AAAA) "]
[null,"Asunto o Descripción:                        "]
[null,null,{"$f":"HOJA_CAPTURA!P5","v":0}]
[null,"Valor Documental:   ",null,null,null,"Administrativo",null,null,null,{"$f":"HOJA_CAPTURA!AF5","v":0},"Legal",null,null,null,{"$f":"HOJA_CAPTURA!AG5","v":0},"Contable y/o Fiscal",null,null,null,null,{"$f":"HOJA_CAPTURA!AH5","v":0}]
[null,"Soporte (Formato):",null,null,null,"Papel:",null,{"$f":"HOJA_CAPTURA!AO5","v":0},"Medio magnético:  ",null,null,null,{"$f":"HOJA_CAPTURA!AP5","v":0},"CD:",{"$f":"HOJA_CAPTURA!AQ5","v":0},"USB:",{"$f":"HOJA_CAPTURA!AR5","v":0},"Otros:",null,{"$f":"HOJA_CAPTURA!AS5","v":0}]
[null,null,null,null,null,null,null,null,null,null,null,null,null,null,null,null,null,"(Planos, Fotos, etc.)"]
[null,"Condiciones de acceso:",null,null,null,null,{"$f":"HOJA_CAPTURA!AL5","v":0}]
[null,"Periodo de Reserva:            ",null,null,null,{"$f":"HOJA_CAPTURA!AM5","v":0},null,"años"]
[null,"Fundamento Legal:",null,null,null,{"$f":"HOJA_CAPTURA!AN5","v":0}]
[]
[null,"(Llenar este apartado sólo en el caso de que la información del expediente sea reservada o confidencial)"]
[]
[]
[null,"Fecha de Clasificación: ",null,null,null,null,null,null,null,null,null,null,"Clasificación de la Información:"]
[null,"Plazo de Reserva: ",null,null,null,null,null,null,null,null,null,null,"Reservada:",null,null,null,null,"Confidencial:"]
[null,"Fecha de Desclasificación: "]
[null,"Ampliación de periodo de reserva:",null,null,null,null,null,null,null,null,null,null,"Parte(s) o sección(es) Reservada:"]
[]
[]
[null,"Nombre del Responsable de la Clasificación: "]
[null,null,null,null,null,null,null,null,null,null,null,null,"Folio: del",null,null,null,"al"]
[null,null,null,null,null,null,null,null,null,null,null,null,"Tomo(s): ",null,null,"de"]
[null,"Cargo:"]
[null,null,null,null,null,null,null,null,null,null,null,null,"Fundamento Legal:"]
[null,"Firma:"]
[]
[]
[null,null,null,null,null,null,null,null,null,null,null,null,null,null," "]
[]
[]
[]
[]
[]
[]
[]
[null,"Clasificación:",null,null,{"$f":"HOJA_CAPTURA!N6","v":0}]
[]
[null,{"$f":"HOJA_CAPTURA!C6","v":0},null,null,null,null,null,null,null,null,null,null,null,null,null,null,null,null,null,null,null,null,null,null," "]
[null,"Sección: ",null,{"$f":"HOJA_CAPTURA!G6","v":0}]
[null,"Serie: ",null,{"$f":"HOJA_CAPTURA!H6","v":0}]
[null,"Subserie: ",null,{"$f":"HOJA_CAPTURA!I6","v":0}]
[null,"Nombre del Expediente:                     ",null,null,null,null,{"$f":"HOJA_CAPTURA!O6","v":0},null,null,null,null,null,null,null,null,"Número del Expediente: ",null,null,null,null,{"$f":"HOJA_CAPTURA!M6","v":0}]
[null,"Número de Legajo: ",null,null,null,null,null,"de",{"$f":"HOJA_CAPTURA!U6","v":0},"Número de Fojas: "]
[null,"Número Total de Legajos: ",null,null,null,null,{"$f":"HOJA_CAPTURA!U6","v":0},null,null,"Número Total de Fojas:",null,null,null,null,null,{"$f":"HOJA_CAPTURA!V6","v":0}]
[null,"Tipo de Archivo:",null,null,null,"Trámite",null,null,{"$f":"HOJA_CAPTURA!W6","v":0},"Concentración",null,null,{"$f":"HOJA_CAPTURA!X6","v":0},null,"Histórico  ",null,{"$f":"HOJA_CAPTURA!Y6","v":0}]
[null,"Vigencia documental (de acuerdo a CADIDO):",null,null,null,null,null,null,null,null,null,null,"AT",{"$f":"HOJA_CAPTURA!AI6","v":0},null,"AC",{"$f":"HOJA_CAPTURA!AJ6","v":0},null,"Total",null,{"$f":"HOJA_CAPTURA!AK6","v":0}]
[null,"Fecha de Apertura:",null,null,null,{"$f":"HOJA_CAPTURA!Q6","v":"00:00:00"},null,null,null,null,null,null,null," Fecha de Cierre:",null,null,null,{"$f":"HOJA_CAPTURA!R6","v":"00:00:00"}]
[null,null,null,null,null,"(DD-MM-AAAA) ",null,null,null,null,null,null,null,null,null,null,null,"(DD-MM-AAAA) "]
[null,"Asunto o Descripción:                        "]
[null,null,{"$f":"HOJA_CAPTURA!P6","v":0}]
[null,"Valor Documental:   ",null,null,null,"Administrativo",null,null,null,{"$f":"HOJA_CAPTURA!AF6","v":0},"Legal",null,null,null,{"$f":"HOJA_CAPTURA!AG6","v":0},"Contable y/o Fiscal",null,null,null,null,{"$f":"HOJA_CAPTURA!AH6","v":0}]
[null,"Soporte (Formato):",null,null,null,"Papel:",null,{"$f":"HOJA_CAPTURA!AO6","v":0},"Medio magnético:  ",null,null,null,{"$f":"HOJA_CAPTURA!AP6","v":0},"CD:",{"$f":"HOJA_CAPTURA!AQ6","v":0},"USB:",{"$f":"HOJA_CAPTURA!AR6","v":0},"Otros:",null,{"$f":"HOJA_CAPTURA!AS6","v":0}]
[null,null,null,null,null,null,null,null,null,null,null,null,null,null,null,null,null,"(Planos, Fotos, etc.)"]
[null,"Condiciones de acceso:",null,null,null,null,{"$f":"HOJA_CAPTURA!AL6","v":0}]
[null,"Periodo de Reserva:            ",null,null,null,{"$f":"HOJA_CAPTURA!AM6","v":0},null,"años"]
[null,"Fundamento Legal:",null,null,null,{"$f":"HOJA_CAPTURA!AN6","v":0}]
[]
[null,"(Llenar este apartado sólo en el caso de que la información del expediente sea reservada o confidencial)"]
[]
[]
[null,"Fecha de Clasificación: ",null,null,null,null,null,null,null,null,null,null,"Clasificación de la Información:"]
[null,"Plazo de Reserva: ",null,null,null,null,null,null,null,null,null,null,"Reservada:",null,null,null,null,"Confidencial:"]
[null,"Fecha de Desclasificación: "]
[null,"Ampliación de periodo de reserva:",null,null,null,null,null,null,null,null,null,null,"Parte(s) o sección(es) Reservada:"]
[]
[]
[null,"Nombre del Responsable de la Clasificación: "]
[null,null,null,null,null,null,null,null,null,null,null,null,"Folio: del",null,null,null,"al"]
[null,null,null,null,null,null,null,null,null,null,null,null,"Tomo(s): ",null,null,"de"]
[null,"Cargo:"]
[null,null,null,null,null,null,null,null,null,null,null,null,"Fundamento Legal:"]
[null,"Firma:"]
[]
[]
[null,null,null,null,null,null,null,null,null,null,null,null,null,null," "]
[]
[]
[]
[]
[]
[]
[]
[null,"Clasificación:",null,null,{"$f":"HOJA_CAPTURA!N7","v":0}]
[]
[null,{"$f":"HOJA_CAPTURA!C7","v":0},null,null,null,null,null,null,null,null,null,null,null,null,null,null,null,null,null,null,null,null,null,null," "]
[null,"Sección: ",null,{"$f":"HOJA_CAPTURA!G7","v":0}]
[null,"Serie: ",null,{"$f":"HOJA_CAPTURA!H7","v":0}]
[null,"Subserie: ",null,{"$f":"HOJA_CAPTURA!I7","v":0}]
[null,"Nombre del Expediente:                     ",null,null,null,null,{"$f":"HOJA_CAPTURA!O7","v":0},null,null,null,null,null,null,null,null,"Número del Expediente: ",null,null,null,null,{"$f":"HOJA_CAPTURA!M7","v":0}]
[null,"Número de Legajo: ",null,null,null,null,null,"de",{"$f":"HOJA_CAPTURA!U7","v":0},"Número de Fojas: "]
[null,"Número Total de Legajos: ",null,null,null,null,{"$f":"HOJA_CAPTURA!U7","v":0},null,null,"Número Total de Fojas:",null,null,null,null,null,{"$f":"HOJA_CAPTURA!V7","v":0}]
[null,"Tipo de Archivo:",null,null,null,"Trámite",null,null,{"$f":"HOJA_CAPTURA!W7","v":0},"Concentración",null,null,{"$f":"HOJA_CAPTURA!X7","v":0},null,"Histórico  ",null,{"$f":"HOJA_CAPTURA!Y7","v":0}]
[null,"Vigencia documental (de acuerdo a CADIDO):",null,null,null,null,null,null,null,null,null,null,"AT",{"$f":"HOJA_CAPTURA!AI7","v":0},null,"AC",{"$f":"HOJA_CAPTURA!AJ7","v":0},null,"Total",null,{"$f":"HOJA_CAPTURA!AK7","v":0}]
[null,"Fecha de Apertura:",null,null,null,{"$f":"HOJA_CAPTURA!Q7","v":"00:00:00"},null,null,null,null,null,null,null," Fecha de Cierre:",null,null,null,{"$f":"HOJA_CAPTURA!R7","v":"00:00:00"}]
[null,null,null,null,null,"(DD-MM-AAAA) ",null,null,null,null,null,null,null,null,null,null,null,"(DD-MM-AAAA) "]
[null,"Asunto o Descripción:                        "]
[null,null,{"$f":"HOJA_CAPTURA!P7","v":0}]
[null,"Valor Documental:   ",null,null,null,"Administrativo",null,null,null,{"$f":"HOJA_CAPTURA!AF7","v":0},"Legal",null,null,null,{"$f":"HOJA_CAPTURA!AG7","v":0},"Contable y/o Fiscal",null,null,null,null,{"$f":"HOJA_CAPTURA!AH7","v":0}]
[null,"Soporte (Formato):",null,null,null,"Papel:",null,{"$f":"HOJA_CAPTURA!AO7","v":0},"Medio magnético:  ",null,null,null,{"$f":"HOJA_CAPTURA!AP7","v":0},"CD:",{"$f":"HOJA_CAPTURA!AQ7","v":0},"USB:",{"$f":"HOJA_CAPTURA!AR7","v":0},"Otros:",null,{"$f":"HOJA_CAPTURA!AS7","v":0}]
[null,null,null,null,null,null,null,null,null,null,null,null,null,null,null,null,null,"(Planos, Fotos, etc.)"]
[null,"Condiciones de acceso:",null,null,null,null,{"$f":"HOJA_CAPTURA!AL7","v":0}]
[null,"Periodo de Reserva:            ",null,null,null,{"$f":"HOJA_CAPTURA!AM7","v":0},null,"años"]
[null,"Fundamento Legal:",null,null,null,{"$f":"HOJA_CAPTURA!AN7","v":0}]
[]
[null,"(Llenar este apartado sólo en el caso de que la información del expediente sea reservada o confidencial)"]
[]
[]
[null,"Fecha de Clasificación: ",null,null,null,null,null,null,null,null,null,null,"Clasificación de la Información:"]
[null,"Plazo de Reserva: ",null,null,null,null,null,null,null,null,null,null,"Reservada:",null,null,null,null,"Confidencial:"]
[null,"Fecha de Desclasificación: "]
[null,"Ampliación de periodo de reserva:",null,null,null,null,null,null,null,null,null,null,"Parte(s) o sección(es) Reservada:"]
[]
[]
[null,"Nombre del Responsable de la Clasificación: "]
[null,null,null,null,null,null,null,null,null,null,null,null,"Folio: del",null,null,null,"al"]
[null,null,null,null,null,null,null,null,null,null,null,null,"Tomo(s): ",null,null,"de"]
[null,"Cargo:"]
[null,null,null,null,null,null,null,null,null,null,null,null,"Fundamento Legal:"]
[null,"Firma:"]
[]
[]
[null,null,null,null,null,null,null,null,null,null,null,null,null,null," "]
[]
[]
[]
[]
[]
[]
[null,"Clasificación:",null,null,{"$f":"HOJA_CAPTURA!N8","v":0}]
[]
[null,{"$f":"HOJA_CAPTURA!C8","v":0},null,null,null,null,null,null,null,null,null,null,null,null,null,null,null,null,null,null,null,null,null,null," "]
[null,"Sección: ",null,{"$f":"HOJA_CAPTURA!G8","v":0}]
[null,"Serie: ",null,{"$f":"HOJA_CAPTURA!H8","v":0}]
[null,"Subserie: ",null,{"$f":"HOJA_CAPTURA!I8","v":0}]
[null,"Nombre del Expediente:                     ",null,null,null,null,{"$f":"HOJA_CAPTURA!O8","v":0},null,null,null,null,null,null,null,null,"Número del Expediente: ",null,null,null,null,{"$f":"HOJA_CAPTURA!M8","v":0}]
[null,"Número de Legajo: ",null,null,null,null,null,"de",{"$f":"HOJA_CAPTURA!U8","v":0},"Número de Fojas: "]
[null,"Número Total de Legajos: ",null,null,null,null,{"$f":"HOJA_CAPTURA!U8","v":0},null,null,"Número Total de Fojas:",null,null,null,null,null,{"$f":"HOJA_CAPTURA!V8","v":0}]
[null,"Tipo de Archivo:",null,null,null,"Trámite",null,null,{"$f":"HOJA_CAPTURA!W8","v":0},"Concentración",null,null,{"$f":"HOJA_CAPTURA!X8","v":0},null,"Histórico  ",null,{"$f":"HOJA_CAPTURA!Y8","v":0}]
[null,"Vigencia documental (de acuerdo a CADIDO):",null,null,null,null,null,null,null,null,null,null,"AT",{"$f":"HOJA_CAPTURA!AI8","v":0},null,"AC",{"$f":"HOJA_CAPTURA!AJ8","v":0},null,"Total",null,{"$f":"HOJA_CAPTURA!AK8","v":0}]
[null,"Fecha de Apertura:",null,null,null,{"$f":"HOJA_CAPTURA!Q8","v":"00:00:00"},null,null,null,null,null,null,null," Fecha de Cierre:",null,null,null,{"$f":"HOJA_CAPTURA!R8","v":"00:00:00"}]
[null,null,null,null,null,"(DD-MM-AAAA) ",null,null,null,null,null,null,null,null,null,null,null,"(DD-MM-AAAA) "]
[null,"Asunto o Descripción:                        "]
[null,null,{"$f":"HOJA_CAPTURA!P8","v":0}]
[null,"Valor Documental:   ",null,null,null,"Administrativo",null,null,null,{"$f":"HOJA_CAPTURA!AF8","v":0},"Legal",null,null,null,{"$f":"HOJA_CAPTURA!AG8","v":0},"Contable y/o Fiscal",null,null,null,null,{"$f":"HOJA_CAPTURA!AH8","v":0}]
[null,"Soporte (Formato):",null,null,null,"Papel:",null,{"$f":"HOJA_CAPTURA!AO8","v":0},"Medio magnético:  ",null,null,null,{"$f":"HOJA_CAPTURA!AP8","v":0},"CD:",{"$f":"HOJA_CAPTURA!AQ8","v":0},"USB:",{"$f":"HOJA_CAPTURA!AR8","v":0},"Otros:",null,{"$f":"HOJA_CAPTURA!AS8","v":0}]
[null,null,null,null,null,null,null,null,null,null,null,null,null,null,null,null,null,"(Planos, Fotos, etc.)"]
[null,"Condiciones de acceso:",null,null,null,null,{"$f":"HOJA_CAPTURA!AL8","v":0}]
[null,"Periodo de Reserva:            ",null,null,null,{"$f":"HOJA_CAPTURA!AM8","v":0},null,"años"]
[null,"Fundamento Legal:",null,null,null,{"$f":"HOJA_CAPTURA!AN8","v":0}]
[]
[null,"(Llenar este apartado sólo en el caso de que la información del expediente sea reservada o confidencial)"]
[]
[]
[null,"Fecha de Clasificación: ",null,null,null,null,null,null,null,null,null,null,"Clasificación de la Información:"]
[null,"Plazo de Reserva: ",null,null,null,null,null,null,null,null,null,null,"Reservada:",null,null,null,null,"Confidencial:"]
[null,"Fecha de Desclasificación: "]
[null,"Ampliación de periodo de reserva:",null,null,null,null,null,null,null,null,null,null,"Parte(s) o sección(es) Reservada:"]
[]
[]
[null,"Nombre del Responsable de la Clasificación: "]
[null,null,null,null,null,null,null,null,null,null,null,null,"Folio: del",null,null,null,"al"]
[null,null,null,null,null,null,null,null,null,null,null,null,"Tomo(s): ",null,null,"de"]
[null,"Cargo:"]
[null,null,null,null,null,null,null,null,null,null,null,null,"Fundamento Legal:"]
[null,"Firma:"]
[]
[]
[null,null,null,null,null,null,null,null,null,null,null,null,null,null," "]
[]
[]
[]
[]
[]
[]
[]
[null,"Clasificación:",null,null,{"$f":"HOJA_CAPTURA!N9","v":0}]
[]
[null,{"$f":"HOJA_CAPTURA!C9","v":0},null,null,null,null,null,null,null,null,null,null,null,null,null,null,null,null,null,null,null,null,null,null," "]
[null,"Sección: ",null,{"$f":"HOJA_CAPTURA!G9","v":0}]
[null,"Serie: ",null,{"$f":"HOJA_CAPTURA!H9","v":0}]
[null,"Subserie: ",null,{"$f":"HOJA_CAPTURA!I9","v":0}]
[null,"Nombre del Expediente:                     ",null,null,null,null,{"$f":"HOJA_CAPTURA!O9","v":0},null,null,null,null,null,null,null,null,"Número del Expediente: ",null,null,null,null,{"$f":"HOJA_CAPTURA!M9","v":0}]
[null,"Número de Legajo: ",null,null,null,null,null,"de",{"$f":"HOJA_CAPTURA!U9","v":0},"Número de Fojas: "]
[null,"Número Total de Legajos: ",null,null,null,null,{"$f":"HOJA_CAPTURA!U9","v":0},null,null,"Número Total de Fojas:",null,null,null,null,null,{"$f":"HOJA_CAPTURA!V9","v":0}]
[null,"Tipo de Archivo:",null,null,null,"Trámite ",null,null,{"$f":"HOJA_CAPTURA!W9","v":0},"Concentración",null,null,{"$f":"HOJA_CAPTURA!X9","v":0},null,"Histórico  ",null,{"$f":"HOJA_CAPTURA!Y9","v":0}]
[null,"Vigencia documental (de acuerdo a CADIDO):",null,null,null,null,null,null,null,null,null,null,"AT",{"$f":"HOJA_CAPTURA!AI9","v":0},null,"AC",{"$f":"HOJA_CAPTURA!AJ9","v":0},null,"Total",null,{"$f":"HOJA_CAPTURA!AK9","v":0}]
[null,"Fecha de Apertura:",null,null,null,{"$f":"HOJA_CAPTURA!Q9","v":"00:00:00"},null,null,null,null,null,null,null," Fecha de Cierre:",null,null,null,{"$f":"HOJA_CAPTURA!R9","v":"00:00:00"}]
[null,null,null,null,null,"(DD-MM-AAAA) ",null,null,null,null,null,null,null,null,null,null,null,"(DD-MM-AAAA) "]
[null,"Asunto o Descripción:                        "]
[null,null,{"$f":"HOJA_CAPTURA!P9","v":0}]
[null,"Valor Documental:   ",null,null,null,"Administrativo",null,null,null,{"$f":"HOJA_CAPTURA!AF9","v":0},"Legal",null,null,null,{"$f":"HOJA_CAPTURA!AG9","v":0},"Contable y/o Fiscal",null,null,null,null,{"$f":"HOJA_CAPTURA!AH9","v":0}]
[null,"Soporte (Formato):",null,null,null,"Papel:",null,{"$f":"HOJA_CAPTURA!AO9","v":0},"Medio magnético:  ",null,null,null,{"$f":"HOJA_CAPTURA!AP9","v":0},"CD:",{"$f":"HOJA_CAPTURA!AQ9","v":0},"USB:",{"$f":"HOJA_CAPTURA!AR9","v":0},"Otros:",null,{"$f":"HOJA_CAPTURA!AS9","v":0}]
[null,null,null,null,null,null,null,null,null,null,null,null,null,null,null,null,null,"(Planos, Fotos, etc.)"]
[null,"Condiciones de acceso:",null,null,null,null,{"$f":"HOJA_CAPTURA!AL9","v":0}]
[null,"Periodo de Reserva:            ",null,null,null,{"$f":"HOJA_CAPTURA!AM9","v":0},null,"años"]
[null,"Fundamento Legal:",null,null,null,{"$f":"HOJA_CAPTURA!AN9","v":0}]
[]
[null,"(Llenar este apartado sólo en el caso de que la información del expediente sea reservada o confidencial)"]
[]
[]
[null,"Fecha de Clasificación: ",null,null,null,null,null,null,null,null,null,null,"Clasificación de la Información:"]
[null,"Plazo de Reserva: ",null,null,null,null,null,null,null,null,null,null,"Reservada:",null,null,null,null,"Confidencial:"]
[null,"Fecha de Desclasificación: "]
[null,"Ampliación de periodo de reserva:",null,null,null,null,null,null,null,null,null,null,"Parte(s) o sección(es) Reservada:"]
[]
[]
[null,"Nombre del Responsable de la Clasificación: "]
[null,null,null,null,null,null,null,null,null,null,null,null,"Folio: del",null,null,null,"al"]
[null,null,null,null,null,null,null,null,null,null,null,null,"Tomo(s): ",null,null,"de"]
[null,"Cargo:"]
[null,null,null,null,null,null,null,null,null,null,null,null,"Fundamento Legal:"]
[null,"Firma:"]
[]
[]
[null,null,null,null,null,null,null,null,null,null,null,null,null,null," "]
[]
[]
[]
[]
[]
[]
[]
[null,"Clasificación:",null,null,{"$f":"HOJA_CAPTURA!N10","v":0}]
[]
[null,{"$f":"HOJA_CAPTURA!C10","v":0},null,null,null,null,null,null,null,null,null,null,null,null,null,null,null,null,null,null,null,null,null,null," "]
[null,"Sección: ",null,{"$f":"HOJA_CAPTURA!G10","v":0}]
[null,"Serie: ",null,{"$f":"HOJA_CAPTURA!H10","v":0}]
[null,"Subserie: ",null,{"$f":"HOJA_CAPTURA!I10","v":0}]
[null,"Nombre del Expediente:                     ",null,null,null,null,{"$f":"HOJA_CAPTURA!O10","v":0},null,null,null,null,null,null,null,null,"Número del Expediente: ",null,null,null,null,{"$f":"HOJA_CAPTURA!M10","v":0}]
[null,"Número de Legajo: ",null,null,null,null,null,"de",{"$f":"HOJA_CAPTURA!U10","v":0},"Número de Fojas: "]
[null,"Número Total de Legajos: ",null,null,null,null,{"$f":"HOJA_CAPTURA!U10","v":0},null,null,"Número Total de Fojas:",null,null,null,null,null,{"$f":"HOJA_CAPTURA!V10","v":0}]
[null,"Tipo de Archivo:",null,null,null,"Trámite",null,null,{"$f":"HOJA_CAPTURA!W10","v":0},"Concentración",null,null,{"$f":"HOJA_CAPTURA!X10","v":0},null,"Histórico  ",null,{"$f":"HOJA_CAPTURA!Y10","v":0}]
[null,"Vigencia documental (de acuerdo a CADIDO):",null,null,null,null,null,null,null,null,null,null,"AT",{"$f":"HOJA_CAPTURA!AI10","v":0},null,"AC",{"$f":"HOJA_CAPTURA!AJ10","v":0},null,"Total",null,{"$f":"HOJA_CAPTURA!AK10","v":0}]
[null,"Fecha de Apertura:",null,null,null,{"$f":"HOJA_CAPTURA!Q10","v":"00:00:00"},null,null,null,null,null,null,null," Fecha de Cierre:",null,null,null,{"$f":"HOJA_CAPTURA!R10","v":"00:00:00"}]
[null,null,null,null,null,"(DD-MM-AAAA) ",null,null,null,null,null,null,null,null,null,null,null,"(DD-MM-AAAA) "]
[null,"Asunto o Descripción:                        "]
[null,null,{"$f":"HOJA_CAPTURA!P10","v":0}]
[null,"Valor Documental:   ",null,null,null,"Administrativo",null,null,null,{"$f":"HOJA_CAPTURA!AF10","v":0},"Legal",null,null,null,{"$f":"HOJA_CAPTURA!AG10","v":0},"Contable y/o Fiscal",null,null,null,null,{"$f":"HOJA_CAPTURA!AH10","v":0}]
[null,"Soporte (Formato):",null,null,null,"Papel:",null,{"$f":"HOJA_CAPTURA!AO10","v":0},"Medio magnético:  ",null,null,null,{"$f":"HOJA_CAPTURA!AP10","v":0},"CD:",{"$f":"HOJA_CAPTURA!AQ10","v":0},"USB:",{"$f":"HOJA_CAPTURA!AR10","v":0},"Otros:",null,{"$f":"HOJA_CAPTURA!AS10","v":0}]
[null,null,null,null,null,null,null,null,null,null,null,null,null,null,null,null,null,"(Planos, Fotos, etc.)"]
[null,"Condiciones de acceso:",null,null,null,null,{"$f":"HOJA_CAPTURA!AL10","v":0}]
[null,"Periodo de Reserva:            ",null,null,null,{"$f":"HOJA_CAPTURA!AM10","v":0},null,"años"]
[null,"Fundamento Legal:",null,null,null,{"$f":"HOJA_CAPTURA!AN10","v":0}]
[]
[null,"(Llenar este apartado sólo en el caso de que la información del expediente sea reservada o confidencial)"]
[]
[]
[null,"Fecha de Clasificación: ",null,null,null,null,null,null,null,null,null,null,"Clasificación de la Información:"]
[null,"Plazo de Reserva: ",null,null,null,null,null,null,null,null,null,null,"Reservada:",null,null,null,null,"Confidencial:"]
[null,"Fecha de Desclasificación: "]
[null,"Ampliación de periodo de reserva:",null,null,null,null,null,null,null,null,null,null,"Parte(s) o sección(es) Reservada:"]
[]
[]
[null,"Nombre del Responsable de la Clasificación: "]
[null,null,null,null,null,null,null,null,null,null,null,null,"Folio: del",null,null,null,"al"]
[null,null,null,null,null,null,null,null,null,null,null,null,"Tomo(s): ",null,null,"de"]
[null,"Cargo:"]
[null,null,null,null,null,null,null,null,null,null,null,null,"Fundamento Legal:"]
[null,"Firma:"]
[]
[]
[null,null,null,null,null,null,null,null,null,null,null,null,null,null," "]
[]
[]
[]
[]
[]
[]
[null,"Clasificación:",null,null,{"$f":"HOJA_CAPTURA!N11","v":0}]
[]
[null,{"$f":"HOJA_CAPTURA!C11","v":0},null,null,null,null,null,null,null,null,null,null,null,null,null,null,null,null,null,null,null,null,null,null," "]
[null,"Sección: ",null,{"$f":"HOJA_CAPTURA!G11","v":0}]
[null,"Serie: ",null,{"$f":"HOJA_CAPTURA!H11","v":0}]
[null,"Subserie: ",null,{"$f":"HOJA_CAPTURA!I11","v":0}]
[null,"Nombre del Expediente:                     ",null,null,null,null,{"$f":"HOJA_CAPTURA!O11","v":0},null,null,null,null,null,null,null,null,"Número del Expediente: ",null,null,null,null,{"$f":"HOJA_CAPTURA!M11","v":0}]
[null,"Número de Legajo: ",null,null,null,null,null,"de",{"$f":"HOJA_CAPTURA!U11","v":0},"Número de Fojas: "]
[null,"Número Total de Legajos: ",null,null,null,null,{"$f":"HOJA_CAPTURA!U11","v":0},null,null,"Número Total de Fojas:",null,null,null,null,null,{"$f":"HOJA_CAPTURA!V11","v":0}]
[null,"Tipo de Archivo:",null,null,null,"Trámie",null,null,{"$f":"HOJA_CAPTURA!W11","v":0},"Concentración",null,null,{"$f":"HOJA_CAPTURA!X11","v":0},null,"Histórico  ",null,{"$f":"HOJA_CAPTURA!Y11","v":0}]
[null,"Vigencia documental (de acuerdo a CADIDO):",null,null,null,null,null,null,null,null,null,null,"AT",{"$f":"HOJA_CAPTURA!AI11","v":0},null,"AC",{"$f":"HOJA_CAPTURA!AJ11","v":0},null,"Total",null,{"$f":"HOJA_CAPTURA!AK11","v":0}]
[null,"Fecha de Apertura:",null,null,null,{"$f":"HOJA_CAPTURA!Q11","v":"00:00:00"},null,null,null,null,null,null,null," Fecha de Cierre:",null,null,null,{"$f":"HOJA_CAPTURA!R11","v":"00:00:00"}]
[null,null,null,null,null,"(DD-MM-AAAA) ",null,null,null,null,null,null,null,null,null,null,null,"(DD-MM-AAAA) "]
[null,"Asunto o Descripción:                        "]
[null,null,{"$f":"HOJA_CAPTURA!P11","v":0}]
[null,"Valor Documental:   ",null,null,null,"Administrativo",null,null,null,{"$f":"HOJA_CAPTURA!AF11","v":0},"Legal",null,null,null,{"$f":"HOJA_CAPTURA!AG11","v":0},"Contable y/o Fiscal",null,null,null,null,{"$f":"HOJA_CAPTURA!AH11","v":0}]
[null,"Soporte (Formato):",null,null,null,"Papel:",null,{"$f":"HOJA_CAPTURA!AO11","v":0},"Medio magnético:  ",null,null,null,{"$f":"HOJA_CAPTURA!AP11","v":0},"CD:",{"$f":"HOJA_CAPTURA!AQ11","v":0},"USB:",{"$f":"HOJA_CAPTURA!AR11","v":0},"Otros:",null,{"$f":"HOJA_CAPTURA!AS11","v":0}]
[null,null,null,null,null,null,null,null,null,null,null,null,null,null,null,null,null,"(Planos, Fotos, etc.)"]
[null,"Condiciones de acceso:",null,null,null,null,{"$f":"HOJA_CAPTURA!AL11","v":0}]
[null,"Periodo de Reserva:            ",null,null,null,{"$f":"HOJA_CAPTURA!AM11","v":0},null,"años"]
[null,"Fundamento Legal:",null,null,null,{"$f":"HOJA_CAPTURA!AN11","v":0}]
[]
[null,"(Llenar este apartado sólo en el caso de que la información del expediente sea reservada o confidencial)"]
[]
[]
[null,"Fecha de Clasificación: ",null,null,null,null,null,null,null,null,null,null,"Clasificación de la Información:"]
[null,"Plazo de Reserva: ",null,null,null,null,null,null,null,null,null,null,"Reservada:",null,null,null,null,"Confidencial:"]
[null,"Fecha de Desclasificación: "]
[null,"Ampliación de periodo de reserva:",null,null,null,null,null,null,null,null,null,null,"Parte(s) o sección(es) Reservada:"]
[]
[]
[null,"Nombre del Responsable de la Clasificación: "]
[null,null,null,null,null,null,null,null,null,null,null,null,"Folio: del",null,null,null,"al"]
[null,null,null,null,null,null,null,null,null,null,null,null,"Tomo(s): ",null,null,"de"]
[null,"Cargo:"]
[null,null,null,null,null,null,null,null,null,null,null,null,"Fundamento Legal:"]
[null,"Firma:"]
[]
[]
[null,null,null,null,null,null,null,null,null,null,null,null,null,null," "]
[]
[]
[]
[]
[]
[]
[null,"Clasificación:",null,null,{"$f":"HOJA_CAPTURA!N12","v":0}]
[]
[null,{"$f":"HOJA_CAPTURA!C12","v":0},null,null,null,null,null,null,null,null,null,null,null,null,null,null,null,null,null,null,null,null,null,null," "]
[null,"Sección: ",null,{"$f":"HOJA_CAPTURA!G12","v":0}]
[null,"Serie: ",null,{"$f":"HOJA_CAPTURA!H12","v":0}]
[null,"Subserie: ",null,{"$f":"HOJA_CAPTURA!I12","v":0}]
[null,"Nombre del Expediente:                     ",null,null,null,null,{"$f":"HOJA_CAPTURA!O12","v":0},null,null,null,null,null,null,null,null,"Número del Expediente: ",null,null,null,null,{"$f":"HOJA_CAPTURA!M12","v":0}]
[null,"Número de Legajo: ",null,null,null,null,null,"de",{"$f":"HOJA_CAPTURA!U12","v":0},"Número de Fojas: "]
[null,"Número Total de Legajos: ",null,null,null,null,{"$f":"HOJA_CAPTURA!U12","v":0},null,null,"Número Total de Fojas:",null,null,null,null,null,{"$f":"HOJA_CAPTURA!V12","v":0}]
[null,"Tipo de Archivo:",null,null,null,"Trámite",null,null,{"$f":"HOJA_CAPTURA!W12","v":0},"Concentración",null,null,{"$f":"HOJA_CAPTURA!X12","v":0},null,"Histórico  ",null,{"$f":"HOJA_CAPTURA!Y12","v":0}]
[null,"Vigencia documental (de acuerdo a CADIDO):",null,null,null,null,null,null,null,null,null,null,"AT",{"$f":"HOJA_CAPTURA!AI12","v":0},null,"AC",{"$f":"HOJA_CAPTURA!AJ12","v":0},null,"Total",null,{"$f":"HOJA_CAPTURA!AK12","v":0}]
[null,"Fecha de Apertura:",null,null,null,{"$f":"HOJA_CAPTURA!Q12","v":"00:00:00"},null,null,null,null,null,null,null," Fecha de Cierre:",null,null,null,{"$f":"HOJA_CAPTURA!R12","v":"00:00:00"}]
[null,null,null,null,null,"(DD-MM-AAAA) ",null,null,null,null,null,null,null,null,null,null,null,"(DD-MM-AAAA) "]
[null,"Asunto o Descripción:                        "]
[null,null,{"$f":"HOJA_CAPTURA!P12","v":0}]
[null,"Valor Documental:   ",null,null,null,"Administrativo",null,null,null,{"$f":"HOJA_CAPTURA!AF12","v":0},"Legal",null,null,null,{"$f":"HOJA_CAPTURA!AG12","v":0},"Contable y/o Fiscal",null,null,null,null,{"$f":"HOJA_CAPTURA!AH12","v":0}]
[null,"Soporte (Formato):",null,null,null,"Papel:",null,{"$f":"HOJA_CAPTURA!AO12","v":0},"Medio magnético:  ",null,null,null,{"$f":"HOJA_CAPTURA!AP12","v":0},"CD:",{"$f":"HOJA_CAPTURA!AQ12","v":0},"USB:",{"$f":"HOJA_CAPTURA!AR12","v":0},"Otros:",null,{"$f":"HOJA_CAPTURA!AS12","v":0}]
[null,null,null,null,null,null,null,null,null,null,null,null,null,null,null,null,null,"(Planos, Fotos, etc.)"]
[null,"Condiciones de acceso:",null,null,null,null,{"$f":"HOJA_CAPTURA!AL12","v":0}]
[null,"Periodo de Reserva:            ",null,null,null,{"$f":"HOJA_CAPTURA!AM12","v":0},null,"años"]
[null,"Fundamento Legal:",null,null,null,{"$f":"HOJA_CAPTURA!AN12","v":0}]
[]
[null,"(Llenar este apartado sólo en el caso de que la información del expediente sea reservada o confidencial)"]
[]
[]
[null,"Fecha de Clasificación: ",null,null,null,null,null,null,null,null,null,null,"Clasificación de la Información:"]
[null,"Plazo de Reserva: ",null,null,null,null,null,null,null,null,null,null,"Reservada:",null,null,null,null,"Confidencial:"]
[null,"Fecha de Desclasificación: "]
[null,"Ampliación de periodo de reserva:",null,null,null,null,null,null,null,null,null,null,"Parte(s) o sección(es) Reservada:"]
[]
[]
[null,"Nombre del Responsable de la Clasificación: "]
[null,null,null,null,null,null,null,null,null,null,null,null,"Folio: del",null,null,null,"al"]
[null,null,null,null,null,null,null,null,null,null,null,null,"Tomo(s): ",null,null,"de"]
[null,"Cargo:"]
[null,null,null,null,null,null,null,null,null,null,null,null,"Fundamento Legal:"]
[null,"Firma:"]
[]
[]
[null,null,null,null,null,null,null,null,null,null,null,null,null,null," "]
[]
[]
[]
[]
[]
[]
[null,"Clasificación:",null,null,{"$f":"HOJA_CAPTURA!N13","v":0}]
[]
[null,{"$f":"HOJA_CAPTURA!C13","v":0},null,null,null,null,null,null,null,null,null,null,null,null,null,null,null,null,null,null,null,null,null,null," "]
[null,"Sección: ",null,{"$f":"HOJA_CAPTURA!G13","v":0}]
[null,"Serie: ",null,{"$f":"HOJA_CAPTURA!H13","v":0}]
[null,"Subserie: ",null,{"$f":"HOJA_CAPTURA!I13","v":0}]
[null,"Nombre del Expediente:                     ",null,null,null,null,{"$f":"HOJA_CAPTURA!O13","v":0},null,null,null,null,null,null,null,null,"Número del Expediente: ",null,null,null,null,{"$f":"HOJA_CAPTURA!M13","v":0}]
[null,"Número de Legajo: ",null,null,null,null,null,"de",{"$f":"HOJA_CAPTURA!U13","v":0},"Número de Fojas: "]
[null,"Número Total de Legajos: ",null,null,null,null,{"$f":"HOJA_CAPTURA!U13","v":0},null,null,"Número Total de Fojas:",null,null,null,null,null,{"$f":"HOJA_CAPTURA!V13","v":0}]
[null,"Tipo de Archivo:",null,null,null,"Trámite",null,null,{"$f":"HOJA_CAPTURA!W13","v":0},"Concentración",null,null,{"$f":"HOJA_CAPTURA!X13","v":0},null,"Histórico  ",null,{"$f":"HOJA_CAPTURA!Y13","v":0}]
[null,"Vigencia documental (de acuerdo a CADIDO):",null,null,null,null,null,null,null,null,null,null,"AT",{"$f":"HOJA_CAPTURA!AI13","v":0},null,"AC",{"$f":"HOJA_CAPTURA!AJ13","v":0},null,"Total",null,{"$f":"HOJA_CAPTURA!AK13","v":0}]
[null,"Fecha de Apertura:",null,null,null,{"$f":"HOJA_CAPTURA!Q13","v":"00:00:00"},null,null,null,null,null,null,null," Fecha de Cierre:",null,null,null,{"$f":"HOJA_CAPTURA!R13","v":"00:00:00"}]
[null,null,null,null,null,"(DD-MM-AAAA) ",null,null,null,null,null,null,null,null,null,null,null,"(DD-MM-AAAA) "]
[null,"Asunto o Descripción:                        "]
[null,null,{"$f":"HOJA_CAPTURA!P13","v":0}]
[null,"Valor Documental:   ",null,null,null,"Administrativo",null,null,null,{"$f":"HOJA_CAPTURA!AF13","v":0},"Legal",null,null,null,{"$f":"HOJA_CAPTURA!AG13","v":0},"Contable y/o Fiscal",null,null,null,null,{"$f":"HOJA_CAPTURA!AH13","v":0}]
[null,"Soporte (Formato):",null,null,null,"Papel:",null,{"$f":"HOJA_CAPTURA!AO13","v":0},"Medio magnético:  ",null,null,null,{"$f":"HOJA_CAPTURA!AP13","v":0},"CD:",{"$f":"HOJA_CAPTURA!AQ13","v":0},"USB:",{"$f":"HOJA_CAPTURA!AR13","v":0},"Otros:",null,{"$f":"HOJA_CAPTURA!AS13","v":0}]
[null,null,null,null,null,null,null,null,null,null,null,null,null,null,null,null,null,"(Planos, Fotos, etc.)"]
[null,"Condiciones de acceso:",null,null,null,null,{"$f":"HOJA_CAPTURA!AL13","v":0}]
[null,"Periodo de Reserva:            ",null,null,null,{"$f":"HOJA_CAPTURA!AM13","v":0},null,"años"]
[null,"Fundamento Legal:",null,null,null,{"$f":"HOJA_CAPTURA!AN13","v":0}]
[]
[null,"(Llenar este apartado sólo en el caso de que la información del expediente sea reservada o confidencial)"]
[]
[]
[null,"Fecha de Clasificación: ",null,null,null,null,null,null,null,null,null,null,"Clasificación de la Información:"]
[null,"Plazo de Reserva: ",null,null,null,null,null,null,null,null,null,null,"Reservada:",null,null,null,null,"Confidencial:"]
[null,"Fecha de Desclasificación: "]
[null,"Ampliación de periodo de reserva:",null,null,null,null,null,null,null,null,null,null,"Parte(s) o sección(es) Reservada:"]
[]
[]
[null,"Nombre del Responsable de la Clasificación: "]
[null,null,null,null,null,null,null,null,null,null,null,null,"Folio: del",null,null,null,"al"]
[null,null,null,null,null,null,null,null,null,null,null,null,"Tomo(s): ",null,null,"de"]
[null,"Cargo:"]
[null,null,null,null,null,null,null,null,null,null,null,null,"Fundamento Legal:"]
[null,"Firma:"]
[]
[]
[null,null,null,null,null,null,null,null,null,null,null,null,null,null," "]
[]
[]
[]
[]
[]
[]
[null,"Clasificación:",null,null,{"$f":"HOJA_CAPTURA!N14","v":0}]
[]
[null,{"$f":"HOJA_CAPTURA!C14","v":0},null,null,null,null,null,null,null,null,null,null,null,null,null,null,null,null,null,null,null,null,null,null," "]
[null,"Sección: ",null,{"$f":"HOJA_CAPTURA!G14","v":0}]
[null,"Serie: ",null,{"$f":"HOJA_CAPTURA!H14","v":0}]
[null,"Subserie: ",null,{"$f":"HOJA_CAPTURA!I14","v":0}]
[null,"Nombre del Expediente:                     ",null,null,null,null,{"$f":"HOJA_CAPTURA!O14","v":0},null,null,null,null,null,null,null,null,"Número del Expediente: ",null,null,null,null,{"$f":"HOJA_CAPTURA!M14","v":0}]
[null,"Número de Legajo: ",null,null,null,null,null,"de",{"$f":"HOJA_CAPTURA!U14","v":0},"Número de Fojas: "]
[null,"Número Total de Legajos: ",null,null,null,null,{"$f":"HOJA_CAPTURA!U14","v":0},null,null,"Número Total de Fojas:",null,null,null,null,null,{"$f":"HOJA_CAPTURA!V14","v":0}]
[null,"Tipo de Archivo:",null,null,null,"Trámite",null,null,{"$f":"HOJA_CAPTURA!W14","v":0},"Concentración",null,null,{"$f":"HOJA_CAPTURA!X14","v":0},null,"Histórico  ",null,{"$f":"HOJA_CAPTURA!Y14","v":0}]
[null,"Vigencia documental (de acuerdo a CADIDO):",null,null,null,null,null,null,null,null,null,null,"AT",{"$f":"HOJA_CAPTURA!AI14","v":0},null,"AC",{"$f":"HOJA_CAPTURA!AJ14","v":0},null,"Total",null,{"$f":"HOJA_CAPTURA!AK14","v":0}]
[null,"Fecha de Apertura:",null,null,null,{"$f":"HOJA_CAPTURA!Q14","v":"00:00:00"},null,null,null,null,null,null,null," Fecha de Cierre:",null,null,null,{"$f":"HOJA_CAPTURA!R14","v":"00:00:00"}]
[null,null,null,null,null,"(DD-MM-AAAA) ",null,null,null,null,null,null,null,null,null,null,null,"(DD-MM-AAAA) "]
[null,"Asunto o Descripción:                        "]
[null,null,{"$f":"HOJA_CAPTURA!P14","v":0}]
[null,"Valor Documental:   ",null,null,null,"Administrativo",null,null,null,{"$f":"HOJA_CAPTURA!AF14","v":0},"Legal",null,null,null,{"$f":"HOJA_CAPTURA!AG14","v":0},"Contable y/o Fiscal",null,null,null,null,{"$f":"HOJA_CAPTURA!AH14","v":0}]
[null,"Soporte (Formato):",null,null,null,"Papel:",null,{"$f":"HOJA_CAPTURA!AO14","v":0},"Medio magnético:  ",null,null,null,{"$f":"HOJA_CAPTURA!AP14","v":0},"CD:",{"$f":"HOJA_CAPTURA!AQ14","v":0},"USB:",{"$f":"HOJA_CAPTURA!AR14","v":0},"Otros:",null,{"$f":"HOJA_CAPTURA!AS14","v":0}]
[null,null,null,null,null,null,null,null,null,null,null,null,null,null,null,null,null,"(Planos, Fotos, etc.)"]
[null,"Condiciones de acceso:",null,null,null,null,{"$f":"HOJA_CAPTURA!AL14","v":0}]
[null,"Periodo de Reserva:            ",null,null,null,{"$f":"HOJA_CAPTURA!AM14","v":0},null,"años"]
[null,"Fundamento Legal:",null,null,null,{"$f":"HOJA_CAPTURA!AN14","v":0}]
[]
[null,"(Llenar este apartado sólo en el caso de que la información del expediente sea reservada o confidencial)"]
[]
[]
[null,"Fecha de Clasificación: ",null,null,null,null,null,null,null,null,null,null,"Clasificación de la Información:"]
[null,"Plazo de Reserva: ",null,null,null,null,null,null,null,null,null,null,"Reservada:",null,null,null,null,"Confidencial:"]
[null,"Fecha de Desclasificación: "]
[null,"Ampliación de periodo de reserva:",null,null,null,null,null,null,null,null,null,null,"Parte(s) o sección(es) Reservada:"]
[]
[]
[null,"Nombre del Responsable de la Clasificación: "]
[null,null,null,null,null,null,null,null,null,null,null,null,"Folio: del",null,null,null,"al"]
[null,null,null,null,null,null,null,null,null,null,null,null,"Tomo(s): ",null,null,"de"]
[null,"Cargo:"]
[null,null,null,null,null,null,null,null,null,null,null,null,"Fundamento Legal:"]
[null,"Firma:"]
[]
[]
[null,null,null,null,null,null,null,null,null,null,null,null,null,null," "]
[]
[]
[]
[]
[]
[]
[null,"Clasificación:",null,null,{"$f":"HOJA_CAPTURA!N15","v":0}]
[]
[null,{"$f":"HOJA_CAPTURA!C15","v":0},null,null,null,null,null,null,null,null,null,null,null,null,null,null,null,null,null,null,null,null,null,null," "]
[null,"Sección: ",null,{"$f":"HOJA_CAPTURA!G15","v":0}]
[null,"Serie: ",null,{"$f":"HOJA_CAPTURA!H15","v":0}]
[null,"Subserie: ",null,{"$f":"HOJA_CAPTURA!I15","v":0}]
[null,"Nombre del Expediente:                     ",null,null,null,null,{"$f":"HOJA_CAPTURA!O15","v":0},null,null,null,null,null,null,null,null,"Número del Expediente: ",null,null,null,null,{"$f":"HOJA_CAPTURA!M15","v":0}]
[null,"Número de Legajo: ",null,null,null,null,null,"de",{"$f":"HOJA_CAPTURA!U15","v":0},"Número de Fojas: "]
[null,"Número Total de Legajos: ",null,null,null,null,{"$f":"HOJA_CAPTURA!U15","v":0},null,null,"Número Total de Fojas:",null,null,null,null,null,{"$f":"HOJA_CAPTURA!V15","v":0}]
[null,"Tipo de Archivo:",null,null,null,"Trámite",null,null,{"$f":"HOJA_CAPTURA!W15","v":0},"Concentración",null,null,{"$f":"HOJA_CAPTURA!X15","v":0},null,"Histórico  ",null,{"$f":"HOJA_CAPTURA!Y15","v":0}]
[null,"Vigencia documental (de acuerdo a CADIDO):",null,null,null,null,null,null,null,null,null,null,"AT",{"$f":"HOJA_CAPTURA!AI15","v":0},null,"AC",{"$f":"HOJA_CAPTURA!AJ15","v":0},null,"Total",null,{"$f":"HOJA_CAPTURA!AK15","v":0}]
[null,"Fecha de Apertura:",null,null,null,{"$f":"HOJA_CAPTURA!Q15","v":"00:00:00"},null,null,null,null,null,null,null," Fecha de Cierre:",null,null,null,{"$f":"HOJA_CAPTURA!R15","v":"00:00:00"}]
[null,null,null,null,null,"(DD-MM-AAAA) ",null,null,null,null,null,null,null,null,null,null,null,"(DD-MM-AAAA) "]
[null,"Asunto o Descripción:                        "]
[null,null,{"$f":"HOJA_CAPTURA!P15","v":0}]
[null,"Valor Documental:   ",null,null,null,"Administrativo",null,null,null,{"$f":"HOJA_CAPTURA!AF15","v":0},"Legal",null,null,null,{"$f":"HOJA_CAPTURA!AG15","v":0},"Contable y/o Fiscal",null,null,null,null,{"$f":"HOJA_CAPTURA!AH15","v":0}]
[null,"Soporte (Formato):",null,null,null,"Papel:",null,{"$f":"HOJA_CAPTURA!AO15","v":0},"Medio magnético:  ",null,null,null,{"$f":"HOJA_CAPTURA!AP15","v":0},"CD:",{"$f":"HOJA_CAPTURA!AQ15","v":0},"USB:",{"$f":"HOJA_CAPTURA!AR15","v":0},"Otros:",null,{"$f":"HOJA_CAPTURA!AS15","v":0}]
[null,null,null,null,null,null,null,null,null,null,null,null,null,null,null,null,null,"(Planos, Fotos, etc.)"]
[null,"Condiciones de acceso:",null,null,null,null,{"$f":"HOJA_CAPTURA!AL15","v":0}]
[null,"Periodo de Reserva:            ",null,null,null,{"$f":"HOJA_CAPTURA!AM15","v":0},null,"años"]
[null,"Fundamento Legal:",null,null,null,{"$f":"HOJA_CAPTURA!AN15","v":0}]
[]
[null,"(Llenar este apartado sólo en el caso de que la información del expediente sea reservada o confidencial)"]
[]
[]
[null,"Fecha de Clasificación: ",null,null,null,null,null,null,null,null,null,null,"Clasificación de la Información:"]
[null,"Plazo de Reserva: ",null,null,null,null,null,null,null,null,null,null,"Reservada:",null,null,null,null,"Confidencial:"]
[null,"Fecha de Desclasificación: "]
[null,"Ampliación de periodo de reserva:",null,null,null,null,null,null,null,null,null,null,"Parte(s) o sección(es) Reservada:"]
[]
[]
[null,"Nombre del Responsable de la Clasificación: "]
[null,null,null,null,null,null,null,null,null,null,null,null,"Folio: del",null,null,null,"al"]
[null,null,null,null,null,null,null,null,null,null,null,null,"Tomo(s): ",null,null,"de"]
[null,"Cargo:"]
[null,null,null,null,null,null,null,null,null,null,null,null,"Fundamento Legal:"]
[null,"Firma:"]
[]
[]
[null,null,null,null,null,null,null,null,null,null,null,null,null,null," "]
[]
[]
[]
[]
[]
[]
[null,"Clasificación:",null,null,{"$f":"HOJA_CAPTURA!N16","v":0}]
[]
[null,{"$f":"HOJA_CAPTURA!C16","v":0},null,null,null,null,null,null,null,null,null,null,null,null,null,null,null,null,null,null,null,null,null,null," "]
[null,"Sección: ",null,{"$f":"HOJA_CAPTURA!G16","v":0}]
[null,"Serie: ",null,{"$f":"HOJA_CAPTURA!H16","v":0}]
[null,"Subserie: ",null,{"$f":"HOJA_CAPTURA!I16","v":0}]
[null,"Nombre del Expediente:                     ",null,null,null,null,{"$f":"HOJA_CAPTURA!O16","v":0},null,null,null,null,null,null,null,null,"Número del Expediente: ",null,null,null,null,{"$f":"HOJA_CAPTURA!M16","v":0}]
[null,"Número de Legajo: ",null,null,null,null,null,"de",{"$f":"HOJA_CAPTURA!U16","v":0},"Número de Fojas: "]
[null,"Número Total de Legajos: ",null,null,null,null,{"$f":"HOJA_CAPTURA!U16","v":0},null,null,"Número Total de Fojas:",null,null,null,null,null,{"$f":"HOJA_CAPTURA!V16","v":0}]
[null,"Tipo de Archivo:",null,null,null,"Trámite",null,null,{"$f":"HOJA_CAPTURA!W16","v":0},"Concentración",null,null,{"$f":"HOJA_CAPTURA!X16","v":0},null,"Histórico  ",null,{"$f":"HOJA_CAPTURA!Y16","v":0}]
[null,"Vigencia documental (de acuerdo a CADIDO):",null,null,null,null,null,null,null,null,null,null,"AT",{"$f":"HOJA_CAPTURA!AI16","v":0},null,"AC",{"$f":"HOJA_CAPTURA!AJ16","v":0},null,"Total",null,{"$f":"HOJA_CAPTURA!AK16","v":0}]
[null,"Fecha de Apertura:",null,null,null,{"$f":"HOJA_CAPTURA!Q16","v":"00:00:00"},null,null,null,null,null,null,null," Fecha de Cierre:",null,null,null,{"$f":"HOJA_CAPTURA!R16","v":"00:00:00"}]
[null,null,null,null,null,"(DD-MM-AAAA) ",null,null,null,null,null,null,null,null,null,null,null,"(DD-MM-AAAA) "]
[null,"Asunto o Descripción:                        "]
[null,null,{"$f":"HOJA_CAPTURA!P16","v":0}]
[null,"Valor Documental:   ",null,null,null,"Administrativo",null,null,null,{"$f":"HOJA_CAPTURA!AF16","v":0},"Legal",null,null,null,{"$f":"HOJA_CAPTURA!AG16","v":0},"Contable y/o Fiscal",null,null,null,null,{"$f":"HOJA_CAPTURA!AH16","v":0}]
[null,"Soporte (Formato):",null,null,null,"Papel:",null,{"$f":"HOJA_CAPTURA!AO16","v":0},"Medio magnético:  ",null,null,null,{"$f":"HOJA_CAPTURA!AP16","v":0},"CD:",{"$f":"HOJA_CAPTURA!AQ16","v":0},"USB:",{"$f":"HOJA_CAPTURA!AR16","v":0},"Otros:",null,{"$f":"HOJA_CAPTURA!AS16","v":0}]
[null,null,null,null,null,null,null,null,null,null,null,null,null,null,null,null,null,"(Planos, Fotos, etc.)"]
[null,"Condiciones de acceso:",null,null,null,null,{"$f":"HOJA_CAPTURA!AL16","v":0}]
[null,"Periodo de Reserva:            ",null,null,null,{"$f":"HOJA_CAPTURA!AM16","v":0},null,"años"]
[null,"Fundamento Legal:",null,null,null,{"$f":"HOJA_CAPTURA!AN16","v":0}]
[]
[null,"(Llenar este apartado sólo en el caso de que la información del expediente sea reservada o confidencial)"]
[]
[]
[null,"Fecha de Clasificación: ",null,null,null,null,null,null,null,null,null,null,"Clasificación de la Información:"]
[null,"Plazo de Reserva: ",null,null,null,null,null,null,null,null,null,null,"Reservada:",null,null,null,null,"Confidencial:"]
[null,"Fecha de Desclasificación: "]
[null,"Ampliación de periodo de reserva:",null,null,null,null,null,null,null,null,null,null,"Parte(s) o sección(es) Reservada:"]
[]
[]
[null,"Nombre del Responsable de la Clasificación: "]
[null,null,null,null,null,null,null,null,null,null,null,null,"Folio: del",null,null,null,"al"]
[null,null,null,null,null,null,null,null,null,null,null,null,"Tomo(s): ",null,null,"de"]
[null,"Cargo:"]
[null,null,null,null,null,null,null,null,null,null,null,null,"Fundamento Legal:"]
[null,"Firma:"]
[]
[]
[null,null,null,null,null,null,null,null,null,null,null,null,null,null," "]
[]
[]
[]
[]
[]
[null,"Clasificación:",null,null,{"$f":"HOJA_CAPTURA!N17","v":0}]
[]
[null,{"$f":"HOJA_CAPTURA!C17","v":0},null,null,null,null,null,null,null,null,null,null,null,null,null,null,null,null,null,null,null,null,null,null," "]
[null,"Sección: ",null,{"$f":"HOJA_CAPTURA!G17","v":0}]
[null,"Serie: ",null,{"$f":"HOJA_CAPTURA!H17","v":0}]
[null,"Subserie: ",null,{"$f":"HOJA_CAPTURA!I17","v":0}]
[null,"Nombre del Expediente:                     ",null,null,null,null,{"$f":"HOJA_CAPTURA!O17","v":0},null,null,null,null,null,null,null,null,"Número del Expediente: ",null,null,null,null,{"$f":"HOJA_CAPTURA!M17","v":0}]
[null,"Número de Legajo: ",null,null,null,null,null,"de",{"$f":"HOJA_CAPTURA!U17","v":0},"Número de Fojas: "]
[null,"Número Total de Legajos: ",null,null,null,null,{"$f":"HOJA_CAPTURA!U17","v":0},null,null,"Número Total de Fojas:",null,null,null,null,null,{"$f":"HOJA_CAPTURA!V17","v":0}]
[null,"Tipo de Archivo:",null,null,null,"Trámite",null,null,{"$f":"HOJA_CAPTURA!W17","v":0},"Concentración",null,null,{"$f":"HOJA_CAPTURA!X17","v":0},null,"Histórico  ",null,{"$f":"HOJA_CAPTURA!Y17","v":0}]
[null,"Vigencia documental (de acuerdo a CADIDO):",null,null,null,null,null,null,null,null,null,null,"AT",{"$f":"HOJA_CAPTURA!AI17","v":0},null,"AC",{"$f":"HOJA_CAPTURA!AJ17","v":0},null,"Total",null,{"$f":"HOJA_CAPTURA!AK17","v":0}]
[null,"Fecha de Apertura:",null,null,null,{"$f":"HOJA_CAPTURA!Q17","v":"00:00:00"},null,null,null,null,null,null,null," Fecha de Cierre:",null,null,null,{"$f":"HOJA_CAPTURA!R17","v":"00:00:00"}]
[null,null,null,null,null,"(DD-MM-AAAA) ",null,null,null,null,null,null,null,null,null,null,null,"(DD-MM-AAAA) "]
[null,"Asunto o Descripción:                        "]
[null,null,{"$f":"HOJA_CAPTURA!P17","v":0}]
[null,"Valor Documental:   ",null,null,null,"Administrativo",null,null,null,{"$f":"HOJA_CAPTURA!AF17","v":0},"Legal",null,null,null,{"$f":"HOJA_CAPTURA!AG17","v":0},"Contable y/o Fiscal",null,null,null,null,{"$f":"HOJA_CAPTURA!AH17","v":0}]
[null,"Soporte (Formato):",null,null,null,"Papel:",null,{"$f":"HOJA_CAPTURA!AO17","v":0},"Medio magnético:  ",null,null,null,{"$f":"HOJA_CAPTURA!AP17","v":0},"CD:",{"$f":"HOJA_CAPTURA!AQ17","v":0},"USB:",{"$f":"HOJA_CAPTURA!AR17","v":0},"Otros:",null,{"$f":"HOJA_CAPTURA!AS17","v":0}]
[null,null,null,null,null,null,null,null,null,null,null,null,null,null,null,null,null,"(Planos, Fotos, etc.)"]
[null,"Condiciones de acceso:",null,null,null,null,{"$f":"HOJA_CAPTURA!AL17","v":0}]
[null,"Periodo de Reserva:            ",null,null,null,{"$f":"HOJA_CAPTURA!AM17","v":0},null,"años"]
[null,"Fundamento Legal:",null,null,null,{"$f":"HOJA_CAPTURA!AN17","v":0}]
[]
[null,"(Llenar este apartado sólo en el caso de que la información del expediente sea reservada o confidencial)"]
[]
[]
[null,"Fecha de Clasificación: ",null,null,null,null,null,null,null,null,null,null,"Clasificación de la Información:"]
[null,"Plazo de Reserva: ",null,null,null,null,null,null,null,null,null,null,"Reservada:",null,null,null,null,"Confidencial:"]
[null,"Fecha de Desclasificación: "]
[null,"Ampliación de periodo de reserva:",null,null,null,null,null,null,null,null,null,null,"Parte(s) o sección(es) Reservada:"]
[]
[]
[null,"Nombre del Responsable de la Clasificación: "]
[null,null,null,null,null,null,null,null,null,null,null,null,"Folio: del",null,null,null,"al"]
[null,null,null,null,null,null,null,null,null,null,null,null,"Tomo(s): ",null,null,"de"]
[null,"Cargo:"]
[null,null,null,null,null,null,null,null,null,null,null,null,"Fundamento Legal:"]
[null,"Firma:"]
[]
[]
[null,null,null,null,null,null,null,null,null,null,null,null,null,null," "]
[]
[]
[]
[]
[]
[]
[null,"Clasificación:",null,null,{"$f":"HOJA_CAPTURA!N18","v":0}]
[]
[null,{"$f":"HOJA_CAPTURA!C18","v":0},null,null,null,null,null,null,null,null,null,null,null,null,null,null,null,null,null,null,null,null,null,null," "]
[null,"Sección: ",null,{"$f":"HOJA_CAPTURA!G18","v":0}]
[null,"Serie: ",null,{"$f":"HOJA_CAPTURA!H18","v":0}]
[null,"Subserie: ",null,{"$f":"HOJA_CAPTURA!I18","v":0}]
[null,"Nombre del Expediente:                     ",null,null,null,null,{"$f":"HOJA_CAPTURA!O18","v":0},null,null,null,null,null,null,null,null,"Número del Expediente: ",null,null,null,null,{"$f":"HOJA_CAPTURA!M18","v":0}]
[null,"Número de Legajo: ",null,null,null,null,null,"de",{"$f":"HOJA_CAPTURA!U18","v":0},"Número de Fojas: "]
[null,"Número Total de Legajos: ",null,null,null,null,{"$f":"HOJA_CAPTURA!U18","v":0},null,null,"Número Total de Fojas:",null,null,null,null,null,{"$f":"HOJA_CAPTURA!V18","v":0}]
[null,"Tipo de Archivo:",null,null,null,"Trámite ",null,null,{"$f":"HOJA_CAPTURA!W18","v":0},"Concentración",null,null,{"$f":"HOJA_CAPTURA!X18","v":0},null,"Histórico  ",null,{"$f":"HOJA_CAPTURA!Y18","v":0}]
[null,"Vigencia documental (de acuerdo a CADIDO):",null,null,null,null,null,null,null,null,null,null,"AT",{"$f":"HOJA_CAPTURA!AI18","v":0},null,"AC",{"$f":"HOJA_CAPTURA!AJ18","v":0},null,"Total",null,{"$f":"HOJA_CAPTURA!AK18","v":0}]
[null,"Fecha de Apertura:",null,null,null,{"$f":"HOJA_CAPTURA!Q18","v":"00:00:00"},null,null,null,null,null,null,null," Fecha de Cierre:",null,null,null,{"$f":"HOJA_CAPTURA!R18","v":"00:00:00"}]
[null,null,null,null,null,"(DD-MM-AAAA) ",null,null,null,null,null,null,null,null,null,null,null,"(DD-MM-AAAA) "]
[null,"Asunto o Descripción:                        "]
[null,null,{"$f":"HOJA_CAPTURA!P18","v":0}]
[null,"Valor Documental:   ",null,null,null,"Administrativo",null,null,null,{"$f":"HOJA_CAPTURA!AF18","v":0},"Legal",null,null,null,{"$f":"HOJA_CAPTURA!AG18","v":0},"Contable y/o Fiscal",null,null,null,null,{"$f":"HOJA_CAPTURA!AH18","v":0}]
[null,"Soporte (Formato):",null,null,null,"Papel:",null,{"$f":"HOJA_CAPTURA!AO18","v":0},"Medio magnético:  ",null,null,null,{"$f":"HOJA_CAPTURA!AP18","v":0},"CD:",{"$f":"HOJA_CAPTURA!AQ18","v":0},"USB:",{"$f":"HOJA_CAPTURA!AR18","v":0},"Otros:",null,{"$f":"HOJA_CAPTURA!AS18","v":0}]
[null,null,null,null,null,null,null,null,null,null,null,null,null,null,null,null,null,"(Planos, Fotos, etc.)"]
[null,"Condiciones de acceso:",null,null,null,null,{"$f":"HOJA_CAPTURA!AL18","v":0}]
[null,"Periodo de Reserva:            ",null,null,null,{"$f":"HOJA_CAPTURA!AM18","v":0},null,"años"]
[null,"Fundamento Legal:",null,null,null,{"$f":"HOJA_CAPTURA!AN18","v":0}]
[]
[null,"(Llenar este apartado sólo en el caso de que la información del expediente sea reservada o confidencial)"]
[]
[]
[null,"Fecha de Clasificación: ",null,null,null,null,null,null,null,null,null,null,"Clasificación de la Información:"]
[null,"Plazo de Reserva: ",null,null,null,null,null,null,null,null,null,null,"Reservada:",null,null,null,null,"Confidencial:"]
[null,"Fecha de Desclasificación: "]
[null,"Ampliación de periodo de reserva:",null,null,null,null,null,null,null,null,null,null,"Parte(s) o sección(es) Reservada:"]
[]
[]
[null,"Nombre del Responsable de la Clasificación: "]
[null,null,null,null,null,null,null,null,null,null,null,null,"Folio: del",null,null,null,"al"]
[null,null,null,null,null,null,null,null,null,null,null,null,"Tomo(s): ",null,null,"de"]
[null,"Cargo:"]
[null,null,null,null,null,null,null,null,null,null,null,null,"Fundamento Legal:"]
[null,"Firma:"]
[]
[]
[null,null,null,null,null,null,null,null,null,null,null,null,null,null," "]
[]
[]
[]
[]
[]
[]
[null,"Clasificación:",null,null,{"$f":"HOJA_CAPTURA!N19","v":0}]
[]
[null,{"$f":"HOJA_CAPTURA!C19","v":0},null,null,null,null,null,null,null,null,null,null,null,null,null,null,null,null,null,null,null,null,null,null," "]
[null,"Sección: ",null,{"$f":"HOJA_CAPTURA!G19","v":0}]
[null,"Serie: ",null,{"$f":"HOJA_CAPTURA!H19","v":0}]
[null,"Subserie: ",null,{"$f":"HOJA_CAPTURA!I19","v":0}]
[null,"Nombre del Expediente:                     ",null,null,null,null,{"$f":"HOJA_CAPTURA!O19","v":0},null,null,null,null,null,null,null,null,"Número del Expediente: ",null,null,null,null,{"$f":"HOJA_CAPTURA!M19","v":0}]
[null,"Número de Legajo: ",null,null,null,null,null,"de",{"$f":"HOJA_CAPTURA!U19","v":0},"Número de Fojas: "]
[null,"Número Total de Legajos: ",null,null,null,null,{"$f":"HOJA_CAPTURA!U19","v":0},null,null,"Número Total de Fojas:",null,null,null,null,null,{"$f":"HOJA_CAPTURA!V19","v":0}]
[null,"Tipo de Archivo:",null,null,null,"Trámite",null,null,{"$f":"HOJA_CAPTURA!W19","v":0},"Concentración",null,null,{"$f":"HOJA_CAPTURA!X19","v":0},null,"Histórico  ",null,{"$f":"HOJA_CAPTURA!Y19","v":0}]
[null,"Vigencia documental (de acuerdo a CADIDO):",null,null,null,null,null,null,null,null,null,null,"AT",{"$f":"HOJA_CAPTURA!AI19","v":0},null,"AC",{"$f":"HOJA_CAPTURA!AJ19","v":0},null,"Total",null,{"$f":"HOJA_CAPTURA!AK19","v":0}]
[null,"Fecha de Apertura:",null,null,null,{"$f":"HOJA_CAPTURA!Q19","v":"00:00:00"},null,null,null,null,null,null,null," Fecha de Cierre:",null,null,null,{"$f":"HOJA_CAPTURA!R19","v":"00:00:00"}]
[null,null,null,null,null,"(DD-MM-AAAA) ",null,null,null,null,null,null,null,null,null,null,null,"(DD-MM-AAAA) "]
[null,"Asunto o Descripción:                        "]
[null,null,{"$f":"HOJA_CAPTURA!P19","v":0}]
[null,"Valor Documental:   ",null,null,null,"Administrativo",null,null,null,{"$f":"HOJA_CAPTURA!AF19","v":0},"Legal",null,null,null,{"$f":"HOJA_CAPTURA!AG19","v":0},"Contable y/o Fiscal",null,null,null,null,{"$f":"HOJA_CAPTURA!AH19","v":0}]
[null,"Soporte (Formato):",null,null,null,"Papel:",null,{"$f":"HOJA_CAPTURA!AO19","v":0},"Medio magnético:  ",null,null,null,{"$f":"HOJA_CAPTURA!AP19","v":0},"CD:",{"$f":"HOJA_CAPTURA!AQ19","v":0},"USB:",{"$f":"HOJA_CAPTURA!AR19","v":0},"Otros:",null,{"$f":"HOJA_CAPTURA!AS19","v":0}]
[null,null,null,null,null,null,null,null,null,null,null,null,null,null,null,null,null,"(Planos, Fotos, etc.)"]
[null,"Condiciones de acceso:",null,null,null,null,{"$f":"HOJA_CAPTURA!AL19","v":0}]
[null,"Periodo de Reserva:            ",null,null,null,{"$f":"HOJA_CAPTURA!AM19","v":0},null,"años"]
[null,"Fundamento Legal:",null,null,null,{"$f":"HOJA_CAPTURA!AN19","v":0}]
[]
[null,"(Llenar este apartado sólo en el caso de que la información del expediente sea reservada o confidencial)"]
[]
[]
[null,"Fecha de Clasificación: ",null,null,null,null,null,null,null,null,null,null,"Clasificación de la Información:"]
[null,"Plazo de Reserva: ",null,null,null,null,null,null,null,null,null,null,"Reservada:",null,null,null,null,"Confidencial:"]
[null,"Fecha de Desclasificación: "]
[null,"Ampliación de periodo de reserva:",null,null,null,null,null,null,null,null,null,null,"Parte(s) o sección(es) Reservada:"]
[]
[]
[null,"Nombre del Responsable de la Clasificación: "]
[null,null,null,null,null,null,null,null,null,null,null,null,"Folio: del",null,null,null,"al"]
[null,null,null,null,null,null,null,null,null,null,null,null,"Tomo(s): ",null,null,"de"]
[null,"Cargo:"]
[null,null,null,null,null,null,null,null,null,null,null,null,"Fundamento Legal:"]
[null,"Firma:"]
[]
[]
[null,null,null,null,null,null,null,null,null,null,null,null,null,null," "]
[]
[]
[]
[]
[]
[]
[null,"Clasificación:",null,null,{"$f":"HOJA_CAPTURA!N20","v":0}]
[]
[null,{"$f":"HOJA_CAPTURA!C20","v":0},null,null,null,null,null,null,null,null,null,null,null,null,null,null,null,null,null,null,null,null,null,null," "]
[null,"Sección: ",null,{"$f":"HOJA_CAPTURA!G20","v":0}]
[null,"Serie: ",null,{"$f":"HOJA_CAPTURA!H20","v":0}]
[null,"Subserie: ",null,{"$f":"HOJA_CAPTURA!I20","v":0}]
[null,"Nombre del Expediente:                     ",null,null,null,null,{"$f":"HOJA_CAPTURA!O20","v":0},null,null,null,null,null,null,null,null,"Número del Expediente: ",null,null,null,null,{"$f":"HOJA_CAPTURA!M20","v":0}]
[null,"Número de Legajo: ",null,null,null,null,null,"de",{"$f":"HOJA_CAPTURA!U20","v":0},"Número de Fojas: "]
[null,"Número Total de Legajos: ",null,null,null,null,{"$f":"HOJA_CAPTURA!U20","v":0},null,null,"Número Total de Fojas:",null,null,null,null,null,{"$f":"HOJA_CAPTURA!V20","v":0}]
[null,"Tipo de Archivo:",null,null,null,"Trámite ",null,null,{"$f":"HOJA_CAPTURA!W20","v":0},"Concentración",null,null,{"$f":"HOJA_CAPTURA!X20","v":0},null,"Histórico  ",null,{"$f":"HOJA_CAPTURA!Y20","v":0}]
[null,"Vigencia documental (de acuerdo a CADIDO):",null,null,null,null,null,null,null,null,null,null,"AT",{"$f":"HOJA_CAPTURA!AI20","v":0},null,"AC",{"$f":"HOJA_CAPTURA!AJ20","v":0},null,"Total",null,{"$f":"HOJA_CAPTURA!AK20","v":0}]
[null,"Fecha de Apertura:",null,null,null,{"$f":"HOJA_CAPTURA!Q20","v":"00:00:00"},null,null,null,null,null,null,null," Fecha de Cierre:",null,null,null,{"$f":"HOJA_CAPTURA!R20","v":"00:00:00"}]
[null,null,null,null,null,"(DD-MM-AAAA) ",null,null,null,null,null,null,null,null,null,null,null,"(DD-MM-AAAA) "]
[null,"Asunto o Descripción:                        "]
[null,null,{"$f":"HOJA_CAPTURA!P20","v":0}]
[null,"Valor Documental:   ",null,null,null,"Administrativo",null,null,null,{"$f":"HOJA_CAPTURA!AF20","v":0},"Legal",null,null,null,{"$f":"HOJA_CAPTURA!AG20","v":0},"Contable y/o Fiscal",null,null,null,null,{"$f":"HOJA_CAPTURA!AH20","v":0}]
[null,"Soporte (Formato):",null,null,null,"Papel:",null,{"$f":"HOJA_CAPTURA!AO20","v":0},"Medio magnético:  ",null,null,null,{"$f":"HOJA_CAPTURA!AP20","v":0},"CD:",{"$f":"HOJA_CAPTURA!AQ20","v":0},"USB:",{"$f":"HOJA_CAPTURA!AR20","v":0},"Otros:",null,{"$f":"HOJA_CAPTURA!AS20","v":0}]
[null,null,null,null,null,null,null,null,null,null,null,null,null,null,null,null,null,"(Planos, Fotos, etc.)"]
[null,"Condiciones de acceso:",null,null,null,null,{"$f":"HOJA_CAPTURA!AL20","v":0}]
[null,"Periodo de Reserva:            ",null,null,null,{"$f":"HOJA_CAPTURA!AM20","v":0},null,"años"]
[null,"Fundamento Legal:",null,null,null,{"$f":"HOJA_CAPTURA!AN20","v":0}]
[]
[null,"(Llenar este apartado sólo en el caso de que la información del expediente sea reservada o confidencial)"]
[]
[]
[null,"Fecha de Clasificación: ",null,null,null,null,null,null,null,null,null,null,"Clasificación de la Información:"]
[null,"Plazo de Reserva: ",null,null,null,null,null,null,null,null,null,null,"Reservada:",null,null,null,null,"Confidencial:"]
[null,"Fecha de Desclasificación: "]
[null,"Ampliación de periodo de reserva:",null,null,null,null,null,null,null,null,null,null,"Parte(s) o sección(es) Reservada:"]
[]
[]
[null,"Nombre del Responsable de la Clasificación: "]
[null,null,null,null,null,null,null,null,null,null,null,null,"Folio: del",null,null,null,"al"]
[null,null,null,null,null,null,null,null,null,null,null,null,"Tomo(s): ",null,null,"de"]
[null,"Cargo:"]
[null,null,null,null,null,null,null,null,null,null,null,null,"Fundamento Legal:"]
[null,"Firma:"]
[]
[]
[null,null,null,null,null,null,null,null,null,null,null,null,null,null," "]
[]
[]
[]
[]
[]
[]
[null,"Clasificación:",null,null,{"$f":"HOJA_CAPTURA!N21","v":0}]
[]
[null,{"$f":"HOJA_CAPTURA!C21","v":0},null,null,null,null,null,null,null,null,null,null,null,null,null,null,null,null,null,null,null,null,null,null," "]
[null,"Sección: ",null,{"$f":"HOJA_CAPTURA!G21","v":0}]
[null,"Serie: ",null,{"$f":"HOJA_CAPTURA!H21","v":0}]
[null,"Subserie: ",null,{"$f":"HOJA_CAPTURA!I21","v":0}]
[null,"Nombre del Expediente:                     ",null,null,null,null,{"$f":"HOJA_CAPTURA!O21","v":0},null,null,null,null,null,null,null,null,"Número del Expediente: ",null,null,null,null,{"$f":"HOJA_CAPTURA!M21","v":0}]
[null,"Número de Legajo: ",null,null,null,null,null,"de",{"$f":"HOJA_CAPTURA!U21","v":0},"Número de Fojas: "]
[null,"Número Total de Legajos: ",null,null,null,null,{"$f":"HOJA_CAPTURA!U21","v":0},null,null,"Número Total de Fojas:",null,null,null,null,null,{"$f":"HOJA_CAPTURA!V21","v":0}]
[null,"Tipo de Archivo:",null,null,null,"Trámite",null,null,{"$f":"HOJA_CAPTURA!W21","v":0},"Concentración",null,null,{"$f":"HOJA_CAPTURA!X21","v":0},null,"Histórico  ",null,{"$f":"HOJA_CAPTURA!Y21","v":0}]
[null,"Vigencia documental (de acuerdo a CADIDO):",null,null,null,null,null,null,null,null,null,null,"AT",{"$f":"HOJA_CAPTURA!AI21","v":0},null,"AC",{"$f":"HOJA_CAPTURA!AJ21","v":0},null,"Total",null,{"$f":"HOJA_CAPTURA!AK21","v":0}]
[null,"Fecha de Apertura:",null,null,null,{"$f":"HOJA_CAPTURA!Q21","v":"00:00:00"},null,null,null,null,null,null,null," Fecha de Cierre:",null,null,null,{"$f":"HOJA_CAPTURA!R21","v":"00:00:00"}]
[null,null,null,null,null,"(DD-MM-AAAA) ",null,null,null,null,null,null,null,null,null,null,null,"(DD-MM-AAAA) "]
[null,"Asunto o Descripción:                        "]
[null,null,{"$f":"HOJA_CAPTURA!P21","v":0}]
[null,"Valor Documental:   ",null,null,null,"Administrativo",null,null,null,{"$f":"HOJA_CAPTURA!AF21","v":0},"Legal",null,null,null,{"$f":"HOJA_CAPTURA!AG21","v":0},"Contable y/o Fiscal",null,null,null,null,{"$f":"HOJA_CAPTURA!AH21","v":0}]
[null,"Soporte (Formato):",null,null,null,"Papel:",null,{"$f":"HOJA_CAPTURA!AO21","v":0},"Medio magnético:  ",null,null,null,{"$f":"HOJA_CAPTURA!AP21","v":0},"CD:",{"$f":"HOJA_CAPTURA!AQ21","v":0},"USB:",{"$f":"HOJA_CAPTURA!AR21","v":0},"Otros:",null,{"$f":"HOJA_CAPTURA!AS21","v":0}]
[null,null,null,null,null,null,null,null,null,null,null,null,null,null,null,null,null,"(Planos, Fotos, etc.)"]
[null,"Condiciones de acceso:",null,null,null,null,{"$f":"HOJA_CAPTURA!AL21","v":0}]
[null,"Periodo de Reserva:            ",null,null,null,{"$f":"HOJA_CAPTURA!AM21","v":0},null,"años"]
[null,"Fundamento Legal:",null,null,null,{"$f":"HOJA_CAPTURA!AN21","v":0}]
[]
[null,"(Llenar este apartado sólo en el caso de que la información del expediente sea reservada o confidencial)"]
[]
[]
[null,"Fecha de Clasificación: ",null,null,null,null,null,null,null,null,null,null,"Clasificación de la Información:"]
[null,"Plazo de Reserva: ",null,null,null,null,null,null,null,null,null,null,"Reservada:",null,null,null,null,"Confidencial:"]
[null,"Fecha de Desclasificación: "]
[null,"Ampliación de periodo de reserva:",null,null,null,null,null,null,null,null,null,null,"Parte(s) o sección(es) Reservada:"]
[]
[]
[null,"Nombre del Responsable de la Clasificación: "]
[null,null,null,null,null,null,null,null,null,null,null,null,"Folio: del",null,null,null,"al"]
[null,null,null,null,null,null,null,null,null,null,null,null,"Tomo(s): ",null,null,"de"]
[null,"Cargo:"]
[null,null,null,null,null,null,null,null,null,null,null,null,"Fundamento Legal:"]
[null,"Firma:"]
[]
[]
[null,null,null,null,null,null,null,null,null,null,null,null,null,null," "]
[]
[]
[]
[]
[]
[]
[null,"Clasificación:",null,null,{"$f":"HOJA_CAPTURA!N22","v":0}]
[]
[null,{"$f":"HOJA_CAPTURA!C22","v":0},null,null,null,null,null,null,null,null,null,null,null,null,null,null,null,null,null,null,null,null,null,null," "]
[null,"Sección: ",null,{"$f":"HOJA_CAPTURA!G22","v":0}]
[null,"Serie: ",null,{"$f":"HOJA_CAPTURA!H22","v":0}]
[null,"Subserie: ",null,{"$f":"HOJA_CAPTURA!I22","v":0}]
[null,"Nombre del Expediente:                     ",null,null,null,null,{"$f":"HOJA_CAPTURA!O22","v":0},null,null,null,null,null,null,null,null,"Número del Expediente: ",null,null,null,null,{"$f":"HOJA_CAPTURA!M22","v":0}]
[null,"Número de Legajo: ",null,null,null,null,null,"de",{"$f":"HOJA_CAPTURA!U22","v":0},"Número de Fojas: "]
[null,"Número Total de Legajos: ",null,null,null,null,{"$f":"HOJA_CAPTURA!U22","v":0},null,null,"Número Total de Fojas:",null,null,null,null,null,{"$f":"HOJA_CAPTURA!V22","v":0}]
[null,"Tipo de Archivo:",null,null,null,"Trámite",null,null,{"$f":"HOJA_CAPTURA!W22","v":0},"Concentración",null,null,{"$f":"HOJA_CAPTURA!X22","v":0},null,"Histórico  ",null,{"$f":"HOJA_CAPTURA!Y22","v":0}]
[null,"Vigencia documental (de acuerdo a CADIDO):",null,null,null,null,null,null,null,null,null,null,"AT",{"$f":"HOJA_CAPTURA!AI22","v":0},null,"AC",{"$f":"HOJA_CAPTURA!AJ22","v":0},null,"Total",null,{"$f":"HOJA_CAPTURA!AK22","v":0}]
[null,"Fecha de Apertura:",null,null,null,{"$f":"HOJA_CAPTURA!Q22","v":"00:00:00"},null,null,null,null,null,null,null," Fecha de Cierre:",null,null,null,{"$f":"HOJA_CAPTURA!R22","v":"00:00:00"}]
[null,null,null,null,null,"(DD-MM-AAAA) ",null,null,null,null,null,null,null,null,null,null,null,"(DD-MM-AAAA) "]
[null,"Asunto o Descripción:                        "]
[null,null,{"$f":"HOJA_CAPTURA!P22","v":0}]
[null,"Valor Documental:   ",null,null,null,"Administrativo",null,null,null,{"$f":"HOJA_CAPTURA!AF22","v":0},"Legal",null,null,null,{"$f":"HOJA_CAPTURA!AG22","v":0},"Contable y/o Fiscal",null,null,null,null,{"$f":"HOJA_CAPTURA!AH22","v":0}]
[null,"Soporte (Formato):",null,null,null,"Papel:",null,{"$f":"HOJA_CAPTURA!AO22","v":0},"Medio magnético:  ",null,null,null,{"$f":"HOJA_CAPTURA!AP22","v":0},"CD:",{"$f":"HOJA_CAPTURA!AQ22","v":0},"USB:",{"$f":"HOJA_CAPTURA!AR22","v":0},"Otros:",null,{"$f":"HOJA_CAPTURA!AS22","v":0}]
[null,null,null,null,null,null,null,null,null,null,null,null,null,null,null,null,null,"(Planos, Fotos, etc.)"]
[null,"Condiciones de acceso:",null,null,null,null,{"$f":"HOJA_CAPTURA!AL22","v":0}]
[null,"Periodo de Reserva:            ",null,null,null,{"$f":"HOJA_CAPTURA!AM22","v":0},null,"años"]
[null,"Fundamento Legal:",null,null,null,{"$f":"HOJA_CAPTURA!AN22","v":0}]
[]
[null,"(Llenar este apartado sólo en el caso de que la información del expediente sea reservada o confidencial)"]
[]
[]
[null,"Fecha de Clasificación: ",null,null,null,null,null,null,null,null,null,null,"Clasificación de la Información:"]
[null,"Plazo de Reserva: ",null,null,null,null,null,null,null,null,null,null,"Reservada:",null,null,null,null,"Confidencial:"]
[null,"Fecha de Desclasificación: "]
[null,"Ampliación de periodo de reserva:",null,null,null,null,null,null,null,null,null,null,"Parte(s) o sección(es) Reservada:"]
[]
[]
[null,"Nombre del Responsable de la Clasificación: "]
[null,null,null,null,null,null,null,null,null,null,null,null,"Folio: del",null,null,null,"al"]
[null,null,null,null,null,null,null,null,null,null,null,null,"Tomo(s): ",null,null,"de"]
[null,"Cargo:"]
[null,null,null,null,null,null,null,null,null,null,null,null,"Fundamento Legal:"]
[null,"Firma:"]
[]
[]
[null,null,null,null,null,null,null,null,null,null,null,null,null,null," "]
[]
[]
[]
[]
[]
[]
[null,"Clasificación:",null,null,{"$f":"HOJA_CAPTURA!N23","v":0}]
[]
[null,{"$f":"HOJA_CAPTURA!C23","v":0},null,null,null,null,null,null,null,null,null,null,null,null,null,null,null,null,null,null,null,null,null,null," "]
[null,"Sección: ",null,{"$f":"HOJA_CAPTURA!G23","v":0}]
[null,"Serie: ",null,{"$f":"HOJA_CAPTURA!H23","v":0}]
[null,"Subserie: ",null,{"$f":"HOJA_CAPTURA!I23","v":0}]
[null,"Nombre del Expediente:                     ",null,null,null,null,{"$f":"HOJA_CAPTURA!O23","v":0},null,null,null,null,null,null,null,null,"Número del Expediente: ",null,null,null,null,{"$f":"HOJA_CAPTURA!M23","v":0}]
[null,"Número de Legajo: ",null,null,null,null,null,"de",{"$f":"HOJA_CAPTURA!U23","v":0},"Número de Fojas: "]
[null,"Número Total de Legajos: ",null,null,null,null,{"$f":"HOJA_CAPTURA!U23","v":0},null,null,"Número Total de Fojas:",null,null,null,null,null,{"$f":"HOJA_CAPTURA!V23","v":0}]
[null,"Tipo de Archivo:",null,null,null,"Trámite",null,null,{"$f":"HOJA_CAPTURA!W23","v":0},"Concentración",null,null,{"$f":"HOJA_CAPTURA!X23","v":0},null,"Histórico  ",null,{"$f":"HOJA_CAPTURA!Y23","v":0}]
[null,"Vigencia documental (de acuerdo a CADIDO):",null,null,null,null,null,null,null,null,null,null,"AT",{"$f":"HOJA_CAPTURA!AI23","v":0},null,"AC",{"$f":"HOJA_CAPTURA!AJ23","v":0},null,"Total",null,{"$f":"HOJA_CAPTURA!AK23","v":0}]
[null,"Fecha de Apertura:",null,null,null,{"$f":"HOJA_CAPTURA!Q23","v":"00:00:00"},null,null,null,null,null,null,null," Fecha de Cierre:",null,null,null,{"$f":"HOJA_CAPTURA!R23","v":"00:00:00"}]
[null,null,null,null,null,"(DD-MM-AAAA) ",null,null,null,null,null,null,null,null,null,null,null,"(DD-MM-AAAA) "]
[null,"Asunto o Descripción:                        "]
[null,null,{"$f":"HOJA_CAPTURA!P23","v":0}]
[null,"Valor Documental:   ",null,null,null,"Administrativo",null,null,null,{"$f":"HOJA_CAPTURA!AF23","v":0},"Legal",null,null,null,{"$f":"HOJA_CAPTURA!AG23","v":0},"Contable y/o Fiscal",null,null,null,null,{"$f":"HOJA_CAPTURA!AH23","v":0}]
[null,"Soporte (Formato):",null,null,null,"Papel:",null,{"$f":"HOJA_CAPTURA!AO23","v":0},"Medio magnético:  ",null,null,null,{"$f":"HOJA_CAPTURA!AP23","v":0},"CD:",{"$f":"HOJA_CAPTURA!AQ23","v":0},"USB:",{"$f":"HOJA_CAPTURA!AR23","v":0},"Otros:",null,{"$f":"HOJA_CAPTURA!AS23","v":0}]
[null,null,null,null,null,null,null,null,null,null,null,null,null,null,null,null,null,"(Planos, Fotos, etc.)"]
[null,"Condiciones de acceso:",null,null,null,null,{"$f":"HOJA_CAPTURA!AL23","v":0}]
[null,"Periodo de Reserva:            ",null,null,null,{"$f":"HOJA_CAPTURA!AM23","v":0},null,"años"]
[null,"Fundamento Legal:",null,null,null,{"$f":"HOJA_CAPTURA!AN23","v":0}]
[]
[null,"(Llenar este apartado sólo en el caso de que la información del expediente sea reservada o confidencial)"]
[]
[]
[null,"Fecha de Clasificación: ",null,null,null,null,null,null,null,null,null,null,"Clasificación de la Información:"]
[null,"Plazo de Reserva: ",null,null,null,null,null,null,null,null,null,null,"Reservada:",null,null,null,null,"Confidencial:"]
[null,"Fecha de Desclasificación: "]
[null,"Ampliación de periodo de reserva:",null,null,null,null,null,null,null,null,null,null,"Parte(s) o sección(es) Reservada:"]
[]
[]
[null,"Nombre del Responsable de la Clasificación: "]
[null,null,null,null,null,null,null,null,null,null,null,null,"Folio: del",null,null,null,"al"]
[null,null,null,null,null,null,null,null,null,null,null,null,"Tomo(s): ",null,null,"de"]
[null,"Cargo:"]
[null,null,null,null,null,null,null,null,null,null,null,null,"Fundamento Legal:"]
[null,"Firma:"]
[]
[]
[null,null,null,null,null,null,null,null,null,null,null,null,null,null," "]
[]
[]
[]
[]
[]
[]
[null,"Clasificación:",null,null,{"$f":"HOJA_CAPTURA!N24","v":0}]
[]
[null,{"$f":"HOJA_CAPTURA!C24","v":0},null,null,null,null,null,null,null,null,null,null,null,null,null,null,null,null,null,null,null,null,null,null," "]
[null,"Sección: ",null,{"$f":"HOJA_CAPTURA!G24","v":0}]
[null,"Serie: ",null,{"$f":"HOJA_CAPTURA!H24","v":0}]
[null,"Subserie: ",null,{"$f":"HOJA_CAPTURA!I24","v":0}]
[null,"Nombre del Expediente:                     ",null,null,null,null,{"$f":"HOJA_CAPTURA!O24","v":0},null,null,null,null,null,null,null,null,"Número del Expediente: ",null,null,null,null,{"$f":"HOJA_CAPTURA!M24","v":0}]
[null,"Número de Legajo: ",null,null,null,null,null,"de",{"$f":"HOJA_CAPTURA!U24","v":0},"Número de Fojas: "]
[null,"Número Total de Legajos: ",null,null,null,null,{"$f":"HOJA_CAPTURA!U24","v":0},null,null,"Número Total de Fojas:",null,null,null,null,null,{"$f":"HOJA_CAPTURA!V24","v":0}]
[null,"Tipo de Archivo:",null,null,null,"Trámite",null,null,{"$f":"HOJA_CAPTURA!W24","v":0},"Concentración",null,null,{"$f":"HOJA_CAPTURA!X24","v":0},null,"Histórico  ",null,{"$f":"HOJA_CAPTURA!Y24","v":0}]
[null,"Vigencia documental (de acuerdo a CADIDO):",null,null,null,null,null,null,null,null,null,null,"AT",{"$f":"HOJA_CAPTURA!AI24","v":0},null,"AC",{"$f":"HOJA_CAPTURA!AJ24","v":0},null,"Total",null,{"$f":"HOJA_CAPTURA!AK24","v":0}]
[null,"Fecha de Apertura:",null,null,null,{"$f":"HOJA_CAPTURA!Q24","v":"00:00:00"},null,null,null,null,null,null,null," Fecha de Cierre:",null,null,null,{"$f":"HOJA_CAPTURA!R24","v":"00:00:00"}]
[null,null,null,null,null,"(DD-MM-AAAA) ",null,null,null,null,null,null,null,null,null,null,null,"(DD-MM-AAAA) "]
[null,"Asunto o Descripción:                        "]
[null,null,{"$f":"HOJA_CAPTURA!P24","v":0}]
[null,"Valor Documental:   ",null,null,null,"Administrativo",null,null,null,{"$f":"HOJA_CAPTURA!AF24","v":0},"Legal",null,null,null,{"$f":"HOJA_CAPTURA!AG24","v":0},"Contable y/o Fiscal",null,null,null,null,{"$f":"HOJA_CAPTURA!AH24","v":0}]
[null,"Soporte (Formato):",null,null,null,"Papel:",null,{"$f":"HOJA_CAPTURA!AO24","v":0},"Medio magnético:  ",null,null,null,{"$f":"HOJA_CAPTURA!AP24","v":0},"CD:",{"$f":"HOJA_CAPTURA!AQ24","v":0},"USB:",{"$f":"HOJA_CAPTURA!AR24","v":0},"Otros:",null,{"$f":"HOJA_CAPTURA!AS24","v":0}]
[null,null,null,null,null,null,null,null,null,null,null,null,null,null,null,null,null,"(Planos, Fotos, etc.)"]
[null,"Condiciones de acceso:",null,null,null,null,{"$f":"HOJA_CAPTURA!AL24","v":0}]
[null,"Periodo de Reserva:            ",null,null,null,{"$f":"HOJA_CAPTURA!AM24","v":0},null,"años"]
[null,"Fundamento Legal:",null,null,null,{"$f":"HOJA_CAPTURA!AN24","v":0}]
[]
[null,"(Llenar este apartado sólo en el caso de que la información del expediente sea reservada o confidencial)"]
[]
[]
[null,"Fecha de Clasificación: ",null,null,null,null,null,null,null,null,null,null,"Clasificación de la Información:"]
[null,"Plazo de Reserva: ",null,null,null,null,null,null,null,null,null,null,"Reservada:",null,null,null,null,"Confidencial:"]
[null,"Fecha de Desclasificación: "]
[null,"Ampliación de periodo de reserva:",null,null,null,null,null,null,null,null,null,null,"Parte(s) o sección(es) Reservada:"]
[]
[]
[null,"Nombre del Responsable de la Clasificación: "]
[null,null,null,null,null,null,null,null,null,null,null,null,"Folio: del",null,null,null,"al"]
[null,null,null,null,null,null,null,null,null,null,null,null,"Tomo(s): ",null,null,"de"]
[null,"Cargo:"]
[null,null,null,null,null,null,null,null,null,null,null,null,"Fundamento Legal:"]
[null,"Firma:"]
[]
[]
[null,null,null,null,null,null,null,null,null,null,null,null,null,null," "]
[]
[]
[]
[]
[]
[]
[null,"Clasificación:",null,null,{"$f":"HOJA_CAPTURA!N25","v":0}]
[]
[null,{"$f":"HOJA_CAPTURA!C25","v":0},null,null,null,null,null,null,null,null,null,null,null,null,null,null,null,null,null,null,null,null,null,null," "]
[null,"Sección: ",null,{"$f":"HOJA_CAPTURA!G25","v":0}]
[null,"Serie: ",null,{"$f":"HOJA_CAPTURA!H25","v":0}]
[null,"Subserie: ",null,{"$f":"HOJA_CAPTURA!I25","v":0}]
[null,"Nombre del Expediente:                     ",null,null,null,null,{"$f":"HOJA_CAPTURA!O25","v":0},null,null,null,null,null,null,null,null,"Número del Expediente: ",null,null,null,null,{"$f":"HOJA_CAPTURA!M25","v":0}]
[null,"Número de Legajo: ",null,null,null,null,null,"de",{"$f":"HOJA_CAPTURA!U25","v":0},"Número de Fojas: "]
[null,"Número Total de Legajos: ",null,null,null,null,{"$f":"HOJA_CAPTURA!U25","v":0},null,null,"Número Total de Fojas:",null,null,null,null,null,{"$f":"HOJA_CAPTURA!V25","v":0}]
[null,"Tipo de Archivo:",null,null,null,"Trámite",null,null,{"$f":"HOJA_CAPTURA!W25","v":0},"Concentración",null,null,{"$f":"HOJA_CAPTURA!X25","v":0},null,"Histórico  ",null,{"$f":"HOJA_CAPTURA!Y25","v":0}]
[null,"Vigencia documental (de acuerdo a CADIDO):",null,null,null,null,null,null,null,null,null,null,"AT",{"$f":"HOJA_CAPTURA!AI25","v":0},null,"AC",{"$f":"HOJA_CAPTURA!AJ25","v":0},null,"Total",null,{"$f":"HOJA_CAPTURA!AK25","v":0}]
[null,"Fecha de Apertura:",null,null,null,{"$f":"HOJA_CAPTURA!Q25","v":"00:00:00"},null,null,null,null,null,null,null," Fecha de Cierre:",null,null,null,{"$f":"HOJA_CAPTURA!R25","v":"00:00:00"}]
[null,null,null,null,null,"(DD-MM-AAAA) ",null,null,null,null,null,null,null,null,null,null,null,"(DD-MM-AAAA) "]
[null,"Asunto o Descripción:                        "]
[null,null,{"$f":"HOJA_CAPTURA!P25","v":0}]
[null,"Valor Documental:   ",null,null,null,"Administrativo",null,null,null,{"$f":"HOJA_CAPTURA!AF25","v":0},"Legal",null,null,null,{"$f":"HOJA_CAPTURA!AG25","v":0},"Contable y/o Fiscal",null,null,null,null,{"$f":"HOJA_CAPTURA!AH25","v":0}]
[null,"Soporte (Formato):",null,null,null,"Papel:",null,{"$f":"HOJA_CAPTURA!AO25","v":0},"Medio magnético:  ",null,null,null,{"$f":"HOJA_CAPTURA!AP25","v":0},"CD:",{"$f":"HOJA_CAPTURA!AQ25","v":0},"USB:",{"$f":"HOJA_CAPTURA!AR25","v":0},"Otros:",null,{"$f":"HOJA_CAPTURA!AS25","v":0}]
[null,null,null,null,null,null,null,null,null,null,null,null,null,null,null,null,null,"(Planos, Fotos, etc.)"]
[null,"Condiciones de acceso:",null,null,null,null,{"$f":"HOJA_CAPTURA!AL25","v":0}]
[null,"Periodo de Reserva:            ",null,null,null,{"$f":"HOJA_CAPTURA!AM25","v":0},null,"años"]
[null,"Fundamento Legal:",null,null,null,{"$f":"HOJA_CAPTURA!AN25","v":0}]
[]
[null,"(Llenar este apartado sólo en el caso de que la información del expediente sea reservada o confidencial)"]
[]
[]
[null,"Fecha de Clasificación: ",null,null,null,null,null,null,null,null,null,null,"Clasificación de la Información:"]
[null,"Plazo de Reserva: ",null,null,null,null,null,null,null,null,null,null,"Reservada:",null,null,null,null,"Confidencial:"]
[null,"Fecha de Desclasificación: "]
[null,"Ampliación de periodo de reserva:",null,null,null,null,null,null,null,null,null,null,"Parte(s) o sección(es) Reservada:"]
[]
[]
[null,"Nombre del Responsable de la Clasificación: "]
[null,null,null,null,null,null,null,null,null,null,null,null,"Folio: del",null,null,null,"al"]
[null,null,null,null,null,null,null,null,null,null,null,null,"Tomo(s): ",null,null,"de"]
[null,"Cargo:"]
[null,null,null,null,null,null,null,null,null,null,null,null,"Fundamento Legal:"]
[null,"Firma:"]
[]
[]
[null,null,null,null,null,null,null,null,null,null,null,null,null,null," "]
[]
[]
[]
[]
[]
[]
[null,"Clasificación:",null,null,{"$f":"HOJA_CAPTURA!N26","v":0}]
[]
[null,{"$f":"HOJA_CAPTURA!C26","v":0},null,null,null,null,null,null,null,null,null,null,null,null,null,null,null,null,null,null,null,null,null,null," "]
[null,"Sección: ",null,{"$f":"HOJA_CAPTURA!G26","v":0}]
[null,"Serie: ",null,{"$f":"HOJA_CAPTURA!H26","v":0}]
[null,"Subserie: ",null,{"$f":"HOJA_CAPTURA!I26","v":0}]
[null,"Nombre del Expediente:                     ",null,null,null,null,{"$f":"HOJA_CAPTURA!O26","v":0},null,null,null,null,null,null,null,null,"Número del Expediente: ",null,null,null,null,{"$f":"HOJA_CAPTURA!M26","v":0}]
[null,"Número de Legajo: ",null,null,null,null,null,"de",{"$f":"HOJA_CAPTURA!U26","v":0},"Número de Fojas: "]
[null,"Número Total de Legajos: ",null,null,null,null,{"$f":"HOJA_CAPTURA!U26","v":0},null,null,"Número Total de Fojas:",null,null,null,null,null,{"$f":"HOJA_CAPTURA!V26","v":0}]
[null,"Tipo de Archivo:",null,null,null,"Trámite",null,null,{"$f":"HOJA_CAPTURA!W26","v":0},"Concentración",null,null,{"$f":"HOJA_CAPTURA!X26","v":0},null,"Histórico  ",null,{"$f":"HOJA_CAPTURA!Y26","v":0}]
[null,"Vigencia documental (de acuerdo a CADIDO):",null,null,null,null,null,null,null,null,null,null,"AT",{"$f":"HOJA_CAPTURA!AI26","v":0},null,"AC",{"$f":"HOJA_CAPTURA!AJ26","v":0},null,"Total",null,{"$f":"HOJA_CAPTURA!AK26","v":0}]
[null,"Fecha de Apertura:",null,null,null,{"$f":"HOJA_CAPTURA!Q26","v":"00:00:00"},null,null,null,null,null,null,null," Fecha de Cierre:",null,null,null,{"$f":"HOJA_CAPTURA!R26","v":"00:00:00"}]
[null,null,null,null,null,"(DD-MM-AAAA) ",null,null,null,null,null,null,null,null,null,null,null,"(DD-MM-AAAA) "]
[null,"Asunto o Descripción:                        "]
[null,null,{"$f":"HOJA_CAPTURA!P26","v":0}]
[null,"Valor Documental:   ",null,null,null,"Administrativo",null,null,null,{"$f":"HOJA_CAPTURA!AF26","v":0},"Legal",null,null,null,{"$f":"HOJA_CAPTURA!AG26","v":0},"Contable y/o Fiscal",null,null,null,null,{"$f":"HOJA_CAPTURA!AH26","v":0}]
[null,"Soporte (Formato):",null,null,null,"Papel:",null,{"$f":"HOJA_CAPTURA!AO26","v":0},"Medio magnético:  ",null,null,null,{"$f":"HOJA_CAPTURA!AP26","v":0},"CD:",{"$f":"HOJA_CAPTURA!AQ26","v":0},"USB:",{"$f":"HOJA_CAPTURA!AR26","v":0},"Otros:",null,{"$f":"HOJA_CAPTURA!AS26","v":0}]
[null,null,null,null,null,null,null,null,null,null,null,null,null,null,null,null,null,"(Planos, Fotos, etc.)"]
[null,"Condiciones de acceso:",null,null,null,null,{"$f":"HOJA_CAPTURA!AL26","v":0}]
[null,"Periodo de Reserva:            ",null,null,null,{"$f":"HOJA_CAPTURA!AM26","v":0},null,"años"]
[null,"Fundamento Legal:",null,null,null,{"$f":"HOJA_CAPTURA!AN26","v":0}]
[]
[null,"(Llenar este apartado sólo en el caso de que la información del expediente sea reservada o confidencial)"]
[]
[]
[null,"Fecha de Clasificación: ",null,null,null,null,null,null,null,null,null,null,"Clasificación de la Información:"]
[null,"Plazo de Reserva: ",null,null,null,null,null,null,null,null,null,null,"Reservada:",null,null,null,null,"Confidencial:"]
[null,"Fecha de Desclasificación: "]
[null,"Ampliación de periodo de reserva:",null,null,null,null,null,null,null,null,null,null,"Parte(s) o sección(es) Reservada:"]
[]
[]
[null,"Nombre del Responsable de la Clasificación: "]
[null,null,null,null,null,null,null,null,null,null,null,null,"Folio: del",null,null,null,"al"]
[null,null,null,null,null,null,null,null,null,null,null,null,"Tomo(s): ",null,null,"de"]
[null,"Cargo:"]
[null,null,null,null,null,null,null,null,null,null,null,null,"Fundamento Legal:"]
[null,"Firma:"]
[]
[]
[null,null,null,null,null,null,null,null,null,null,null,null,null,null," "]
[]
[]
[]
[]
[]
[]
[null,"Clasificación:",null,null,{"$f":"HOJA_CAPTURA!N27","v":0}]
[]
[null,{"$f":"HOJA_CAPTURA!C27","v":0},null,null,null,null,null,null,null,null,null,null,null,null,null,null,null,null,null,null,null,null,null,null," "]
[null,"Sección: ",null,{"$f":"HOJA_CAPTURA!G27","v":0}]
[null,"Serie: ",null,{"$f":"HOJA_CAPTURA!H27","v":0}]
[null,"Subserie: ",null,{"$f":"HOJA_CAPTURA!I27","v":0}]
[null,"Nombre del Expediente:                     ",null,null,null,null,{"$f":"HOJA_CAPTURA!O27","v":0},null,null,null,null,null,null,null,null,"Número del Expediente: ",null,null,null,null,{"$f":"HOJA_CAPTURA!M27","v":0}]
[null,"Número de Legajo: ",null,null,null,null,null,"de",{"$f":"HOJA_CAPTURA!U27","v":0},"Número de Fojas: "]
[null,"Número Total de Legajos: ",null,null,null,null,{"$f":"HOJA_CAPTURA!U27","v":0},null,null,"Número Total de Fojas:",null,null,null,null,null,{"$f":"HOJA_CAPTURA!V27","v":0}]
[null,"Tipo de Archivo:",null,null,null,"Trámite",null,null,{"$f":"HOJA_CAPTURA!W27","v":0},"Concentración",null,null,{"$f":"HOJA_CAPTURA!X27","v":0},null,"Histórico  ",null,{"$f":"HOJA_CAPTURA!Y27","v":0}]
[null,"Vigencia documental (de acuerdo a CADIDO):",null,null,null,null,null,null,null,null,null,null,"AT",{"$f":"HOJA_CAPTURA!AI27","v":0},null,"AC",{"$f":"HOJA_CAPTURA!AJ27","v":0},null,"Total",null,{"$f":"HOJA_CAPTURA!AK27","v":0}]
[null,"Fecha de Apertura:",null,null,null,{"$f":"HOJA_CAPTURA!Q27","v":"00:00:00"},null,null,null,null,null,null,null," Fecha de Cierre:",null,null,null,{"$f":"HOJA_CAPTURA!R27","v":"00:00:00"}]
[null,null,null,null,null,"(DD-MM-AAAA) ",null,null,null,null,null,null,null,null,null,null,null,"(DD-MM-AAAA) "]
[null,"Asunto o Descripción:                        "]
[null,null,{"$f":"HOJA_CAPTURA!P27","v":0}]
[null,"Valor Documental:   ",null,null,null,"Administrativo",null,null,null,{"$f":"HOJA_CAPTURA!AF27","v":0},"Legal",null,null,null,{"$f":"HOJA_CAPTURA!AG27","v":0},"Contable y/o Fiscal",null,null,null,null,{"$f":"HOJA_CAPTURA!AH27","v":0}]
[null,"Soporte (Formato):",null,null,null,"Papel:",null,{"$f":"HOJA_CAPTURA!AO27","v":0},"Medio magnético:  ",null,null,null,{"$f":"HOJA_CAPTURA!AP27","v":0},"CD:",{"$f":"HOJA_CAPTURA!AQ27","v":0},"USB:",{"$f":"HOJA_CAPTURA!AR27","v":0},"Otros:",null,{"$f":"HOJA_CAPTURA!AS27","v":0}]
[null,null,null,null,null,null,null,null,null,null,null,null,null,null,null,null,null,"(Planos, Fotos, etc.)"]
[null,"Condiciones de acceso:",null,null,null,null,{"$f":"HOJA_CAPTURA!AL27","v":0}]
[null,"Periodo de Reserva:            ",null,null,null,{"$f":"HOJA_CAPTURA!AM27","v":0},null,"años"]
[null,"Fundamento Legal:",null,null,null,{"$f":"HOJA_CAPTURA!AN27","v":0}]
[]
[null,"(Llenar este apartado sólo en el caso de que la información del expediente sea reservada o confidencial)"]
[]
[]
[null,"Fecha de Clasificación: ",null,null,null,null,null,null,null,null,null,null,"Clasificación de la Información:"]
[null,"Plazo de Reserva: ",null,null,null,null,null,null,null,null,null,null,"Reservada:",null,null,null,null,"Confidencial:"]
[null,"Fecha de Desclasificación: "]
[null,"Ampliación de periodo de reserva:",null,null,null,null,null,null,null,null,null,null,"Parte(s) o sección(es) Reservada:"]
[]
[]
[null,"Nombre del Responsable de la Clasificación: "]
[null,null,null,null,null,null,null,null,null,null,null,null,"Folio: del",null,null,null,"al"]
[null,null,null,null,null,null,null,null,null,null,null,null,"Tomo(s): ",null,null,"de"]
[null,"Cargo:"]
[null,null,null,null,null,null,null,null,null,null,null,null,"Fundamento Legal:"]
[null,"Firma:"]
[]
[]
[null,null,null,null,null,null,null,null,null,null,null,null,null,null," "]
[]
[]
[]
[]
[]
[]
[null,"Clasificación:",null,null,{"$f":"HOJA_CAPTURA!N28","v":0}]
[]
[null,{"$f":"HOJA_CAPTURA!C28","v":0},null,null,null,null,null,null,null,null,null,null,null,null,null,null,null,null,null,null,null,null,null,null," "]
[null,"Sección: ",null,{"$f":"HOJA_CAPTURA!G28","v":0}]
[null,"Serie: ",null,{"$f":"HOJA_CAPTURA!H28","v":0}]
[null,"Subserie: ",null,{"$f":"HOJA_CAPTURA!I28","v":0}]
[null,"Nombre del Expediente:                     ",null,null,null,null,{"$f":"HOJA_CAPTURA!O28","v":0},null,null,null,null,null,null,null,null,"Número del Expediente: ",null,null,null,null,{"$f":"HOJA_CAPTURA!M28","v":0}]
[null,"Número de Legajo: ",null,null,null,null,null,"de",{"$f":"HOJA_CAPTURA!U28","v":0},"Número de Fojas: "]
[null,"Número Total de Legajos: ",null,null,null,null,{"$f":"HOJA_CAPTURA!U28","v":0},null,null,"Número Total de Fojas:",null,null,null,null,null,{"$f":"HOJA_CAPTURA!V28","v":0}]
[null,"Tipo de Archivo:",null,null,null,"Trámite",null,null,{"$f":"HOJA_CAPTURA!W28","v":0},"Concentración",null,null,{"$f":"HOJA_CAPTURA!X28","v":0},null,"Histórico  ",null,{"$f":"HOJA_CAPTURA!Y28","v":0}]
[null,"Vigencia documental (de acuerdo a CADIDO):",null,null,null,null,null,null,null,null,null,null,"AT",{"$f":"HOJA_CAPTURA!AI28","v":0},null,"AC",{"$f":"HOJA_CAPTURA!AJ28","v":0},null,"Total",null,{"$f":"HOJA_CAPTURA!AK28","v":0}]
[null,"Fecha de Apertura:",null,null,null,{"$f":"HOJA_CAPTURA!Q28","v":"00:00:00"},null,null,null,null,null,null,null," Fecha de Cierre:",null,null,null,{"$f":"HOJA_CAPTURA!R28","v":"00:00:00"}]
[null,null,null,null,null,"(DD-MM-AAAA) ",null,null,null,null,null,null,null,null,null,null,null,"(DD-MM-AAAA) "]
[null,"Asunto o Descripción:                        "]
[null,null,{"$f":"HOJA_CAPTURA!P28","v":0}]
[null,"Valor Documental:   ",null,null,null,"Administrativo",null,null,null,{"$f":"HOJA_CAPTURA!AF28","v":0},"Legal",null,null,null,{"$f":"HOJA_CAPTURA!AG28","v":0},"Contable y/o Fiscal",null,null,null,null,{"$f":"HOJA_CAPTURA!AH28","v":0}]
[null,"Soporte (Formato):",null,null,null,"Papel:",null,{"$f":"HOJA_CAPTURA!AO28","v":0},"Medio magnético:  ",null,null,null,{"$f":"HOJA_CAPTURA!AP28","v":0},"CD:",{"$f":"HOJA_CAPTURA!AQ28","v":0},"USB:",{"$f":"HOJA_CAPTURA!AR28","v":0},"Otros:",null,{"$f":"HOJA_CAPTURA!AS28","v":0}]
[null,null,null,null,null,null,null,null,null,null,null,null,null,null,null,null,null,"(Planos, Fotos, etc.)"]
[null,"Condiciones de acceso:",null,null,null,null,{"$f":"HOJA_CAPTURA!AL28","v":0}]
[null,"Periodo de Reserva:            ",null,null,null,{"$f":"HOJA_CAPTURA!AM28","v":0},null,"años"]
[null,"Fundamento Legal:",null,null,null,{"$f":"HOJA_CAPTURA!AN28","v":0}]
[]
[null,"(Llenar este apartado sólo en el caso de que la información del expediente sea reservada o confidencial)"]
[]
[]
[null,"Fecha de Clasificación: ",null,null,null,null,null,null,null,null,null,null,"Clasificación de la Información:"]
[null,"Plazo de Reserva: ",null,null,null,null,null,null,null,null,null,null,"Reservada:",null,null,null,null,"Confidencial:"]
[null,"Fecha de Desclasificación: "]
[null,"Ampliación de periodo de reserva:",null,null,null,null,null,null,null,null,null,null,"Parte(s) o sección(es) Reservada:"]
[]
[]
[null,"Nombre del Responsable de la Clasificación: "]
[null,null,null,null,null,null,null,null,null,null,null,null,"Folio: del",null,null,null,"al"]
[null,null,null,null,null,null,null,null,null,null,null,null,"Tomo(s): ",null,null,"de"]
[null,"Cargo:"]
[null,null,null,null,null,null,null,null,null,null,null,null,"Fundamento Legal:"]
[null,"Firma:"]
[]
[]
[null,null,null,null,null,null,null,null,null,null,null,null,null,null," "]
[]
[]
[]
[]
[]
[]
[null,"Clasificación:",null,null,{"$f":"HOJA_CAPTURA!N29","v":0}]
[]
[null,{"$f":"HOJA_CAPTURA!C29","v":0},null,null,null,null,null,null,null,null,null,null,null,null,null,null,null,null,null,null,null,null,null,null," "]
[null,"Sección: ",null,{"$f":"HOJA_CAPTURA!G29","v":0}]
[null,"Serie: ",null,{"$f":"HOJA_CAPTURA!H29","v":0}]
[null,"Subserie: ",null,{"$f":"HOJA_CAPTURA!I29","v":0}]
[null,"Nombre del Expediente:                     ",null,null,null,null,{"$f":"HOJA_CAPTURA!O29","v":0},null,null,null,null,null,null,null,null,"Número del Expediente: ",null,null,null,null,{"$f":"HOJA_CAPTURA!M29","v":0}]
[null,"Número de Legajo: ",null,null,null,null,null,"de",{"$f":"HOJA_CAPTURA!U29","v":0},"Número de Fojas: "]
[null,"Número Total de Legajos: ",null,null,null,null,{"$f":"HOJA_CAPTURA!U29","v":0},null,null,"Número Total de Fojas:",null,null,null,null,null,{"$f":"HOJA_CAPTURA!V29","v":0}]
[null,"Tipo de Archivo:",null,null,null,"Trámite",null,null,{"$f":"HOJA_CAPTURA!W29","v":0},"Concentración",null,null,{"$f":"HOJA_CAPTURA!X29","v":0},null,"Histórico  ",null,{"$f":"HOJA_CAPTURA!Y29","v":0}]
[null,"Vigencia documental (de acuerdo a CADIDO):",null,null,null,null,null,null,null,null,null,null,"AT",{"$f":"HOJA_CAPTURA!AI29","v":0},null,"AC",{"$f":"HOJA_CAPTURA!AJ29","v":0},null,"Total",null,{"$f":"HOJA_CAPTURA!AK29","v":0}]
[null,"Fecha de Apertura:",null,null,null,{"$f":"HOJA_CAPTURA!Q29","v":"00:00:00"},null,null,null,null,null,null,null," Fecha de Cierre:",null,null,null,{"$f":"HOJA_CAPTURA!R29","v":"00:00:00"}]
[null,null,null,null,null,"(DD-MM-AAAA) ",null,null,null,null,null,null,null,null,null,null,null,"(DD-MM-AAAA) "]
[null,"Asunto o Descripción:                        "]
[null,null,{"$f":"HOJA_CAPTURA!P29","v":0}]
[null,"Valor Documental:   ",null,null,null,"Administrativo",null,null,null,{"$f":"HOJA_CAPTURA!AF29","v":0},"Legal",null,null,null,{"$f":"HOJA_CAPTURA!AG29","v":0},"Contable y/o Fiscal",null,null,null,null,{"$f":"HOJA_CAPTURA!AH29","v":0}]
[null,"Soporte (Formato):",null,null,null,"Papel:",null,{"$f":"HOJA_CAPTURA!AO29","v":0},"Medio magnético:  ",null,null,null,{"$f":"HOJA_CAPTURA!AP29","v":0},"CD:",{"$f":"HOJA_CAPTURA!AQ29","v":0},"USB:",{"$f":"HOJA_CAPTURA!AR29","v":0},"Otros:",null,{"$f":"HOJA_CAPTURA!AS29","v":0}]
[null,null,null,null,null,null,null,null,null,null,null,null,null,null,null,null,null,"(Planos, Fotos, etc.)"]
[null,"Condiciones de acceso:",null,null,null,null,{"$f":"HOJA_CAPTURA!AL29","v":0}]
[null,"Periodo de Reserva:            ",null,null,null,{"$f":"HOJA_CAPTURA!AM29","v":0},null,"años"]
[null,"Fundamento Legal:",null,null,null,{"$f":"HOJA_CAPTURA!AN29","v":0}]
[]
[null,"(Llenar este apartado sólo en el caso de que la información del expediente sea reservada o confidencial)"]
[]
[]
[null,"Fecha de Clasificación: ",null,null,null,null,null,null,null,null,null,null,"Clasificación de la Información:"]
[null,"Plazo de Reserva: ",null,null,null,null,null,null,null,null,null,null,"Reservada:",null,null,null,null,"Confidencial:"]
[null,"Fecha de Desclasificación: "]
[null,"Ampliación de periodo de reserva:",null,null,null,null,null,null,null,null,null,null,"Parte(s) o sección(es) Reservada:"]
[]
[]
[null,"Nombre del Responsable de la Clasificación: "]
[null,null,null,null,null,null,null,null,null,null,null,null,"Folio: del",null,null,null,"al"]
[null,null,null,null,null,null,null,null,null,null,null,null,"Tomo(s): ",null,null,"de"]
[null,"Cargo:"]
[null,null,null,null,null,null,null,null,null,null,null,null,"Fundamento Legal:"]
[null,"Firma:"]
[]
[]
[null,null,null,null,null,null,null,null,null,null,null,null,null,null," "]
[]
[]
[]
[]
[]
[]
[null,"Clasificación:",null,null,{"$f":"HOJA_CAPTURA!N30","v":0}]
[]
[null,{"$f":"HOJA_CAPTURA!C30","v":0},null,null,null,null,null,null,null,null,null,null,null,null,null,null,null,null,null,null,null,null,null,null," "]
[null,"Sección: ",null,{"$f":"HOJA_CAPTURA!G30","v":0}]
[null,"Serie: ",null,{"$f":"HOJA_CAPTURA!H30","v":0}]
[null,"Subserie: ",null,{"$f":"HOJA_CAPTURA!I30","v":0}]
[null,"Nombre del Expediente:                     ",null,null,null,null,{"$f":"HOJA_CAPTURA!O30","v":0},null,null,null,null,null,null,null,null,"Número del Expediente: ",null,null,null,null,{"$f":"HOJA_CAPTURA!M30","v":0}]
[null,"Número de Legajo: ",null,null,null,null,null,"de",{"$f":"HOJA_CAPTURA!U30","v":0},"Número de Fojas: "]
[null,"Número Total de Legajos: ",null,null,null,null,{"$f":"HOJA_CAPTURA!U30","v":0},null,null,"Número Total de Fojas:",null,null,null,null,null,{"$f":"HOJA_CAPTURA!V30","v":0}]
[null,"Tipo de Archivo:",null,null,null,"Trámite",null,null,{"$f":"HOJA_CAPTURA!W30","v":0},"Concentración",null,null,{"$f":"HOJA_CAPTURA!X30","v":0},null,"Histórico  ",null,{"$f":"HOJA_CAPTURA!Y30","v":0}]
[null,"Vigencia documental (de acuerdo a CADIDO):",null,null,null,null,null,null,null,null,null,null,"AT",{"$f":"HOJA_CAPTURA!AI30","v":0},null,"AC",{"$f":"HOJA_CAPTURA!AJ30","v":0},null,"Total",null,{"$f":"HOJA_CAPTURA!AK30","v":0}]
[null,"Fecha de Apertura:",null,null,null,{"$f":"HOJA_CAPTURA!Q30","v":"00:00:00"},null,null,null,null,null,null,null," Fecha de Cierre:",null,null,null,{"$f":"HOJA_CAPTURA!R30","v":"00:00:00"}]
[null,null,null,null,null,"(DD-MM-AAAA) ",null,null,null,null,null,null,null,null,null,null,null,"(DD-MM-AAAA) "]
[null,"Asunto o Descripción:                        "]
[null,null,{"$f":"HOJA_CAPTURA!P30","v":0}]
[null,"Valor Documental:   ",null,null,null,"Administrativo",null,null,null,{"$f":"HOJA_CAPTURA!AF30","v":0},"Legal",null,null,null,{"$f":"HOJA_CAPTURA!AG30","v":0},"Contable y/o Fiscal",null,null,null,null,{"$f":"HOJA_CAPTURA!AH30","v":0}]
[null,"Soporte (Formato):",null,null,null,"Papel:",null,{"$f":"HOJA_CAPTURA!AO30","v":0},"Medio magnético:  ",null,null,null,{"$f":"HOJA_CAPTURA!AP30","v":0},"CD:",{"$f":"HOJA_CAPTURA!AQ30","v":0},"USB:",{"$f":"HOJA_CAPTURA!AR30","v":0},"Otros:",null,{"$f":"HOJA_CAPTURA!AS30","v":0}]
[null,null,null,null,null,null,null,null,null,null,null,null,null,null,null,null,null,"(Planos, Fotos, etc.)"]
[null,"Condiciones de acceso:",null,null,null,null,{"$f":"HOJA_CAPTURA!AL30","v":0}]
[null,"Periodo de Reserva:            ",null,null,null,{"$f":"HOJA_CAPTURA!AM30","v":0},null,"años"]
[null,"Fundamento Legal:",null,null,null,{"$f":"HOJA_CAPTURA!AN30","v":0}]
[]
[null,"(Llenar este apartado sólo en el caso de que la información del expediente sea reservada o confidencial)"]
[]
[]
[null,"Fecha de Clasificación: ",null,null,null,null,null,null,null,null,null,null,"Clasificación de la Información:"]
[null,"Plazo de Reserva: ",null,null,null,null,null,null,null,null,null,null,"Reservada:",null,null,null,null,"Confidencial:"]
[null,"Fecha de Desclasificación: "]
[null,"Ampliación de periodo de reserva:",null,null,null,null,null,null,null,null,null,null,"Parte(s) o sección(es) Reservada:"]
[]
[]
[null,"Nombre del Responsable de la Clasificación: "]
[null,null,null,null,null,null,null,null,null,null,null,null,"Folio: del",null,null,null,"al"]
[null,null,null,null,null,null,null,null,null,null,null,null,"Tomo(s): ",null,null,"de"]
[null,"Cargo:"]
[null,null,null,null,null,null,null,null,null,null,null,null,"Fundamento Legal:"]
[null,"Firma:"]
[]
[]
[null,null,null,null,null,null,null,null,null,null,null,null,null,null," "]
[]
[]
[]
[]
[]
[]
[null,"Clasificación:",null,null,{"$f":"HOJA_CAPTURA!N31","v":0}]
[]
[null,{"$f":"HOJA_CAPTURA!C31","v":0},null,null,null,null,null,null,null,null,null,null,null,null,null,null,null,null,null,null,null,null,null,null," "]
[null,"Sección: ",null,{"$f":"HOJA_CAPTURA!G31","v":0}]
[null,"Serie: ",null,{"$f":"HOJA_CAPTURA!H31","v":0}]
[null,"Subserie: ",null,{"$f":"HOJA_CAPTURA!I31","v":0}]
[null,"Nombre del Expediente:                     ",null,null,null,null,{"$f":"HOJA_CAPTURA!O31","v":0},null,null,null,null,null,null,null,null,"Número del Expediente: ",null,null,null,null,{"$f":"HOJA_CAPTURA!M31","v":0}]
[null,"Número de Legajo: ",null,null,null,null,null,"de",{"$f":"HOJA_CAPTURA!U31","v":0},"Número de Fojas: "]
[null,"Número Total de Legajos: ",null,null,null,null,{"$f":"HOJA_CAPTURA!U31","v":0},null,null,"Número Total de Fojas:",null,null,null,null,null,{"$f":"HOJA_CAPTURA!V31","v":0}]
[null,"Tipo de Archivo:",null,null,null,"Trámite ",null,null,{"$f":"HOJA_CAPTURA!W31","v":0},"Concentración",null,null,{"$f":"HOJA_CAPTURA!X31","v":0},null,"Histórico  ",null,{"$f":"HOJA_CAPTURA!Y31","v":0}]
[null,"Vigencia documental (de acuerdo a CADIDO):",null,null,null,null,null,null,null,null,null,null,"AT",{"$f":"HOJA_CAPTURA!AI31","v":0},null,"AC",{"$f":"HOJA_CAPTURA!AJ31","v":0},null,"Total",null,{"$f":"HOJA_CAPTURA!AK31","v":0}]
[null,"Fecha de Apertura:",null,null,null,{"$f":"HOJA_CAPTURA!Q31","v":"00:00:00"},null,null,null,null,null,null,null," Fecha de Cierre:",null,null,null,{"$f":"HOJA_CAPTURA!R31","v":"00:00:00"}]
[null,null,null,null,null,"(DD-MM-AAAA) ",null,null,null,null,null,null,null,null,null,null,null,"(DD-MM-AAAA) "]
[null,"Asunto o Descripción:                        "]
[null,null,{"$f":"HOJA_CAPTURA!P31","v":0}]
[null,"Valor Documental:   ",null,null,null,"Administrativo",null,null,null,{"$f":"HOJA_CAPTURA!AF31","v":0},"Legal",null,null,null,{"$f":"HOJA_CAPTURA!AG31","v":0},"Contable y/o Fiscal",null,null,null,null,{"$f":"HOJA_CAPTURA!AH31","v":0}]
[null,"Soporte (Formato):",null,null,null,"Papel:",null,{"$f":"HOJA_CAPTURA!AO31","v":0},"Medio magnético:  ",null,null,null,{"$f":"HOJA_CAPTURA!AP31","v":0},"CD:",{"$f":"HOJA_CAPTURA!AQ31","v":0},"USB:",{"$f":"HOJA_CAPTURA!AR31","v":0},"Otros:",null,{"$f":"HOJA_CAPTURA!AS31","v":0}]
[null,null,null,null,null,null,null,null,null,null,null,null,null,null,null,null,null,"(Planos, Fotos, etc.)"]
[null,"Condiciones de acceso:",null,null,null,null,{"$f":"HOJA_CAPTURA!AL31","v":0}]
[null,"Periodo de Reserva:            ",null,null,null,{"$f":"HOJA_CAPTURA!AM31","v":0},null,"años"]
[null,"Fundamento Legal:",null,null,null,{"$f":"HOJA_CAPTURA!AN31","v":0}]
[]
[null,"(Llenar este apartado sólo en el caso de que la información del expediente sea reservada o confidencial)"]
[]
[]
[null,"Fecha de Clasificación: ",null,null,null,null,null,null,null,null,null,null,"Clasificación de la Información:"]
[null,"Plazo de Reserva: ",null,null,null,null,null,null,null,null,null,null,"Reservada:",null,null,null,null,"Confidencial:"]
[null,"Fecha de Desclasificación: "]
[null,"Ampliación de periodo de reserva:",null,null,null,null,null,null,null,null,null,null,"Parte(s) o sección(es) Reservada:"]
[]
[]
[null,"Nombre del Responsable de la Clasificación: "]
[null,null,null,null,null,null,null,null,null,null,null,null,"Folio: del",null,null,null,"al"]
[null,null,null,null,null,null,null,null,null,null,null,null,"Tomo(s): ",null,null,"de"]
[null,"Cargo:"]
[null,null,null,null,null,null,null,null,null,null,null,null,"Fundamento Legal:"]
[null,"Firma:"]
[]
[]
[null,null,null,null,null,null,null,null,null,null,null,null,null,null," "]
[]
[]
[]
[]
[]
[]
[null,"Clasificación:",null,null,{"$f":"HOJA_CAPTURA!N32","v":0}]
[]
[null,{"$f":"HOJA_CAPTURA!C32","v":0},null,null,null,null,null,null,null,null,null,null,null,null,null,null,null,null,null,null,null,null,null,null," "]
[null,"Sección: ",null,{"$f":"HOJA_CAPTURA!G32","v":0}]
[null,"Serie: ",null,{"$f":"HOJA_CAPTURA!H32","v":0}]
[null,"Subserie: ",null,{"$f":"HOJA_CAPTURA!I32","v":0}]
[null,"Nombre del Expediente:                     ",null,null,null,null,{"$f":"HOJA_CAPTURA!O32","v":0},null,null,null,null,null,null,null,null,"Número del Expediente: ",null,null,null,null,{"$f":"HOJA_CAPTURA!M32","v":0}]
[null,"Número de Legajo: ",null,null,null,null,null,"de",{"$f":"HOJA_CAPTURA!U32","v":0},"Número de Fojas: "]
[null,"Número Total de Legajos: ",null,null,null,null,{"$f":"HOJA_CAPTURA!U32","v":0},null,null,"Número Total de Fojas:",null,null,null,null,null,{"$f":"HOJA_CAPTURA!V32","v":0}]
[null,"Tipo de Archivo:",null,null,null,"Trámite",null,null,{"$f":"HOJA_CAPTURA!W32","v":0},"Concentración",null,null,{"$f":"HOJA_CAPTURA!X32","v":0},null,"Histórico  ",null,{"$f":"HOJA_CAPTURA!Y32","v":0}]
[null,"Vigencia documental (de acuerdo a CADIDO):",null,null,null,null,null,null,null,null,null,null,"AT",{"$f":"HOJA_CAPTURA!AI32","v":0},null,"AC",{"$f":"HOJA_CAPTURA!AJ32","v":0},null,"Total",null,{"$f":"HOJA_CAPTURA!AK32","v":0}]
[null,"Fecha de Apertura:",null,null,null,{"$f":"HOJA_CAPTURA!Q32","v":"00:00:00"},null,null,null,null,null,null,null," Fecha de Cierre:",null,null,null,{"$f":"HOJA_CAPTURA!R32","v":"00:00:00"}]
[null,null,null,null,null,"(DD-MM-AAAA) ",null,null,null,null,null,null,null,null,null,null,null,"(DD-MM-AAAA) "]
[null,"Asunto o Descripción:                        "]
[null,null,{"$f":"HOJA_CAPTURA!P32","v":0}]
[null,"Valor Documental:   ",null,null,null,"Administrativo",null,null,null,{"$f":"HOJA_CAPTURA!AF32","v":0},"Legal",null,null,null,{"$f":"HOJA_CAPTURA!AG32","v":0},"Contable y/o Fiscal",null,null,null,null,{"$f":"HOJA_CAPTURA!AH32","v":0}]
[null,"Soporte (Formato):",null,null,null,"Papel:",null,{"$f":"HOJA_CAPTURA!AO32","v":0},"Medio magnético:  ",null,null,null,{"$f":"HOJA_CAPTURA!AP32","v":0},"CD:",{"$f":"HOJA_CAPTURA!AQ32","v":0},"USB:",{"$f":"HOJA_CAPTURA!AR32","v":0},"Otros:",null,{"$f":"HOJA_CAPTURA!AS32","v":0}]
[null,null,null,null,null,null,null,null,null,null,null,null,null,null,null,null,null,"(Planos, Fotos, etc.)"]
[null,"Condiciones de acceso:",null,null,null,null,{"$f":"HOJA_CAPTURA!AL32","v":0}]
[null,"Periodo de Reserva:            ",null,null,null,{"$f":"HOJA_CAPTURA!AM32","v":0},null,"años"]
[null,"Fundamento Legal:",null,null,null,{"$f":"HOJA_CAPTURA!AN32","v":0}]
[]
[null,"(Llenar este apartado sólo en el caso de que la información del expediente sea reservada o confidencial)"]
[]
[]
[null,"Fecha de Clasificación: ",null,null,null,null,null,null,null,null,null,null,"Clasificación de la Información:"]
[null,"Plazo de Reserva: ",null,null,null,null,null,null,null,null,null,null,"Reservada:",null,null,null,null,"Confidencial:"]
[null,"Fecha de Desclasificación: "]
[null,"Ampliación de periodo de reserva:",null,null,null,null,null,null,null,null,null,null,"Parte(s) o sección(es) Reservada:"]
[]
[]
[null,"Nombre del Responsable de la Clasificación: "]
[null,null,null,null,null,null,null,null,null,null,null,null,"Folio: del",null,null,null,"al"]
[null,null,null,null,null,null,null,null,null,null,null,null,"Tomo(s): ",null,null,"de"]
[null,"Cargo:"]
[null,null,null,null,null,null,null,null,null,null,null,null,"Fundamento Legal:"]
[null,"Firma:"]
[]
[]
[null,null,null,null,null,null,null,null,null,null,null,null,null,null," "]
[]
[]
[]
[]
[]
[]
[null,"Clasificación:",null,null,{"$f":"HOJA_CAPTURA!N33","v":0}]
[]
[null,{"$f":"HOJA_CAPTURA!C33","v":0},null,null,null,null,null,null,null,null,null,null,null,null,null,null,null,null,null,null,null,null,null,null," "]
[null,"Sección: ",null,{"$f":"HOJA_CAPTURA!G33","v":0}]
[null,"Serie: ",null,{"$f":"HOJA_CAPTURA!H33","v":0}]
[null,"Subserie: ",null,{"$f":"HOJA_CAPTURA!I33","v":0}]
[null,"Nombre del Expediente:                     ",null,null,null,null,{"$f":"HOJA_CAPTURA!O33","v":0},null,null,null,null,null,null,null,null,"Número del Expediente: ",null,null,null,null,{"$f":"HOJA_CAPTURA!M33","v":0}]
[null,"Número de Legajo: ",null,null,null,null,null,"de",{"$f":"HOJA_CAPTURA!U33","v":0},"Número de Fojas: "]
[null,"Número Total de Legajos: ",null,null,null,null,{"$f":"HOJA_CAPTURA!U33","v":0},null,null,"Número Total de Fojas:",null,null,null,null,null,{"$f":"HOJA_CAPTURA!V33","v":0}]
[null,"Tipo de Archivo:",null,null,null,"Trámite ",null,null,{"$f":"HOJA_CAPTURA!W33","v":0},"Concentración",null,null,{"$f":"HOJA_CAPTURA!X33","v":0},null,"Histórico  ",null,{"$f":"HOJA_CAPTURA!Y33","v":0}]
[null,"Vigencia documental (de acuerdo a CADIDO):",null,null,null,null,null,null,null,null,null,null,"AT",{"$f":"HOJA_CAPTURA!AI33","v":0},null,"AC",{"$f":"HOJA_CAPTURA!AJ33","v":0},null,"Total",null,{"$f":"HOJA_CAPTURA!AK33","v":0}]
[null,"Fecha de Apertura:",null,null,null,{"$f":"HOJA_CAPTURA!Q33","v":"00:00:00"},null,null,null,null,null,null,null," Fecha de Cierre:",null,null,null,{"$f":"HOJA_CAPTURA!R33","v":"00:00:00"}]
[null,null,null,null,null,"(DD-MM-AAAA) ",null,null,null,null,null,null,null,null,null,null,null,"(DD-MM-AAAA) "]
[null,"Asunto o Descripción:                        "]
[null,null,{"$f":"HOJA_CAPTURA!P33","v":0}]
[null,"Valor Documental:   ",null,null,null,"Administrativo",null,null,null,{"$f":"HOJA_CAPTURA!AF33","v":0},"Legal",null,null,null,{"$f":"HOJA_CAPTURA!AG33","v":0},"Contable y/o Fiscal",null,null,null,null,{"$f":"HOJA_CAPTURA!AH33","v":0}]
[null,"Soporte (Formato):",null,null,null,"Papel:",null,{"$f":"HOJA_CAPTURA!AO33","v":0},"Medio magnético:  ",null,null,null,{"$f":"HOJA_CAPTURA!AP33","v":0},"CD:",{"$f":"HOJA_CAPTURA!AQ33","v":0},"USB:",{"$f":"HOJA_CAPTURA!AR33","v":0},"Otros:",null,{"$f":"HOJA_CAPTURA!AS33","v":0}]
[null,null,null,null,null,null,null,null,null,null,null,null,null,null,null,null,null,"(Planos, Fotos, etc.)"]
[null,"Condiciones de acceso:",null,null,null,null,{"$f":"HOJA_CAPTURA!AL33","v":0}]
[null,"Periodo de Reserva:            ",null,null,null,{"$f":"HOJA_CAPTURA!AM33","v":0},null,"años"]
[null,"Fundamento Legal:",null,null,null,{"$f":"HOJA_CAPTURA!AN33","v":0}]
[]
[null,"(Llenar este apartado sólo en el caso de que la información del expediente sea reservada o confidencial)"]
[]
[]
[null,"Fecha de Clasificación: ",null,null,null,null,null,null,null,null,null,null,"Clasificación de la Información:"]
[null,"Plazo de Reserva: ",null,null,null,null,null,null,null,null,null,null,"Reservada:",null,null,null,null,"Confidencial:"]
[null,"Fecha de Desclasificación: "]
[null,"Ampliación de periodo de reserva:",null,null,null,null,null,null,null,null,null,null,"Parte(s) o sección(es) Reservada:"]
[]
[]
[null,"Nombre del Responsable de la Clasificación: "]
[null,null,null,null,null,null,null,null,null,null,null,null,"Folio: del",null,null,null,"al"]
[null,null,null,null,null,null,null,null,null,null,null,null,"Tomo(s): ",null,null,"de"]
[null,"Cargo:"]
[null,null,null,null,null,null,null,null,null,null,null,null,"Fundamento Legal:"]
[null,"Firma:"]
[]
[]
[null,null,null,null,null,null,null,null,null,null,null,null,null,null," "]
[]
[]
[]
[]
[]
[]
[null,"Clasificación:",null,null,{"$f":"HOJA_CAPTURA!N34","v":0}]
[]
[null,{"$f":"HOJA_CAPTURA!C34","v":0},null,null,null,null,null,null,null,null,null,null,null,null,null,null,null,null,null,null,null,null,null,null," "]
[null,"Sección: ",null,{"$f":"HOJA_CAPTURA!G34","v":0}]
[null,"Serie: ",null,{"$f":"HOJA_CAPTURA!H34","v":0}]
[null,"Subserie: ",null,{"$f":"HOJA_CAPTURA!I34","v":0}]
[null,"Nombre del Expediente:                     ",null,null,null,null,{"$f":"HOJA_CAPTURA!O34","v":0},null,null,null,null,null,null,null,null,"Número del Expediente: ",null,null,null,null,{"$f":"HOJA_CAPTURA!M34","v":0}]
[null,"Número de Legajo: ",null,null,null,null,null,"de",{"$f":"HOJA_CAPTURA!U34","v":0},"Número de Fojas: "]
[null,"Número Total de Legajos: ",null,null,null,null,{"$f":"HOJA_CAPTURA!U34","v":0},null,null,"Número Total de Fojas:",null,null,null,null,null,{"$f":"HOJA_CAPTURA!V34","v":0}]
[null,"Tipo de Archivo:",null,null,null,"Trámite ",null,null,{"$f":"HOJA_CAPTURA!W34","v":0},"Concentración",null,null,{"$f":"HOJA_CAPTURA!X34","v":0},null,"Histórico  ",null,{"$f":"HOJA_CAPTURA!Y34","v":0}]
[null,"Vigencia documental (de acuerdo a CADIDO):",null,null,null,null,null,null,null,null,null,null,"AT",{"$f":"HOJA_CAPTURA!AI34","v":0},null,"AC",{"$f":"HOJA_CAPTURA!AJ34","v":0},null,"Total",null,{"$f":"HOJA_CAPTURA!AK34","v":0}]
[null,"Fecha de Apertura:",null,null,null,{"$f":"HOJA_CAPTURA!Q34","v":"00:00:00"},null,null,null,null,null,null,null," Fecha de Cierre:",null,null,null,{"$f":"HOJA_CAPTURA!R34","v":"00:00:00"}]
[null,null,null,null,null,"(DD-MM-AAAA) ",null,null,null,null,null,null,null,null,null,null,null,"(DD-MM-AAAA) "]
[null,"Asunto o Descripción:                        "]
[null,null,{"$f":"HOJA_CAPTURA!P34","v":0}]
[null,"Valor Documental:   ",null,null,null,"Administrativo",null,null,null,{"$f":"HOJA_CAPTURA!AF34","v":0},"Legal",null,null,null,{"$f":"HOJA_CAPTURA!AG34","v":0},"Contable y/o Fiscal",null,null,null,null,{"$f":"HOJA_CAPTURA!AH34","v":0}]
[null,"Soporte (Formato):",null,null,null,"Papel:",null,{"$f":"HOJA_CAPTURA!AO34","v":0},"Medio magnético:  ",null,null,null,{"$f":"HOJA_CAPTURA!AP34","v":0},"CD:",{"$f":"HOJA_CAPTURA!AQ34","v":0},"USB:",{"$f":"HOJA_CAPTURA!AR34","v":0},"Otros:",null,{"$f":"HOJA_CAPTURA!AS34","v":0}]
[null,null,null,null,null,null,null,null,null,null,null,null,null,null,null,null,null,"(Planos, Fotos, etc.)"]
[null,"Condiciones de acceso:",null,null,null,null,{"$f":"HOJA_CAPTURA!AL34","v":0}]
[null,"Periodo de Reserva:            ",null,null,null,{"$f":"HOJA_CAPTURA!AM34","v":0},null,"años"]
[null,"Fundamento Legal:",null,null,null,{"$f":"HOJA_CAPTURA!AN34","v":0}]
[]
[null,"(Llenar este apartado sólo en el caso de que la información del expediente sea reservada o confidencial)"]
[]
[]
[null,"Fecha de Clasificación: ",null,null,null,null,null,null,null,null,null,null,"Clasificación de la Información:"]
[null,"Plazo de Reserva: ",null,null,null,null,null,null,null,null,null,null,"Reservada:",null,null,null,null,"Confidencial:"]
[null,"Fecha de Desclasificación: "]
[null,"Ampliación de periodo de reserva:",null,null,null,null,null,null,null,null,null,null,"Parte(s) o sección(es) Reservada:"]
[]
[]
[null,"Nombre del Responsable de la Clasificación: "]
[null,null,null,null,null,null,null,null,null,null,null,null,"Folio: del",null,null,null,"al"]
[null,null,null,null,null,null,null,null,null,null,null,null,"Tomo(s): ",null,null,"de"]
[null,"Cargo:"]
[null,null,null,null,null,null,null,null,null,null,null,null,"Fundamento Legal:"]
[null,"Firma:"]
[]
[]
[null,null,null,null,null,null,null,null,null,null,null,null,null,null," "]
[]
[]
[]
[]
[]
[]
[null,"Clasificación:",null,null,{"$f":"HOJA_CAPTURA!N35","v":0}]
[]
[null,{"$f":"HOJA_CAPTURA!C35","v":0},null,null,null,null,null,null,null,null,null,null,null,null,null,null,null,null,null,null,null,null,null,null," "]
[null,"Sección: ",null,{"$f":"HOJA_CAPTURA!G35","v":0}]
[null,"Serie: ",null,{"$f":"HOJA_CAPTURA!H35","v":0}]
[null,"Subserie: ",null,{"$f":"HOJA_CAPTURA!I35","v":0}]
[null,"Nombre del Expediente:                     ",null,null,null,null,{"$f":"HOJA_CAPTURA!O35","v":0},null,null,null,null,null,null,null,null,"Número del Expediente: ",null,null,null,null,{"$f":"HOJA_CAPTURA!M35","v":0}]
[null,"Número de Legajo: ",null,null,null,null,null,"de",{"$f":"HOJA_CAPTURA!U35","v":0},"Número de Fojas: "]
[null,"Número Total de Legajos: ",null,null,null,null,{"$f":"HOJA_CAPTURA!U35","v":0},null,null,"Número Total de Fojas:",null,null,null,null,null,{"$f":"HOJA_CAPTURA!V35","v":0}]
[null,"Tipo de Archivo:",null,null,null,"Trámite",null,null,{"$f":"HOJA_CAPTURA!W35","v":0},"Concentración",null,null,{"$f":"HOJA_CAPTURA!X35","v":0},null,"Histórico  ",null,{"$f":"HOJA_CAPTURA!Y35","v":0}]
[null,"Vigencia documental (de acuerdo a CADIDO):",null,null,null,null,null,null,null,null,null,null,"AT",{"$f":"HOJA_CAPTURA!AI35","v":0},null,"AC",{"$f":"HOJA_CAPTURA!AJ35","v":0},null,"Total",null,{"$f":"HOJA_CAPTURA!AK35","v":0}]
[null,"Fecha de Apertura:",null,null,null,{"$f":"HOJA_CAPTURA!Q35","v":"00:00:00"},null,null,null,null,null,null,null," Fecha de Cierre:",null,null,null,{"$f":"HOJA_CAPTURA!R35","v":"00:00:00"}]
[null,null,null,null,null,"(DD-MM-AAAA) ",null,null,null,null,null,null,null,null,null,null,null,"(DD-MM-AAAA) "]
[null,"Asunto o Descripción:                        "]
[null,null,{"$f":"HOJA_CAPTURA!P35","v":0}]
[null,"Valor Documental:   ",null,null,null,"Administrativo",null,null,null,{"$f":"HOJA_CAPTURA!AF35","v":0},"Legal",null,null,null,{"$f":"HOJA_CAPTURA!AG35","v":0},"Contable y/o Fiscal",null,null,null,null,{"$f":"HOJA_CAPTURA!AH35","v":0}]
[null,"Soporte (Formato):",null,null,null,"Papel:",null,{"$f":"HOJA_CAPTURA!AO35","v":0},"Medio magnético:  ",null,null,null,{"$f":"HOJA_CAPTURA!AP35","v":0},"CD:",{"$f":"HOJA_CAPTURA!AQ35","v":0},"USB:",{"$f":"HOJA_CAPTURA!AR35","v":0},"Otros:",null,{"$f":"HOJA_CAPTURA!AS35","v":0}]
[null,null,null,null,null,null,null,null,null,null,null,null,null,null,null,null,null,"(Planos, Fotos, etc.)"]
[null,"Condiciones de acceso:",null,null,null,null,{"$f":"HOJA_CAPTURA!AL35","v":0}]
[null,"Periodo de Reserva:            ",null,null,null,{"$f":"HOJA_CAPTURA!AM35","v":0},null,"años"]
[null,"Fundamento Legal:",null,null,null,{"$f":"HOJA_CAPTURA!AN35","v":0}]
[]
[null,"(Llenar este apartado sólo en el caso de que la información del expediente sea reservada o confidencial)"]
[]
[]
[null,"Fecha de Clasificación: ",null,null,null,null,null,null,null,null,null,null,"Clasificación de la Información:"]
[null,"Plazo de Reserva: ",null,null,null,null,null,null,null,null,null,null,"Reservada:",null,null,null,null,"Confidencial:"]
[null,"Fecha de Desclasificación: "]
[null,"Ampliación de periodo de reserva:",null,null,null,null,null,null,null,null,null,null,"Parte(s) o sección(es) Reservada:"]
[]
[]
[null,"Nombre del Responsable de la Clasificación: "]
[null,null,null,null,null,null,null,null,null,null,null,null,"Folio: del",null,null,null,"al"]
[null,null,null,null,null,null,null,null,null,null,null,null,"Tomo(s): ",null,null,"de"]
[null,"Cargo:"]
[null,null,null,null,null,null,null,null,null,null,null,null,"Fundamento Legal:"]
[null,"Firma:"]
[]
[]
[null,null,null,null,null,null,null,null,null,null,null,null,null,null," "]
[]
[]
[]
[]
[]
[]
[null,"Clasificación:",null,null,{"$f":"HOJA_CAPTURA!N36","v":0}]
[]
[null,{"$f":"HOJA_CAPTURA!C36","v":0},null,null,null,null,null,null,null,null,null,null,null,null,null,null,null,null,null,null,null,null,null,null," "]
[null,"Sección: ",null,{"$f":"HOJA_CAPTURA!G36","v":0}]
[null,"Serie: ",null,{"$f":"HOJA_CAPTURA!H36","v":0}]
[null,"Subserie: ",null,{"$f":"HOJA_CAPTURA!I36","v":0}]
[null,"Nombre del Expediente:                     ",null,null,null,null,{"$f":"HOJA_CAPTURA!O36","v":0},null,null,null,null,null,null,null,null,"Número del Expediente: ",null,null,null,null,{"$f":"HOJA_CAPTURA!M36","v":0}]
[null,"Número de Legajo: ",null,null,null,null,null,"de",{"$f":"HOJA_CAPTURA!U36","v":0},"Número de Fojas: "]
[null,"Número Total de Legajos: ",null,null,null,null,{"$f":"HOJA_CAPTURA!U36","v":0},null,null,"Número Total de Fojas:",null,null,null,null,null,{"$f":"HOJA_CAPTURA!V36","v":0}]
[null,"Tipo de Archivo:",null,null,null,"Trámite",null,null,null,"Concentración",null,null,{"$f":"HOJA_CAPTURA!X36","v":0},null,"Histórico  ",null,{"$f":"HOJA_CAPTURA!Y36","v":0}]
[null,"Vigencia documental (de acuerdo a CADIDO):",null,null,null,null,null,null,null,null,null,null,"AT",{"$f":"HOJA_CAPTURA!AI36","v":0},null,"AC",{"$f":"HOJA_CAPTURA!AJ36","v":0},null,"Total",null,{"$f":"HOJA_CAPTURA!AK36","v":0}]
[null,"Fecha de Apertura:",null,null,null,{"$f":"HOJA_CAPTURA!Q36","v":"00:00:00"},null,null,null,null,null,null,null," Fecha de Cierre:",null,null,null,{"$f":"HOJA_CAPTURA!R36","v":"00:00:00"}]
[null,null,null,null,null,"(DD-MM-AAAA) ",null,null,null,null,null,null,null,null,null,null,null,"(DD-MM-AAAA) "]
[null,"Asunto o Descripción:                        "]
[null,null,{"$f":"HOJA_CAPTURA!P36","v":0}]
[null,"Valor Documental:   ",null,null,null,"Administrativo",null,null,null,{"$f":"HOJA_CAPTURA!AF36","v":0},"Legal",null,null,null,{"$f":"HOJA_CAPTURA!AG36","v":0},"Contable y/o Fiscal",null,null,null,null,{"$f":"HOJA_CAPTURA!AH36","v":0}]
[null,"Soporte (Formato):",null,null,null,"Papel:",null,{"$f":"HOJA_CAPTURA!AO36","v":0},"Medio magnético:  ",null,null,null,{"$f":"HOJA_CAPTURA!AP36","v":0},"CD:",{"$f":"HOJA_CAPTURA!AQ36","v":0},"USB:",{"$f":"HOJA_CAPTURA!AR36","v":0},"Otros:",null,{"$f":"HOJA_CAPTURA!AS36","v":0}]
[null,null,null,null,null,null,null,null,null,null,null,null,null,null,null,null,null,"(Planos, Fotos, etc.)"]
[null,"Condiciones de acceso:",null,null,null,null,{"$f":"HOJA_CAPTURA!AL36","v":0}]
[null,"Periodo de Reserva:            ",null,null,null,{"$f":"HOJA_CAPTURA!AM36","v":0},null,"años"]
[null,"Fundamento Legal:",null,null,null,{"$f":"HOJA_CAPTURA!AN36","v":0}]
[]
[null,"(Llenar este apartado sólo en el caso de que la información del expediente sea reservada o confidencial)"]
[]
[]
[null,"Fecha de Clasificación: ",null,null,null,null,null,null,null,null,null,null,"Clasificación de la Información:"]
[null,"Plazo de Reserva: ",null,null,null,null,null,null,null,null,null,null,"Reservada:",null,null,null,null,"Confidencial:"]
[null,"Fecha de Desclasificación: "]
[null,"Ampliación de periodo de reserva:",null,null,null,null,null,null,null,null,null,null,"Parte(s) o sección(es) Reservada:"]
[]
[]
[null,"Nombre del Responsable de la Clasificación: "]
[null,null,null,null,null,null,null,null,null,null,null,null,"Folio: del",null,null,null,"al"]
[null,null,null,null,null,null,null,null,null,null,null,null,"Tomo(s): ",null,null,"de"]
[null,"Cargo:"]
[null,null,null,null,null,null,null,null,null,null,null,null,"Fundamento Legal:"]
[null,"Firma:"]
[]
[]
[null,null,null,null,null,null,null,null,null,null,null,null,null,null," "]
[]
[]
[]
[]
[]
[]
[null,"Clasificación:",null,null,{"$f":"HOJA_CAPTURA!N37","v":0}]
[]
[null,{"$f":"HOJA_CAPTURA!C37","v":0},null,null,null,null,null,null,null,null,null,null,null,null,null,null,null,null,null,null,null,null,null,null," "]
[null,"Sección: ",null,{"$f":"HOJA_CAPTURA!G37","v":0}]
[null,"Serie: ",null,{"$f":"HOJA_CAPTURA!H37","v":0}]
[null,"Subserie: ",null,{"$f":"HOJA_CAPTURA!I37","v":0}]
[null,"Nombre del Expediente:                     ",null,null,null,null,{"$f":"HOJA_CAPTURA!O37","v":0},null,null,null,null,null,null,null,null,"Número del Expediente: ",null,null,null,null,{"$f":"HOJA_CAPTURA!M37","v":0}]
[null,"Número de Legajo: ",null,null,null,null,null,"de",{"$f":"HOJA_CAPTURA!U37","v":0},"Número de Fojas: "]
[null,"Número Total de Legajos: ",null,null,null,null,{"$f":"HOJA_CAPTURA!U37","v":0},null,null,"Número Total de Fojas:",null,null,null,null,null,{"$f":"HOJA_CAPTURA!V37","v":0}]
[null,"Tipo de Archivo:",null,null,null,"Trámite",null,null,{"$f":"HOJA_CAPTURA!W37","v":0},"Concentración",null,null,{"$f":"HOJA_CAPTURA!X37","v":0},null,"Histórico  ",null,{"$f":"HOJA_CAPTURA!Y37","v":0}]
[null,"Vigencia documental (de acuerdo a CADIDO):",null,null,null,null,null,null,null,null,null,null,"AT",{"$f":"HOJA_CAPTURA!AI37","v":0},null,"AC",{"$f":"HOJA_CAPTURA!AJ37","v":0},null,"Total",null,{"$f":"HOJA_CAPTURA!AK37","v":0}]
[null,"Fecha de Apertura:",null,null,null,{"$f":"HOJA_CAPTURA!Q37","v":"00:00:00"},null,null,null,null,null,null,null," Fecha de Cierre:",null,null,null,{"$f":"HOJA_CAPTURA!R37","v":"00:00:00"}]
[null,null,null,null,null,"(DD-MM-AAAA) ",null,null,null,null,null,null,null,null,null,null,null,"(DD-MM-AAAA) "]
[null,"Asunto o Descripción:                        "]
[null,null,{"$f":"HOJA_CAPTURA!P37","v":0}]
[null,"Valor Documental:   ",null,null,null,"Administrativo",null,null,null,{"$f":"HOJA_CAPTURA!AF37","v":0},"Legal",null,null,null,{"$f":"HOJA_CAPTURA!AG37","v":0},"Contable y/o Fiscal",null,null,null,null,{"$f":"HOJA_CAPTURA!AH37","v":0}]
[null,"Soporte (Formato):",null,null,null,"Papel:",null,{"$f":"HOJA_CAPTURA!AO37","v":0},"Medio magnético:  ",null,null,null,{"$f":"HOJA_CAPTURA!AP37","v":0},"CD:",{"$f":"HOJA_CAPTURA!AQ37","v":0},"USB:",{"$f":"HOJA_CAPTURA!AR37","v":0},"Otros:",null,{"$f":"HOJA_CAPTURA!AS37","v":0}]
[null,null,null,null,null,null,null,null,null,null,null,null,null,null,null,null,null,"(Planos, Fotos, etc.)"]
[null,"Condiciones de acceso:",null,null,null,null,{"$f":"HOJA_CAPTURA!AL37","v":0}]
[null,"Periodo de Reserva:            ",null,null,null,{"$f":"HOJA_CAPTURA!AM37","v":0},null,"años"]
[null,"Fundamento Legal:",null,null,null,{"$f":"HOJA_CAPTURA!AN37","v":0}]
[]
[null,"(Llenar este apartado sólo en el caso de que la información del expediente sea reservada o confidencial)"]
[]
[]
[null,"Fecha de Clasificación: ",null,null,null,null,null,null,null,null,null,null,"Clasificación de la Información:"]
[null,"Plazo de Reserva: ",null,null,null,null,null,null,null,null,null,null,"Reservada:",null,null,null,null,"Confidencial:"]
[null,"Fecha de Desclasificación: "]
[null,"Ampliación de periodo de reserva:",null,null,null,null,null,null,null,null,null,null,"Parte(s) o sección(es) Reservada:"]
[]
[]
[null,"Nombre del Responsable de la Clasificación: "]
[null,null,null,null,null,null,null,null,null,null,null,null,"Folio: del",null,null,null,"al"]
[null,null,null,null,null,null,null,null,null,null,null,null,"Tomo(s): ",null,null,"de"]
[null,"Cargo:"]
[null,null,null,null,null,null,null,null,null,null,null,null,"Fundamento Legal:"]
[null,"Firma:"]
[]
[]
[null,null,null,null,null,null,null,null,null,null,null,null,null,null," "]
[]
[]
[]
[]
[]
[]
[null,"Clasificación:",null,null,{"$f":"HOJA_CAPTURA!N38","v":0}]
[]
[null,{"$f":"HOJA_CAPTURA!C38","v":0},null,null,null,null,null,null,null,null,null,null,null,null,null,null,null,null,null,null,null,null,null,null," "]
[null,"Sección: ",null,{"$f":"HOJA_CAPTURA!G38","v":0}]
[null,"Serie: ",null,{"$f":"HOJA_CAPTURA!H38","v":0}]
[null,"Subserie: ",null,{"$f":"HOJA_CAPTURA!I38","v":0}]
[null,"Nombre del Expediente:                     ",null,null,null,null,{"$f":"HOJA_CAPTURA!O38","v":0},null,null,null,null,null,null,null,null,"Número del Expediente: ",null,null,null,null,{"$f":"HOJA_CAPTURA!M38","v":0}]
[null,"Número de Legajo: ",null,null,null,null,null,"de",{"$f":"HOJA_CAPTURA!U38","v":0},"Número de Fojas: "]
[null,"Número Total de Legajos: ",null,null,null,null,{"$f":"HOJA_CAPTURA!U38","v":0},null,null,"Número Total de Fojas:",null,null,null,null,null,{"$f":"HOJA_CAPTURA!V38","v":0}]
[null,"Tipo de Archivo:",null,null,null,"Trámite",null,null,{"$f":"HOJA_CAPTURA!W38","v":0},"Concentración",null,null,{"$f":"HOJA_CAPTURA!X38","v":0},null,"Histórico  ",null,{"$f":"HOJA_CAPTURA!Y38","v":0}]
[null,"Vigencia documental (de acuerdo a CADIDO):",null,null,null,null,null,null,null,null,null,null,"AT",{"$f":"HOJA_CAPTURA!AI38","v":0},null,"AC",{"$f":"HOJA_CAPTURA!AJ38","v":0},null,"Total",null,{"$f":"HOJA_CAPTURA!AK38","v":0}]
[null,"Fecha de Apertura:",null,null,null,{"$f":"HOJA_CAPTURA!Q38","v":"00:00:00"},null,null,null,null,null,null,null," Fecha de Cierre:",null,null,null,{"$f":"HOJA_CAPTURA!R38","v":"00:00:00"}]
[null,null,null,null,null,"(DD-MM-AAAA) ",null,null,null,null,null,null,null,null,null,null,null,"(DD-MM-AAAA) "]
[null,"Asunto o Descripción:                        "]
[null,null,{"$f":"HOJA_CAPTURA!P38","v":0}]
[null,"Valor Documental:   ",null,null,null,"Administrativo",null,null,null,{"$f":"HOJA_CAPTURA!AF38","v":0},"Legal",null,null,null,{"$f":"HOJA_CAPTURA!AG38","v":0},"Contable y/o Fiscal",null,null,null,null,{"$f":"HOJA_CAPTURA!AH38","v":0}]
[null,"Soporte (Formato):",null,null,null,"Papel:",null,{"$f":"HOJA_CAPTURA!AO38","v":0},"Medio magnético:  ",null,null,null,{"$f":"HOJA_CAPTURA!AP38","v":0},"CD:",{"$f":"HOJA_CAPTURA!AQ38","v":0},"USB:",{"$f":"HOJA_CAPTURA!AR38","v":0},"Otros:",null,{"$f":"HOJA_CAPTURA!AS38","v":0}]
[null,null,null,null,null,null,null,null,null,null,null,null,null,null,null,null,null,"(Planos, Fotos, etc.)"]
[null,"Condiciones de acceso:",null,null,null,null,{"$f":"HOJA_CAPTURA!AL38","v":0}]
[null,"Periodo de Reserva:            ",null,null,null,{"$f":"HOJA_CAPTURA!AM38","v":0},null,"años"]
[null,"Fundamento Legal:",null,null,null,{"$f":"HOJA_CAPTURA!AN38","v":0}]
[]
[null,"(Llenar este apartado sólo en el caso de que la información del expediente sea reservada o confidencial)"]
[]
[]
[null,"Fecha de Clasificación: ",null,null,null,null,null,null,null,null,null,null,"Clasificación de la Información:"]
[null,"Plazo de Reserva: ",null,null,null,null,null,null,null,null,null,null,"Reservada:",null,null,null,null,"Confidencial:"]
[null,"Fecha de Desclasificación: "]
[null,"Ampliación de periodo de reserva:",null,null,null,null,null,null,null,null,null,null,"Parte(s) o sección(es) Reservada:"]
[]
[]
[null,"Nombre del Responsable de la Clasificación: "]
[null,null,null,null,null,null,null,null,null,null,null,null,"Folio: del",null,null,null,"al"]
[null,null,null,null,null,null,null,null,null,null,null,null,"Tomo(s): ",null,null,"de"]
[null,"Cargo:"]
[null,null,null,null,null,null,null,null,null,null,null,null,"Fundamento Legal:"]
[null,"Firma:"]
[]
[]
[null,null,null,null,null,null,null,null,null,null,null,null,null,null," "]
[]
[]
[]
[]
[]
[]
[null,"Clasificación:",null,null,{"$f":"HOJA_CAPTURA!N39","v":0}]
[]
[null,{"$f":"HOJA_CAPTURA!C39","v":0},null,null,null,null,null,null,null,null,null,null,null,null,null,null,null,null,null,null,null,null,null,null," "]
[null,"Sección: ",null,{"$f":"HOJA_CAPTURA!G39","v":0}]
[null,"Serie: ",null,{"$f":"HOJA_CAPTURA!H39","v":0}]
[null,"Subserie: ",null,{"$f":"HOJA_CAPTURA!I39","v":0}]
[null,"Nombre del Expediente:                     ",null,null,null,null,{"$f":"HOJA_CAPTURA!O39","v":0},null,null,null,null,null,null,null,null,"Número del Expediente: ",null,null,null,null,{"$f":"HOJA_CAPTURA!M39","v":0}]
[null,"Número de Legajo: ",null,null,null,null,null,"de",{"$f":"HOJA_CAPTURA!U39","v":0},"Número de Fojas: "]
[null,"Número Total de Legajos: ",null,null,null,null,{"$f":"HOJA_CAPTURA!U39","v":0},null,null,"Número Total de Fojas:",null,null,null,null,null,{"$f":"HOJA_CAPTURA!V39","v":0}]
[null,"Tipo de Archivo:",null,null,null,"Trámite ",null,null,{"$f":"HOJA_CAPTURA!W39","v":0},"Concentración",null,null,{"$f":"HOJA_CAPTURA!X39","v":0},null,"Histórico  ",null,{"$f":"HOJA_CAPTURA!Y39","v":0}]
[null,"Vigencia documental (de acuerdo a CADIDO):",null,null,null,null,null,null,null,null,null,null,"AT",{"$f":"HOJA_CAPTURA!AI39","v":0},null,"AC",{"$f":"HOJA_CAPTURA!AJ39","v":0},null,"Total",null,{"$f":"HOJA_CAPTURA!AK39","v":0}]
[null,"Fecha de Apertura:",null,null,null,{"$f":"HOJA_CAPTURA!Q39","v":"00:00:00"},null,null,null,null,null,null,null," Fecha de Cierre:",null,null,null,{"$f":"HOJA_CAPTURA!R39","v":"00:00:00"}]
[null,null,null,null,null,"(DD-MM-AAAA) ",null,null,null,null,null,null,null,null,null,null,null,"(DD-MM-AAAA) "]
[null,"Asunto o Descripción:                        "]
[null,null,{"$f":"HOJA_CAPTURA!P39","v":0}]
[null,"Valor Documental:   ",null,null,null,"Administrativo",null,null,null,{"$f":"HOJA_CAPTURA!AF39","v":0},"Legal",null,null,null,{"$f":"HOJA_CAPTURA!AG39","v":0},"Contable y/o Fiscal",null,null,null,null,{"$f":"HOJA_CAPTURA!AH39","v":0}]
[null,"Soporte (Formato):",null,null,null,"Papel:",null,{"$f":"HOJA_CAPTURA!AO39","v":0},"Medio magnético:  ",null,null,null,{"$f":"HOJA_CAPTURA!AP39","v":0},"CD:",{"$f":"HOJA_CAPTURA!AQ39","v":0},"USB:",{"$f":"HOJA_CAPTURA!AR39","v":0},"Otros:",null,{"$f":"HOJA_CAPTURA!AS39","v":0}]
[null,null,null,null,null,null,null,null,null,null,null,null,null,null,null,null,null,"(Planos, Fotos, etc.)"]
[null,"Condiciones de acceso:",null,null,null,null,{"$f":"HOJA_CAPTURA!AL39","v":0}]
[null,"Periodo de Reserva:            ",null,null,null,{"$f":"HOJA_CAPTURA!AM39","v":0},null,"años"]
[null,"Fundamento Legal:",null,null,null,{"$f":"HOJA_CAPTURA!AN39","v":0}]
[]
[null,"(Llenar este apartado sólo en el caso de que la información del expediente sea reservada o confidencial)"]
[]
[]
[null,"Fecha de Clasificación: ",null,null,null,null,null,null,null,null,null,null,"Clasificación de la Información:"]
[null,"Plazo de Reserva: ",null,null,null,null,null,null,null,null,null,null,"Reservada:",null,null,null,null,"Confidencial:"]
[null,"Fecha de Desclasificación: "]
[null,"Ampliación de periodo de reserva:",null,null,null,null,null,null,null,null,null,null,"Parte(s) o sección(es) Reservada:"]
[]
[]
[null,"Nombre del Responsable de la Clasificación: "]
[null,null,null,null,null,null,null,null,null,null,null,null,"Folio: del",null,null,null,"al"]
[null,null,null,null,null,null,null,null,null,null,null,null,"Tomo(s): ",null,null,"de"]
[null,"Cargo:"]
[null,null,null,null,null,null,null,null,null,null,null,null,"Fundamento Legal:"]
[null,"Firma:"]
[]
[]
[null,null,null,null,null,null,null,null,null,null,null,null,null,null," "]
[]
[]
[]
[]
[]
[]
[null,"Clasificación:",null,null,{"$f":"HOJA_CAPTURA!N40","v":0}]
[]
[null,{"$f":"HOJA_CAPTURA!C40","v":0},null,null,null,null,null,null,null,null,null,null,null,null,null,null,null,null,null,null,null,null,null,null," "]
[null,"Sección: ",null,{"$f":"HOJA_CAPTURA!G40","v":0}]
[null,"Serie: ",null,{"$f":"HOJA_CAPTURA!H40","v":0}]
[null,"Subserie: ",null,{"$f":"HOJA_CAPTURA!I40","v":0}]
[null,"Nombre del Expediente:                     ",null,null,null,null,{"$f":"HOJA_CAPTURA!O40","v":0},null,null,null,null,null,null,null,null,"Número del Expediente: ",null,null,null,null,{"$f":"HOJA_CAPTURA!M40","v":0}]
[null,"Número de Legajo: ",null,null,null,null,null,"de",{"$f":"HOJA_CAPTURA!U40","v":0},"Número de Fojas: "]
[null,"Número Total de Legajos: ",null,null,null,null,{"$f":"HOJA_CAPTURA!U40","v":0},null,null,"Número Total de Fojas:",null,null,null,null,null,{"$f":"HOJA_CAPTURA!V40","v":0}]
[null,"Tipo de Archivo:",null,null,null,"Trámite",null,null,{"$f":"HOJA_CAPTURA!W40","v":0},"Concentración",null,null,{"$f":"HOJA_CAPTURA!X40","v":0},null,"Histórico  ",null,{"$f":"HOJA_CAPTURA!Y40","v":0}]
[null,"Vigencia documental (de acuerdo a CADIDO):",null,null,null,null,null,null,null,null,null,null,"AT",{"$f":"HOJA_CAPTURA!AI40","v":0},null,"AC",{"$f":"HOJA_CAPTURA!AJ40","v":0},null,"Total",null,{"$f":"HOJA_CAPTURA!AK40","v":0}]
[null,"Fecha de Apertura:",null,null,null,{"$f":"HOJA_CAPTURA!Q40","v":"00:00:00"},null,null,null,null,null,null,null," Fecha de Cierre:",null,null,null,{"$f":"HOJA_CAPTURA!R40","v":"00:00:00"}]
[null,null,null,null,null,"(DD-MM-AAAA) ",null,null,null,null,null,null,null,null,null,null,null,"(DD-MM-AAAA) "]
[null,"Asunto o Descripción:                        "]
[null,null,{"$f":"HOJA_CAPTURA!P40","v":0}]
[null,"Valor Documental:   ",null,null,null,"Administrativo",null,null,null,{"$f":"HOJA_CAPTURA!AF40","v":0},"Legal",null,null,null,{"$f":"HOJA_CAPTURA!AG40","v":0},"Contable y/o Fiscal",null,null,null,null,{"$f":"HOJA_CAPTURA!AH40","v":0}]
[null,"Soporte (Formato):",null,null,null,"Papel:",null,{"$f":"HOJA_CAPTURA!AO40","v":0},"Medio magnético:  ",null,null,null,{"$f":"HOJA_CAPTURA!AP40","v":0},"CD:",{"$f":"HOJA_CAPTURA!AQ40","v":0},"USB:",{"$f":"HOJA_CAPTURA!AR40","v":0},"Otros:",null,{"$f":"HOJA_CAPTURA!AS40","v":0}]
[null,null,null,null,null,null,null,null,null,null,null,null,null,null,null,null,null,"(Planos, Fotos, etc.)"]
[null,"Condiciones de acceso:",null,null,null,null,{"$f":"HOJA_CAPTURA!AL40","v":0}]
[null,"Periodo de Reserva:            ",null,null,null,{"$f":"HOJA_CAPTURA!AM40","v":0},null,"años"]
[null,"Fundamento Legal:",null,null,null,{"$f":"HOJA_CAPTURA!AN40","v":0}]
[]
[null,"(Llenar este apartado sólo en el caso de que la información del expediente sea reservada o confidencial)"]
[]
[]
[null,"Fecha de Clasificación: ",null,null,null,null,null,null,null,null,null,null,"Clasificación de la Información:"]
[null,"Plazo de Reserva: ",null,null,null,null,null,null,null,null,null,null,"Reservada:",null,null,null,null,"Confidencial:"]
[null,"Fecha de Desclasificación: "]
[null,"Ampliación de periodo de reserva:",null,null,null,null,null,null,null,null,null,null,"Parte(s) o sección(es) Reservada:"]
[]
[]
[null,"Nombre del Responsable de la Clasificación: "]
[null,null,null,null,null,null,null,null,null,null,null,null,"Folio: del",null,null,null,"al"]
[null,null,null,null,null,null,null,null,null,null,null,null,"Tomo(s): ",null,null,"de"]
[null,"Cargo:"]
[null,null,null,null,null,null,null,null,null,null,null,null,"Fundamento Legal:"]
[null,"Firma:"]
[]
[]
[null,null,null,null,null,null,null,null,null,null,null,null,null,null," "]
[]
[]
[]
[]
[]
[]
[null,"Clasificación:",null,null,{"$f":"HOJA_CAPTURA!N41","v":0}]
[]
[null,{"$f":"HOJA_CAPTURA!C41","v":0},null,null,null,null,null,null,null,null,null,null,null,null,null,null,null,null,null,null,null,null,null,null," "]
[null,"Sección: ",null,{"$f":"HOJA_CAPTURA!G41","v":0}]
[null,"Serie: ",null,{"$f":"HOJA_CAPTURA!H41","v":0}]
[null,"Subserie: ",null,{"$f":"HOJA_CAPTURA!I41","v":0}]
[null,"Nombre del Expediente:                     ",null,null,null,null,{"$f":"HOJA_CAPTURA!O41","v":0},null,null,null,null,null,null,null,null,"Número del Expediente: ",null,null,null,null,{"$f":"HOJA_CAPTURA!M41","v":0}]
[null,"Número de Legajo: ",null,null,null,null,null,"de",{"$f":"HOJA_CAPTURA!U41","v":0},"Número de Fojas: "]
[null,"Número Total de Legajos: ",null,null,null,null,{"$f":"HOJA_CAPTURA!U41","v":0},null,null,"Número Total de Fojas:",null,null,null,null,null,{"$f":"HOJA_CAPTURA!V41","v":0}]
[null,"Tipo de Archivo:",null,null,null,"Trámite",null,null,{"$f":"HOJA_CAPTURA!W41","v":0},"Concentración",null,null,{"$f":"HOJA_CAPTURA!X41","v":0},null,"Histórico  ",null,{"$f":"HOJA_CAPTURA!Y41","v":0}]
[null,"Vigencia documental (de acuerdo a CADIDO):",null,null,null,null,null,null,null,null,null,null,"AT",{"$f":"HOJA_CAPTURA!AI41","v":0},null,"AC",{"$f":"HOJA_CAPTURA!AJ41","v":0},null,"Total",null,{"$f":"HOJA_CAPTURA!AK41","v":0}]
[null,"Fecha de Apertura:",null,null,null,{"$f":"HOJA_CAPTURA!Q41","v":"00:00:00"},null,null,null,null,null,null,null," Fecha de Cierre:",null,null,null,{"$f":"HOJA_CAPTURA!R41","v":"00:00:00"}]
[null,null,null,null,null,"(DD-MM-AAAA) ",null,null,null,null,null,null,null,null,null,null,null,"(DD-MM-AAAA) "]
[null,"Asunto o Descripción:                        "]
[null,null,{"$f":"HOJA_CAPTURA!P41","v":0}]
[null,"Valor Documental:   ",null,null,null,"Administrativo",null,null,null,{"$f":"HOJA_CAPTURA!AF41","v":0},"Legal",null,null,null,{"$f":"HOJA_CAPTURA!AG41","v":0},"Contable y/o Fiscal",null,null,null,null,{"$f":"HOJA_CAPTURA!AH41","v":0}]
[null,"Soporte (Formato):",null,null,null,"Papel:",null,{"$f":"HOJA_CAPTURA!AO41","v":0},"Medio magnético:  ",null,null,null,{"$f":"HOJA_CAPTURA!AP41","v":0},"CD:",{"$f":"HOJA_CAPTURA!AQ41","v":0},"USB:",{"$f":"HOJA_CAPTURA!AR41","v":0},"Otros:",null,{"$f":"HOJA_CAPTURA!AS41","v":0}]
[null,null,null,null,null,null,null,null,null,null,null,null,null,null,null,null,null,"(Planos, Fotos, etc.)"]
[null,"Condiciones de acceso:",null,null,null,null,{"$f":"HOJA_CAPTURA!AL41","v":0}]
[null,"Periodo de Reserva:            ",null,null,null,{"$f":"HOJA_CAPTURA!AM41","v":0},null,"años"]
[null,"Fundamento Legal:",null,null,null,{"$f":"HOJA_CAPTURA!AN41","v":0}]
[]
[null,"(Llenar este apartado sólo en el caso de que la información del expediente sea reservada o confidencial)"]
[]
[]
[null,"Fecha de Clasificación: ",null,null,null,null,null,null,null,null,null,null,"Clasificación de la Información:"]
[null,"Plazo de Reserva: ",null,null,null,null,null,null,null,null,null,null,"Reservada:",null,null,null,null,"Confidencial:"]
[null,"Fecha de Desclasificación: "]
[null,"Ampliación de periodo de reserva:",null,null,null,null,null,null,null,null,null,null,"Parte(s) o sección(es) Reservada:"]
[]
[]
[null,"Nombre del Responsable de la Clasificación: "]
[null,null,null,null,null,null,null,null,null,null,null,null,"Folio: del",null,null,null,"al"]
[null,null,null,null,null,null,null,null,null,null,null,null,"Tomo(s): ",null,null,"de"]
[null,"Cargo:"]
[null,null,null,null,null,null,null,null,null,null,null,null,"Fundamento Legal:"]
[null,"Firma:"]
[]
[]
[null,null,null,null,null,null,null,null,null,null,null,null,null,null," "]
[]
[]
[]
[]
[]
[]
[null,"Clasificación:",null,null,{"$f":"HOJA_CAPTURA!N42","v":0}]
[]
[null,{"$f":"HOJA_CAPTURA!C42","v":0},null,null,null,null,null,null,null,null,null,null,null,null,null,null,null,null,null,null,null,null,null,null," "]
[null,"Sección: ",null,{"$f":"HOJA_CAPTURA!G42","v":0}]
[null,"Serie: ",null,{"$f":"HOJA_CAPTURA!H42","v":0}]
[null,"Subserie: ",null,{"$f":"HOJA_CAPTURA!I42","v":0}]
[null,"Nombre del Expediente:                     ",null,null,null,null,{"$f":"HOJA_CAPTURA!O42","v":0},null,null,null,null,null,null,null,null,"Número del Expediente: ",null,null,null,null,{"$f":"HOJA_CAPTURA!M42","v":0}]
[null,"Número de Legajo: ",null,null,null,null,null,"de",{"$f":"HOJA_CAPTURA!U42","v":0},"Número de Fojas: "]
[null,"Número Total de Legajos: ",null,null,null,null,{"$f":"HOJA_CAPTURA!U42","v":0},null,null,"Número Total de Fojas:",null,null,null,null,null,{"$f":"HOJA_CAPTURA!V42","v":0}]
[null,"Tipo de Archivo:",null,null,null,"Trámite ",null,null,{"$f":"HOJA_CAPTURA!W42","v":0},"Concentración",null,null,{"$f":"HOJA_CAPTURA!X42","v":0},null,"Histórico  ",null,{"$f":"HOJA_CAPTURA!Y42","v":0}]
[null,"Vigencia documental (de acuerdo a CADIDO):",null,null,null,null,null,null,null,null,null,null,"AT",{"$f":"HOJA_CAPTURA!AI42","v":0},null,"AC",{"$f":"HOJA_CAPTURA!AJ42","v":0},null,"Total",null,{"$f":"HOJA_CAPTURA!AK42","v":0}]
[null,"Fecha de Apertura:",null,null,null,{"$f":"HOJA_CAPTURA!Q42","v":"00:00:00"},null,null,null,null,null,null,null," Fecha de Cierre:",null,null,null,{"$f":"HOJA_CAPTURA!R42","v":"00:00:00"}]
[null,null,null,null,null,"(DD-MM-AAAA) ",null,null,null,null,null,null,null,null,null,null,null,"(DD-MM-AAAA) "]
[null,"Asunto o Descripción:                        "]
[null,null,{"$f":"HOJA_CAPTURA!P42","v":0}]
[null,"Valor Documental:   ",null,null,null,"Administrativo",null,null,null,{"$f":"HOJA_CAPTURA!AF42","v":0},"Legal",null,null,null,{"$f":"HOJA_CAPTURA!AG42","v":0},"Contable y/o Fiscal",null,null,null,null,{"$f":"HOJA_CAPTURA!AH42","v":0}]
[null,"Soporte (Formato):",null,null,null,"Papel:",null,{"$f":"HOJA_CAPTURA!AO42","v":0},"Medio magnético:  ",null,null,null,{"$f":"HOJA_CAPTURA!AP42","v":0},"CD:",{"$f":"HOJA_CAPTURA!AQ42","v":0},"USB:",{"$f":"HOJA_CAPTURA!AR42","v":0},"Otros:",null,{"$f":"HOJA_CAPTURA!AS42","v":0}]
[null,null,null,null,null,null,null,null,null,null,null,null,null,null,null,null,null,"(Planos, Fotos, etc.)"]
[null,"Condiciones de acceso:",null,null,null,null,{"$f":"HOJA_CAPTURA!AL42","v":0}]
[null,"Periodo de Reserva:            ",null,null,null,{"$f":"HOJA_CAPTURA!AM42","v":0},null,"años"]
[null,"Fundamento Legal:",null,null,null,{"$f":"HOJA_CAPTURA!AN42","v":0}]
[]
[null,"(Llenar este apartado sólo en el caso de que la información del expediente sea reservada o confidencial)"]
[]
[]
[null,"Fecha de Clasificación: ",null,null,null,null,null,null,null,null,null,null,"Clasificación de la Información:"]
[null,"Plazo de Reserva: ",null,null,null,null,null,null,null,null,null,null,"Reservada:",null,null,null,null,"Confidencial:"]
[null,"Fecha de Desclasificación: "]
[null,"Ampliación de periodo de reserva:",null,null,null,null,null,null,null,null,null,null,"Parte(s) o sección(es) Reservada:"]
[]
[]
[null,"Nombre del Responsable de la Clasificación: "]
[null,null,null,null,null,null,null,null,null,null,null,null,"Folio: del",null,null,null,"al"]
[null,null,null,null,null,null,null,null,null,null,null,null,"Tomo(s): ",null,null,"de"]
[null,"Cargo:"]
[null,null,null,null,null,null,null,null,null,null,null,null,"Fundamento Legal:"]
[null,"Firma:"]
[]
[]
[null,null,null,null,null,null,null,null,null,null,null,null,null,null," "]
[]
[]
[]
[]
[]
[]
[null,"Clasificación:",null,null,{"$f":"HOJA_CAPTURA!N43","v":0}]
[]
[null,{"$f":"HOJA_CAPTURA!C43","v":0},null,null,null,null,null,null,null,null,null,null,null,null,null,null,null,null,null,null,null,null,null,null," "]
[null,"Sección: ",null,{"$f":"HOJA_CAPTURA!G43","v":0}]
[null,"Serie: ",null,{"$f":"HOJA_CAPTURA!H43","v":0}]
[null,"Subserie: ",null,{"$f":"HOJA_CAPTURA!I43","v":0}]
[null,"Nombre del Expediente:                     ",null,null,null,null,{"$f":"HOJA_CAPTURA!O43","v":0},null,null,null,null,null,null,null,null,"Número del Expediente: ",null,null,null,null,{"$f":"HOJA_CAPTURA!M43","v":0}]
[null,"Número de Legajo: ",null,null,null,null,null,"de",{"$f":"HOJA_CAPTURA!U43","v":0},"Número de Fojas: "]
[null,"Número Total de Legajos: ",null,null,null,null,{"$f":"HOJA_CAPTURA!U43","v":0},null,null,"Número Total de Fojas:",null,null,null,null,null,{"$f":"HOJA_CAPTURA!V43","v":0}]
[null,"Tipo de Archivo:",null,null,null,"Trámte ",null,null,{"$f":"HOJA_CAPTURA!W43","v":0},"Concentración",null,null,{"$f":"HOJA_CAPTURA!X43","v":0},null,"Histórico  ",null,{"$f":"HOJA_CAPTURA!Y43","v":0}]
[null,"Vigencia documental (de acuerdo a CADIDO):",null,null,null,null,null,null,null,null,null,null,"AT",{"$f":"HOJA_CAPTURA!AI43","v":0},null,"AC",{"$f":"HOJA_CAPTURA!AJ43","v":0},null,"Total",null,{"$f":"HOJA_CAPTURA!AK43","v":0}]
[null,"Fecha de Apertura:",null,null,null,{"$f":"HOJA_CAPTURA!Q43","v":"00:00:00"},null,null,null,null,null,null,null," Fecha de Cierre:",null,null,null,{"$f":"HOJA_CAPTURA!R43","v":"00:00:00"}]
[null,null,null,null,null,"(DD-MM-AAAA) ",null,null,null,null,null,null,null,null,null,null,null,"(DD-MM-AAAA) "]
[null,"Asunto o Descripción:                        "]
[null,null,{"$f":"HOJA_CAPTURA!P43","v":0}]
[null,"Valor Documental:   ",null,null,null,"Administrativo",null,null,null,{"$f":"HOJA_CAPTURA!AF43","v":0},"Legal",null,null,null,{"$f":"HOJA_CAPTURA!AG43","v":0},"Contable y/o Fiscal",null,null,null,null,{"$f":"HOJA_CAPTURA!AH43","v":0}]
[null,"Soporte (Formato):",null,null,null,"Papel:",null,{"$f":"HOJA_CAPTURA!AO43","v":0},"Medio magnético:  ",null,null,null,{"$f":"HOJA_CAPTURA!AP43","v":0},"CD:",{"$f":"HOJA_CAPTURA!AQ43","v":0},"USB:",{"$f":"HOJA_CAPTURA!AR43","v":0},"Otros:",null,{"$f":"HOJA_CAPTURA!AS43","v":0}]
[null,null,null,null,null,null,null,null,null,null,null,null,null,null,null,null,null,"(Planos, Fotos, etc.)"]
[null,"Condiciones de acceso:",null,null,null,null,{"$f":"HOJA_CAPTURA!AL43","v":0}]
[null,"Periodo de Reserva:            ",null,null,null,{"$f":"HOJA_CAPTURA!AM43","v":0},null,"años"]
[null,"Fundamento Legal:",null,null,null,{"$f":"HOJA_CAPTURA!AN43","v":0}]
[]
[null,"(Llenar este apartado sólo en el caso de que la información del expediente sea reservada o confidencial)"]
[]
[]
[null,"Fecha de Clasificación: ",null,null,null,null,null,null,null,null,null,null,"Clasificación de la Información:"]
[null,"Plazo de Reserva: ",null,null,null,null,null,null,null,null,null,null,"Reservada:",null,null,null,null,"Confidencial:"]
[null,"Fecha de Desclasificación: "]
[null,"Ampliación de periodo de reserva:",null,null,null,null,null,null,null,null,null,null,"Parte(s) o sección(es) Reservada:"]
[]
[]
[null,"Nombre del Responsable de la Clasificación: "]
[null,null,null,null,null,null,null,null,null,null,null,null,"Folio: del",null,null,null,"al"]
[null,null,null,null,null,null,null,null,null,null,null,null,"Tomo(s): ",null,null,"de"]
[null,"Cargo:"]
[null,null,null,null,null,null,null,null,null,null,null,null,"Fundamento Legal:"]
[null,"Firma:"]
[]
[]
[null,null,null,null,null,null,null,null,null,null,null,null,null,null," "]
[]
[]
[]
[]
[]
[]
[null,"Clasificación:",null,null,{"$f":"HOJA_CAPTURA!N44","v":0}]
[]
[null,{"$f":"HOJA_CAPTURA!C44","v":0},null,null,null,null,null,null,null,null,null,null,null,null,null,null,null,null,null,null,null,null,null,null," "]
[null,"Sección: ",null,{"$f":"HOJA_CAPTURA!G44","v":0}]
[null,"Serie: ",null,{"$f":"HOJA_CAPTURA!H44","v":0}]
[null,"Subserie: ",null,{"$f":"HOJA_CAPTURA!I44","v":0}]
[null,"Nombre del Expediente:                     ",null,null,null,null,{"$f":"HOJA_CAPTURA!O44","v":0},null,null,null,null,null,null,null,null,"Número del Expediente: ",null,null,null,null,{"$f":"HOJA_CAPTURA!M44","v":0}]
[null,"Número de Legajo: ",null,null,null,null,null,"de",{"$f":"HOJA_CAPTURA!U44","v":0},"Número de Fojas: "]
[null,"Número Total de Legajos: ",null,null,null,null,{"$f":"HOJA_CAPTURA!U44","v":0},null,null,"Número Total de Fojas:",null,null,null,null,null,{"$f":"HOJA_CAPTURA!V44","v":0}]
[null,"Tipo de Archivo:",null,null,null,"Trámite",null,null,{"$f":"HOJA_CAPTURA!W44","v":0},"Concentración",null,null,{"$f":"HOJA_CAPTURA!X44","v":0},null,"Histórico  ",null,{"$f":"HOJA_CAPTURA!Y44","v":0}]
[null,"Vigencia documental (de acuerdo a CADIDO):",null,null,null,null,null,null,null,null,null,null,"AT",{"$f":"HOJA_CAPTURA!AI44","v":0},null,"AC",{"$f":"HOJA_CAPTURA!AJ44","v":0},null,"Total",null,{"$f":"HOJA_CAPTURA!AK44","v":0}]
[null,"Fecha de Apertura:",null,null,null,{"$f":"HOJA_CAPTURA!Q44","v":"00:00:00"},null,null,null,null,null,null,null," Fecha de Cierre:",null,null,null,{"$f":"HOJA_CAPTURA!R44","v":"00:00:00"}]
[null,null,null,null,null,"(DD-MM-AAAA) ",null,null,null,null,null,null,null,null,null,null,null,"(DD-MM-AAAA) "]
[null,"Asunto o Descripción:                        "]
[null,null,{"$f":"HOJA_CAPTURA!P44","v":0}]
[null,"Valor Documental:   ",null,null,null,"Administrativo",null,null,null,{"$f":"HOJA_CAPTURA!AF44","v":0},"Legal",null,null,null,{"$f":"HOJA_CAPTURA!AG44","v":0},"Contable y/o Fiscal",null,null,null,null,{"$f":"HOJA_CAPTURA!AH44","v":0}]
[null,"Soporte (Formato):",null,null,null,"Papel:",null,{"$f":"HOJA_CAPTURA!AO44","v":0},"Medio magnético:  ",null,null,null,{"$f":"HOJA_CAPTURA!AP44","v":0},"CD:",{"$f":"HOJA_CAPTURA!AQ44","v":0},"USB:",{"$f":"HOJA_CAPTURA!AR44","v":0},"Otros:",null,{"$f":"HOJA_CAPTURA!AS44","v":0}]
[null,null,null,null,null,null,null,null,null,null,null,null,null,null,null,null,null,"(Planos, Fotos, etc.)"]
[null,"Condiciones de acceso:",null,null,null,null,{"$f":"HOJA_CAPTURA!AL44","v":0}]
[null,"Periodo de Reserva:            ",null,null,null,{"$f":"HOJA_CAPTURA!AM44","v":0},null,"años"]
[null,"Fundamento Legal:",null,null,null,{"$f":"HOJA_CAPTURA!AN44","v":0}]
[]
[null,"(Llenar este apartado sólo en el caso de que la información del expediente sea reservada o confidencial)"]
[]
[]
[null,"Fecha de Clasificación: ",null,null,null,null,null,null,null,null,null,null,"Clasificación de la Información:"]
[null,"Plazo de Reserva: ",null,null,null,null,null,null,null,null,null,null,"Reservada:",null,null,null,null,"Confidencial:"]
[null,"Fecha de Desclasificación: "]
[null,"Ampliación de periodo de reserva:",null,null,null,null,null,null,null,null,null,null,"Parte(s) o sección(es) Reservada:"]
[]
[]
[null,"Nombre del Responsable de la Clasificación: "]
[null,null,null,null,null,null,null,null,null,null,null,null,"Folio: del",null,null,null,"al"]
[null,null,null,null,null,null,null,null,null,null,null,null,"Tomo(s): ",null,null,"de"]
[null,"Cargo:"]
[null,null,null,null,null,null,null,null,null,null,null,null,"Fundamento Legal:"]
[null,"Firma:"]
[]
[]
[null,null,null,null,null,null,null,null,null,null,null,null,null,null," "]
[]
[]
[]
[]
[]
[]
[null,"Clasificación:",null,null,{"$f":"HOJA_CAPTURA!N45","v":0}]
[]
[null,{"$f":"HOJA_CAPTURA!C45","v":0},null,null,null,null,null,null,null,null,null,null,null,null,null,null,null,null,null,null,null,null,null,null," "]
[null,"Sección: ",null,{"$f":"HOJA_CAPTURA!G45","v":0}]
[null,"Serie: ",null,{"$f":"HOJA_CAPTURA!H45","v":0}]
[null,"Subserie: ",null,{"$f":"HOJA_CAPTURA!I45","v":0}]
[null,"Nombre del Expediente:                     ",null,null,null,null,{"$f":"HOJA_CAPTURA!O45","v":0},null,null,null,null,null,null,null,null,"Número del Expediente: ",null,null,null,null,{"$f":"HOJA_CAPTURA!M45","v":0}]
[null,"Número de Legajo: ",null,null,null,null,null,"de",{"$f":"HOJA_CAPTURA!U45","v":0},"Número de Fojas: "]
[null,"Número Total de Legajos: ",null,null,null,null,{"$f":"HOJA_CAPTURA!U45","v":0},null,null,"Número Total de Fojas:",null,null,null,null,null,{"$f":"HOJA_CAPTURA!V45","v":0}]
[null,"Tipo de Archivo:",null,null,null,"Trámite ",null,null,{"$f":"HOJA_CAPTURA!W45","v":0},"Concentración",null,null,{"$f":"HOJA_CAPTURA!X45","v":0},null,"Histórico  ",null,{"$f":"HOJA_CAPTURA!Y45","v":0}]
[null,"Vigencia documental (de acuerdo a CADIDO):",null,null,null,null,null,null,null,null,null,null,"AT",{"$f":"HOJA_CAPTURA!AI45","v":0},null,"AC",{"$f":"HOJA_CAPTURA!AJ45","v":0},null,"Total",null,{"$f":"HOJA_CAPTURA!AK45","v":0}]
[null,"Fecha de Apertura:",null,null,null,{"$f":"HOJA_CAPTURA!Q45","v":"00:00:00"},null,null,null,null,null,null,null," Fecha de Cierre:",null,null,null,{"$f":"HOJA_CAPTURA!R45","v":"00:00:00"}]
[null,null,null,null,null,"(DD-MM-AAAA) ",null,null,null,null,null,null,null,null,null,null,null,"(DD-MM-AAAA) "]
[null,"Asunto o Descripción:                        "]
[null,null,{"$f":"HOJA_CAPTURA!P45","v":0}]
[null,"Valor Documental:   ",null,null,null,"Administrativo",null,null,null,{"$f":"HOJA_CAPTURA!AF45","v":0},"Legal",null,null,null,{"$f":"HOJA_CAPTURA!AG45","v":0},"Contable y/o Fiscal",null,null,null,null,{"$f":"HOJA_CAPTURA!AH45","v":0}]
[null,"Soporte (Formato):",null,null,null,"Papel:",null,{"$f":"HOJA_CAPTURA!AO45","v":0},"Medio magnético:  ",null,null,null,{"$f":"HOJA_CAPTURA!AP45","v":0},"CD:",{"$f":"HOJA_CAPTURA!AQ45","v":0},"USB:",{"$f":"HOJA_CAPTURA!AR45","v":0},"Otros:",null,{"$f":"HOJA_CAPTURA!AS45","v":0}]
[null,null,null,null,null,null,null,null,null,null,null,null,null,null,null,null,null,"(Planos, Fotos, etc.)"]
[null,"Condiciones de acceso:",null,null,null,null,{"$f":"HOJA_CAPTURA!AL45","v":0}]
[null,"Periodo de Reserva:            ",null,null,null,{"$f":"HOJA_CAPTURA!AM45","v":0},null,"años"]
[null,"Fundamento Legal:",null,null,null,{"$f":"HOJA_CAPTURA!AN45","v":0}]
[]
[null,"(Llenar este apartado sólo en el caso de que la información del expediente sea reservada o confidencial)"]
[]
[]
[null,"Fecha de Clasificación: ",null,null,null,null,null,null,null,null,null,null,"Clasificación de la Información:"]
[null,"Plazo de Reserva: ",null,null,null,null,null,null,null,null,null,null,"Reservada:",null,null,null,null,"Confidencial:"]
[null,"Fecha de Desclasificación: "]
[null,"Ampliación de periodo de reserva:",null,null,null,null,null,null,null,null,null,null,"Parte(s) o sección(es) Reservada:"]
[]
[]
[null,"Nombre del Responsable de la Clasificación: "]
[null,null,null,null,null,null,null,null,null,null,null,null,"Folio: del",null,null,null,"al"]
[null,null,null,null,null,null,null,null,null,null,null,null,"Tomo(s): ",null,null,"de"]
[null,"Cargo:"]
[null,null,null,null,null,null,null,null,null,null,null,null,"Fundamento Legal:"]
[null,"Firma:"]
[]
[]
[null,null,null,null,null,null,null,null,null,null,null,null,null,null," "]
[]
[]
[]
[]
[]
[]
[null,"Clasificación:",null,null,{"$f":"HOJA_CAPTURA!N46","v":0}]
[]
[null,{"$f":"HOJA_CAPTURA!C46","v":0},null,null,null,null,null,null,null,null,null,null,null,null,null,null,null,null,null,null,null,null,null,null," "]
[null,"Sección: ",null,{"$f":"HOJA_CAPTURA!G46","v":0}]
[null,"Serie: ",null,{"$f":"HOJA_CAPTURA!H46","v":0}]
[null,"Subserie: ",null,{"$f":"HOJA_CAPTURA!I46","v":0}]
[null,"Nombre del Expediente:                     ",null,null,null,null,{"$f":"HOJA_CAPTURA!O46","v":0},null,null,null,null,null,null,null,null,"Número del Expediente: ",null,null,null,null,{"$f":"HOJA_CAPTURA!M46","v":0}]
[null,"Número de Legajo: ",null,null,null,null,null,"de",{"$f":"HOJA_CAPTURA!U46","v":0},"Número de Fojas: "]
[null,"Número Total de Legajos: ",null,null,null,null,{"$f":"HOJA_CAPTURA!U46","v":0},null,null,"Número Total de Fojas:",null,null,null,null,null,{"$f":"HOJA_CAPTURA!V46","v":0}]
[null,"Tipo de Archivo:",null,null,null,"Trámite",null,null,{"$f":"HOJA_CAPTURA!W46","v":0},"Concentración",null,null,{"$f":"HOJA_CAPTURA!X46","v":0},null,"Histórico  ",null,{"$f":"HOJA_CAPTURA!Y46","v":0}]
[null,null,{"$f":"HOJA_CAPTURA!P46","v":0}]
[null,"Periodo de Reserva:            ",null,null,null,{"$f":"HOJA_CAPTURA!AM46","v":0},null,"años"]
[null,"Ampliación de periodo de reserva:",null,null,null,null,null,null,null,null,null,null,"Parte(s) o sección(es) Reservada:"]
[]
[null,"Clasificación:",null,null,{"$f":"HOJA_CAPTURA!N47","v":0}]
[null,"Tipo de Archivo:",null,null,null,"Trámite",null,null,{"$f":"HOJA_CAPTURA!W47","v":0},"Concentración",null,null,{"$f":"HOJA_CAPTURA!X47","v":0},null,"Histórico  ",null,{"$f":"HOJA_CAPTURA!Y47","v":0}]
[null,"Condiciones de acceso:",null,null,null,null,{"$f":"HOJA_CAPTURA!AL47","v":0}]
[null,"Periodo de Reserva:            ",null,null,null,{"$f":"HOJA_CAPTURA!AM47","v":0},null,"años"]
[null,"Ampliación de periodo de reserva:",null,null,null,null,null,null,null,null,null,null,"Parte(s) o sección(es) Reservada:"]
[]
[null,"Clasificación:",null,null,{"$f":"HOJA_CAPTURA!N48","v":0}]
[null,"Tipo de Archivo:",null,null,null,"Trámite",null,null,{"$f":"HOJA_CAPTURA!W48","v":0},"Concentración",null,null,{"$f":"HOJA_CAPTURA!X48","v":0},null,"Histórico  ",null,{"$f":"HOJA_CAPTURA!Y48","v":0}]
[null,"Condiciones de acceso:",null,null,null,null,{"$f":"HOJA_CAPTURA!AL48","v":0}]
[null,"Fecha de Desclasificación: "]
[null,"Firma:"]
[]
[null,"Clasificación:",null,null,{"$f":"HOJA_CAPTURA!N49","v":0}]
[null,"Tipo de Archivo:",null,null,null,"Trámite",null,null,{"$f":"HOJA_CAPTURA!W49","v":0},"Concentración",null,null,{"$f":"HOJA_CAPTURA!X49","v":0},null,"Histórico  ",null,{"$f":"HOJA_CAPTURA!Y49","v":0}]
[null,"Condiciones de acceso:",null,null,null,null,{"$f":"HOJA_CAPTURA!AL49","v":0}]
[null,"Fecha de Desclasificación: "]
[null,"Firma:"]
[]
[null,"Número de Legajo: ",null,null,null,null,null,"de",{"$f":"HOJA_CAPTURA!U50","v":0},"Número de Fojas: "]
[null,"Número Total de Legajos: ",null,null,null,null,{"$f":"HOJA_CAPTURA!U50","v":0},null,null,"Número Total de Fojas:",null,null,null,null,null,{"$f":"HOJA_CAPTURA!V50","v":0}]
[null,null,null,null,null,null,null,null,null,null,null,null,null,null,null,null,null,"(Planos, Fotos, etc.)"]
[null,"Plazo de Reserva: ",null,null,null,null,null,null,null,null,null,null,"Reservada:",null,null,null,null,"Confidencial:"]
[null,null,null,null,null,null,null,null,null,null,null,null,"Fundamento Legal:"]
[]
[null,"Número de Legajo: ",null,null,null,null,null,"de",{"$f":"HOJA_CAPTURA!U51","v":0},"Número de Fojas: "]
[null,"Soporte (Formato):",null,null,null,"Papel:",null,{"$f":"HOJA_CAPTURA!AO51","v":0},"Medio magnético:  ",null,null,null,{"$f":"HOJA_CAPTURA!AP51","v":0},"CD:",{"$f":"HOJA_CAPTURA!AQ51","v":0},"USB:",{"$f":"HOJA_CAPTURA!AR51","v":0},"Otros:",null,{"$f":"HOJA_CAPTURA!AS51","v":0}]
[null,"Fecha de Clasificación: ",null,null,null,null,null,null,null,null,null,null,"Clasificación de la Información:"]
[null,"Plazo de Reserva: ",null,null,null,null,null,null,null,null,null,null,"Reservada:",null,null,null,null,"Confidencial:"]
[null,null,null,null,null,null,null,null,null,null,null,null,"Fundamento Legal:"]
[]
[null,"Número de Legajo: ",null,null,null,null,null,"de",{"$f":"HOJA_CAPTURA!U52","v":0},"Número de Fojas: "]
[null,"Soporte (Formato):",null,null,null,"Papel:",null,{"$f":"HOJA_CAPTURA!AO52","v":0},"Medio magnético:  ",null,null,null,{"$f":"HOJA_CAPTURA!AP52","v":0},"CD:",{"$f":"HOJA_CAPTURA!AQ52","v":0},"USB:",{"$f":"HOJA_CAPTURA!AR52","v":0},"Otros:",null,{"$f":"HOJA_CAPTURA!AS52","v":0}]
[null,"Fecha de Clasificación: ",null,null,null,null,null,null,null,null,null,null,"Clasificación de la Información:"]
[null,"Cargo:"]
[]
[]
[null,"Número de Legajo: ",null,null,null,null,null,"de",{"$f":"HOJA_CAPTURA!U53","v":0},"Número de Fojas: "]
[null,"Soporte (Formato):",null,null,null,"Papel:",null,{"$f":"HOJA_CAPTURA!AO53","v":0},"Medio magnético:  ",null,null,null,{"$f":"HOJA_CAPTURA!AP53","v":0},"CD:",{"$f":"HOJA_CAPTURA!AQ53","v":0},"USB:",{"$f":"HOJA_CAPTURA!AR53","v":0},"Otros:",null,{"$f":"HOJA_CAPTURA!AS53","v":0}]
[]
[null,null,null,null,null,null,null,null,null,null,null,null,"Tomo(s): ",null,null,"de"]
[]
[null,"Subserie: ",null,{"$f":"HOJA_CAPTURA!I54","v":0}]
[null,null,{"$f":"HOJA_CAPTURA!P54","v":0}]
[null,"Valor Documental:   ",null,null,null,"Administrativo",null,null,null,{"$f":"HOJA_CAPTURA!AF54","v":0},"Legal",null,null,null,{"$f":"HOJA_CAPTURA!AG54","v":0},"Contable y/o Fiscal",null,null,null,null,{"$f":"HOJA_CAPTURA!AH54","v":0}]
[]
[null,null,null,null,null,null,null,null,null,null,null,null,"Tomo(s): ",null,null,"de"]
[]
[null,"Subserie: ",null,{"$f":"HOJA_CAPTURA!I55","v":0}]
[null,null,{"$f":"HOJA_CAPTURA!P55","v":0}]
[]
[null,null,null,null,null,null,null,null,null,null,null,null,"Folio: del",null,null,null,"al"]
[null,null,null,null,null,null,null,null,null,null,null,null,"Tomo(s): ",null,null,"de"]
[]
[null,"Subserie: ",null,{"$f":"HOJA_CAPTURA!I56","v":0}]
[null,null,{"$f":"HOJA_CAPTURA!P56","v":0}]
[]
[null,null,null,null,null,null,null,null,null,null,null,null,"Folio: del",null,null,null,"al"]
[]
[null,"Serie: ",null,{"$f":"HOJA_CAPTURA!H57","v":0}]
[null,"Fecha de Apertura:",null,null,null,{"$f":"HOJA_CAPTURA!Q57","v":"00:00:00"},null,null,null,null,null,null,null," Fecha de Cierre:",null,null,null,{"$f":"HOJA_CAPTURA!R57","v":"00:00:00"}]
[null,"Asunto o Descripción:                        "]
[null,"(Llenar este apartado sólo en el caso de que la información del expediente sea reservada o confidencial)"]
[null,"Nombre del Responsable de la Clasificación: "]
[]
[null,"Sección: ",null,{"$f":"HOJA_CAPTURA!G58","v":0}]
[null,null,null,null,null,"(DD-MM-AAAA) ",null,null,null,null,null,null,null,null,null,null,null,"(DD-MM-AAAA) "]
[]
[null,"(Llenar este apartado sólo en el caso de que la información del expediente sea reservada o confidencial)"]
[null,"Nombre del Responsable de la Clasificación: "]
[]
[null,"Sección: ",null,{"$f":"HOJA_CAPTURA!G59","v":0}]
[null,null,null,null,null,"(DD-MM-AAAA) ",null,null,null,null,null,null,null,null,null,null,null,"(DD-MM-AAAA) "]
[]
[]
[null,null,null,null,null,null,null,null,null,null,null,null,null,null," "]
[]
[null,"Sección: ",null,{"$f":"HOJA_CAPTURA!G60","v":0}]
[null,null,null,null,null,"(DD-MM-AAAA) ",null,null,null,null,null,null,null,null,null,null,null,"(DD-MM-AAAA) "]
[]
[]
[]
[]
[null,"Vigencia documental (de acuerdo a CADIDO):",null,null,null,null,null,null,null,null,null,null,"AT",{"$f":"HOJA_CAPTURA!AI61","v":0},null,"AC",{"$f":"HOJA_CAPTURA!AJ61","v":0},null,"Total",null,{"$f":"HOJA_CAPTURA!AK61","v":0}]
[null,"Fecha de Apertura:",null,null,null,{"$f":"HOJA_CAPTURA!Q61","v":"00:00:00"},null,null,null,null,null,null,null," Fecha de Cierre:",null,null,null,{"$f":"HOJA_CAPTURA!R61","v":"00:00:00"}]
[null,"Fundamento Legal:",null,null,null,{"$f":"HOJA_CAPTURA!AN61","v":0}]
[]
[]
[]
[null,"Vigencia documental (de acuerdo a CADIDO):",null,null,null,null,null,null,null,null,null,null,"AT",{"$f":"HOJA_CAPTURA!AI62","v":0},null,"AC",{"$f":"HOJA_CAPTURA!AJ62","v":0},null,"Total",null,{"$f":"HOJA_CAPTURA!AK62","v":0}]
[null,"Periodo de Reserva:            ",null,null,null,{"$f":"HOJA_CAPTURA!AM62","v":0},null,"años"]
[null,"Ampliación de periodo de reserva:",null,null,null,null,null,null,null,null,null,null,"Parte(s) o sección(es) Reservada:"]
[]
[]
[]
[null,"Vigencia documental (de acuerdo a CADIDO):",null,null,null,null,null,null,null,null,null,null,"AT",{"$f":"HOJA_CAPTURA!AI63","v":0},null,"AC",{"$f":"HOJA_CAPTURA!AJ63","v":0},null,"Total",null,{"$f":"HOJA_CAPTURA!AK63","v":0}]
[null,"Periodo de Reserva:            ",null,null,null,{"$f":"HOJA_CAPTURA!AM63","v":0},null,"años"]
[null,"Ampliación de periodo de reserva:",null,null,null,null,null,null,null,null,null,null,"Parte(s) o sección(es) Reservada:"]
[]
[null,"Clasificación:",null,null,{"$f":"HOJA_CAPTURA!N64","v":0}]
[]
[null,"Vigencia documental (de acuerdo a CADIDO):",null,null,null,null,null,null,null,null,null,null,"AT",{"$f":"HOJA_CAPTURA!AI64","v":0},null,"AC",{"$f":"HOJA_CAPTURA!AJ64","v":0},null,"Total",null,{"$f":"HOJA_CAPTURA!AK64","v":0}]
[null,null,null,null,null,null,null,null,null,null,null,null,null,null,null,null,null,"(Planos, Fotos, etc.)"]
[null,"Fecha de Desclasificación: "]
[null,"Firma:"]
[]
[null,"Número Total de Legajos: ",null,null,null,null,{"$f":"HOJA_CAPTURA!U65","v":0},null,null,"Número Total de Fojas:",null,null,null,null,null,{"$f":"HOJA_CAPTURA!V65","v":0}]
[null,null,null,null,null,null,null,null,null,null,null,null,null,null,null,null,null,"(Planos, Fotos, etc.)"]
[null,"Condiciones de acceso:",null,null,null,null,{"$f":"HOJA_CAPTURA!AL65","v":0}]
[null,"Fecha de Desclasificación: "]
[null,"Firma:"]
[]
[null,"Número Total de Legajos: ",null,null,null,null,{"$f":"HOJA_CAPTURA!U66","v":0},null,null,"Número Total de Fojas:",null,null,null,null,null,{"$f":"HOJA_CAPTURA!V66","v":0}]
[null,null,null,null,null,null,null,null,null,null,null,null,null,null,null,null,null,"(Planos, Fotos, etc.)"]
[null,"Plazo de Reserva: ",null,null,null,null,null,null,null,null,null,null,"Reservada:",null,null,null,null,"Confidencial:"]
[null,null,null,null,null,null,null,null,null,null,null,null,"Fundamento Legal:"]
[null,"Firma:"]
[]
[null,"Número Total de Legajos: ",null,null,null,null,{"$f":"HOJA_CAPTURA!U67","v":0},null,null,"Número Total de Fojas:",null,null,null,null,null,{"$f":"HOJA_CAPTURA!V67","v":0}]
[null,null,null,null,null,null,null,null,null,null,null,null,null,null,null,null,null,"(Planos, Fotos, etc.)"]
[null,"Plazo de Reserva: ",null,null,null,null,null,null,null,null,null,null,"Reservada:",null,null,null,null,"Confidencial:"]
[null,null,null,null,null,null,null,null,null,null,null,null,"Fundamento Legal:"]
[]
[null,"Serie: ",null,{"$f":"HOJA_CAPTURA!H68","v":0}]
[null,"Número de Legajo: ",null,null,null,null,null,"de",{"$f":"HOJA_CAPTURA!U68","v":0},"Número de Fojas: "]
[null,"Soporte (Formato):",null,null,null,"Papel:",null,{"$f":"HOJA_CAPTURA!AO68","v":0},"Medio magnético:  ",null,null,null,{"$f":"HOJA_CAPTURA!AP68","v":0},"CD:",{"$f":"HOJA_CAPTURA!AQ68","v":0},"USB:",{"$f":"HOJA_CAPTURA!AR68","v":0},"Otros:",null,{"$f":"HOJA_CAPTURA!AS68","v":0}]
[null,"Fecha de Clasificación: ",null,null,null,null,null,null,null,null,null,null,"Clasificación de la Información:"]
[null,"Cargo:"]
[]
[null,"Nombre del Expediente:                     ",null,null,null,null,{"$f":"HOJA_CAPTURA!O69","v":0},null,null,null,null,null,null,null,null,"Número del Expediente: ",null,null,null,null,{"$f":"HOJA_CAPTURA!M69","v":0}]
[null,"Valor Documental:   ",null,null,null,"Administrativo",null,null,null,{"$f":"HOJA_CAPTURA!#REF!","v":{"$error":"#REF!"}},"Legal",null,null,null,{"$f":"HOJA_CAPTURA!#REF!","v":{"$error":"#REF!"}},"Contable y/o Fiscal",null,null,null,null,{"$f":"HOJA_CAPTURA!AH69","v":0}]
[]
[null,"Fecha de Clasificación: ",null,null,null,null,null,null,null,null,null,null,"Clasificación de la Información:"]
[null,"Cargo:"]
[]
[null,"Nombre del Expediente:                     ",null,null,null,null,{"$f":"HOJA_CAPTURA!O70","v":0},null,null,null,null,null,null,null,null,"Número del Expediente: ",null,null,null,null,{"$f":"HOJA_CAPTURA!M70","v":0}]
[null,"Valor Documental:   ",null,null,null,"Administrativo",null,null,null,{"$f":"HOJA_CAPTURA!AF70","v":0},"Legal",null,null,null,{"$f":"HOJA_CAPTURA!AG70","v":0},"Contable y/o Fiscal",null,null,null,null,{"$f":"HOJA_CAPTURA!AH70","v":0}]
[]
[null,null,null,null,null,null,null,null,null,null,null,null,"Tomo(s): ",null,null,"de"]
[]
[]
[null,"Nombre del Expediente:                     ",null,null,null,null,{"$f":"HOJA_CAPTURA!O71","v":0},null,null,null,null,null,null,null,null,"Número del Expediente: ",null,null,null,null,{"$f":"HOJA_CAPTURA!M71","v":0}]
[null,"Valor Documental:   ",null,null,null,"Administrativo",null,null,null,{"$f":"HOJA_CAPTURA!AF71","v":0},"Legal",null,null,null,{"$f":"HOJA_CAPTURA!AG71","v":0},"Contable y/o Fiscal",null,null,null,null,{"$f":"HOJA_CAPTURA!AH71","v":0}]
[]
[]
[]
[null,"Serie: ",null,{"$f":"HOJA_CAPTURA!H72","v":0}]
[null,"Asunto o Descripción:                        "]
[null,null,{"$f":"HOJA_CAPTURA!P72","v":0}]
[]
[null,null,null,null,null,null,null,null,null,null,null,null,"Folio: del",null,null,null,"al"]
[]
[null,"Serie: ",null,{"$f":"HOJA_CAPTURA!H73","v":0}]
[null,"Asunto o Descripción:                        "]
[null,"(Llenar este apartado sólo en el caso de que la información del expediente sea reservada o confidencial)"]
[null,"Nombre del Responsable de la Clasificación: "]
[null,null,null,null,null,null,null,null,null,null,null,null,"Folio: del",null,null,null,"al"]
[]
[null,"Serie: ",null,{"$f":"HOJA_CAPTURA!H74","v":0}]
[null,"Asunto o Descripción:                        "]
[null,"(Llenar este apartado sólo en el caso de que la información del expediente sea reservada o confidencial)"]
[null,"Nombre del Responsable de la Clasificación: "]
[]
[null,"Sección: ",null,{"$f":"HOJA_CAPTURA!G75","v":0}]
[null,"Serie: ",null,{"$f":"HOJA_CAPTURA!H75","v":0}]
[null,null,null,null,null,null,null,null,null,null,null,null,null,null,null,null,null,"(Planos, Fotos, etc.)"]
[]
[]
[null,null,null,null,null,null,null,null,null,null,null,null,null,null," "]
[null,{"$f":"HOJA_CAPTURA!C76","v":0},null,null,null,null,null,null,null,null,null,null,null,null,null,null,null,null,null,null,null,null,null,null," "]
[null,"Fecha de Apertura:",null,null,null,{"$f":"HOJA_CAPTURA!Q76","v":"00:00:00"},null,null,null,null,null,null,null," Fecha de Cierre:",null,null,null,{"$f":"HOJA_CAPTURA!R76","v":"00:00:00"}]
[null,"Fundamento Legal:",null,null,null,{"$f":"HOJA_CAPTURA!AN76","v":0}]
[]
[]
[null,null,null,null,null,null,null,null,null,null,null,null,null,null," "]
[null,{"$f":"HOJA_CAPTURA!C77","v":0},null,null,null,null,null,null,null,null,null,null,null,null,null,null,null,null,null,null,null,null,null,null," "]
[null,"Fecha de Apertura:",null,null,null,{"$f":"HOJA_CAPTURA!Q77","v":"00:00:00"},null,null,null,null,null,null,null," Fecha de Cierre:",null,null,null,{"$f":"HOJA_CAPTURA!R77","v":"00:00:00"}]
[null,"Fundamento Legal:",null,null,null,{"$f":"HOJA_CAPTURA!AN77","v":0}]
[]
[]
[null,null,null,null,null,null,null,null,null,null,null,null,null,null," "]
[null,{"$f":"HOJA_CAPTURA!C78","v":0},null,null,null,null,null,null,null,null,null,null,null,null,null,null,null,null,null,null,null,null,null,null," "]
[null,"Fecha de Apertura:",null,null,null,{"$f":"HOJA_CAPTURA!Q78","v":"00:00:00"},null,null,null,null,null,null,null," Fecha de Cierre:",null,null,null,{"$f":"HOJA_CAPTURA!R78","v":"00:00:00"}]
[null,"Fundamento Legal:",null,null,null,{"$f":"HOJA_CAPTURA!AN78","v":0}]
[]
[]
[]
[null,"Tipo de Archivo:",null,null,null,"Trámite",null,null,{"$f":"HOJA_CAPTURA!W79","v":0},"Concnetración",null,null,{"$f":"HOJA_CAPTURA!X79","v":0},null,"Histórico  ",null,{"$f":"HOJA_CAPTURA!Y79","v":0}]
[null,"Vigencia documental (de acuerdo a CADIDO):",null,null,null,null,null,null,null,null,null,null,"AT",{"$f":"HOJA_CAPTURA!AI79","v":0},null,"AC",{"$f":"HOJA_CAPTURA!AJ79","v":0},null,"Total",null,{"$f":"HOJA_CAPTURA!AK79","v":0}]
[null,"Periodo de Reserva:            ",null,null,null,{"$f":"HOJA_CAPTURA!AM79","v":0},null,"años"]
[null,"Ampliación de periodo de reserva:",null,null,null,null,null,null,null,null,null,null,"Parte(s) o sección(es) Reservada:"]
[]
[null,"Clasificación:",null,null,{"$f":"HOJA_CAPTURA!N80","v":0}]
[null,"Tipo de Archivo:",null,null,null,"Trámite",null,null,{"$f":"HOJA_CAPTURA!W80","v":0},"Concentración",null,null,{"$f":"HOJA_CAPTURA!X80","v":0},null,"Histórico  ",null,{"$f":"HOJA_CAPTURA!Y80","v":0}]
[null,"Condiciones de acceso:",null,null,null,null,{"$f":"HOJA_CAPTURA!AL80","v":0}]
[null,"Fecha de Desclasificación: "]
[null,"Ampliación de periodo de reserva:",null,null,null,null,null,null,null,null,null,null,"Parte(s) o sección(es) Reservada:"]
[]
[null,"Clasificación:",null,null,{"$f":"HOJA_CAPTURA!N81","v":0}]
[null,"Tipo de Archivo:",null,null,null,"Trámite",null,null,{"$f":"HOJA_CAPTURA!W81","v":0},"Concentración",null,null,{"$f":"HOJA_CAPTURA!X81","v":0},null,"Histórico  ",null,{"$f":"HOJA_CAPTURA!Y81","v":0}]
[null,"Condiciones de acceso:",null,null,null,null,{"$f":"HOJA_CAPTURA!AL81","v":0}]
[null,"Fecha de Desclasificación: "]
[null,"Firma:"]
[]
[null,"Clasificación:",null,null,{"$f":"HOJA_CAPTURA!N82","v":0}]
[null,"Tipo de Archivo:",null,null,null,"Trámite",null,null,{"$f":"HOJA_CAPTURA!W82","v":0},"Concentración",null,null,{"$f":"HOJA_CAPTURA!X82","v":0},null,"Histórico  ",null,{"$f":"HOJA_CAPTURA!Y82","v":0}]
[null,"Condiciones de acceso:",null,null,null,null,{"$f":"HOJA_CAPTURA!AL82","v":0}]
[]
[null,null,null,null,null,null,null,null,null,null,null,null,"Fundamento Legal:"]
[]
[null,"Número de Legajo: ",null,null,null,null,null,"de",{"$f":"HOJA_CAPTURA!U83","v":0},"Número de Fojas: "]
[null,"Soporte (Formato):",null,null,null,"Papel:",null,{"$f":"HOJA_CAPTURA!AO83","v":0},"Medio magnético:  ",null,null,null,{"$f":"HOJA_CAPTURA!AP83","v":0},"CD:",{"$f":"HOJA_CAPTURA!AQ83","v":0},"USB:",{"$f":"HOJA_CAPTURA!AR83","v":0},"Otros:",null,{"$f":"HOJA_CAPTURA!AS83","v":0}]
[null,null,null,null,null,null,null,null,null,null,null,null,null,null,null,null,null,"(Planos, Fotos, etc.)"]
[null,"Plazo de Reserva: ",null,null,null,null,null,null,null,null,null,null,"Reservada:",null,null,null,null,"Confidencial:"]
[null,null,null,null,null,null,null,null,null,null,null,null,"Fundamento Legal:"]
[]
[null,"Número de Legajo: ",null,null,null,null,null,"de",{"$f":"HOJA_CAPTURA!U84","v":0},"Número de Fojas: "]
[null,"Soporte (Formato):",null,null,null,"Papel:",null,{"$f":"HOJA_CAPTURA!AO84","v":0},"Medio magnético:  ",null,null,null,{"$f":"HOJA_CAPTURA!AP84","v":0},"CD:",{"$f":"HOJA_CAPTURA!AQ84","v":0},"USB:",{"$f":"HOJA_CAPTURA!AR84","v":0},"Otros:",null,{"$f":"HOJA_CAPTURA!AS84","v":0}]
[null,"Fecha de Clasificación: ",null,null,null,null,null,null,null,null,null,null,"Clasificación de la Información:"]
[null,"Cargo:"]
[null,null,null,null,null,null,null,null,null,null,null,null,"Fundamento Legal:"]
[]
[null,"Número de Legajo: ",null,null,null,null,null,"de",{"$f":"HOJA_CAPTURA!U85","v":0},"Número de Fojas: "]
[null,"Soporte (Formato):",null,null,null,"Papel:",null,{"$f":"HOJA_CAPTURA!AO85","v":0},"Medio magnético:  ",null,null,null,{"$f":"HOJA_CAPTURA!AP85","v":0},"CD:",{"$f":"HOJA_CAPTURA!AQ85","v":0},"USB:",{"$f":"HOJA_CAPTURA!AR85","v":0},"Otros:",null,{"$f":"HOJA_CAPTURA!AS85","v":0}]
[null,"Fecha de Clasificación: ",null,null,null,null,null,null,null,null,null,null,"Clasificación de la Información:"]
[null,"Cargo:"]
[]
[null,"Nombre del Expediente:                     ",null,null,null,null,{"$f":"HOJA_CAPTURA!O86","v":0},null,null,null,null,null,null,null,null,"Número del Expediente: ",null,null,null,null,{"$f":"HOJA_CAPTURA!M86","v":0}]
[null,"Vigencia documental (de acuerdo a CADIDO):",null,null,null,null,null,null,null,null,null,null,"AT",{"$f":"HOJA_CAPTURA!AI86","v":0},null,"AC",{"$f":"HOJA_CAPTURA!AJ86","v":0},null,"Total",null,{"$f":"HOJA_CAPTURA!AK86","v":0}]
[null,"Valor Documental:   ",null,null,null,"Administrativo",null,null,null,{"$f":"HOJA_CAPTURA!AF86","v":0},"Legal",null,null,null,{"$f":"HOJA_CAPTURA!AG86","v":0},"Contable y/o Fiscal",null,null,null,null,{"$f":"HOJA_CAPTURA!AH86","v":0}]
[]
[null,null,null,null,null,null,null,null,null,null,null,null,"Tomo(s): ",null,null,"de"]
[]
[null,"Subserie: ",null,{"$f":"HOJA_CAPTURA!I87","v":0}]
[null,null,{"$f":"HOJA_CAPTURA!P87","v":0}]
[]
[]
[null,null,null,null,null,null,null,null,null,null,null,null,"Tomo(s): ",null,null,"de"]
[]
[null,"Subserie: ",null,{"$f":"HOJA_CAPTURA!I88","v":0}]
[null,null,{"$f":"HOJA_CAPTURA!P88","v":0}]
[]
[null,null,null,null,null,null,null,null,null,null,null,null,"Folio: del",null,null,null,"al"]
[]
[]
[null,"Subserie: ",null,{"$f":"HOJA_CAPTURA!I89","v":0}]
[null,null,{"$f":"HOJA_CAPTURA!P89","v":0}]
[]
[null,null,null,null,null,null,null,null,null,null,null,null,"Folio: del",null,null,null,"al"]
[null,"Firma:"]
[null,"Sección: ",null,{"$f":"HOJA_CAPTURA!G90","v":0}]
[null,null,null,null,null,"(DD-MM-AAAA) ",null,null,null,null,null,null,null,null,null,null,null,"(DD-MM-AAAA) "]
[null,"Asunto o Descripción:                        "]
[null,"(Llenar este apartado sólo en el caso de que la información del expediente sea reservada o confidencial)"]
[null,"Nombre del Responsable de la Clasificación: "]
[]
[null,"Sección: ",null,{"$f":"HOJA_CAPTURA!G91","v":0}]
[null,null,null,null,null,"(DD-MM-AAAA) ",null,null,null,null,null,null,null,null,null,null,null,"(DD-MM-AAAA) "]
[]
[]
[null,"Nombre del Responsable de la Clasificación: "]
[]
[null,"Sección: ",null,{"$f":"HOJA_CAPTURA!G92","v":0}]
[null,null,null,null,null,"(DD-MM-AAAA) ",null,null,null,null,null,null,null,null,null,null,null,"(DD-MM-AAAA) "]
[]
[]
[null,null,null,null,null,null,null,null,null,null,null,null,null,null," "]
[null,{"$f":"HOJA_CAPTURA!C93","v":0},null,null,null,null,null,null,null,null,null,null,null,null,null,null,null,null,null,null,null,null,null,null," "]
[null,"Sección: ",null,{"$f":"HOJA_CAPTURA!G93","v":0}]
[null,null,null,null,null,"(DD-MM-AAAA) ",null,null,null,null,null,null,null,null,null,null,null,"(DD-MM-AAAA) "]
[]
[]
[]
[]
[null,"Vigencia documental (de acuerdo a CADIDO):",null,null,null,null,null,null,null,null,null,null,"AT",{"$f":"HOJA_CAPTURA!AI94","v":0},null,"AC",{"$f":"HOJA_CAPTURA!AJ94","v":0},null,"Total",null,{"$f":"HOJA_CAPTURA!AK94","v":0}]
[null,"Periodo de Reserva:            ",null,null,null,{"$f":"HOJA_CAPTURA!AM94","v":0},null,"años"]
[null,"Fundamento Legal:",null,null,null,{"$f":"HOJA_CAPTURA!AN94","v":0}]
[]
[]
[]
[null,"Vigencia documental (de acuerdo a CADIDO):",null,null,null,null,null,null,null,null,null,null,"AT",{"$f":"HOJA_CAPTURA!AI95","v":0},null,"AC",{"$f":"HOJA_CAPTURA!AJ95","v":0},null,"Total",null,{"$f":"HOJA_CAPTURA!AK95","v":0}]
[null,"Periodo de Reserva:            ",null,null,null,{"$f":"HOJA_CAPTURA!AM95","v":0},null,"años"]
[null,"Ampliación de periodo de reserva:",null,null,null,null,null,null,null,null,null,null,"Parte(s) o sección(es) Reservada:"]
[]
[]
[]
[null,"Vigencia documental (de acuerdo a CADIDO):",null,null,null,null,null,null,null,null,null,null,"AT",{"$f":"HOJA_CAPTURA!AI96","v":0},null,"AC",{"$f":"HOJA_CAPTURA!AJ96","v":0},null,"Total",null,{"$f":"HOJA_CAPTURA!AK96","v":0}]
[null,"Periodo de Reserva:            ",null,null,null,{"$f":"HOJA_CAPTURA!AM96","v":0},null,"años"]
[null,"Ampliación de periodo de reserva:",null,null,null,null,null,null,null,null,null,null,"Parte(s) o sección(es) Reservada:"]
[]
[null,"Clasificación:",null,null,{"$f":"HOJA_CAPTURA!N97","v":0}]
[null,"Sección: ",null,{"$f":"HOJA_CAPTURA!G97","v":0}]
[null,"Tipo de Archivo:",null,null,null,"Trámite ",null,null,{"$f":"HOJA_CAPTURA!W97","v":0},"Concnetración",null,null,{"$f":"HOJA_CAPTURA!X97","v":0},null,"Histórico  ",null,{"$f":"HOJA_CAPTURA!Y97","v":0}]
[null,"Condiciones de acceso:",null,null,null,null,{"$f":"HOJA_CAPTURA!AL97","v":0}]
[null,"Fecha de Desclasificación: "]
[null,"Firma:"]
[]
[null,"Número Total de Legajos: ",null,null,null,null,{"$f":"HOJA_CAPTURA!U98","v":0},null,null,"Número Total de Fojas:",null,null,null,null,null,{"$f":"HOJA_CAPTURA!V98","v":0}]
[null,null,null,null,null,null,null,null,null,null,null,null,null,null,null,null,null,"(Planos, Fotos, etc.)"]
[null,"Plazo de Reserva: ",null,null,null,null,null,null,null,null,null,null,"Reservada:",null,null,null,null,"Confidencial:"]
[null,"Fecha de Desclasificación: "]
[null,"Firma:"]
[]
[null,"Número Total de Legajos: ",null,null,null,null,{"$f":"HOJA_CAPTURA!U99","v":0},null,null,"Número Total de Fojas:",null,null,null,null,null,{"$f":"HOJA_CAPTURA!V99","v":0}]
[null,null,null,null,null,null,null,null,null,null,null,null,null,null,null,null,null,"(Planos, Fotos, etc.)"]
[null,"Plazo de Reserva: ",null,null,null,null,null,null,null,null,null,null,"Reservada:",null,null,null,null,"Confidencial:"]
[null,null,null,null,null,null,null,null,null,null,null,null,"Fundamento Legal:"]
[]
[]
[null,"Número Total de Legajos: ",null,null,null,null,{"$f":"HOJA_CAPTURA!U100","v":0},null,null,"Número Total de Fojas:",null,null,null,null,null,{"$f":"HOJA_CAPTURA!V100","v":0}]
[null,null,null,null,null,null,null,null,null,null,null,null,null,null,null,null,null,"(Planos, Fotos, etc.)"]
[null,"Plazo de Reserva: ",null,null,null,null,null,null,null,null,null,null,"Reservada:",null,null,null,null,"Confidencial:"]
[null,"Firma:"]
[]
[null,"Nombre del Expediente:                     ",null,null,null,null,{"$f":"HOJA_CAPTURA!O101","v":0},null,null,null,null,null,null,null,null,"Número del Expediente: ",null,null,null,null,{"$f":"HOJA_CAPTURA!M101","v":0}]
[null,"Valor Documental:   ",null,null,null,"Administrativo",null,null,null,{"$f":"HOJA_CAPTURA!AF101","v":0},"Legal",null,null,null,{"$f":"HOJA_CAPTURA!AG101","v":0},"Contable y/o Fiscal",null,null,null,null,{"$f":"HOJA_CAPTURA!AH101","v":0}]
[null,"Soporte (Formato):",null,null,null,"Papel:",null,{"$f":"HOJA_CAPTURA!AO101","v":0},"Medio magnético:  ",null,null,null,{"$f":"HOJA_CAPTURA!AP101","v":0},"CD:",{"$f":"HOJA_CAPTURA!AQ101","v":0},"USB:",{"$f":"HOJA_CAPTURA!AR101","v":0},"Otros:",null,{"$f":"HOJA_CAPTURA!AS101","v":0}]
[null,"Fecha de Clasificación: ",null,null,null,null,null,null,null,null,null,null,"Clasificación de la Información:"]
[null,"Cargo:"]
[]
[null,"Nombre del Expediente:                     ",null,null,null,null,{"$f":"HOJA_CAPTURA!O102","v":0},null,null,null,null,null,null,null,null,"Número del Expediente: ",null,null,null,null,{"$f":"HOJA_CAPTURA!M102","v":0}]
[null,"Valor Documental:   ",null,null,null,"Administrativo",null,null,null,{"$f":"HOJA_CAPTURA!AF102","v":0},"Legal",null,null,null,{"$f":"HOJA_CAPTURA!AG102","v":0},"Contable y/o Fiscal",null,null,null,null,{"$f":"HOJA_CAPTURA!AH102","v":0}]
[]
[null,null,null,null,null,null,null,null,null,null,null,null,"Tomo(s): ",null,null,"de"]
[null,"Cargo:"]
[]
[null,"Nombre del Expediente:                     ",null,null,null,null,{"$f":"HOJA_CAPTURA!O103","v":0},null,null,null,null,null,null,null,null,"Número del Expediente: ",null,null,null,null,{"$f":"HOJA_CAPTURA!M103","v":0}]
[null,"Valor Documental:   ",null,null,null,"Administrativo",null,null,null,{"$f":"HOJA_CAPTURA!AF103","v":0},"Legal",null,null,null,{"$f":"HOJA_CAPTURA!AG103","v":0},"Contable y/o Fiscal",null,null,null,null,{"$f":"HOJA_CAPTURA!AH103","v":0}]
[]
[null,null,null,null,null,null,null,null,null,null,null,null,"Tomo(s): ",null,null,"de"]
[]
[null,"Subserie: ",null,{"$f":"HOJA_CAPTURA!I104","v":0}]
[null,"Nombre del Expediente:                     ",null,null,null,null,{"$f":"HOJA_CAPTURA!O104","v":0},null,null,null,null,null,null,null,null,"Número del Expediente: ",null,null,null,null,{"$f":"HOJA_CAPTURA!M104","v":0}]
[null,"Soporte (Formato):",null,null,null,"Papel:",null,{"$f":"HOJA_CAPTURA!AO104","v":0},"Medio magnético:  ",null,null,null,{"$f":"HOJA_CAPTURA!AP104","v":0},"CD:",{"$f":"HOJA_CAPTURA!AQ104","v":0},"USB:",{"$f":"HOJA_CAPTURA!AR104","v":0},"Otros:",null,{"$f":"HOJA_CAPTURA!AS104","v":0}]
[]
[null,null,null,null,null,null,null,null,null,null,null,null,"Folio: del",null,null,null,"al"]
[]
[null,"Serie: ",null,{"$f":"HOJA_CAPTURA!H105","v":0}]
[null,"Asunto o Descripción:                        "]
[null,"(Llenar este apartado sólo en el caso de que la información del expediente sea reservada o confidencial)"]
[]
[null,null,null,null,null,null,null,null,null,null,null,null,"Folio: del",null,null,null,"al"]
[]
[null,"Serie: ",null,{"$f":"HOJA_CAPTURA!H106","v":0}]
[null,"Asunto o Descripción:                        "]
[null,"(Llenar este apartado sólo en el caso de que la información del expediente sea reservada o confidencial)"]
[null,"Nombre del Responsable de la Clasificación: "]
[]
[]
[null,"Serie: ",null,{"$f":"HOJA_CAPTURA!H107","v":0}]
[null,"Asunto o Descripción:                        "]
[null,"(Llenar este apartado sólo en el caso de que la información del expediente sea reservada o confidencial)"]
[null,"Nombre del Responsable de la Clasificación: "]
[]
[null,"Sección: ",null,{"$f":"HOJA_CAPTURA!G108","v":0}]
[null,"Fecha de Apertura:",null,null,null,{"$f":"HOJA_CAPTURA!Q108","v":"00:00:00"},null,null,null,null,null,null,null," Fecha de Cierre:",null,null,null,{"$f":"HOJA_CAPTURA!R108","v":"00:00:00"}]
[null,null,null,null,null,"(DD-MM-AAAA) ",null,null,null,null,null,null,null,null,null,null,null,"(DD-MM-AAAA) "]
[]
[]
[null,null,null,null,null,null,null,null,null,null,null,null,null,null," "]
[null,{"$f":"HOJA_CAPTURA!C325","v":0}]
[null,"Fecha de Apertura:",null,null,null,{"$f":"HOJA_CAPTURA!Q109","v":"00:00:00"},null,null,null,null,null,null,null," Fecha de Cierre:",null,null,null,{"$f":"HOJA_CAPTURA!R109","v":"00:00:00"}]
[null,"Fundamento Legal:",null,null,null,{"$f":"HOJA_CAPTURA!AN109","v":0}]
[]
[]
[null,null,null,null,null,null,null,null,null,null,null,null,null,null," "]
[null,{"$f":"HOJA_CAPTURA!C371","v":0}]
[null,"Fecha de Apertura:",null,null,null,{"$f":"HOJA_CAPTURA!Q110","v":"00:00:00"},null,null,null,null,null,null,null," Fecha de Cierre:",null,null,null,{"$f":"HOJA_CAPTURA!R110","v":"00:00:00"}]
[null,"Fundamento Legal:",null,null,null,{"$f":"HOJA_CAPTURA!AN110","v":0}]
[]
[]
[]
[null,{"$f":"HOJA_CAPTURA!C111","v":0}]
[null,"Fecha de Apertura:",null,null,null,{"$f":"HOJA_CAPTURA!Q111","v":"00:00:00"},null,null,null,null,null,null,null," Fecha de Cierre:",null,null,null,{"$f":"HOJA_CAPTURA!R111","v":"00:00:00"}]
[null,"Fundamento Legal:",null,null,null,{"$f":"HOJA_CAPTURA!AN111","v":0}]
[]
[]
[null,"Clasificación:",null,null,{"$f":"HOJA_CAPTURA!N112","v":0}]
[null,"Tipo de Archivo:",null,null,null,"Trámite ",null,null,{"$f":"HOJA_CAPTURA!W112","v":0},"Concentración",null,null,{"$f":"HOJA_CAPTURA!X112","v":0},null,"Histórico  ",null,{"$f":"HOJA_CAPTURA!Y112","v":0}]
[null,"Condiciones de acceso:",null,null,null,null,{"$f":"HOJA_CAPTURA!AL112","v":0}]
[null,"Periodo de Reserva:            ",null,null,null,{"$f":"HOJA_CAPTURA!AM112","v":0},null,"años"]
[null,"Ampliación de periodo de reserva:",null,null,null,null,null,null,null,null,null,null,"Parte(s) o sección(es) Reservada:"]
[]
[null,"Clasificación:",null,null,{"$f":"HOJA_CAPTURA!N113","v":0}]
[null,"Tipo de Archivo:",null,null,null,"Trámite ",null,null,{"$f":"HOJA_CAPTURA!W113","v":0},"Concentración",null,null,{"$f":"HOJA_CAPTURA!X113","v":0},null,"Histórico  ",null,{"$f":"HOJA_CAPTURA!Y113","v":0}]
[null,"Condiciones de acceso:",null,null,null,null,{"$f":"HOJA_CAPTURA!AL113","v":0}]
[null,"Fecha de Desclasificación: "]
[null,"Firma:"]
[]
[null,"Clasificación:",null,null,{"$f":"HOJA_CAPTURA!N114","v":0}]
[null,"Tipo de Archivo:",null,null,null,"Trámite ",null,null,{"$f":"HOJA_CAPTURA!W114","v":0},"Concentración",null,null,{"$f":"HOJA_CAPTURA!X114","v":0},null,"Histórico  ",null,{"$f":"HOJA_CAPTURA!Y114","v":0}]
[null,"Condiciones de acceso:",null,null,null,null,{"$f":"HOJA_CAPTURA!AL114","v":0}]
[null,"Fecha de Desclasificación: "]
[null,"Firma:"]
[]
[null,"Número Total de Legajos: ",null,null,null,null,{"$f":"HOJA_CAPTURA!U115","v":0},null,null,"Número Total de Fojas:",null,null,null,null,null,{"$f":"HOJA_CAPTURA!V115","v":0}]
[null,"Tipo de Archivo:",null,null,null,"Trámite ",null,null,{"$f":"HOJA_CAPTURA!W115","v":0},"Concentración",null,null,{"$f":"HOJA_CAPTURA!X115","v":0},null,"Histórico  ",null,{"$f":"HOJA_CAPTURA!Y115","v":0}]
[null,"Condiciones de acceso:",null,null,null,null,{"$f":"HOJA_CAPTURA!AL115","v":0}]
[null,"Plazo de Reserva: ",null,null,null,null,null,null,null,null,null,null,"Reservada:",null,null,null,null,"Confidencial:"]
[null,null,null,null,null,null,null,null,null,null,null,null,"Fundamento Legal:"]
[]
[null,"Número de Legajo: ",null,null,null,null,null,"de",{"$f":"HOJA_CAPTURA!U116","v":0},"Número de Fojas: "]
[null,"Soporte (Formato):",null,null,null,"Papel:",null,{"$f":"HOJA_CAPTURA!AO116","v":0},"Medio magnético:  ",null,null,null,{"$f":"HOJA_CAPTURA!AP116","v":0},"CD:",{"$f":"HOJA_CAPTURA!AQ116","v":0},"USB:",{"$f":"HOJA_CAPTURA!AR116","v":0},"Otros:",null,{"$f":"HOJA_CAPTURA!AS116","v":0}]
[null,"Fecha de Clasificación: ",null,null,null,null,null,null,null,null,null,null,"Clasificación de la Información:"]
[null,"Plazo de Reserva: ",null,null,null,null,null,null,null,null,null,null,"Reservada:",null,null,null,null,"Confidencial:"]
[null,null,null,null,null,null,null,null,null,null,null,null,"Fundamento Legal:"]
[]
[null,"Número de Legajo: ",null,null,null,null,null,"de",{"$f":"HOJA_CAPTURA!U117","v":0},"Número de Fojas: "]
[null,"Soporte (Formato):",null,null,null,"Papel:",null,{"$f":"HOJA_CAPTURA!AO117","v":0},"Medio magnético:  ",null,null,null,{"$f":"HOJA_CAPTURA!AP117","v":0},"CD:",{"$f":"HOJA_CAPTURA!AQ117","v":0},"USB:",{"$f":"HOJA_CAPTURA!AR117","v":0},"Otros:",null,{"$f":"HOJA_CAPTURA!AS117","v":0}]
[null,"Fecha de Clasificación: ",null,null,null,null,null,null,null,null,null,null,"Clasificación de la Información:"]
[null,"Cargo:"]
[]
[]
[null,"Número de Legajo: ",null,null,null,null,null,"de",{"$f":"HOJA_CAPTURA!U118","v":0},"Número de Fojas: "]
[null,"Soporte (Formato):",null,null,null,"Papel:",null,{"$f":"HOJA_CAPTURA!AO118","v":0},"Medio magnético:  ",null,null,null,{"$f":"HOJA_CAPTURA!AP118","v":0},"CD:",{"$f":"HOJA_CAPTURA!AQ118","v":0},"USB:",{"$f":"HOJA_CAPTURA!AR118","v":0},"Otros:",null,{"$f":"HOJA_CAPTURA!AS118","v":0}]
[null,"Fecha de Clasificación: ",null,null,null,null,null,null,null,null,null,null,"Clasificación de la Información:"]
[null,"Cargo:"]
[]
[null,"Subserie: ",null,{"$f":"HOJA_CAPTURA!I119","v":0}]
[null,null,{"$f":"HOJA_CAPTURA!P119","v":0}]
[null,"Valor Documental:   ",null,null,null,"Administrativo",null,null,null,{"$f":"HOJA_CAPTURA!AF119","v":0},"Legal",null,null,null,{"$f":"HOJA_CAPTURA!AG119","v":0},"Contable y/o Fiscal",null,null,null,null,{"$f":"HOJA_CAPTURA!AH119","v":0}]
[]
[null,null,null,null,null,null,null,null,null,null,null,null,"Tomo(s): ",null,null,"de"]
[]
[null,"Subserie: ",null,{"$f":"HOJA_CAPTURA!I120","v":0}]
[null,null,{"$f":"HOJA_CAPTURA!P120","v":0}]
[]
[null,null,null,null,null,null,null,null,null,null,null,null,"Folio: del",null,null,null,"al"]
[null,null,null,null,null,null,null,null,null,null,null,null,"Tomo(s): ",null,null,"de"]
[]
[null,"Subserie: ",null,{"$f":"HOJA_CAPTURA!I121","v":0}]
[null,null,{"$f":"HOJA_CAPTURA!P121","v":0}]
[]
[null,null,null,null,null,null,null,null,null,null,null,null,"Folio: del",null,null,null,"al"]
[]
[null,"Serie: ",null,{"$f":"HOJA_CAPTURA!H122","v":0}]
[null,"Subserie: ",null,{"$f":"HOJA_CAPTURA!I122","v":0}]
[null,null,{"$f":"HOJA_CAPTURA!P122","v":0}]
[]
[null,"Nombre del Responsable de la Clasificación: "]
[]
[null,"Sección: ",null,{"$f":"HOJA_CAPTURA!G123","v":0}]
[null,null,null,null,null,"(DD-MM-AAAA) ",null,null,null,null,null,null,null,null,null,null,null,"(DD-MM-AAAA) "]
[]
[null,"(Llenar este apartado sólo en el caso de que la información del expediente sea reservada o confidencial)"]
[null,"Nombre del Responsable de la Clasificación: "]
[]
[null,"Sección: ",null,{"$f":"HOJA_CAPTURA!G124","v":0}]
[null,null,null,null,null,"(DD-MM-AAAA) ",null,null,null,null,null,null,null,null,null,null,null,"(DD-MM-AAAA) "]
[]
[]
[null,null,null,null,null,null,null,null,null,null,null,null,null,null," "]
[]
[null,"Sección: ",null,{"$f":"HOJA_CAPTURA!G125","v":0}]
[null,null,null,null,null,"(DD-MM-AAAA) ",null,null,null,null,null,null,null,null,null,null,null,"(DD-MM-AAAA) "]
[]
[]
[null,null,null,null,null,null,null,null,null,null,null,null,null,null," "]
[null,{"$f":"HOJA_CAPTURA!C126","v":0}]
[null,"Fecha de Apertura:",null,null,null,{"$f":"HOJA_CAPTURA!Q126","v":"00:00:00"},null,null,null,null,null,null,null," Fecha de Cierre:",null,null,null,{"$f":"HOJA_CAPTURA!R126","v":"00:00:00"}]
[null,"Condiciones de acceso:",null,null,null,null,{"$f":"HOJA_CAPTURA!AL126","v":0}]
[null,"Fundamento Legal:",null,null,null,{"$f":"HOJA_CAPTURA!AN126","v":0}]
[]
[]
[]
[null,"Vigencia documental (de acuerdo a CADIDO):",null,null,null,null,null,null,null,null,null,null,"AT",{"$f":"HOJA_CAPTURA!AI127","v":0},null,"AC",{"$f":"HOJA_CAPTURA!AJ127","v":0},null,"Total",null,{"$f":"HOJA_CAPTURA!AK127","v":0}]
[null,"Periodo de Reserva:            ",null,null,null,{"$f":"HOJA_CAPTURA!AM127","v":0},null,"años"]
[null,"Ampliación de periodo de reserva:",null,null,null,null,null,null,null,null,null,null,"Parte(s) o sección(es) Reservada:"]
[]
[]
[]
[null,"Vigencia documental (de acuerdo a CADIDO):",null,null,null,null,null,null,null,null,null,null,"AT",{"$f":"HOJA_CAPTURA!AI128","v":0},null,"AC",{"$f":"HOJA_CAPTURA!AJ128","v":0},null,"Total",null,{"$f":"HOJA_CAPTURA!AK128","v":0}]
[null,"Periodo de Reserva:            ",null,null,null,{"$f":"HOJA_CAPTURA!AM128","v":0},null,"años"]
[null,"Ampliación de periodo de reserva:",null,null,null,null,null,null,null,null,null,null,"Parte(s) o sección(es) Reservada:"]
[]
[null,"Clasificación:",null,null,{"$f":"HOJA_CAPTURA!N129","v":0}]
[]
[null,"Vigencia documental (de acuerdo a CADIDO):",null,null,null,null,null,null,null,null,null,null,"AT",{"$f":"HOJA_CAPTURA!AI129","v":0},null,"AC",{"$f":"HOJA_CAPTURA!AJ129","v":0},null,"Total",null,{"$f":"HOJA_CAPTURA!AK129","v":0}]
[null,"Periodo de Reserva:            ",null,null,null,{"$f":"HOJA_CAPTURA!AM129","v":0},null,"años"]
[null,"Ampliación de periodo de reserva:",null,null,null,null,null,null,null,null,null,null,"Parte(s) o sección(es) Reservada:"]
[]
[]
[null,"Número Total de Legajos: ",null,null,null,null,{"$f":"HOJA_CAPTURA!U130","v":0},null,null,"Número Total de Fojas:",null,null,null,null,null,{"$f":"HOJA_CAPTURA!V130","v":0}]
[null,null,null,null,null,null,null,null,null,null,null,null,null,null,null,null,null,"(Planos, Fotos, etc.)"]
[null,"Condiciones de acceso:",null,null,null,null,{"$f":"HOJA_CAPTURA!AL130","v":0}]
[null,"Fecha de Desclasificación: "]
[null,"Firma:"]
[]
[null,"Número Total de Legajos: ",null,null,null,null,{"$f":"HOJA_CAPTURA!U131","v":0},null,null,"Número Total de Fojas:",null,null,null,null,null,{"$f":"HOJA_CAPTURA!V131","v":0}]
[null,null,null,null,null,null,null,null,null,null,null,null,null,null,null,null,null,"(Planos, Fotos, etc.)"]
[null,"Plazo de Reserva: ",null,null,null,null,null,null,null,null,null,null,"Reservada:",null,null,null,null,"Confidencial:"]
[null,null,null,null,null,null,null,null,null,null,null,null,"Fundamento Legal:"]
[null,"Firma:"]
[]
[null,"Número Total de Legajos: ",null,null,null,null,{"$f":"HOJA_CAPTURA!U132","v":0},null,null,"Número Total de Fojas:",null,null,null,null,null,{"$f":"HOJA_CAPTURA!V132","v":0}]
[null,null,null,null,null,null,null,null,null,null,null,null,null,null,null,null,null,"(Planos, Fotos, etc.)"]
[null,"Plazo de Reserva: ",null,null,null,null,null,null,null,null,null,null,"Reservada:",null,null,null,null,"Confidencial:"]
[null,null,null,null,null,null,null,null,null,null,null,null,"Fundamento Legal:"]
[]
[null,"Número de Legajo: ",null,null,null,null,null,"de",{"$f":"HOJA_CAPTURA!U133","v":0},"Número de Fojas: "]
[null,"Número Total de Legajos: ",null,null,null,null,{"$f":"HOJA_CAPTURA!U133","v":0},null,null,"Número Total de Fojas:",null,null,null,null,null,{"$f":"HOJA_CAPTURA!V133","v":0}]
[null,null,null,null,null,null,null,null,null,null,null,null,null,null,null,null,null,"(Planos, Fotos, etc.)"]
[]
[null,"Cargo:"]
[]
[null,"Nombre del Expediente:                     ",null,null,null,null,{"$f":"HOJA_CAPTURA!O134","v":0},null,null,null,null,null,null,null,null,"Número del Expediente: ",null,null,null,null,{"$f":"HOJA_CAPTURA!M134","v":0}]
[null,"Valor Documental:   ",null,null,null,"Administrativo",null,null,null,{"$f":"HOJA_CAPTURA!AF134","v":0},"Legal",null,null,null,{"$f":"HOJA_CAPTURA!AG134","v":0},"Contable y/o Fiscal",null,null,null,null,{"$f":"HOJA_CAPTURA!AH134","v":0}]
[]
[null,"Fecha de Clasificación: ",null,null,null,null,null,null,null,null,null,null,"Clasificación de la Información:"]
[null,"Cargo:"]
[]
[null,"Nombre del Expediente:                     ",null,null,null,null,{"$f":"HOJA_CAPTURA!O135","v":0},null,null,null,null,null,null,null,null,"Número del Expediente: ",null,null,null,null,{"$f":"HOJA_CAPTURA!M135","v":0}]
[null,"Valor Documental:   ",null,null,null,"Administrativo",null,null,null,{"$f":"HOJA_CAPTURA!AF135","v":0},"Legal",null,null,null,{"$f":"HOJA_CAPTURA!AG135","v":0},"Contable y/o Fiscal",null,null,null,null,{"$f":"HOJA_CAPTURA!AH135","v":0}]
[]
[null,null,null,null,null,null,null,null,null,null,null,null,"Tomo(s): ",null,null,"de"]
[]
[]
[null,"Nombre del Expediente:                     ",null,null,null,null,{"$f":"HOJA_CAPTURA!O136","v":0},null,null,null,null,null,null,null,null,"Número del Expediente: ",null,null,null,null,{"$f":"HOJA_CAPTURA!M136","v":0}]
[null,"Valor Documental:   ",null,null,null,"Administrativo",null,null,null,{"$f":"HOJA_CAPTURA!AF136","v":0},"Legal",null,null,null,{"$f":"HOJA_CAPTURA!AG136","v":0},"Contable y/o Fiscal",null,null,null,null,{"$f":"HOJA_CAPTURA!AH136","v":0}]
[]
[null,null,null,null,null,null,null,null,null,null,null,null,"Tomo(s): ",null,null,"de"]
[]
[null,"Subserie: ",null,{"$f":"HOJA_CAPTURA!I137","v":0}]
[null,"Fecha de Apertura:",null,null,null,{"$f":"HOJA_CAPTURA!Q137","v":"00:00:00"},null,null,null,null,null,null,null," Fecha de Cierre:",null,null,null,{"$f":"HOJA_CAPTURA!R137","v":"00:00:00"}]
[null,null,{"$f":"HOJA_CAPTURA!P137","v":0}]
[]
[null,null,null,null,null,null,null,null,null,null,null,null,"Folio: del",null,null,null,"al"]
[]
[null,"Serie: ",null,{"$f":"HOJA_CAPTURA!H138","v":0}]
[null,"Asunto o Descripción:                        "]
[null,"(Llenar este apartado sólo en el caso de que la información del expediente sea reservada o confidencial)"]
[null,"Nombre del Responsable de la Clasificación: "]
[null,null,null,null,null,null,null,null,null,null,null,null,"Folio: del",null,null,null,"al"]
[]
[null,"Serie: ",null,{"$f":"HOJA_CAPTURA!H139","v":0}]
[null,"Asunto o Descripción:                        "]
[null,"(Llenar este apartado sólo en el caso de que la información del expediente sea reservada o confidencial)"]
[null,"Nombre del Responsable de la Clasificación: "]
[]
[null,"Sección: ",null,{"$f":"HOJA_CAPTURA!G140","v":0}]
[null,"Serie: ",null,{"$f":"HOJA_CAPTURA!H140","v":0}]
[null,"Asunto o Descripción:                        "]
[null,"(Llenar este apartado sólo en el caso de que la información del expediente sea reservada o confidencial)"]
[null,"Nombre del Responsable de la Clasificación: "]
[]
[null,{"$f":"HOJA_CAPTURA!C141","v":0}]
[null,"Fecha de Apertura:",null,null,null,{"$f":"HOJA_CAPTURA!Q141","v":"00:00:00"},null,null,null,null,null,null,null," Fecha de Cierre:",null,null,null,{"$f":"HOJA_CAPTURA!R141","v":"00:00:00"}]
[null,"Fundamento Legal:",null,null,null,{"$f":"HOJA_CAPTURA!AN141","v":0}]
[]
[]
[null,null,null,null,null,null,null,null,null,null,null,null,null,null," "]
[null,{"$f":"HOJA_CAPTURA!C142","v":0}]
[null,"Fecha de Apertura:",null,null,null,{"$f":"HOJA_CAPTURA!Q142","v":"00:00:00"},null,null,null,null,null,null,null," Fecha de Cierre:",null,null,null,{"$f":"HOJA_CAPTURA!R142","v":"00:00:00"}]
[null,"Fundamento Legal:",null,null,null,{"$f":"HOJA_CAPTURA!AN142","v":0}]
[]
[]
[null,null,null,null,null,null,null,null,null,null,null,null,null,null," "]
[null,{"$f":"HOJA_CAPTURA!C143","v":0}]
[null,"Fecha de Apertura:",null,null,null,{"$f":"HOJA_CAPTURA!Q143","v":"00:00:00"},null,null,null,null,null,null,null," Fecha de Cierre:",null,null,null,{"$f":"HOJA_CAPTURA!R143","v":"00:00:00"}]
[null,"Fundamento Legal:",null,null,null,{"$f":"HOJA_CAPTURA!AN143","v":0}]
[]
[]
[]
[null,"Vigencia documental (de acuerdo a CADIDO):",null,null,null,null,null,null,null,null,null,null,"AT",{"$f":"HOJA_CAPTURA!AI144","v":0},null,"AC",{"$f":"HOJA_CAPTURA!AJ144","v":0},null,"Total",null,{"$f":"HOJA_CAPTURA!AK144","v":0}]
[null,"Fecha de Apertura:",null,null,null,{"$f":"HOJA_CAPTURA!Q144","v":"00:00:00"},null,null,null,null,null,null,null," Fecha de Cierre:",null,null,null,{"$f":"HOJA_CAPTURA!R144","v":"00:00:00"}]
[]
[null,"Ampliación de periodo de reserva:",null,null,null,null,null,null,null,null,null,null,"Parte(s) o sección(es) Reservada:"]
[]
[]
[null,"Vigencia documental (de acuerdo a CADIDO):",null,null,null,null,null,null,null,null,null,null,"AT",{"$f":"HOJA_CAPTURA!AI145","v":0},null,"AC",{"$f":"HOJA_CAPTURA!AJ145","v":0},null,"Total",null,{"$f":"HOJA_CAPTURA!AK145","v":0}]
[null,"Periodo de Reserva:            ",null,null,null,{"$f":"HOJA_CAPTURA!AM145","v":0},null,"años"]
[null,"Ampliación de periodo de reserva:",null,null,null,null,null,null,null,null,null,null,"Parte(s) o sección(es) Reservada:"]
[]
[]
[]
[null,"Vigencia documental (de acuerdo a CADIDO):",null,null,null,null,null,null,null,null,null,null,"AT",{"$f":"HOJA_CAPTURA!AI146","v":0},null,"AC",{"$f":"HOJA_CAPTURA!AJ146","v":0},null,"Total",null,{"$f":"HOJA_CAPTURA!AK146","v":0}]
[null,"Periodo de Reserva:            ",null,null,null,{"$f":"HOJA_CAPTURA!AM146","v":0},null,"años"]
[null,"Ampliación de periodo de reserva:",null,null,null,null,null,null,null,null,null,null,"Parte(s) o sección(es) Reservada:"]
[]
[null,"Clasificación:",null,null,{"$f":"HOJA_CAPTURA!N147","v":0}]
[]
[null,"Vigencia documental (de acuerdo a CADIDO):",null,null,null,null,null,null,null,null,null,null,"AT",{"$f":"HOJA_CAPTURA!AI147","v":0},null,"AC",{"$f":"HOJA_CAPTURA!AJ147","v":0},null,"Total",null,{"$f":"HOJA_CAPTURA!AK147","v":0}]
[null,"Periodo de Reserva:            ",null,null,null,{"$f":"HOJA_CAPTURA!AM147","v":0},null,"años"]
[null,"Ampliación de periodo de reserva:",null,null,null,null,null,null,null,null,null,null,"Parte(s) o sección(es) Reservada:"]
[]
[null,"Clasificación:",null,null,{"$f":"HOJA_CAPTURA!N148","v":0}]
[null,"Subserie: ",null,{"$f":"HOJA_CAPTURA!I148","v":0}]
[null,null,null,null,null,null,null,null,null,null,null,null,null,null,null,null,null,"(Planos, Fotos, etc.)"]
[null,"Condiciones de acceso:",null,null,null,null,{"$f":"HOJA_CAPTURA!AL148","v":0}]
[null,"Fecha de Desclasificación: "]
[null,"Firma:"]
[]
[null,"Número Total de Legajos: ",null,null,null,null,{"$f":"HOJA_CAPTURA!U149","v":0},null,null,"Número Total de Fojas:",null,null,null,null,null,{"$f":"HOJA_CAPTURA!V149","v":0}]
[null,null,null,null,null,null,null,null,null,null,null,null,null,null,null,null,null,"(Planos, Fotos, etc.)"]
[null,"Plazo de Reserva: ",null,null,null,null,null,null,null,null,null,null,"Reservada:",null,null,null,null,"Confidencial:"]
[null,null,null,null,null,null,null,null,null,null,null,null,"Fundamento Legal:"]
[null,"Firma:"]
[]
[null,"Número Total de Legajos: ",null,null,null,null,{"$f":"HOJA_CAPTURA!U150","v":0},null,null,"Número Total de Fojas:",null,null,null,null,null,{"$f":"HOJA_CAPTURA!V150","v":0}]
[null,null,null,null,null,null,null,null,null,null,null,null,null,null,null,null,null,"(Planos, Fotos, etc.)"]
[null,"Plazo de Reserva: ",null,null,null,null,null,null,null,null,null,null,"Reservada:",null,null,null,null,"Confidencial:"]
[null,null,null,null,null,null,null,null,null,null,null,null,"Fundamento Legal:"]
[]
[null,"Número de Legajo: ",null,null,null,null,null,"de",{"$f":"HOJA_CAPTURA!U151","v":0},"Número de Fojas: "]
[null,"Número Total de Legajos: ",null,null,null,null,{"$f":"HOJA_CAPTURA!U151","v":0},null,null,"Número Total de Fojas:",null,null,null,null,null,{"$f":"HOJA_CAPTURA!V151","v":0}]
[null,null,null,null,null,null,null,null,null,null,null,null,null,null,null,null,null,"(Planos, Fotos, etc.)"]
[null,"Plazo de Reserva: ",null,null,null,null,null,null,null,null,null,null,"Reservada:",null,null,null,null,"Confidencial:"]
[]
[]
[null,"Nombre del Expediente:                     ",null,null,null,null,{"$f":"HOJA_CAPTURA!O152","v":0},null,null,null,null,null,null,null,null,"Número del Expediente: ",null,null,null,null,{"$f":"HOJA_CAPTURA!M152","v":0}]
[null,"Valor Documental:   ",null,null,null,"Administrativo",null,null,null,{"$f":"HOJA_CAPTURA!AF152","v":0},"Legal",null,null,null,{"$f":"HOJA_CAPTURA!AG152","v":0},"Contable y/o Fiscal",null,null,null,null,{"$f":"HOJA_CAPTURA!AH152","v":0}]
[]
[null,"Fecha de Clasificación: ",null,null,null,null,null,null,null,null,null,null,"Clasificación de la Información:"]
[null,"Cargo:"]
[]
[null,"Nombre del Expediente:                     ",null,null,null,null,{"$f":"HOJA_CAPTURA!O153","v":0},null,null,null,null,null,null,null,null,"Número del Expediente: ",null,null,null,null,{"$f":"HOJA_CAPTURA!M153","v":0}]
[null,"Valor Documental:   ",null,null,null,"Administrativo",null,null,null,{"$f":"HOJA_CAPTURA!AF153","v":0},"Legal",null,null,null,{"$f":"HOJA_CAPTURA!AG153","v":0},"Contable y/o Fiscal",null,null,null,null,{"$f":"HOJA_CAPTURA!AH153","v":0}]
[]
[null,null,null,null,null,null,null,null,null,null,null,null,"Tomo(s): ",null,null,"de"]
[]
[]
[null,"Nombre del Expediente:                     ",null,null,null,null,{"$f":"HOJA_CAPTURA!O154","v":0},null,null,null,null,null,null,null,null,"Número del Expediente: ",null,null,null,null,{"$f":"HOJA_CAPTURA!M154","v":0}]
[null,"Valor Documental:   ",null,null,null,"Administrativo",null,null,null,{"$f":"HOJA_CAPTURA!AF154","v":0},"Legal",null,null,null,{"$f":"HOJA_CAPTURA!AG154","v":0},"Contable y/o Fiscal",null,null,null,null,{"$f":"HOJA_CAPTURA!AH154","v":0}]
[]
[null,null,null,null,null,null,null,null,null,null,null,null,"Tomo(s): ",null,null,"de"]
[]
[null,"Subserie: ",null,{"$f":"HOJA_CAPTURA!I155","v":0}]
[null,null,{"$f":"HOJA_CAPTURA!P155","v":0}]
[null,"Valor Documental:   ",null,null,null,"Administrativo",null,null,null,{"$f":"HOJA_CAPTURA!AF155","v":0},"Legal",null,null,null,{"$f":"HOJA_CAPTURA!AG155","v":0},"Contable y/o Fiscal",null,null,null,null,{"$f":"HOJA_CAPTURA!AH155","v":0}]
[]
[null,null,null,null,null,null,null,null,null,null,null,null,"Folio: del",null,null,null,"al"]
[]
[null,"Serie: ",null,{"$f":"HOJA_CAPTURA!H156","v":0}]
[null,"Asunto o Descripción:                        "]
[null,"(Llenar este apartado sólo en el caso de que la información del expediente sea reservada o confidencial)"]
[null,"Nombre del Responsable de la Clasificación: "]
[null,null,null,null,null,null,null,null,null,null,null,null,"Folio: del",null,null,null,"al"]
[]
[null,"Serie: ",null,{"$f":"HOJA_CAPTURA!H157","v":0}]
[null,"Asunto o Descripción:                        "]
[null,"(Llenar este apartado sólo en el caso de que la información del expediente sea reservada o confidencial)"]
[null,"Nombre del Responsable de la Clasificación: "]
[]
[null,"Sección: ",null,{"$f":"HOJA_CAPTURA!G158","v":0}]
[null,"Serie: ",null,{"$f":"HOJA_CAPTURA!H158","v":0}]
[null,"Asunto o Descripción:                        "]
[null,"(Llenar este apartado sólo en el caso de que la información del expediente sea reservada o confidencial)"]
[null,"Nombre del Responsable de la Clasificación: "]
[]
[null,{"$f":"HOJA_CAPTURA!C159","v":0}]
[null,"Fecha de Apertura:",null,null,null,{"$f":"HOJA_CAPTURA!Q159","v":"00:00:00"},null,null,null,null,null,null,null," Fecha de Cierre:",null,null,null,{"$f":"HOJA_CAPTURA!R159","v":"00:00:00"}]
[null,"Fundamento Legal:",null,null,null,{"$f":"HOJA_CAPTURA!AN159","v":0}]
[]
[]
[null,null,null,null,null,null,null,null,null,null,null,null,null,null," "]
[null,{"$f":"HOJA_CAPTURA!C160","v":0}]
[null,"Fecha de Apertura:",null,null,null,{"$f":"HOJA_CAPTURA!Q160","v":"00:00:00"},null,null,null,null,null,null,null," Fecha de Cierre:",null,null,null,{"$f":"HOJA_CAPTURA!R160","v":"00:00:00"}]
[null,"Fundamento Legal:",null,null,null,{"$f":"HOJA_CAPTURA!AN160","v":0}]
[]
[]
[null,null,null,null,null,null,null,null,null,null,null,null,null,null," "]
[null,{"$f":"HOJA_CAPTURA!C161","v":0}]
[null,"Fecha de Apertura:",null,null,null,{"$f":"HOJA_CAPTURA!Q161","v":"00:00:00"},null,null,null,null,null,null,null," Fecha de Cierre:",null,null,null,{"$f":"HOJA_CAPTURA!R161","v":"00:00:00"}]
[null,"Fundamento Legal:",null,null,null,{"$f":"HOJA_CAPTURA!AN161","v":0}]
[]
[]
[]
[null,"Vigencia documental (de acuerdo a CADIDO):",null,null,null,null,null,null,null,null,null,null,"AT",{"$f":"HOJA_CAPTURA!AI162","v":0},null,"AC",{"$f":"HOJA_CAPTURA!AJ162","v":0},null,"Total",null,{"$f":"HOJA_CAPTURA!AK162","v":0}]
[null,"Fecha de Apertura:",null,null,null,{"$f":"HOJA_CAPTURA!Q162","v":"00:00:00"},null,null,null,null,null,null,null," Fecha de Cierre:",null,null,null,{"$f":"HOJA_CAPTURA!R162","v":"00:00:00"}]
[null,"Fundamento Legal:",null,null,null,{"$f":"HOJA_CAPTURA!AN162","v":0}]
[null,"Ampliación de periodo de reserva:",null,null,null,null,null,null,null,null,null,null,"Parte(s) o sección(es) Reservada:"]
[]
[null,"Clasificación:",null,null,{"$f":"HOJA_CAPTURA!N163","v":0}]
[null,"Tipo de Archivo:",null,null,null,"Trámite ",null,null,{"$f":"HOJA_CAPTURA!W163","v":0},"Concentración",null,null,{"$f":"HOJA_CAPTURA!X163","v":0},null,"Histórico  ",null,{"$f":"HOJA_CAPTURA!Y163","v":0}]
[null,"Condiciones de acceso:",null,null,null,null,{"$f":"HOJA_CAPTURA!AL163","v":0}]
[null,"Fecha de Desclasificación: "]
[null,"Ampliación de periodo de reserva:",null,null,null,null,null,null,null,null,null,null,"Parte(s) o sección(es) Reservada:"]
[]
[null,"Clasificación:",null,null,{"$f":"HOJA_CAPTURA!N164","v":0}]
[null,"Tipo de Archivo:",null,null,null,"Trámite ",null,null,{"$f":"HOJA_CAPTURA!W164","v":0},"Concentración",null,null,{"$f":"HOJA_CAPTURA!X164","v":0},null,"Histórico  ",null,{"$f":"HOJA_CAPTURA!Y164","v":0}]
[null,"Condiciones de acceso:",null,null,null,null,{"$f":"HOJA_CAPTURA!AL164","v":0}]
[null,"Fecha de Desclasificación: "]
[null,"Firma:"]
[]
[null,"Clasificación:",null,null,{"$f":"HOJA_CAPTURA!N165","v":0}]
[null,"Tipo de Archivo:",null,null,null,"Trámite ",null,null,{"$f":"HOJA_CAPTURA!W165","v":0},"Concentración",null,null,{"$f":"HOJA_CAPTURA!X165","v":0},null,"Histórico  ",null,{"$f":"HOJA_CAPTURA!Y165","v":0}]
[null,"Condiciones de acceso:",null,null,null,null,{"$f":"HOJA_CAPTURA!AL165","v":0}]
[null,"Fecha de Desclasificación: "]
[null,"Firma:"]
[]
[null,"Número Total de Legajos: ",null,null,null,null,{"$f":"HOJA_CAPTURA!U166","v":0},null,null,"Número Total de Fojas:",null,null,null,null,null,{"$f":"HOJA_CAPTURA!V166","v":0}]
[null,"Valor Documental:   ",null,null,null,"Administrativo",null,null,null,{"$f":"HOJA_CAPTURA!AF166","v":0},"Legal",null,null,null,{"$f":"HOJA_CAPTURA!AG166","v":0},"Contable y/o Fiscal",null,null,null,null,{"$f":"HOJA_CAPTURA!AH166","v":0}]
[null,null,null,null,null,null,null,null,null,null,null,null,null,null,null,null,null,"(Planos, Fotos, etc.)"]
[null,"Plazo de Reserva: ",null,null,null,null,null,null,null,null,null,null,"Reservada:",null,null,null,null,"Confidencial:"]
[null,null,null,null,null,null,null,null,null,null,null,null,"Fundamento Legal:"]
[]
[null,"Número de Legajo: ",null,null,null,null,null,"de",{"$f":"HOJA_CAPTURA!U167","v":0},"Número de Fojas: "]
[null,"Soporte (Formato):",null,null,null,"Papel:",null,{"$f":"HOJA_CAPTURA!AO167","v":0},"Medio magnético:  ",null,null,null,{"$f":"HOJA_CAPTURA!AP167","v":0},"CD:",{"$f":"HOJA_CAPTURA!AQ167","v":0},"USB:",{"$f":"HOJA_CAPTURA!AR167","v":0},"Otros:",null,{"$f":"HOJA_CAPTURA!AS167","v":0}]
[null,"Fecha de Clasificación: ",null,null,null,null,null,null,null,null,null,null,"Clasificación de la Información:"]
[null,"Cargo:"]
[null,null,null,null,null,null,null,null,null,null,null,null,"Fundamento Legal:"]
[]
[null,"Número de Legajo: ",null,null,null,null,null,"de",{"$f":"HOJA_CAPTURA!U168","v":0},"Número de Fojas: "]
[null,"Soporte (Formato):",null,null,null,"Papel:",null,{"$f":"HOJA_CAPTURA!AO168","v":0},"Medio magnético:  ",null,null,null,{"$f":"HOJA_CAPTURA!AP168","v":0},"CD:",{"$f":"HOJA_CAPTURA!AQ168","v":0},"USB:",{"$f":"HOJA_CAPTURA!AR168","v":0},"Otros:",null,{"$f":"HOJA_CAPTURA!AS168","v":0}]
[null,"Fecha de Clasificación: ",null,null,null,null,null,null,null,null,null,null,"Clasificación de la Información:"]
[null,"Cargo:"]
[]
[null,"Nombre del Expediente:                     ",null,null,null,null,{"$f":"HOJA_CAPTURA!O169","v":0},null,null,null,null,null,null,null,null,"Número del Expediente: ",null,null,null,null,{"$f":"HOJA_CAPTURA!M169","v":0}]
[null,"Número de Legajo: ",null,null,null,null,null,"de",{"$f":"HOJA_CAPTURA!U169","v":0},"Número de Fojas: "]
[null,"Soporte (Formato):",null,null,null,"Papel:",null,{"$f":"HOJA_CAPTURA!AO169","v":0},"Medio magnético:  ",null,null,null,{"$f":"HOJA_CAPTURA!AP169","v":0},"CD:",{"$f":"HOJA_CAPTURA!AQ169","v":0},"USB:",{"$f":"HOJA_CAPTURA!AR169","v":0},"Otros:",null,{"$f":"HOJA_CAPTURA!AS169","v":0}]
[null,"Fecha de Clasificación: ",null,null,null,null,null,null,null,null,null,null,"Clasificación de la Información:"]
[null,"Cargo:"]
[]
[null,"Subserie: ",null,{"$f":"HOJA_CAPTURA!I170","v":0}]
[null,null,{"$f":"HOJA_CAPTURA!P170","v":0}]
[]
[]
[null,null,null,null,null,null,null,null,null,null,null,null,"Tomo(s): ",null,null,"de"]
[]
[null,"Subserie: ",null,{"$f":"HOJA_CAPTURA!I171","v":0}]
[null,null,{"$f":"HOJA_CAPTURA!P171","v":0}]
[]
[null,null,null,null,null,null,null,null,null,null,null,null,"Folio: del",null,null,null,"al"]
[]
[]
[null,"Subserie: ",null,{"$f":"HOJA_CAPTURA!I172","v":0}]
[null,null,{"$f":"HOJA_CAPTURA!P172","v":0}]
[]
[null,null,null,null,null,null,null,null,null,null,null,null,"Folio: del",null,null,null,"al"]
[]
[null,"Serie: ",null,{"$f":"HOJA_CAPTURA!H173","v":0}]
[null,"Asunto o Descripción:                        "]
[null,null,{"$f":"HOJA_CAPTURA!P173","v":0}]
[null,"Ampliación de periodo de reserva:",null,null,null,null,null,null,null,null,null,null,"Parte(s) o sección(es) Reservada:"]
[null,"Nombre del Responsable de la Clasificación: "]
[]
[null,"Sección: ",null,{"$f":"HOJA_CAPTURA!G174","v":0}]
[null,null,null,null,null,"(DD-MM-AAAA) ",null,null,null,null,null,null,null,null,null,null,null,"(DD-MM-AAAA) "]
[]
[]
[null,"Nombre del Responsable de la Clasificación: "]
[]
[null,"Sección: ",null,{"$f":"HOJA_CAPTURA!G175","v":0}]
[null,null,null,null,null,"(DD-MM-AAAA) ",null,null,null,null,null,null,null,null,null,null,null,"(DD-MM-AAAA) "]
[]
[]
[null,null,null,null,null,null,null,null,null,null,null,null,null,null," "]
[null,{"$f":"HOJA_CAPTURA!C176","v":0}]
[null,"Sección: ",null,{"$f":"HOJA_CAPTURA!G176","v":0}]
[null,null,null,null,null,"(DD-MM-AAAA) ",null,null,null,null,null,null,null,null,null,null,null,"(DD-MM-AAAA) "]
[]
[]
[null,null,null,null,null,null,null,null,null,null,null,null,null,null," "]
[null,{"$f":"HOJA_CAPTURA!C177","v":0}]
[null,"Número Total de Legajos: ",null,null,null,null,{"$f":"HOJA_CAPTURA!U177","v":0},null,null,"Número Total de Fojas:",null,null,null,null,null,{"$f":"HOJA_CAPTURA!V177","v":0}]
[null,"Periodo de Reserva:            ",null,null,null,{"$f":"HOJA_CAPTURA!AM177","v":0},null,"años"]
[null,"Fundamento Legal:",null,null,null,{"$f":"HOJA_CAPTURA!AN177","v":0}]
[]
[]
[]
[null,"Vigencia documental (de acuerdo a CADIDO):",null,null,null,null,null,null,null,null,null,null,"AT",{"$f":"HOJA_CAPTURA!AI178","v":0},null,"AC",{"$f":"HOJA_CAPTURA!AJ178","v":0},null,"Total",null,{"$f":"HOJA_CAPTURA!AK178","v":0}]
[null,"Periodo de Reserva:            ",null,null,null,{"$f":"HOJA_CAPTURA!AM178","v":0},null,"años"]
[null,"Ampliación de periodo de reserva:",null,null,null,null,null,null,null,null,null,null,"Parte(s) o sección(es) Reservada:"]
[]
[]
[]
[null,"Vigencia documental (de acuerdo a CADIDO):",null,null,null,null,null,null,null,null,null,null,"AT",{"$f":"HOJA_CAPTURA!AI179","v":0},null,"AC",{"$f":"HOJA_CAPTURA!AJ179","v":0},null,"Total",null,{"$f":"HOJA_CAPTURA!AK179","v":0}]
[null,"Periodo de Reserva:            ",null,null,null,{"$f":"HOJA_CAPTURA!AM179","v":0},null,"años"]
[null,"Ampliación de periodo de reserva:",null,null,null,null,null,null,null,null,null,null,"Parte(s) o sección(es) Reservada:"]
[]
[null,"Clasificación:",null,null,{"$f":"HOJA_CAPTURA!N180","v":0}]
[null,"Tipo de Archivo:",null,null,null,"Trámite ",null,null,{"$f":"HOJA_CAPTURA!W180","v":0},"Concentración",null,null,{"$f":"HOJA_CAPTURA!X180","v":0},null,"Histórico  ",null,{"$f":"HOJA_CAPTURA!Y180","v":0}]
[null,"Vigencia documental (de acuerdo a CADIDO):",null,null,null,null,null,null,null,null,null,null,"AT",{"$f":"HOJA_CAPTURA!AI180","v":0},null,"AC",{"$f":"HOJA_CAPTURA!AJ180","v":0},null,"Total",null,{"$f":"HOJA_CAPTURA!AK180","v":0}]
[null,"Periodo de Reserva:            ",null,null,null,{"$f":"HOJA_CAPTURA!AM180","v":0},null,"años"]
[null,"Ampliación de periodo de reserva:",null,null,null,null,null,null,null,null,null,null,"Parte(s) o sección(es) Reservada:"]
[null,"Cargo:"]
[]
[null,"Número Total de Legajos: ",null,null,null,null,{"$f":"HOJA_CAPTURA!U181","v":0},null,null,"Número Total de Fojas:",null,null,null,null,null,{"$f":"HOJA_CAPTURA!V181","v":0}]
[null,null,null,null,null,null,null,null,null,null,null,null,null,null,null,null,null,"(Planos, Fotos, etc.)"]
[null,"Plazo de Reserva: ",null,null,null,null,null,null,null,null,null,null,"Reservada:",null,null,null,null,"Confidencial:"]
[null,"Fecha de Desclasificación: "]
[null,"Firma:"]
[]
[null,"Número Total de Legajos: ",null,null,null,null,{"$f":"HOJA_CAPTURA!U182","v":0},null,null,"Número Total de Fojas:",null,null,null,null,null,{"$f":"HOJA_CAPTURA!V182","v":0}]
[null,null,null,null,null,null,null,null,null,null,null,null,null,null,null,null,null,"(Planos, Fotos, etc.)"]
[null,"Plazo de Reserva: ",null,null,null,null,null,null,null,null,null,null,"Reservada:",null,null,null,null,"Confidencial:"]
[null,null,null,null,null,null,null,null,null,null,null,null,"Fundamento Legal:"]
[]
[]
[null,"Número Total de Legajos: ",null,null,null,null,{"$f":"HOJA_CAPTURA!U183","v":0},null,null,"Número Total de Fojas:",null,null,null,null,null,{"$f":"HOJA_CAPTURA!V183","v":0}]
[null,null,null,null,null,null,null,null,null,null,null,null,null,null,null,null,null,"(Planos, Fotos, etc.)"]
[null,"Plazo de Reserva: ",null,null,null,null,null,null,null,null,null,null,"Reservada:",null,null,null,null,"Confidencial:"]
[null,null,null,null,null,null,null,null,null,null,null,null,"Fundamento Legal:"]
[]
[null,"Número de Legajo: ",null,null,null,null,null,"de",{"$f":"HOJA_CAPTURA!U184","v":0},"Número de Fojas: "]
[null,"Soporte (Formato):",null,null,null,"Papel:",null,{"$f":"HOJA_CAPTURA!AO184","v":0},"Medio magnético:  ",null,null,null,{"$f":"HOJA_CAPTURA!AP184","v":0},"CD:",{"$f":"HOJA_CAPTURA!AQ184","v":0},"USB:",{"$f":"HOJA_CAPTURA!AR184","v":0},"Otros:",null,{"$f":"HOJA_CAPTURA!AS184","v":0}]
[null,null,null,null,null,null,null,null,null,null,null,null,null,null,null,null,null,"(Planos, Fotos, etc.)"]
[]
[null,"Cargo:"]
[]
[null,"Nombre del Expediente:                     ",null,null,null,null,{"$f":"HOJA_CAPTURA!O185","v":0},null,null,null,null,null,null,null,null,"Número del Expediente: ",null,null,null,null,{"$f":"HOJA_CAPTURA!M185","v":0}]
[null,"Valor Documental:   ",null,null,null,"Administrativo",null,null,null,{"$f":"HOJA_CAPTURA!AF185","v":0},"Legal",null,null,null,{"$f":"HOJA_CAPTURA!AG185","v":0},"Contable y/o Fiscal",null,null,null,null,{"$f":"HOJA_CAPTURA!AH185","v":0}]
[]
[null,null,null,null,null,null,null,null,null,null,null,null,"Tomo(s): ",null,null,"de"]
[null,"Cargo:"]
[]
[null,"Nombre del Expediente:                     ",null,null,null,null,{"$f":"HOJA_CAPTURA!O186","v":0},null,null,null,null,null,null,null,null,"Número del Expediente: ",null,null,null,null,{"$f":"HOJA_CAPTURA!M186","v":0}]
[null,"Valor Documental:   ",null,null,null,"Administrativo",null,null,null,{"$f":"HOJA_CAPTURA!AF186","v":0},"Legal",null,null,null,{"$f":"HOJA_CAPTURA!AG186","v":0},"Contable y/o Fiscal",null,null,null,null,{"$f":"HOJA_CAPTURA!AH186","v":0}]
[]
[null,null,null,null,null,null,null,null,null,null,null,null,"Tomo(s): ",null,null,"de"]
[]
[null,"Subserie: ",null,{"$f":"HOJA_CAPTURA!I187","v":0}]
[null,"Nombre del Expediente:                     ",null,null,null,null,{"$f":"HOJA_CAPTURA!O187","v":0},null,null,null,null,null,null,null,null,"Número del Expediente: ",null,null,null,null,{"$f":"HOJA_CAPTURA!M187","v":0}]
[null,"Valor Documental:   ",null,null,null,"Administrativo",null,null,null,{"$f":"HOJA_CAPTURA!AF187","v":0},"Legal",null,null,null,{"$f":"HOJA_CAPTURA!AG187","v":0},"Contable y/o Fiscal",null,null,null,null,{"$f":"HOJA_CAPTURA!AH187","v":0}]
[]
[null,null,null,null,null,null,null,null,null,null,null,null,"Tomo(s): ",null,null,"de"]
[]
[null,"Subserie: ",null,{"$f":"HOJA_CAPTURA!I188","v":0}]
[null,"Vigencia documental (de acuerdo a CADIDO):",null,null,null,null,null,null,null,null,null,null,"AT",{"$f":"HOJA_CAPTURA!AI188","v":0},null,"AC",{"$f":"HOJA_CAPTURA!AJ188","v":0},null,"Total",null,{"$f":"HOJA_CAPTURA!AK188","v":0}]
[null,"(Llenar este apartado sólo en el caso de que la información del expediente sea reservada o confidencial)"]
[]
[null,null,null,null,null,null,null,null,null,null,null,null,"Folio: del",null,null,null,"al"]
[]
[null,"Serie: ",null,{"$f":"HOJA_CAPTURA!H189","v":0}]
[null,"Asunto o Descripción:                        "]
[null,"(Llenar este apartado sólo en el caso de que la información del expediente sea reservada o confidencial)"]
[null,"Nombre del Responsable de la Clasificación: "]
[]
[]
[null,"Serie: ",null,{"$f":"HOJA_CAPTURA!H190","v":0}]
[null,"Asunto o Descripción:                        "]
[null,"(Llenar este apartado sólo en el caso de que la información del expediente sea reservada o confidencial)"]
[null,"Nombre del Responsable de la Clasificación: "]
[]
[null,"Sección: ",null,{"$f":"HOJA_CAPTURA!G191","v":0}]
[null,null,null,null,null,"(DD-MM-AAAA) ",null,null,null,null,null,null,null,null,null,null,null,"(DD-MM-AAAA) "]
[null,"Asunto o Descripción:                        "]
[null,"(Llenar este apartado sólo en el caso de que la información del expediente sea reservada o confidencial)"]
[null,"Nombre del Responsable de la Clasificación: "]
[]
[null,{"$f":"HOJA_CAPTURA!C192","v":0}]
[null,"Fecha de Apertura:",null,null,null,{"$f":"HOJA_CAPTURA!Q192","v":"00:00:00"},null,null,null,null,null,null,null," Fecha de Cierre:",null,null,null,{"$f":"HOJA_CAPTURA!R192","v":"00:00:00"}]
[null,"Fundamento Legal:",null,null,null,{"$f":"HOJA_CAPTURA!AN192","v":0}]
[]
[]
[null,null,null,null,null,null,null,null,null,null,null,null,null,null," "]
[null,{"$f":"HOJA_CAPTURA!C193","v":0}]
[null,"Fecha de Apertura:",null,null,null,{"$f":"HOJA_CAPTURA!Q193","v":"00:00:00"},null,null,null,null,null,null,null," Fecha de Cierre:",null,null,null,{"$f":"HOJA_CAPTURA!R193","v":"00:00:00"}]
[null,"Fundamento Legal:",null,null,null,{"$f":"HOJA_CAPTURA!AN193","v":0}]
[]
[]
[]
[null,{"$f":"HOJA_CAPTURA!C194","v":0}]
[null,"Fecha de Apertura:",null,null,null,{"$f":"HOJA_CAPTURA!Q194","v":"00:00:00"},null,null,null,null,null,null,null," Fecha de Cierre:",null,null,null,{"$f":"HOJA_CAPTURA!R194","v":"00:00:00"}]
[null,"Fundamento Legal:",null,null,null,{"$f":"HOJA_CAPTURA!AN194","v":0}]
[]
[]
[]
[null,"Vigencia documental (de acuerdo a CADIDO):",null,null,null,null,null,null,null,null,null,null,"AT",{"$f":"HOJA_CAPTURA!AI195","v":0},null,"AC",{"$f":"HOJA_CAPTURA!AJ195","v":0},null,"Total",null,{"$f":"HOJA_CAPTURA!AK195","v":0}]
[null,"Periodo de Reserva:            ",null,null,null,{"$f":"HOJA_CAPTURA!AM195","v":0},null,"años"]
[]
[null,"Ampliación de periodo de reserva:",null,null,null,null,null,null,null,null,null,null,"Parte(s) o sección(es) Reservada:"]
[]
[null,"Clasificación:",null,null,{"$f":"HOJA_CAPTURA!N196","v":0}]
[null,"Tipo de Archivo:",null,null,null,"Trámite ",null,null,{"$f":"HOJA_CAPTURA!W196","v":0},"Concentración",null,null,{"$f":"HOJA_CAPTURA!X196","v":0},null,"Histórico  ",null,{"$f":"HOJA_CAPTURA!Y196","v":0}]
[null,"Condiciones de acceso:",null,null,null,null,{"$f":"HOJA_CAPTURA!AL196","v":0}]
[null,"Fecha de Desclasificación: "]
[null,"Firma:"]
[]
[null,"Clasificación:",null,null,{"$f":"HOJA_CAPTURA!N197","v":0}]
[null,"Tipo de Archivo:",null,null,null,"Trámite ",null,null,{"$f":"HOJA_CAPTURA!W197","v":0},"Concentración",null,null,{"$f":"HOJA_CAPTURA!X197","v":0},null,"Histórico  ",null,{"$f":"HOJA_CAPTURA!Y197","v":0}]
[null,"Condiciones de acceso:",null,null,null,null,{"$f":"HOJA_CAPTURA!AL197","v":0}]
[null,"Fecha de Desclasificación: "]
[null,"Firma:"]
[]
[null,"Número Total de Legajos: ",null,null,null,null,{"$f":"HOJA_CAPTURA!U198","v":0},null,null,"Número Total de Fojas:",null,null,null,null,null,{"$f":"HOJA_CAPTURA!V198","v":0}]
[null,"Tipo de Archivo:",null,null,null,"Trámite ",null,null,{"$f":"HOJA_CAPTURA!W243","v":0},"Concentración",null,null,{"$f":"HOJA_CAPTURA!X243","v":0},null,"Histórico  ",null,{"$f":"HOJA_CAPTURA!Y243","v":0}]
[null,"Condiciones de acceso:",null,null,null,null,{"$f":"HOJA_CAPTURA!AL198","v":0}]
[null,"Fecha de Desclasificación: "]
[null,"Firma:"]
[]
[null,"Sección: ",null,{"$f":"HOJA_CAPTURA!G199","v":0}]
[null,"Soporte (Formato):",null,null,null,"Papel:",null,{"$f":"HOJA_CAPTURA!AO199","v":0},"Medio magnético:  ",null,null,null,{"$f":"HOJA_CAPTURA!AP199","v":0},"CD:",{"$f":"HOJA_CAPTURA!AQ199","v":0},"USB:",{"$f":"HOJA_CAPTURA!AR199","v":0},"Otros:",null,{"$f":"HOJA_CAPTURA!AS199","v":0}]
[null,"Fecha de Clasificación: ",null,null,null,null,null,null,null,null,null,null,"Clasificación de la Información:"]
[null,"Plazo de Reserva: ",null,null,null,null,null,null,null,null,null,null,"Reservada:",null,null,null,null,"Confidencial:",null,null,"                   "]
[null,null,null,null,null,null,null,null,null,null,null,null,"Fundamento Legal:"]
[]
[null,"Número de Legajo: ",null,null,null,null,null,"de",{"$f":"HOJA_CAPTURA!U200","v":0},"Número de Fojas: "]
[null,"Soporte (Formato):",null,null,null,"Papel:",null,{"$f":"HOJA_CAPTURA!AO200","v":0},"Medio magnético:  ",null,null,null,{"$f":"HOJA_CAPTURA!AP200","v":0},"CD:",{"$f":"HOJA_CAPTURA!AQ200","v":0},"USB:",{"$f":"HOJA_CAPTURA!AR200","v":0},"Otros:",null,{"$f":"HOJA_CAPTURA!AS200","v":0}]
[null,"Fecha de Clasificación: ",null,null,null,null,null,null,null,null,null,null,"Clasificación de la Información:"]
[null,"Cargo:"]
[]
[]
[null,"Número de Legajo: ",null,null,null,null,null,"de",{"$f":"HOJA_CAPTURA!U201","v":0},"Número de Fojas: "]
[null,"Soporte (Formato):",null,null,null,"Papel:",null,{"$f":"HOJA_CAPTURA!AO201","v":0},"Medio magnético:  ",null,null,null,{"$f":"HOJA_CAPTURA!AP201","v":0},"CD:",{"$f":"HOJA_CAPTURA!AQ201","v":0},"USB:",{"$f":"HOJA_CAPTURA!AR201","v":0},"Otros:",null,{"$f":"HOJA_CAPTURA!AS201","v":0}]
[null,"Fecha de Clasificación: ",null,null,null,null,null,null,null,null,null,null,"Clasificación de la Información:"]
[null,"Cargo:"]
[]
[null,"Nombre del Expediente:                     ",null,null,null,null,{"$f":"HOJA_CAPTURA!O202","v":0},null,null,null,null,null,null,null,null,"Número del Expediente: ",null,null,null,null,{"$f":"HOJA_CAPTURA!M202","v":0}]
[null,"Valor Documental:   ",null,null,null,"Administrativo",null,null,null,{"$f":"HOJA_CAPTURA!AF202","v":0},"Legal",null,null,null,{"$f":"HOJA_CAPTURA!AG202","v":0},"Contable y/o Fiscal",null,null,null,null,{"$f":"HOJA_CAPTURA!AH202","v":0}]
[null,"Soporte (Formato):",null,null,null,"Papel:",null,{"$f":"HOJA_CAPTURA!AO202","v":0},"Medio magnético:  ",null,null,null,{"$f":"HOJA_CAPTURA!AP202","v":0},"CD:",{"$f":"HOJA_CAPTURA!AQ202","v":0},"USB:",{"$f":"HOJA_CAPTURA!AR202","v":0},"Otros:",null,{"$f":"HOJA_CAPTURA!AS202","v":0}]
[null,"Fecha de Clasificación: ",null,null,null,null,null,null,null,null,null,null,"Clasificación de la Información:"]
[null,"Firma:"]
[]
[null,"Subserie: ",null,{"$f":"HOJA_CAPTURA!I203","v":0}]
[null,null,{"$f":"HOJA_CAPTURA!P203","v":0}]
[]
[null,null,null,null,null,null,null,null,null,null,null,null,"Folio: del",null,null,null,"al"]
[null,null,null,null,null,null,null,null,null,null,null,null,"Tomo(s): ",null,null,"de"]
[]
[null,"Subserie: ",null,{"$f":"HOJA_CAPTURA!I204","v":0}]
[null,null,{"$f":"HOJA_CAPTURA!P204","v":0}]
[]
[null,null,null,null,null,null,null,null,null,null,null,null,"Folio: del",null,null,null,"al"]
[]
[null,"Serie: ",null,{"$f":"HOJA_CAPTURA!H205","v":0}]
[null,"Subserie: ",null,{"$f":"HOJA_CAPTURA!I205","v":0}]
[null,null,{"$f":"HOJA_CAPTURA!P205","v":0}]
[]
[null,null,null,null,null,null,null,null,null,null,null,null,"Folio: del",null,null,null,"al"]
[]
[null,"Serie: ",null,{"$f":"HOJA_CAPTURA!H206","v":0}]
[null,"Asunto o Descripción:                        "]
[null,"Soporte (Formato):",null,null,null,"Papel:",null,{"$f":"HOJA_CAPTURA!AO206","v":0},"Medio magnético:  ",null,null,null,{"$f":"HOJA_CAPTURA!AP206","v":0},"CD:",{"$f":"HOJA_CAPTURA!AQ206","v":0},"USB:",{"$f":"HOJA_CAPTURA!AR206","v":0},"Otros:",null,{"$f":"HOJA_CAPTURA!AS206","v":0}]
[null,"(Llenar este apartado sólo en el caso de que la información del expediente sea reservada o confidencial)"]
[null,"Nombre del Responsable de la Clasificación: "]
[]
[null,"Sección: ",null,{"$f":"HOJA_CAPTURA!G207","v":0}]
[null,null,null,null,null,"(DD-MM-AAAA) ",null,null,null,null,null,null,null,null,null,null,null,"(DD-MM-AAAA) "]
[]
[]
[null,null,null,null,null,null,null,null,null,null,null,null,null,null," "]
[]
[null,"Sección: ",null,{"$f":"HOJA_CAPTURA!G208","v":0}]
[null,null,null,null,null,"(DD-MM-AAAA) ",null,null,null,null,null,null,null,null,null,null,null,"(DD-MM-AAAA) "]
[]
[]
[null,null,null,null,null,null,null,null,null,null,null,null,null,null," "]
[null,{"$f":"HOJA_CAPTURA!C209","v":0}]
[null,"Fecha de Apertura:",null,null,null,{"$f":"HOJA_CAPTURA!Q209","v":"00:00:00"},null,null,null,null,null,null,null," Fecha de Cierre:",null,null,null,{"$f":"HOJA_CAPTURA!R209","v":"00:00:00"}]
[null,null,null,null,null,"(DD-MM-AAAA) ",null,null,null,null,null,null,null,null,null,null,null,"(DD-MM-AAAA) "]
[]
[]
[null,null,null,null,null,null,null,null,null,null,null,null,null,null," "]
[null,"Sección: ",null,{"$f":"HOJA_CAPTURA!G210","v":0}]
[null,"Vigencia documental (de acuerdo a CADIDO):",null,null,null,null,null,null,null,null,null,null,"AT",{"$f":"HOJA_CAPTURA!AI210","v":0},null,"AC",{"$f":"HOJA_CAPTURA!AJ210","v":0},null,"Total",null,{"$f":"HOJA_CAPTURA!AK210","v":0}]
[null,"Periodo de Reserva:            ",null,null,null,{"$f":"HOJA_CAPTURA!AM210","v":0},null,"años"]
[null,"Ampliación de periodo de reserva:",null,null,null,null,null,null,null,null,null,null,"Parte(s) o sección(es) Reservada:"]
[]
[]
[]
[null,"Vigencia documental (de acuerdo a CADIDO):",null,null,null,null,null,null,null,null,null,null,"AT",{"$f":"HOJA_CAPTURA!AI211","v":0},null,"AC",{"$f":"HOJA_CAPTURA!AJ211","v":0},null,"Total",null,{"$f":"HOJA_CAPTURA!AK211","v":0}]
[null,"Periodo de Reserva:            ",null,null,null,{"$f":"HOJA_CAPTURA!AM211","v":0},null,"años"]
[null,"Ampliación de periodo de reserva:",null,null,null,null,null,null,null,null,null,null,"Parte(s) o sección(es) Reservada:"]
[]
[null,"Clasificación:",null,null,{"$f":"HOJA_CAPTURA!N212","v":0}]
[]
[null,"Vigencia documental (de acuerdo a CADIDO):",null,null,null,null,null,null,null,null,null,null,"AT",{"$f":"HOJA_CAPTURA!AI212","v":0},null,"AC",{"$f":"HOJA_CAPTURA!AJ212","v":0},null,"Total",null,{"$f":"HOJA_CAPTURA!AK212","v":0}]
[null,"Periodo de Reserva:            ",null,null,null,{"$f":"HOJA_CAPTURA!AM212","v":0},null,"años"]
[null,"Ampliación de periodo de reserva:",null,null,null,null,null,null,null,null,null,null,"Parte(s) o sección(es) Reservada:"]
[]
[null,"Clasificación:",null,null,{"$f":"HOJA_CAPTURA!N213","v":0}]
[null,"Tipo de Archivo:",null,null,null,"Trámite ",null,null,{"$f":"HOJA_CAPTURA!W213","v":0},"Concentración",null,null,{"$f":"HOJA_CAPTURA!X213","v":0},null,"Histórico  ",null,{"$f":"HOJA_CAPTURA!Y213","v":0}]
[null,"Condiciones de acceso:",null,null,null,null,{"$f":"HOJA_CAPTURA!AL213","v":0}]
[null,"Periodo de Reserva:            ",null,null,null,{"$f":"HOJA_CAPTURA!AM213","v":0},null,"años"]
[]
[null,"Firma:"]
[]
[null,"Número Total de Legajos: ",null,null,null,null,{"$f":"HOJA_CAPTURA!U214","v":0},null,null,"Número Total de Fojas:",null,null,null,null,null,{"$f":"HOJA_CAPTURA!V214","v":0}]
[null,null,null,null,null,null,null,null,null,null,null,null,null,null,null,null,null,"(Planos, Fotos, etc.)"]
[null,"Plazo de Reserva: ",null,null,null,null,null,null,null,null,null,null,"Reservada:",null,null,null,null,"Confidencial:",null,null,"                   "]
[null,null,null,null,null,null,null,null,null,null,null,null,"Fundamento Legal:"]
[null,"Firma:"]
[]
[null,"Número Total de Legajos: ",null,null,null,null,{"$f":"HOJA_CAPTURA!U215","v":0},null,null,"Número Total de Fojas:",null,null,null,null,null,{"$f":"HOJA_CAPTURA!V215","v":0}]
[null,null,null,null,null,null,null,null,null,null,null,null,null,null,null,null,null,"(Planos, Fotos, etc.)"]
[null,"Plazo de Reserva: ",null,null,null,null,null,null,null,null,null,null,"Reservada:",null,null,null,null,"Confidencial:",null,null,"                   "]
[null,null,null,null,null,null,null,null,null,null,null,null,"Fundamento Legal:"]
[]
[null,"Número de Legajo: ",null,null,null,null,null,"de",{"$f":"HOJA_CAPTURA!U216","v":0},"Número de Fojas: "]
[null,"Número Total de Legajos: ",null,null,null,null,{"$f":"HOJA_CAPTURA!U216","v":0},null,null,"Número Total de Fojas:",null,null,null,null,null,{"$f":"HOJA_CAPTURA!V216","v":0}]
[null,null,null,null,null,null,null,null,null,null,null,null,null,null,null,null,null,"(Planos, Fotos, etc.)"]
[null,"Plazo de Reserva: ",null,null,null,null,null,null,null,null,null,null,"Reservada:",null,null,null,null,"Confidencial:",null,null,"                   "]
[null,null,null,null,null,null,null,null,null,null,null,null,"Fundamento Legal:"]
[]
[null,"Número de Legajo: ",null,null,null,null,null,"de",{"$f":"HOJA_CAPTURA!U217","v":0},"Número de Fojas: "]
[null,"Soporte (Formato):",null,null,null,"Papel:",null,{"$f":"HOJA_CAPTURA!AO217","v":0},"Medio magnético:  ",null,null,null,{"$f":"HOJA_CAPTURA!AP217","v":0},"CD:",{"$f":"HOJA_CAPTURA!AQ217","v":0},"USB:",{"$f":"HOJA_CAPTURA!AR217","v":0},"Otros:",null,{"$f":"HOJA_CAPTURA!AS217","v":0}]
[]
[null,"Fecha de Clasificación: ",null,null,null,null,null,null,null,null,null,null,"Clasificación de la Información:"]
[null,"Cargo:"]
[]
[null,"Nombre del Expediente:                     ",null,null,null,null,{"$f":"HOJA_CAPTURA!O218","v":0},null,null,null,null,null,null,null,null,"Número del Expediente: ",null,null,null,null,{"$f":"HOJA_CAPTURA!M218","v":0}]
[null,"Valor Documental:   ",null,null,null,"Administrativo",null,null,null,{"$f":"HOJA_CAPTURA!AF218","v":0},"Legal",null,null,null,{"$f":"HOJA_CAPTURA!AG218","v":0},"Contable y/o Fiscal",null,null,null,null,{"$f":"HOJA_CAPTURA!AH218","v":0}]
[]
[null,null,null,null,null,null,null,null,null,null,null,null,"Tomo(s): ",null,null,"de"]
[]
[]
[null,"Nombre del Expediente:                     ",null,null,null,null,{"$f":"HOJA_CAPTURA!O219","v":0},null,null,null,null,null,null,null,null,"Número del Expediente: ",null,null,null,null,{"$f":"HOJA_CAPTURA!M219","v":0}]
[null,"Valor Documental:   ",null,null,null,"Administrativo",null,null,null,{"$f":"HOJA_CAPTURA!AF219","v":0},"Legal",null,null,null,{"$f":"HOJA_CAPTURA!AG219","v":0},"Contable y/o Fiscal",null,null,null,null,{"$f":"HOJA_CAPTURA!AH219","v":0}]
[]
[null,null,null,null,null,null,null,null,null,null,null,null,"Tomo(s): ",null,null,"de"]
[]
[null,"Subserie: ",null,{"$f":"HOJA_CAPTURA!I220","v":0}]
[null,null,{"$f":"HOJA_CAPTURA!P220","v":0}]
[null,"Valor Documental:   ",null,null,null,"Administrativo",null,null,null,{"$f":"HOJA_CAPTURA!AF220","v":0},"Legal",null,null,null,{"$f":"HOJA_CAPTURA!AG220","v":0},"Contable y/o Fiscal",null,null,null,null,{"$f":"HOJA_CAPTURA!AH220","v":0}]
[]
[null,null,null,null,null,null,null,null,null,null,null,null,"Tomo(s): ",null,null,"de"]
[]
[null,"Serie: ",null,{"$f":"HOJA_CAPTURA!H221","v":0}]
[null,"Asunto o Descripción:                        "]
[null,"(Llenar este apartado sólo en el caso de que la información del expediente sea reservada o confidencial)"]
[null,"Nombre del Responsable de la Clasificación: "]
[null,null,null,null,null,null,null,null,null,null,null,null,"Folio: del",null,null,null,"al"]
[]
[null,"Serie: ",null,{"$f":"HOJA_CAPTURA!H222","v":0}]
[null,"Asunto o Descripción:                        "]
[null,"(Llenar este apartado sólo en el caso de que la información del expediente sea reservada o confidencial)"]
[null,"Nombre del Responsable de la Clasificación: "]
[]
[null,"Sección: ",null,{"$f":"HOJA_CAPTURA!G223","v":0}]
[null,"Serie: ",null,{"$f":"HOJA_CAPTURA!H223","v":0}]
[null,"Asunto o Descripción:                        "]
[null,"(Llenar este apartado sólo en el caso de que la información del expediente sea reservada o confidencial)"]
[null,"Nombre del Responsable de la Clasificación: "]
[]
[null,"Sección: ",null,{"$f":"HOJA_CAPTURA!G224","v":0}]
[null,null,null,null,null,"(DD-MM-AAAA) ",null,null,null,null,null,null,null,null,null,null,null,"(DD-MM-AAAA) "]
[]
[null,"(Llenar este apartado sólo en el caso de que la información del expediente sea reservada o confidencial)"]
[]
[null,null,null,null,null,null,null,null,null,null,null,null,null,null," "]
[null,{"$f":"HOJA_CAPTURA!C225","v":0}]
[null,"Fecha de Apertura:",null,null,null,{"$f":"HOJA_CAPTURA!Q225","v":"00:00:00"},null,null,null,null,null,null,null," Fecha de Cierre:",null,null,null,{"$f":"HOJA_CAPTURA!R225","v":"00:00:00"}]
[null,"Fundamento Legal:",null,null,null,{"$f":"HOJA_CAPTURA!AN225","v":0}]
[]
[]
[null,null,null,null,null,null,null,null,null,null,null,null,null,null," "]
[null,{"$f":"HOJA_CAPTURA!C226","v":0}]
[null,"Fecha de Apertura:",null,null,null,{"$f":"HOJA_CAPTURA!Q226","v":"00:00:00"},null,null,null,null,null,null,null," Fecha de Cierre:",null,null,null,{"$f":"HOJA_CAPTURA!R226","v":"00:00:00"}]
[null,"Fundamento Legal:",null,null,null,{"$f":"HOJA_CAPTURA!AN226","v":0}]
[]
[]
[]
[null,"Vigencia documental (de acuerdo a CADIDO):",null,null,null,null,null,null,null,null,null,null,"AT",{"$f":"HOJA_CAPTURA!AI227","v":0},null,"AC",{"$f":"HOJA_CAPTURA!AJ227","v":0},null,"Total",null,{"$f":"HOJA_CAPTURA!AK902","v":0}]
[null,"Fecha de Apertura:",null,null,null,{"$f":"HOJA_CAPTURA!Q227","v":"00:00:00"},null,null,null,null,null,null,null," Fecha de Cierre:",null,null,null,{"$f":"HOJA_CAPTURA!R227","v":"00:00:00"}]
[null,"Fundamento Legal:",null,null,null,{"$f":"HOJA_CAPTURA!AN227","v":0}]
[]
[]
[]
[null,"Tipo de Archivo:",null,null,null,"Trámite ",null,null,{"$f":"HOJA_CAPTURA!W228","v":0},"Concentración",null,null,{"$f":"HOJA_CAPTURA!X228","v":0},null,"Histórico  ",null,{"$f":"HOJA_CAPTURA!Y228","v":0}]
[null,"Condiciones de acceso:",null,null,null,null,{"$f":"HOJA_CAPTURA!AL228","v":0}]
[null,"Fecha de Desclasificación: "]
[null,"Ampliación de periodo de reserva:",null,null,null,null,null,null,null,null,null,null,"Parte(s) o sección(es) Reservada:"]
[]
[null,"Clasificación:",null,null,{"$f":"HOJA_CAPTURA!N229","v":0}]
[null,"Tipo de Archivo:",null,null,null,"Trámite ",null,null,{"$f":"HOJA_CAPTURA!W229","v":0},"Concentración",null,null,{"$f":"HOJA_CAPTURA!X229","v":0},null,"Histórico  ",null,{"$f":"HOJA_CAPTURA!Y229","v":0}]
[null,"Condiciones de acceso:",null,null,null,null,{"$f":"HOJA_CAPTURA!AL229","v":0}]
[null,"Fecha de Desclasificación: "]
[null,"Firma:"]
[]
[null,"Clasificación:",null,null,{"$f":"HOJA_CAPTURA!N230","v":0}]
[null,"Tipo de Archivo:",null,null,null,"Trámite ",null,null,{"$f":"HOJA_CAPTURA!W230","v":0},"Concentración",null,null,{"$f":"HOJA_CAPTURA!X230","v":0},null,"Histórico  ",null,{"$f":"HOJA_CAPTURA!Y230","v":0}]
[null,"Condiciones de acceso:",null,null,null,null,{"$f":"HOJA_CAPTURA!AL230","v":0}]
[null,"Fecha de Desclasificación: "]
[null,"Firma:"]
[]
[null,"Número Total de Legajos: ",null,null,null,null,{"$f":"HOJA_CAPTURA!U231","v":0},null,null,"Número Total de Fojas:",null,null,null,null,null,{"$f":"HOJA_CAPTURA!V231","v":0}]
[null,null,null,null,null,null,null,null,null,null,null,null,null,null,null,null,null,"(Planos, Fotos, etc.)"]
[null,"Condiciones de acceso:",null,null,null,null,{"$f":"HOJA_CAPTURA!AL231","v":0}]
[null,"Fecha de Desclasificación: "]
[null,null,null,null,null,null,null,null,null,null,null,null,"Fundamento Legal:"]
[]
[null,"Número de Legajo: ",null,null,null,null,null,"de",{"$f":"HOJA_CAPTURA!U232","v":0},"Número de Fojas: "]
[null,"Soporte (Formato):",null,null,null,"Papel:",null,{"$f":"HOJA_CAPTURA!AO232","v":0},"Medio magnético:  ",null,null,null,{"$f":"HOJA_CAPTURA!AP232","v":0},"CD:",{"$f":"HOJA_CAPTURA!AQ232","v":0},"USB:",{"$f":"HOJA_CAPTURA!AR232","v":0},"Otros:",null,{"$f":"HOJA_CAPTURA!AS232","v":0}]
[null,"Fecha de Clasificación: ",null,null,null,null,null,null,null,null,null,null,"Clasificación de la Información:"]
[null,"Cargo:"]
[null,null,null,null,null,null,null,null,null,null,null,null,"Fundamento Legal:"]
[]
[null,"Número de Legajo: ",null,null,null,null,null,"de",{"$f":"HOJA_CAPTURA!U233","v":0},"Número de Fojas: "]
[null,"Soporte (Formato):",null,null,null,"Papel:",null,{"$f":"HOJA_CAPTURA!AO233","v":0},"Medio magnético:  ",null,null,null,{"$f":"HOJA_CAPTURA!AP233","v":0},"CD:",{"$f":"HOJA_CAPTURA!AQ233","v":0},"USB:",{"$f":"HOJA_CAPTURA!AR233","v":0},"Otros:",null,{"$f":"HOJA_CAPTURA!AS233","v":0}]
[null,"Fecha de Clasificación: ",null,null,null,null,null,null,null,null,null,null,"Clasificación de la Información:"]
[null,"Cargo:"]
[]
[null,"Nombre del Expediente:                     ",null,null,null,null,{"$f":"HOJA_CAPTURA!O234","v":0},null,null,null,null,null,null,null,null,"Número del Expediente: ",null,null,null,null,{"$f":"HOJA_CAPTURA!M234","v":0}]
[null,"Número de Legajo: ",null,null,null,null,null,"de",{"$f":"HOJA_CAPTURA!U234","v":0},"Número de Fojas: "]
[null,"Soporte (Formato):",null,null,null,"Papel:",null,{"$f":"HOJA_CAPTURA!AO234","v":0},"Medio magnético:  ",null,null,null,{"$f":"HOJA_CAPTURA!AP234","v":0},"CD:",{"$f":"HOJA_CAPTURA!AQ234","v":0},"USB:",{"$f":"HOJA_CAPTURA!AR234","v":0},"Otros:",null,{"$f":"HOJA_CAPTURA!AS234","v":0}]
[null,"Fecha de Clasificación: ",null,null,null,null,null,null,null,null,null,null,"Clasificación de la Información:"]
[null,"Cargo:"]
[]
[null,"Nombre del Expediente:                     ",null,null,null,null,{"$f":"HOJA_CAPTURA!O235","v":0},null,null,null,null,null,null,null,null,"Número del Expediente: ",null,null,null,null,{"$f":"HOJA_CAPTURA!M235","v":0}]
[null,"Valor Documental:   ",null,null,null,"Administrativo",null,null,null,{"$f":"HOJA_CAPTURA!AF235","v":0},"Legal",null,null,null,{"$f":"HOJA_CAPTURA!AG235","v":0},"Contable y/o Fiscal",null,null,null,null,{"$f":"HOJA_CAPTURA!AH235","v":0}]
[null,"(Llenar este apartado sólo en el caso de que la información del expediente sea reservada o confidencial)"]
[]
[null,null,null,null,null,null,null,null,null,null,null,null,"Tomo(s): ",null,null,"de"]
[]
[null,"Subserie: ",null,{"$f":"HOJA_CAPTURA!I236","v":0}]
[null,null,{"$f":"HOJA_CAPTURA!P236","v":0}]
[]
[null,null,null,null,null,null,null,null,null,null,null,null,"Folio: del",null,null,null,"al"]
[]
[]
[null,"Subserie: ",null,{"$f":"HOJA_CAPTURA!I237","v":0}]
[null,null,{"$f":"HOJA_CAPTURA!P237","v":0}]
[]
[null,null,null,null,null,null,null,null,null,null,null,null,"Folio: del",null,null,null,"al"]
[]
[null,"Serie: ",null,{"$f":"HOJA_CAPTURA!H238","v":0}]
[null,"Asunto o Descripción:                        "]
[null,null,{"$f":"HOJA_CAPTURA!P238","v":0}]
[]
[null,null,null,null,null,null,null,null,null,null,null,null,"Folio: del",null,null,null,"al"]
[]
[null,{"$f":"HOJA_CAPTURA!C239","v":0}]
[null,null,null,null,null,"(DD-MM-AAAA) ",null,null,null,null,null,null,null,null,null,null,null,"(DD-MM-AAAA) "]
[]
[]
[null,"Nombre del Responsable de la Clasificación: "]
[]
[null,"Sección: ",null,{"$f":"HOJA_CAPTURA!G240","v":0}]
[null,null,null,null,null,"(DD-MM-AAAA) ",null,null,null,null,null,null,null,null,null,null,null,"(DD-MM-AAAA) "]
[]
[]
[null,null,null,null,null,null,null,null,null,null,null,null,null,null," "]
[null,{"$f":"HOJA_CAPTURA!C241","v":0}]
[null,"Sección: ",null,{"$f":"HOJA_CAPTURA!G241","v":0}]
[null,null,null,null,null,"(DD-MM-AAAA) ",null,null,null,null,null,null,null,null,null,null,null,"(DD-MM-AAAA) "]
[]
[]
[null,null,null,null,null,null,null,null,null,null,null,null,null,null," "]
[null,{"$f":"HOJA_CAPTURA!C242","v":0}]
[null,"Fecha de Apertura:",null,null,null,{"$f":"HOJA_CAPTURA!Q242","v":"00:00:00"},null,null,null,null,null,null,null," Fecha de Cierre:",null,null,null,{"$f":"HOJA_CAPTURA!R242","v":"00:00:00"}]
[null,"Fundamento Legal:",null,null,null,{"$f":"HOJA_CAPTURA!AN242","v":0}]
[]
[null,null,null,null,null,null,null,null,null,null,null,null,"Fundamento Legal:"]
[]
[]
[null,"Vigencia documental (de acuerdo a CADIDO):",null,null,null,null,null,null,null,null,null,null,"AT",{"$f":"HOJA_CAPTURA!AI243","v":0},null,"AC",{"$f":"HOJA_CAPTURA!AJ243","v":0},null,"Total",null,{"$f":"HOJA_CAPTURA!AK243","v":0}]
[null,"Periodo de Reserva:            ",null,null,null,{"$f":"HOJA_CAPTURA!AM243","v":0},null,"años"]
[null,"Ampliación de periodo de reserva:",null,null,null,null,null,null,null,null,null,null,"Parte(s) o sección(es) Reservada:"]
[]
[]
[]
[null,"Vigencia documental (de acuerdo a CADIDO):",null,null,null,null,null,null,null,null,null,null,"AT",{"$f":"HOJA_CAPTURA!AI1009","v":0},null,"AC",{"$f":"HOJA_CAPTURA!AJ1009","v":0},null,"Total",null,{"$f":"HOJA_CAPTURA!AK244","v":0}]
[null,"Periodo de Reserva:            ",null,null,null,{"$f":"HOJA_CAPTURA!AM244","v":0},null,"años"]
[null,"Ampliación de periodo de reserva:",null,null,null,null,null,null,null,null,null,null,"Parte(s) o sección(es) Reservada:"]
[]
[null,"Clasificación:",null,null,{"$f":"HOJA_CAPTURA!N245","v":0}]
[null,"Tipo de Archivo:",null,null,null,"Trámite ",null,null,{"$f":"HOJA_CAPTURA!W245","v":0},"Concentración",null,null,{"$f":"HOJA_CAPTURA!X245","v":0},null,"Histórico  ",null,{"$f":"HOJA_CAPTURA!Y245","v":0}]
[null,"Vigencia documental (de acuerdo a CADIDO):",null,null,null,null,null,null,null,null,null,null,"AT",{"$f":"HOJA_CAPTURA!AI245","v":0},null,"AC",{"$f":"HOJA_CAPTURA!AJ245","v":0},null,"Total",null,{"$f":"HOJA_CAPTURA!AK245","v":0}]
[null,"Periodo de Reserva:            ",null,null,null,{"$f":"HOJA_CAPTURA!AM245","v":0},null,"años"]
[null,"Ampliación de periodo de reserva:",null,null,null,null,null,null,null,null,null,null,"Parte(s) o sección(es) Reservada:"]
[]
[null,"Clasificación:",null,null,{"$f":"HOJA_CAPTURA!N246","v":0}]
[null,"Tipo de Archivo:",null,null,null,"Trámite ",null,null,{"$f":"HOJA_CAPTURA!W246","v":0},"Concentración",null,null,{"$f":"HOJA_CAPTURA!X246","v":0},null,"Histórico  ",null,{"$f":"HOJA_CAPTURA!Y246","v":0}]
[null,"Valor Documental:   ",null,null,null,"Administrativo",null,null,null,{"$f":"HOJA_CAPTURA!AF246","v":0},"Legal",null,null,null,{"$f":"HOJA_CAPTURA!AG246","v":0},"Contable y/o Fiscal",null,null,null,null,{"$f":"HOJA_CAPTURA!AH246","v":0}]
[null,"Plazo de Reserva: ",null,null,null,null,null,null,null,null,null,null,"Reservada:",null,null,null,null,"Confidencial:",null,null,"                   "]
[null,"Fecha de Desclasificación: "]
[null,"Firma:"]
[]
[null,"Número Total de Legajos: ",null,null,null,null,{"$f":"HOJA_CAPTURA!U247","v":0},null,null,"Número Total de Fojas:",null,null,null,null,null,{"$f":"HOJA_CAPTURA!V247","v":0}]
[null,null,null,null,null,null,null,null,null,null,null,null,null,null,null,null,null,"(Planos, Fotos, etc.)"]
[null,"Plazo de Reserva: ",null,null,null,null,null,null,null,null,null,null,"Reservada:",null,null,null,null,"Confidencial:",null,null,"                   "]
[null,null,null,null,null,null,null,null,null,null,null,null,"Fundamento Legal:"]
[]
[]
[null,"Número Total de Legajos: ",null,null,null,null,{"$f":"HOJA_CAPTURA!U248","v":0},null,null,"Número Total de Fojas:",null,null,null,null,null,{"$f":"HOJA_CAPTURA!V248","v":0}]
[null,null,null,null,null,null,null,null,null,null,null,null,null,null,null,null,null,"(Planos, Fotos, etc.)"]
[null,"Plazo de Reserva: ",null,null,null,null,null,null,null,null,null,null,"Reservada:",null,null,null,null,"Confidencial:",null,null,"                   "]
[null,null,null,null,null,null,null,null,null,null,null,null,"Fundamento Legal:"]
[]
[null,"Número de Legajo: ",null,null,null,null,null,"de",{"$f":"HOJA_CAPTURA!U249","v":0},"Número de Fojas: "]
[null,"Soporte (Formato):",null,null,null,"Papel:",null,{"$f":"HOJA_CAPTURA!AO249","v":0},"Medio magnético:  ",null,null,null,{"$f":"HOJA_CAPTURA!AP249","v":0},"CD:",{"$f":"HOJA_CAPTURA!AQ249","v":0},"USB:",{"$f":"HOJA_CAPTURA!AR249","v":0},"Otros:",null,{"$f":"HOJA_CAPTURA!AS249","v":0}]
[null,null,null,null,null,null,null,null,null,null,null,null,null,null,null,null,null,"(Planos, Fotos, etc.)"]
[null,"Plazo de Reserva: ",null,null,null,null,null,null,null,null,null,null,"Reservada:",null,null,null,null,"Confidencial:",null,null,"                   "]
[null,null,null,null,null,null,null,null,null,null,null,null,"Fundamento Legal:"]
[]
[null,"Nombre del Expediente:                     ",null,null,null,null,{"$f":"HOJA_CAPTURA!O250","v":0},null,null,null,null,null,null,null,null,"Número del Expediente: ",null,null,null,null,{"$f":"HOJA_CAPTURA!M250","v":0}]
[null,"Valor Documental:   ",null,null,null,"Administrativo",null,null,null,{"$f":"HOJA_CAPTURA!AF250","v":0},"Legal",null,null,null,{"$f":"HOJA_CAPTURA!AG250","v":0},"Contable y/o Fiscal",null,null,null,null,{"$f":"HOJA_CAPTURA!AH250","v":0}]
[]
[null,null,null,null,null,null,null,null,null,null,null,null,"Tomo(s): ",null,null,"de"]
[null,"Cargo:"]
[]
[null,"Nombre del Expediente:                     ",null,null,null,null,{"$f":"HOJA_CAPTURA!O251","v":0},null,null,null,null,null,null,null,null,"Número del Expediente: ",null,null,null,null,{"$f":"HOJA_CAPTURA!M251","v":0}]
[null,"Valor Documental:   ",null,null,null,"Administrativo",null,null,null,{"$f":"HOJA_CAPTURA!AF251","v":0},"Legal",null,null,null,{"$f":"HOJA_CAPTURA!AG251","v":0},"Contable y/o Fiscal",null,null,null,null,{"$f":"HOJA_CAPTURA!AH251","v":0}]
[]
[null,null,null,null,null,null,null,null,null,null,null,null,"Tomo(s): ",null,null,"de"]
[]
[null,"Subserie: ",null,{"$f":"HOJA_CAPTURA!I252","v":0}]
[null,"Nombre del Expediente:                     ",null,null,null,null,{"$f":"HOJA_CAPTURA!O252","v":0},null,null,null,null,null,null,null,null,"Número del Expediente: ",null,null,null,null,{"$f":"HOJA_CAPTURA!M252","v":0}]
[null,"Valor Documental:   ",null,null,null,"Administrativo",null,null,null,{"$f":"HOJA_CAPTURA!AF252","v":0},"Legal",null,null,null,{"$f":"HOJA_CAPTURA!AG252","v":0},"Contable y/o Fiscal",null,null,null,null,{"$f":"HOJA_CAPTURA!AH252","v":0}]
[]
[null,null,null,null,null,null,null,null,null,null,null,null,"Tomo(s): ",null,null,"de"]
[]
[null,"Subserie: ",null,{"$f":"HOJA_CAPTURA!I253","v":0}]
[null,null,{"$f":"HOJA_CAPTURA!P253","v":0}]
[]
[]
[null,"Cargo:"]
[]
[null,"Serie: ",null,{"$f":"HOJA_CAPTURA!H254","v":0}]
[null,"Asunto o Descripción:                        "]
[null,"(Llenar este apartado sólo en el caso de que la información del expediente sea reservada o confidencial)"]
[null,"Nombre del Responsable de la Clasificación: "]
[]
[]
[null,"Serie: ",null,{"$f":"HOJA_CAPTURA!H255","v":0}]
[null,"Asunto o Descripción:                        "]
[null,"(Llenar este apartado sólo en el caso de que la información del expediente sea reservada o confidencial)"]
[null,"Nombre del Responsable de la Clasificación: "]
[]
[null,"Sección: ",null,{"$f":"HOJA_CAPTURA!G256","v":0}]
[null,null,null,null,null,"(DD-MM-AAAA) ",null,null,null,null,null,null,null,null,null,null,null,"(DD-MM-AAAA) "]
[null,"Asunto o Descripción:                        "]
[null,"(Llenar este apartado sólo en el caso de que la información del expediente sea reservada o confidencial)"]
[null,"Nombre del Responsable de la Clasificación: "]
[]
[null,"Sección: ",null,{"$f":"HOJA_CAPTURA!G257","v":0}]
[null,null,null,null,null,"(DD-MM-AAAA) ",null,null,null,null,null,null,null,null,null,null,null,"(DD-MM-AAAA) "]
[]
[]
[]
[null,null,null,null,null,null,null,null,null,null,null,null,null,null," "]
[null,{"$f":"HOJA_CAPTURA!C258","v":0}]
[null,"Fecha de Apertura:",null,null,null,{"$f":"HOJA_CAPTURA!Q258","v":"00:00:00"},null,null,null,null,null,null,null," Fecha de Cierre:",null,null,null,{"$f":"HOJA_CAPTURA!R258","v":"00:00:00"}]
[null,"Fundamento Legal:",null,null,null,{"$f":"HOJA_CAPTURA!AN258","v":0}]
[]
[]
[]
[null,{"$f":"HOJA_CAPTURA!C259","v":0}]
[null,"Fecha de Apertura:",null,null,null,{"$f":"HOJA_CAPTURA!Q259","v":"00:00:00"},null,null,null,null,null,null,null," Fecha de Cierre:",null,null,null,{"$f":"HOJA_CAPTURA!R259","v":"00:00:00"}]
[null,"Fundamento Legal:",null,null,null,{"$f":"HOJA_CAPTURA!AN259","v":0}]
[]
[]
[]
[null,"Vigencia documental (de acuerdo a CADIDO):",null,null,null,null,null,null,null,null,null,null,"AT",{"$f":"HOJA_CAPTURA!AI260","v":0},null,"AC",{"$f":"HOJA_CAPTURA!AJ260","v":0},null,"Total",null,{"$f":"HOJA_CAPTURA!AK260","v":0}]
[null,"Periodo de Reserva:            ",null,null,null,{"$f":"HOJA_CAPTURA!AM260","v":0},null,"años"]
[null,"Fundamento Legal:",null,null,null,{"$f":"HOJA_CAPTURA!AN260","v":0}]
[]
[]
[]
[null,"Tipo de Archivo:",null,null,null,"Trámite ",null,null,{"$f":"HOJA_CAPTURA!W261","v":0},"Concentración",null,null,{"$f":"HOJA_CAPTURA!X261","v":0},null,"Histórico  ",null,{"$f":"HOJA_CAPTURA!Y261","v":0}]
[null,"Condiciones de acceso:",null,null,null,null,{"$f":"HOJA_CAPTURA!AL261","v":0}]
[null,"Fecha de Desclasificación: "]
[null,"Firma:"]
[]
[null,"Clasificación:",null,null,{"$f":"HOJA_CAPTURA!N262","v":0}]
[null,"Tipo de Archivo:",null,null,null,"Trámite ",null,null,{"$f":"HOJA_CAPTURA!W262","v":0},"Concentración",null,null,{"$f":"HOJA_CAPTURA!X262","v":0},null,"Histórico  ",null,{"$f":"HOJA_CAPTURA!Y262","v":0}]
[null,"Condiciones de acceso:",null,null,null,null,{"$f":"HOJA_CAPTURA!AL262","v":0}]
[null,"Fecha de Desclasificación: "]
[null,"Firma:"]
[]
[null,"Número Total de Legajos: ",null,null,null,null,{"$f":"HOJA_CAPTURA!U263","v":0},null,null,"Número Total de Fojas:",null,null,null,null,null,{"$f":"HOJA_CAPTURA!V263","v":0}]
[null,"Tipo de Archivo:",null,null,null,"Trámite ",null,null,{"$f":"HOJA_CAPTURA!W263","v":0},"Concentración",null,null,{"$f":"HOJA_CAPTURA!X263","v":0},null,"Histórico  ",null,{"$f":"HOJA_CAPTURA!Y263","v":0}]
[null,"Condiciones de acceso:",null,null,null,null,{"$f":"HOJA_CAPTURA!AL263","v":0}]
[null,"Fecha de Desclasificación: "]
[null,"Firma:"]
[]
[null,"Número Total de Legajos: ",null,null,null,null,{"$f":"HOJA_CAPTURA!U264","v":0},null,null,"Número Total de Fojas:",null,null,null,null,null,{"$f":"HOJA_CAPTURA!V264","v":0}]
[null,null,null,null,null,null,null,null,null,null,null,null,null,null,null,null,null,"(Planos, Fotos, etc.)"]
[null,"Plazo de Reserva: ",null,null,null,null,null,null,null,null,null,null,"Reservada:",null,null,null,null,"Confidencial:",null,null,"                   "]
[null,"Fecha de Desclasificación: "]
[null,null,null,null,null,null,null,null,null,null,null,null,"Fundamento Legal:"]
[]
[null,"Número de Legajo: ",null,null,null,null,null,"de",{"$f":"HOJA_CAPTURA!U265","v":0},"Número de Fojas: "]
[null,"Soporte (Formato):",null,null,null,"Papel:",null,{"$f":"HOJA_CAPTURA!AO265","v":0},"Medio magnético:  ",null,null,null,{"$f":"HOJA_CAPTURA!AP265","v":0},"CD:",{"$f":"HOJA_CAPTURA!AQ265","v":0},"USB:",{"$f":"HOJA_CAPTURA!AR265","v":0},"Otros:",null,{"$f":"HOJA_CAPTURA!AS265","v":0}]
[null,"Fecha de Clasificación: ",null,null,null,null,null,null,null,null,null,null,"Clasificación de la Información:"]
[null,"Cargo:"]
[]
[]
[null,"Número de Legajo: ",null,null,null,null,null,"de",{"$f":"HOJA_CAPTURA!U266","v":0},"Número de Fojas: "]
[null,"Soporte (Formato):",null,null,null,"Papel:",null,{"$f":"HOJA_CAPTURA!AO266","v":0},"Medio magnético:  ",null,null,null,{"$f":"HOJA_CAPTURA!AP266","v":0},"CD:",{"$f":"HOJA_CAPTURA!AQ266","v":0},"USB:",{"$f":"HOJA_CAPTURA!AR266","v":0},"Otros:",null,{"$f":"HOJA_CAPTURA!AS266","v":0}]
[null,"Fecha de Clasificación: ",null,null,null,null,null,null,null,null,null,null,"Clasificación de la Información:"]
[null,"Cargo:"]
[]
[null,"Nombre del Expediente:                     ",null,null,null,null,{"$f":"HOJA_CAPTURA!O267","v":0},null,null,null,null,null,null,null,null,"Número del Expediente: ",null,null,null,null,{"$f":"HOJA_CAPTURA!M267","v":0}]
[null,"Valor Documental:   ",null,null,null,"Administrativo",null,null,null,{"$f":"HOJA_CAPTURA!AF267","v":0},"Legal",null,null,null,{"$f":"HOJA_CAPTURA!AG267","v":0},"Contable y/o Fiscal",null,null,null,null,{"$f":"HOJA_CAPTURA!AH267","v":0}]
[null,"Soporte (Formato):",null,null,null,"Papel:",null,{"$f":"HOJA_CAPTURA!AO267","v":0},"Medio magnético:  ",null,null,null,{"$f":"HOJA_CAPTURA!AP267","v":0},"CD:",{"$f":"HOJA_CAPTURA!AQ267","v":0},"USB:",{"$f":"HOJA_CAPTURA!AR267","v":0},"Otros:",null,{"$f":"HOJA_CAPTURA!AS267","v":0}]
[null,"Fecha de Clasificación: ",null,null,null,null,null,null,null,null,null,null,"Clasificación de la Información:"]
[null,"Cargo:"]
[]
[null,"Nombre del Expediente:                     ",null,null,null,null,{"$f":"HOJA_CAPTURA!O268","v":0},null,null,null,null,null,null,null,null,"Número del Expediente: ",null,null,null,null,{"$f":"HOJA_CAPTURA!M268","v":0}]
[null,null,{"$f":"HOJA_CAPTURA!P268","v":0}]
[]
[null,null,null,null,null,null,null,null,null,null,null,null,"Folio: del",null,null,null,"al"]
[null,null,null,null,null,null,null,null,null,null,null,null,"Tomo(s): ",null,null,"de"]
[]
[null,"Subserie: ",null,{"$f":"HOJA_CAPTURA!I269","v":0}]
[null,null,{"$f":"HOJA_CAPTURA!P269","v":0}]
[]
[null,null,null,null,null,null,null,null,null,null,null,null,"Folio: del",null,null,null,"al"]
[]
[null,"Serie: ",null,{"$f":"HOJA_CAPTURA!H270","v":0}]
[null,"Subserie: ",null,{"$f":"HOJA_CAPTURA!I270","v":0}]
[null,null,{"$f":"HOJA_CAPTURA!P270","v":0}]
[]
[null,null,null,null,null,null,null,null,null,null,null,null,"Folio: del",null,null,null,"al"]
[]
[null,"Serie: ",null,{"$f":"HOJA_CAPTURA!H271","v":0}]
[null,"Asunto o Descripción:                        "]
[null,"(Llenar este apartado sólo en el caso de que la información del expediente sea reservada o confidencial)"]
[]
[null,null,null,null,null,null,null,null,null,null,null,null,"Folio: del",null,null,null,"al"]
[]
[null,"Sección: ",null,{"$f":"HOJA_CAPTURA!G272","v":0}]
[null,null,null,null,null,"(DD-MM-AAAA) ",null,null,null,null,null,null,null,null,null,null,null,"(DD-MM-AAAA) "]
[]
[]
[null,null,null,null,null,null,null,null,null,null,null,null,null,null," "]
[]
[null,"Sección: ",null,{"$f":"HOJA_CAPTURA!G273","v":0}]
[null,null,null,null,null,"(DD-MM-AAAA) ",null,null,null,null,null,null,null,null,null,null,null,"(DD-MM-AAAA) "]
[]
[]
[null,null,null,null,null,null,null,null,null,null,null,null,null,null," "]
[null,{"$f":"HOJA_CAPTURA!C274","v":0}]
[null,"Fecha de Apertura:",null,null,null,{"$f":"HOJA_CAPTURA!Q274","v":"00:00:00"},null,null,null,null,null,null,null," Fecha de Cierre:",null,null,null,{"$f":"HOJA_CAPTURA!R74","v":"00:00:00"}]
[null,null,null,null,null,"(DD-MM-AAAA) ",null,null,null,null,null,null,null,null,null,null,null,"(DD-MM-AAAA) "]
[]
[]
[null,null,null,null,null,null,null,null,null,null,null,null,null,null," "]
[null,{"$f":"HOJA_CAPTURA!C275","v":0}]
[null,"Fecha de Apertura:",null,null,null,{"$f":"HOJA_CAPTURA!Q275","v":"00:00:00"},null,null,null,null,null,null,null," Fecha de Cierre:",null,null,null,{"$f":"HOJA_CAPTURA!R275","v":"00:00:00"}]
[null,"Fundamento Legal:",null,null,null,{"$f":"HOJA_CAPTURA!AN275","v":0}]
[null,"Fecha de Desclasificación: "]
[]
[]
[]
[null,"Vigencia documental (de acuerdo a CADIDO):",null,null,null,null,null,null,null,null,null,null,"AT",{"$f":"HOJA_CAPTURA!AI276","v":0},null,"AC",{"$f":"HOJA_CAPTURA!AJ276","v":0},null,"Total",null,{"$f":"HOJA_CAPTURA!AK276","v":0}]
[null,"Periodo de Reserva:            ",null,null,null,{"$f":"HOJA_CAPTURA!AM276","v":0},null,"años"]
[null,"Ampliación de periodo de reserva:",null,null,null,null,null,null,null,null,null,null,"Parte(s) o sección(es) Reservada:"]
[]
[null,"Clasificación:",null,null,{"$f":"HOJA_CAPTURA!N277","v":0}]
[]
[null,"Vigencia documental (de acuerdo a CADIDO):",null,null,null,null,null,null,null,null,null,null,"AT",{"$f":"HOJA_CAPTURA!AI277","v":0},null,"AC",{"$f":"HOJA_CAPTURA!AJ277","v":0},null,"Total",null,{"$f":"HOJA_CAPTURA!AK277","v":0}]
[null,"Periodo de Reserva:            ",null,null,null,{"$f":"HOJA_CAPTURA!AM277","v":0},null,"años"]
[null,"Ampliación de periodo de reserva:",null,null,null,null,null,null,null,null,null,null,"Parte(s) o sección(es) Reservada:"]
[]
[null,"Clasificación:",null,null,{"$f":"HOJA_CAPTURA!N278","v":0}]
[null,"Tipo de Archivo:",null,null,null,"Trámite ",null,null,{"$f":"HOJA_CAPTURA!W278","v":0},"Concentración",null,null,{"$f":"HOJA_CAPTURA!X278","v":0},null,"Histórico  ",null,{"$f":"HOJA_CAPTURA!Y278","v":0}]
[null,"Condiciones de acceso:",null,null,null,null,{"$f":"HOJA_CAPTURA!AL278","v":0}]
[null,"Periodo de Reserva:            ",null,null,null,{"$f":"HOJA_CAPTURA!AM278","v":0},null,"años"]
[null,"Ampliación de periodo de reserva:",null,null,null,null,null,null,null,null,null,null,"Parte(s) o sección(es) Reservada:"]
[]
[null,"Clasificación:",null,null,{"$f":"HOJA_CAPTURA!N279","v":0}]
[null,"Número de Legajo: ",null,null,null,null,null,"de",{"$f":"HOJA_CAPTURA!U279","v":0},"Número de Fojas: "]
[null,null,null,null,null,null,null,null,null,null,null,null,null,null,null,null,null,"(Planos, Fotos, etc.)"]
[null,"Plazo de Reserva: ",null,null,null,null,null,null,null,null,null,null,"Reservada:",null,null,null,null,"Confidencial:",null,null,"                   "]
[null,null,null,null,null,null,null,null,null,null,null,null,"Fundamento Legal:"]
[null,"Firma:"]
[]
[null,"Número Total de Legajos: ",null,null,null,null,{"$f":"HOJA_CAPTURA!U280","v":0},null,null,"Número Total de Fojas:",null,null,null,null,null,{"$f":"HOJA_CAPTURA!V280","v":0}]
[null,null,null,null,null,null,null,null,null,null,null,null,null,null,null,null,null,"(Planos, Fotos, etc.)"]
[null,"Plazo de Reserva: ",null,null,null,null,null,null,null,null,null,null,"Reservada:",null,null,null,null,"Confidencial:",null,null,"                   "]
[null,null,null,null,null,null,null,null,null,null,null,null,"Fundamento Legal:"]
[]
[null,"Número de Legajo: ",null,null,null,null,null,"de",{"$f":"HOJA_CAPTURA!U281","v":0},"Número de Fojas: "]
[null,"Número Total de Legajos: ",null,null,null,null,{"$f":"HOJA_CAPTURA!U281","v":0},null,null,"Número Total de Fojas:",null,null,null,null,null,{"$f":"HOJA_CAPTURA!V281","v":0}]
[null,null,null,null,null,null,null,null,null,null,null,null,null,null,null,null,null,"(Planos, Fotos, etc.)"]
[null,"Plazo de Reserva: ",null,null,null,null,null,null,null,null,null,null,"Reservada:",null,null,null,null,"Confidencial:",null,null,"                   "]
[null,null,null,null,null,null,null,null,null,null,null,null,"Fundamento Legal:"]
[]
[null,"Número de Legajo: ",null,null,null,null,null,"de",{"$f":"HOJA_CAPTURA!U282","v":0},"Número de Fojas: "]
[null,"Soporte (Formato):",null,null,null,"Papel:",null,{"$f":"HOJA_CAPTURA!AO282","v":0},"Medio magnético:  ",null,null,null,{"$f":"HOJA_CAPTURA!AP282","v":0},"CD:",{"$f":"HOJA_CAPTURA!AQ282","v":0},"USB:",{"$f":"HOJA_CAPTURA!AR282","v":0},"Otros:",null,{"$f":"HOJA_CAPTURA!AS282","v":0}]
[null,"Fecha de Clasificación: ",null,null,null,null,null,null,null,null,null,null,"Clasificación de la Información:"]
[null,"Plazo de Reserva: ",null,null,null,null,null,null,null,null,null,null,"Reservada:",null,null,null,null,"Confidencial:",null,null,"                   "]
[]
[]
[null,"Nombre del Expediente:                     ",null,null,null,null,{"$f":"HOJA_CAPTURA!O283","v":0},null,null,null,null,null,null,null,null,"Número del Expediente: ",null,null,null,null,{"$f":"HOJA_CAPTURA!M283","v":0}]
[null,"Valor Documental:   ",null,null,null,"Administrativo",null,null,null,{"$f":"HOJA_CAPTURA!AF283","v":0},"Legal",null,null,null,{"$f":"HOJA_CAPTURA!AG283","v":0},"Contable y/o Fiscal",null,null,null,null,{"$f":"HOJA_CAPTURA!AH283","v":0}]
[]
[null,null,null,null,null,null,null,null,null,null,null,null,"Tomo(s): ",null,null,"de"]
[]
[]
[null,"Nombre del Expediente:                     ",null,null,null,null,{"$f":"HOJA_CAPTURA!O284","v":0},null,null,null,null,null,null,null,null,"Número del Expediente: ",null,null,null,null,{"$f":"HOJA_CAPTURA!M284","v":0}]
[null,"Valor Documental:   ",null,null,null,"Administrativo",null,null,null,{"$f":"HOJA_CAPTURA!AF284","v":0},"Legal",null,null,null,{"$f":"HOJA_CAPTURA!AG284","v":0},"Contable y/o Fiscal",null,null,null,null,{"$f":"HOJA_CAPTURA!AH284","v":0}]
[]
[null,null,null,null,null,null,null,null,null,null,null,null,"Tomo(s): ",null,null,"de"]
[]
[null,"Subserie: ",null,{"$f":"HOJA_CAPTURA!I285","v":0}]
[null,null,{"$f":"HOJA_CAPTURA!P285","v":0}]
[null,"Valor Documental:   ",null,null,null,"Administrativo",null,null,null,{"$f":"HOJA_CAPTURA!AF285","v":0},"Legal",null,null,null,{"$f":"HOJA_CAPTURA!AG285","v":0},"Contable y/o Fiscal",null,null,null,null,{"$f":"HOJA_CAPTURA!AH285","v":0}]
[]
[null,null,null,null,null,null,null,null,null,null,null,null,"Tomo(s): ",null,null,"de"]
[]
[null,"Subserie: ",null,{"$f":"HOJA_CAPTURA!I286","v":0}]
[null,null,{"$f":"HOJA_CAPTURA!P286","v":0}]
[null,"Fundamento Legal:",null,null,null,{"$f":"HOJA_CAPTURA!AN286","v":0}]
[null,"Nombre del Responsable de la Clasificación: "]
[null,null,null,null,null,null,null,null,null,null,null,null,"Folio: del",null,null,null,"al"]
[]
[null,"Serie: ",null,{"$f":"HOJA_CAPTURA!H287","v":0}]
[null,"Asunto o Descripción:                        "]
[null,"(Llenar este apartado sólo en el caso de que la información del expediente sea reservada o confidencial)"]
[null,"Nombre del Responsable de la Clasificación: "]
[]
[null,"Sección: ",null,{"$f":"HOJA_CAPTURA!G288","v":0}]
[null,"Serie: ",null,{"$f":"HOJA_CAPTURA!H288","v":0}]
[null,"Asunto o Descripción:                        "]
[null,"(Llenar este apartado sólo en el caso de que la información del expediente sea reservada o confidencial)"]
[null,"Nombre del Responsable de la Clasificación: "]
[]
[null,"Sección: ",null,{"$f":"HOJA_CAPTURA!G289","v":0}]
[null,null,null,null,null,"(DD-MM-AAAA) ",null,null,null,null,null,null,null,null,null,null,null,"(DD-MM-AAAA) "]
[]
[null,"(Llenar este apartado sólo en el caso de que la información del expediente sea reservada o confidencial)"]
[null,"Nombre del Responsable de la Clasificación: "]
[]
[null,"Clasificación:",null,null,{"$f":"HOJA_CAPTURA!N290","v":0}]
[null,"Fecha de Apertura:",null,null,null,{"$f":"HOJA_CAPTURA!Q290","v":"00:00:00"},null,null,null,null,null,null,null," Fecha de Cierre:",null,null,null,{"$f":"HOJA_CAPTURA!R290","v":"00:00:00"}]
[null,"Fundamento Legal:",null,null,null,{"$f":"HOJA_CAPTURA!AN290","v":0}]
[]
[]
[null,null,null,null,null,null,null,null,null,null,null,null,null,null," "]
[null,{"$f":"HOJA_CAPTURA!C291","v":0}]
[null,"Fecha de Apertura:",null,null,null,{"$f":"HOJA_CAPTURA!Q291","v":"00:00:00"},null,null,null,null,null,null,null," Fecha de Cierre:",null,null,null,{"$f":"HOJA_CAPTURA!R291","v":"00:00:00"}]
[null,"Fundamento Legal:",null,null,null,{"$f":"HOJA_CAPTURA!AN291","v":0}]
[]
[]
[]
[null,"Vigencia documental (de acuerdo a CADIDO):",null,null,null,null,null,null,null,null,null,null,"AT",{"$f":"HOJA_CAPTURA!AI292","v":0},null,"AC",{"$f":"HOJA_CAPTURA!AJ292","v":0},null,"Total",null,{"$f":"HOJA_CAPTURA!AK292","v":0}]
[null,"Fecha de Apertura:",null,null,null,{"$f":"HOJA_CAPTURA!Q292","v":"00:00:00"},null,null,null,null,null,null,null," Fecha de Cierre:",null,null,null,{"$f":"HOJA_CAPTURA!R292","v":"00:00:00"}]
[null,"Fundamento Legal:",null,null,null,{"$f":"HOJA_CAPTURA!AN292","v":0}]
[]
[]
[]
[null,"Vigencia documental (de acuerdo a CADIDO):",null,null,null,null,null,null,null,null,null,null,"AT",{"$f":"HOJA_CAPTURA!AI293","v":0},null,"AC",{"$f":"HOJA_CAPTURA!AJ293","v":0},null,"Total",null,{"$f":"HOJA_CAPTURA!AK293","v":0}]
[null,"Periodo de Reserva:            ",null,null,null,{"$f":"HOJA_CAPTURA!AM293","v":0},null,"años"]
[null,"Ampliación de periodo de reserva:",null,null,null,null,null,null,null,null,null,null,"Parte(s) o sección(es) Reservada:"]
[null,null,null,null,null,null,null,null,null,null,null,null,"Tomo(s): ",null,null,"de"]
[]
[null,"Clasificación:",null,null,{"$f":"HOJA_CAPTURA!N294","v":0}]
[null,"Tipo de Archivo:",null,null,null,"Trámite ",null,null,{"$f":"HOJA_CAPTURA!W294","v":0},"Concentración",null,null,{"$f":"HOJA_CAPTURA!X294","v":0},null,"Histórico  ",null,{"$f":"HOJA_CAPTURA!Y294","v":0}]
[null,"Condiciones de acceso:",null,null,null,null,{"$f":"HOJA_CAPTURA!AL294","v":0}]
[null,"Fecha de Desclasificación: "]
[null,"Firma:"]
[]
[null,"Clasificación:",null,null,{"$f":"HOJA_CAPTURA!N295","v":0}]
[null,"Tipo de Archivo:",null,null,null,"Trámite ",null,null,{"$f":"HOJA_CAPTURA!W295","v":0},"Concentración",null,null,{"$f":"HOJA_CAPTURA!X295","v":0},null,"Histórico  ",null,{"$f":"HOJA_CAPTURA!Y295","v":0}]
[null,"Condiciones de acceso:",null,null,null,null,{"$f":"HOJA_CAPTURA!AL295","v":0}]
[null,"Fecha de Desclasificación: "]
[null,"Firma:"]
[]
[null,"Número Total de Legajos: ",null,null,null,null,{"$f":"HOJA_CAPTURA!U296","v":0},null,null,"Número Total de Fojas:",null,null,null,null,null,{"$f":"HOJA_CAPTURA!V296","v":0}]
[null,null,null,null,null,null,null,null,null,null,null,null,null,null,null,null,null,"(Planos, Fotos, etc.)"]
[null,"Condiciones de acceso:",null,null,null,null,{"$f":"HOJA_CAPTURA!AL296","v":0}]
[null,"Fecha de Desclasificación: "]
[null,"Firma:"]
[]
[null,"Número Total de Legajos: ",null,null,null,null,{"$f":"HOJA_CAPTURA!U297","v":0},null,null,"Número Total de Fojas:",null,null,null,null,null,{"$f":"HOJA_CAPTURA!V297","v":0}]
[null,"Asunto o Descripción:                        "]
[null,"Fecha de Clasificación: ",null,null,null,null,null,null,null,null,null,null,"Clasificación de la Información:"]
[null,"Cargo:"]
[null,null,null,null,null,null,null,null,null,null,null,null,"Fundamento Legal:"]
[]
[null,"Número de Legajo: ",null,null,null,null,null,"de",{"$f":"HOJA_CAPTURA!U298","v":0},"Número de Fojas: "]
[null,"Soporte (Formato):",null,null,null,"Papel:",null,{"$f":"HOJA_CAPTURA!AO298","v":0},"Medio magnético:  ",null,null,null,{"$f":"HOJA_CAPTURA!AP298","v":0},"CD:",{"$f":"HOJA_CAPTURA!AQ298","v":0},"USB:",{"$f":"HOJA_CAPTURA!AR298","v":0},"Otros:",null,{"$f":"HOJA_CAPTURA!AS298","v":0}]
[null,"Fecha de Clasificación: ",null,null,null,null,null,null,null,null,null,null,"Clasificación de la Información:"]
[null,"Cargo:"]
[]
[null,"Nombre del Expediente:                     ",null,null,null,null,{"$f":"HOJA_CAPTURA!O299","v":0},null,null,null,null,null,null,null,null,"Número del Expediente: ",null,null,null,null,{"$f":"HOJA_CAPTURA!M299","v":0}]
[null,"Número de Legajo: ",null,null,null,null,null,"de",{"$f":"HOJA_CAPTURA!U299","v":0},"Número de Fojas: "]
[null,"Soporte (Formato):",null,null,null,"Papel:",null,{"$f":"HOJA_CAPTURA!AO299","v":0},"Medio magnético:  ",null,null,null,{"$f":"HOJA_CAPTURA!AP299","v":0},"CD:",{"$f":"HOJA_CAPTURA!AQ299","v":0},"USB:",{"$f":"HOJA_CAPTURA!AR299","v":0},"Otros:",null,{"$f":"HOJA_CAPTURA!AS299","v":0}]
[null,"Fecha de Clasificación: ",null,null,null,null,null,null,null,null,null,null,"Clasificación de la Información:"]
[null,"Cargo:"]
[]
[null,"Nombre del Expediente:                     ",null,null,null,null,{"$f":"HOJA_CAPTURA!O300","v":0},null,null,null,null,null,null,null,null,"Número del Expediente: ",null,null,null,null,{"$f":"HOJA_CAPTURA!M300","v":0}]
[null,"Valor Documental:   ",null,null,null,"Administrativo",null,null,null,{"$f":"HOJA_CAPTURA!AF300","v":0},"Legal",null,null,null,{"$f":"HOJA_CAPTURA!AG300","v":0},"Contable y/o Fiscal",null,null,null,null,{"$f":"HOJA_CAPTURA!AH300","v":0}]
[]
[null,"Fecha de Clasificación: ",null,null,null,null,null,null,null,null,null,null,"Clasificación de la Información:"]
[null,"Cargo:"]
[null,"Clasificación:",null,null,{"$f":"HOJA_CAPTURA!N301","v":0}]
[null,"Subserie: ",null,{"$f":"HOJA_CAPTURA!I301","v":0}]
[null,null,{"$f":"HOJA_CAPTURA!P301","v":0}]
[]
[null,null,null,null,null,null,null,null,null,null,null,null,"Folio: del",null,null,null,"al"]
[]
[]
[null,"Subserie: ",null,{"$f":"HOJA_CAPTURA!I302","v":0}]
[null,null,{"$f":"HOJA_CAPTURA!P302","v":0}]
[]
[null,null,null,null,null,null,null,null,null,null,null,null,"Folio: del",null,null,null,"al"]
[]
[null,"Serie: ",null,{"$f":"HOJA_CAPTURA!H303","v":0}]
[null,"Asunto o Descripción:                        "]
[null,null,{"$f":"HOJA_CAPTURA!P303","v":0}]
[]
[null,null,null,null,null,null,null,null,null,null,null,null,"Folio: del",null,null,null,"al"]
[]
[null,"Serie: ",null,{"$f":"HOJA_CAPTURA!H304","v":0}]
[null,"Asunto o Descripción:                        "]
[null,"(Llenar este apartado sólo en el caso de que la información del expediente sea reservada o confidencial)"]
[null,"Plazo de Reserva: ",null,null,null,null,null,null,null,null,null,null,"Reservada:",null,null,null,null,"Confidencial:",null,null,"                   "]
[null,"Nombre del Responsable de la Clasificación: "]
[]
[null,"Sección: ",null,{"$f":"HOJA_CAPTURA!G305","v":0}]
[null,null,null,null,null,"(DD-MM-AAAA) ",null,null,null,null,null,null,null,null,null,null,null,"(DD-MM-AAAA) "]
[]
[]
[null,null,null,null,null,null,null,null,null,null,null,null,null,null," "]
[null,{"$f":"HOJA_CAPTURA!C306","v":0}]
[null,"Sección: ",null,{"$f":"HOJA_CAPTURA!G306","v":0}]
[null,null,null,null,null,"(DD-MM-AAAA) ",null,null,null,null,null,null,null,null,null,null,null,"(DD-MM-AAAA) "]
[]
[]
[null,null,null,null,null,null,null,null,null,null,null,null,null,null," "]
[null,{"$f":"HOJA_CAPTURA!C307","v":0}]
[null,"Fecha de Apertura:",null,null,null,{"$f":"HOJA_CAPTURA!Q307","v":"00:00:00"},null,null,null,null,null,null,null," Fecha de Cierre:",null,null,null,{"$f":"HOJA_CAPTURA!R307","v":"00:00:00"}]
[null,"Fundamento Legal:",null,null,null,{"$f":"HOJA_CAPTURA!AN307","v":0}]
[]
[]
[null,null,null,null,null,null,null,null,null,null,null,null,null,null," "]
[null,{"$f":"HOJA_CAPTURA!C308","v":0}]
[null,"Asunto o Descripción:                        "]
[null,"Periodo de Reserva:            ",null,null,null,{"$f":"HOJA_CAPTURA!AM308","v":0},null,"años"]
[null,"Ampliación de periodo de reserva:",null,null,null,null,null,null,null,null,null,null,"Parte(s) o sección(es) Reservada:"]
[]
[]
[]
[null,"Vigencia documental (de acuerdo a CADIDO):",null,null,null,null,null,null,null,null,null,null,"AT",{"$f":"HOJA_CAPTURA!AI309","v":0},null,"AC",{"$f":"HOJA_CAPTURA!AJ309","v":0},null,"Total",null,{"$f":"HOJA_CAPTURA!AK309","v":0}]
[null,"Periodo de Reserva:            ",null,null,null,{"$f":"HOJA_CAPTURA!AM309","v":0},null,"años"]
[null,"Ampliación de periodo de reserva:",null,null,null,null,null,null,null,null,null,null,"Parte(s) o sección(es) Reservada:"]
[]
[null,"Clasificación:",null,null,{"$f":"HOJA_CAPTURA!N310","v":0}]
[null,"Tipo de Archivo:",null,null,null,"Trámite ",null,null,{"$f":"HOJA_CAPTURA!W310","v":0},"Concentración",null,null,{"$f":"HOJA_CAPTURA!X310","v":0},null,"Histórico  ",null,{"$f":"HOJA_CAPTURA!Y310","v":0}]
[null,"Vigencia documental (de acuerdo a CADIDO):",null,null,null,null,null,null,null,null,null,null,"AT",{"$f":"HOJA_CAPTURA!AI310","v":0},null,"AC",{"$f":"HOJA_CAPTURA!AJ310","v":0},null,"Total",null,{"$f":"HOJA_CAPTURA!AK310","v":0}]
[null,"Periodo de Reserva:            ",null,null,null,{"$f":"HOJA_CAPTURA!AM310","v":0},null,"años"]
[null,"Ampliación de periodo de reserva:",null,null,null,null,null,null,null,null,null,null,"Parte(s) o sección(es) Reservada:"]
[]
[null,"Clasificación:",null,null,{"$f":"HOJA_CAPTURA!N311","v":0}]
[null,"Tipo de Archivo:",null,null,null,"Trámite ",null,null,{"$f":"HOJA_CAPTURA!W311","v":0},"Concentración",null,null,{"$f":"HOJA_CAPTURA!X311","v":0},null,"Histórico  ",null,{"$f":"HOJA_CAPTURA!Y311","v":0}]
[null,"Condiciones de acceso:",null,null,null,null,{"$f":"HOJA_CAPTURA!AL311","v":0}]
[null,"Fecha de Desclasificación: "]
[null,"Ampliación de periodo de reserva:",null,null,null,null,null,null,null,null,null,null,"Parte(s) o sección(es) Reservada:"]
[null,null,null,null,null,null,null,null,null,null,null,null,null,null," "]
[]
[null,"Número Total de Legajos: ",null,null,null,null,{"$f":"HOJA_CAPTURA!U312","v":0},null,null,"Número Total de Fojas:",null,null,null,null,null,{"$f":"HOJA_CAPTURA!V312","v":0}]
[null,null,null,null,null,null,null,null,null,null,null,null,null,null,null,null,null,"(Planos, Fotos, etc.)"]
[null,"Plazo de Reserva: ",null,null,null,null,null,null,null,null,null,null,"Reservada:",null,null,null,null,"Confidencial:",null,null,"                   "]
[null,null,null,null,null,null,null,null,null,null,null,null,"Fundamento Legal:"]
[]
[]
[null,"Número Total de Legajos: ",null,null,null,null,{"$f":"HOJA_CAPTURA!U313","v":0},null,null,"Número Total de Fojas:",null,null,null,null,null,{"$f":"HOJA_CAPTURA!V313","v":0}]
[null,null,null,null,null,null,null,null,null,null,null,null,null,null,null,null,null,"(Planos, Fotos, etc.)"]
[null,"Plazo de Reserva: ",null,null,null,null,null,null,null,null,null,null,"Reservada:",null,null,null,null,"Confidencial:",null,null,"                   "]
[null,null,null,null,null,null,null,null,null,null,null,null,"Fundamento Legal:"]
[]
[null,"Número de Legajo: ",null,null,null,null,null,"de",{"$f":"HOJA_CAPTURA!U314","v":0},"Número de Fojas: "]
[null,"Soporte (Formato):",null,null,null,"Papel:",null,{"$f":"HOJA_CAPTURA!AO314","v":0},"Medio magnético:  ",null,null,null,{"$f":"HOJA_CAPTURA!AP314","v":0},"CD:",{"$f":"HOJA_CAPTURA!AQ314","v":0},"USB:",{"$f":"HOJA_CAPTURA!AR314","v":0},"Otros:",null,{"$f":"HOJA_CAPTURA!AS314","v":0}]
[null,null,null,null,null,null,null,null,null,null,null,null,null,null,null,null,null,"(Planos, Fotos, etc.)"]
[null,"Plazo de Reserva: ",null,null,null,null,null,null,null,null,null,null,"Reservada:",null,null,null,null,"Confidencial:",null,null,"                   "]
[null,null,null,null,null,null,null,null,null,null,null,null,"Fundamento Legal:"]
[]
[null,"Número de Legajo: ",null,null,null,null,null,"de",{"$f":"HOJA_CAPTURA!U315","v":0},"Número de Fojas: "]
[null,"Soporte (Formato):",null,null,null,"Papel:",null,{"$f":"HOJA_CAPTURA!AO315","v":0},"Medio magnético:  ",null,null,null,{"$f":"HOJA_CAPTURA!AP315","v":0},"CD:",{"$f":"HOJA_CAPTURA!AQ315","v":0},"USB:",{"$f":"HOJA_CAPTURA!AR315","v":0},"Otros:",null,{"$f":"HOJA_CAPTURA!AS315","v":0}]
[null,"Periodo de Reserva:            ",null,null,null,{"$f":"HOJA_CAPTURA!AM315","v":0},null,"años"]
[null,null,null,null,null,null,null,null,null,null,null,null,"Tomo(s): ",null,null,"de"]
[null,"Cargo:"]
[]
[null,"Nombre del Expediente:                     ",null,null,null,null,{"$f":"HOJA_CAPTURA!O316","v":0},null,null,null,null,null,null,null,null,"Número del Expediente: ",null,null,null,null,{"$f":"HOJA_CAPTURA!M316","v":0}]
[null,"Valor Documental:   ",null,null,null,"Administrativo",null,null,null,{"$f":"HOJA_CAPTURA!AF316","v":0},"Legal",null,null,null,{"$f":"HOJA_CAPTURA!AG316","v":0},"Contable y/o Fiscal",null,null,null,null,{"$f":"HOJA_CAPTURA!AH316","v":0}]
[]
[null,null,null,null,null,null,null,null,null,null,null,null,"Tomo(s): ",null,null,"de"]
[]
[null,"Subserie: ",null,{"$f":"HOJA_CAPTURA!I317","v":0}]
[null,"Nombre del Expediente:                     ",null,null,null,null,{"$f":"HOJA_CAPTURA!O317","v":0},null,null,null,null,null,null,null,null,"Número del Expediente: ",null,null,null,null,{"$f":"HOJA_CAPTURA!M317","v":0}]
[null,"Valor Documental:   ",null,null,null,"Administrativo",null,null,null,{"$f":"HOJA_CAPTURA!AF317","v":0},"Legal",null,null,null,{"$f":"HOJA_CAPTURA!AG317","v":0},"Contable y/o Fiscal",null,null,null,null,{"$f":"HOJA_CAPTURA!AH317","v":0}]
[]
[null,null,null,null,null,null,null,null,null,null,null,null,"Tomo(s): ",null,null,"de"]
[]
[null,"Subserie: ",null,{"$f":"HOJA_CAPTURA!I318","v":0}]
[null,null,{"$f":"HOJA_CAPTURA!P318","v":0}]
[]
[]
[null,null,null,null,null,null,null,null,null,null,null,null,"Tomo(s): ",null,null,"de"]
[]
[null,"Nombre del Expediente:                     ",null,null,null,null,{"$f":"HOJA_CAPTURA!O319","v":0},null,null,null,null,null,null,null,null,"Número del Expediente: ",null,null,null,null,{"$f":"HOJA_CAPTURA!M319","v":0}]
[null,"Asunto o Descripción:                        "]
[null,"(Llenar este apartado sólo en el caso de que la información del expediente sea reservada o confidencial)"]
[null,"Nombre del Responsable de la Clasificación: "]
[]
[]
[null,"Serie: ",null,{"$f":"HOJA_CAPTURA!H320","v":0}]
[null,"Asunto o Descripción:                        "]
[null,"(Llenar este apartado sólo en el caso de que la información del expediente sea reservada o confidencial)"]
[null,"Nombre del Responsable de la Clasificación: "]
[]
[null,"Sección: ",null,{"$f":"HOJA_CAPTURA!G321","v":0}]
[null,null,null,null,null,"(DD-MM-AAAA) ",null,null,null,null,null,null,null,null,null,null,null,"(DD-MM-AAAA) "]
[null,"Asunto o Descripción:                        "]
[null,"(Llenar este apartado sólo en el caso de que la información del expediente sea reservada o confidencial)"]
[null,"Nombre del Responsable de la Clasificación: "]
[]
[null,"Sección: ",null,{"$f":"HOJA_CAPTURA!G322","v":0}]
[null,null,null,null,null,"(DD-MM-AAAA) ",null,null,null,null,null,null,null,null,null,null,null,"(DD-MM-AAAA) "]
[]
[]
[null,"Nombre del Responsable de la Clasificación: "]
[]
[null,{"$f":"HOJA_CAPTURA!C323","v":0}]
[null,"Fecha de Apertura:",null,null,null,{"$f":"HOJA_CAPTURA!Q323","v":"00:00:00"},null,null,null,null,null,null,null," Fecha de Cierre:",null,null,null,{"$f":"HOJA_CAPTURA!R323","v":"00:00:00"}]
[null,"Fundamento Legal:",null,null,null,{"$f":"HOJA_CAPTURA!AN323","v":0}]
[]
[]
[]
[null,{"$f":"HOJA_CAPTURA!C324","v":0}]
[null,"Fecha de Apertura:",null,null,null,{"$f":"HOJA_CAPTURA!Q324","v":"00:00:00"},null,null,null,null,null,null,null," Fecha de Cierre:",null,null,null,{"$f":"HOJA_CAPTURA!R324","v":"00:00:00"}]
[null,"Fundamento Legal:",null,null,null,{"$f":"HOJA_CAPTURA!AN324","v":0}]
[]
[]
[]
[null,"Vigencia documental (de acuerdo a CADIDO):",null,null,null,null,null,null,null,null,null,null,"AT",{"$f":"HOJA_CAPTURA!AI325","v":0},null,"AC",{"$f":"HOJA_CAPTURA!AJ325","v":0},null,"Total",null,{"$f":"HOJA_CAPTURA!AK325","v":0}]
[null,"Periodo de Reserva:            ",null,null,null,{"$f":"HOJA_CAPTURA!AM325","v":0},null,"años"]
[null,"Fundamento Legal:",null,null,null,{"$f":"HOJA_CAPTURA!AN325","v":0}]
[]
[]
[]
[null,"Vigencia documental (de acuerdo a CADIDO):",null,null,null,null,null,null,null,null,null,null,"AT",{"$f":"HOJA_CAPTURA!AI326","v":0},null,"AC",{"$f":"HOJA_CAPTURA!AJ326","v":0},null,"Total",null,{"$f":"HOJA_CAPTURA!AK326","v":0}]
[null,"Periodo de Reserva:            ",null,null,null,{"$f":"HOJA_CAPTURA!AM326","v":0},null,"años"]
[null,"Fecha de Clasificación: ",null,null,null,null,null,null,null,null,null,null,"Clasificación de la Información:"]
[null,"Firma:"]
[]
[null,"Clasificación:",null,null,{"$f":"HOJA_CAPTURA!N327","v":0}]
[null,"Tipo de Archivo:",null,null,null,"Trámite ",null,null,{"$f":"HOJA_CAPTURA!W327","v":0},"Concentración",null,null,{"$f":"HOJA_CAPTURA!X327","v":0},null,"Histórico  ",null,{"$f":"HOJA_CAPTURA!Y327","v":0}]
[null,"Condiciones de acceso:",null,null,null,null,{"$f":"HOJA_CAPTURA!AL327","v":0}]
[null,"Fecha de Desclasificación: "]
[null,"Firma:"]
[]
[null,"Número Total de Legajos: ",null,null,null,null,{"$f":"HOJA_CAPTURA!U328","v":0},null,null,"Número Total de Fojas:",null,null,null,null,null,{"$f":"HOJA_CAPTURA!V328","v":0}]
[null,"Tipo de Archivo:",null,null,null,"Trámite ",null,null,{"$f":"HOJA_CAPTURA!W328","v":0},"Concentración",null,null,{"$f":"HOJA_CAPTURA!X328","v":0},null,"Histórico  ",null,{"$f":"HOJA_CAPTURA!Y328","v":0}]
[null,"Condiciones de acceso:",null,null,null,null,{"$f":"HOJA_CAPTURA!AL328","v":0}]
[null,"Fecha de Desclasificación: "]
[null,"Firma:"]
[]
[null,"Número Total de Legajos: ",null,null,null,null,{"$f":"HOJA_CAPTURA!U329","v":0},null,null,"Número Total de Fojas:",null,null,null,null,null,{"$f":"HOJA_CAPTURA!V329","v":0}]
[null,null,null,null,null,null,null,null,null,null,null,null,null,null,null,null,null,"(Planos, Fotos, etc.)"]
[null,"Plazo de Reserva: ",null,null,null,null,null,null,null,null,null,null,"Reservada:",null,null,null,null,"Confidencial:",null,null,"                   "]
[null,"Fecha de Desclasificación: "]
[null,"Firma:"]
[]
[null,"Subserie: ",null,{"$f":"HOJA_CAPTURA!I330","v":0}]
[null,"Soporte (Formato):",null,null,null,"Papel:",null,{"$f":"HOJA_CAPTURA!AO330","v":0},"Medio magnético:  ",null,null,null,{"$f":"HOJA_CAPTURA!AP330","v":0},"CD:",{"$f":"HOJA_CAPTURA!AQ330","v":0},"USB:",{"$f":"HOJA_CAPTURA!AR330","v":0},"Otros:",null,{"$f":"HOJA_CAPTURA!AS330","v":0}]
[null,"Fecha de Clasificación: ",null,null,null,null,null,null,null,null,null,null,"Clasificación de la Información:"]
[null,"Cargo:"]
[]
[]
[null,"Número de Legajo: ",null,null,null,null,null,"de",{"$f":"HOJA_CAPTURA!U331","v":0},"Número de Fojas: "]
[null,"Soporte (Formato):",null,null,null,"Papel:",null,{"$f":"HOJA_CAPTURA!AO331","v":0},"Medio magnético:  ",null,null,null,{"$f":"HOJA_CAPTURA!AP5011","v":0},"CD:",{"$f":"HOJA_CAPTURA!AQ331","v":0},"USB:",{"$f":"HOJA_CAPTURA!AR331","v":0},"Otros:",null,{"$f":"HOJA_CAPTURA!AS331","v":0}]
[null,"Fecha de Clasificación: ",null,null,null,null,null,null,null,null,null,null,"Clasificación de la Información:"]
[null,"Cargo:"]
[]
[null,"Nombre del Expediente:                     ",null,null,null,null,{"$f":"HOJA_CAPTURA!O332","v":0},null,null,null,null,null,null,null,null,"Número del Expediente: ",null,null,null,null,{"$f":"HOJA_CAPTURA!M332","v":0}]
[null,"Valor Documental:   ",null,null,null,"Administrativo",null,null,null,{"$f":"HOJA_CAPTURA!AF332","v":0},"Legal",null,null,null,{"$f":"HOJA_CAPTURA!AG332","v":0},"Contable y/o Fiscal",null,null,null,null,{"$f":"HOJA_CAPTURA!AH332","v":0}]
[null,"Soporte (Formato):",null,null,null,"Papel:",null,{"$f":"HOJA_CAPTURA!AO332","v":0},"Medio magnético:  ",null,null,null,{"$f":"HOJA_CAPTURA!AP5057","v":0},"CD:",{"$f":"HOJA_CAPTURA!AQ332","v":0},"USB:",{"$f":"HOJA_CAPTURA!AR332","v":0},"Otros:",null,{"$f":"HOJA_CAPTURA!AS332","v":0}]
[null,"Fecha de Clasificación: ",null,null,null,null,null,null,null,null,null,null,"Clasificación de la Información:"]
[null,"Cargo:"]
[]
[null,"Nombre del Expediente:                     ",null,null,null,null,{"$f":"HOJA_CAPTURA!O333","v":0},null,null,null,null,null,null,null,null,"Número del Expediente: ",null,null,null,null,{"$f":"HOJA_CAPTURA!M333","v":0}]
[null,"Valor Documental:   ",null,null,null,"Administrativo",null,null,null,{"$f":"HOJA_CAPTURA!AF333","v":0},"Legal",null,null,null,{"$f":"HOJA_CAPTURA!AG333","v":0},"Contable y/o Fiscal",null,null,null,null,{"$f":"HOJA_CAPTURA!AH333","v":0}]
[]
[null,null,null,null,null,null,null,null,null,null,null,null,"Tomo(s): ",null,null,"de"]
[]
[]
[null,"Subserie: ",null,{"$f":"HOJA_CAPTURA!I334","v":0}]
[null,null,{"$f":"HOJA_CAPTURA!P334","v":0}]
[]
[null,null,null,null,null,null,null,null,null,null,null,null,"Folio: del",null,null,null,"al"]
[]
[null,"Serie: ",null,{"$f":"HOJA_CAPTURA!H335","v":0}]
[null,"Subserie: ",null,{"$f":"HOJA_CAPTURA!I335","v":0}]
[null,null,{"$f":"HOJA_CAPTURA!P335","v":0}]
[]
[null,null,null,null,null,null,null,null,null,null,null,null,"Folio: del",null,null,null,"al"]
[]
[null,"Serie: ",null,{"$f":"HOJA_CAPTURA!H336","v":0}]
[null,"Asunto o Descripción:                        "]
[null,"(Llenar este apartado sólo en el caso de que la información del expediente sea reservada o confidencial)"]
[]
[null,null,null,null,null,null,null,null,null,null,null,null,"Folio: del",null,null,null,"al"]
[]
[null,"Serie: ",null,{"$f":"HOJA_CAPTURA!H337","v":0}]
[null,"Asunto o Descripción:                        "]
[null,"Condiciones de acceso:",null,null,null,null,{"$f":"HOJA_CAPTURA!AL337","v":0}]
[]
[null,null,null,null,null,null,null,null,null,null,null,null,null,null," "]
[]
[null,"Sección: ",null,{"$f":"HOJA_CAPTURA!G338","v":0}]
[null,null,null,null,null,"(DD-MM-AAAA) ",null,null,null,null,null,null,null,null,null,null,null,"(DD-MM-AAAA) "]
[]
[]
[null,null,null,null,null,null,null,null,null,null,null,null,null,null," "]
[null,{"$f":"HOJA_CAPTURA!C339","v":0}]
[null,"Fecha de Apertura:",null,null,null,{"$f":"HOJA_CAPTURA!Q339","v":"00:00:00"},null,null,null,null,null,null,null," Fecha de Cierre:",null,null,null,{"$f":"HOJA_CAPTURA!R339","v":"00:00:00"}]
[null,null,null,null,null,"(DD-MM-AAAA) ",null,null,null,null,null,null,null,null,null,null,null,"(DD-MM-AAAA) "]
[]
[]
[null,null,null,null,null,null,null,null,null,null,null,null,null,null," "]
[null,{"$f":"HOJA_CAPTURA!C340","v":0}]
[null,"Fecha de Apertura:",null,null,null,{"$f":"HOJA_CAPTURA!Q340","v":"00:00:00"},null,null,null,null,null,null,null," Fecha de Cierre:",null,null,null,{"$f":"HOJA_CAPTURA!R340","v":"00:00:00"}]
[null,"Fundamento Legal:",null,null,null,{"$f":"HOJA_CAPTURA!AN340","v":0}]
[]
[]
[null,null,null,null,null,null,null,null,null,null,null,null,null,null," "]
[null,"Subserie: ",null,{"$f":"HOJA_CAPTURA!I341","v":0}]
[null,"Vigencia documental (de acuerdo a CADIDO):",null,null,null,null,null,null,null,null,null,null,"AT",{"$f":"HOJA_CAPTURA!AI341","v":0},null,"AC",{"$f":"HOJA_CAPTURA!AJ341","v":0},null,"Total",null,{"$f":"HOJA_CAPTURA!AK341","v":0}]
[null,"Periodo de Reserva:            ",null,null,null,{"$f":"HOJA_CAPTURA!AM341","v":0},null,"años"]
[null,"Ampliación de periodo de reserva:",null,null,null,null,null,null,null,null,null,null,"Parte(s) o sección(es) Reservada:"]
[]
[null,"Clasificación:",null,null,{"$f":"HOJA_CAPTURA!N342","v":0}]
[]
[null,"Vigencia documental (de acuerdo a CADIDO):",null,null,null,null,null,null,null,null,null,null,"AT",{"$f":"HOJA_CAPTURA!AI342","v":0},null,"AC",{"$f":"HOJA_CAPTURA!AJ342","v":0},null,"Total",null,{"$f":"HOJA_CAPTURA!AK342","v":0}]
[null,"Periodo de Reserva:            ",null,null,null,{"$f":"HOJA_CAPTURA!AM342","v":0},null,"años"]
[null,"Ampliación de periodo de reserva:",null,null,null,null,null,null,null,null,null,null,"Parte(s) o sección(es) Reservada:"]
[]
[null,"Clasificación:",null,null,{"$f":"HOJA_CAPTURA!N343","v":0}]
[null,"Tipo de Archivo:",null,null,null,"Trámite ",null,null,{"$f":"HOJA_CAPTURA!W343","v":0},"Concentración",null,null,{"$f":"HOJA_CAPTURA!X343","v":0},null,"Histórico  ",null,{"$f":"HOJA_CAPTURA!Y343","v":0}]
[null,"Condiciones de acceso:",null,null,null,null,{"$f":"HOJA_CAPTURA!AL343","v":0}]
[null,"Periodo de Reserva:            ",null,null,null,{"$f":"HOJA_CAPTURA!AM343","v":0},null,"años"]
[null,"Ampliación de periodo de reserva:",null,null,null,null,null,null,null,null,null,null,"Parte(s) o sección(es) Reservada:"]
[]
[null,"Clasificación:",null,null,{"$f":"HOJA_CAPTURA!N344","v":0}]
[null,"Tipo de Archivo:",null,null,null,"Trámite ",null,null,{"$f":"HOJA_CAPTURA!W344","v":0},"Concentración",null,null,{"$f":"HOJA_CAPTURA!X344","v":0},null,"Histórico  ",null,{"$f":"HOJA_CAPTURA!Y344","v":0}]
[null,"Condiciones de acceso:",null,null,null,null,{"$f":"HOJA_CAPTURA!AL344","v":0}]
[null,"Fecha de Desclasificación: "]
[null,"Nombre del Responsable de la Clasificación: "]
[null,"Firma:"]
[]
[null,"Número Total de Legajos: ",null,null,null,null,{"$f":"HOJA_CAPTURA!U345","v":0},null,null,"Número Total de Fojas:",null,null,null,null,null,{"$f":"HOJA_CAPTURA!V345","v":0}]
[null,null,null,null,null,null,null,null,null,null,null,null,null,null,null,null,null,"(Planos, Fotos, etc.)"]
[null,"Plazo de Reserva: ",null,null,null,null,null,null,null,null,null,null,"Reservada:",null,null,null,null,"Confidencial:",null,null,"                   "]
[null,null,null,null,null,null,null,null,null,null,null,null,"Fundamento Legal:"]
[]
[null,"Número de Legajo: ",null,null,null,null,null,"de",{"$f":"HOJA_CAPTURA!U346","v":0},"Número de Fojas: "]
[null,"Número Total de Legajos: ",null,null,null,null,{"$f":"HOJA_CAPTURA!U346","v":0},null,null,"Número Total de Fojas:",null,null,null,null,null,{"$f":"HOJA_CAPTURA!V346","v":0}]
[null,null,null,null,null,null,null,null,null,null,null,null,null,null,null,null,null,"(Planos, Fotos, etc.)"]
[null,"Plazo de Reserva: ",null,null,null,null,null,null,null,null,null,null,"Reservada:",null,null,null,null,"Confidencial:",null,null,"                   "]
[null,null,null,null,null,null,null,null,null,null,null,null,"Fundamento Legal:"]
[]
[null,"Número de Legajo: ",null,null,null,null,null,"de",{"$f":"HOJA_CAPTURA!U347","v":0},"Número de Fojas: "]
[null,"Soporte (Formato):",null,null,null,"Papel:",null,{"$f":"HOJA_CAPTURA!AO347","v":0},"Medio magnético:  ",null,null,null,{"$f":"HOJA_CAPTURA!AP347","v":0},"CD:",{"$f":"HOJA_CAPTURA!AQ347","v":0},"USB:",{"$f":"HOJA_CAPTURA!AR347","v":0},"Otros:",null,{"$f":"HOJA_CAPTURA!AS347","v":0}]
[null,"Fecha de Clasificación: ",null,null,null,null,null,null,null,null,null,null,"Clasificación de la Información:"]
[null,"Plazo de Reserva: ",null,null,null,null,null,null,null,null,null,null,"Reservada:",null,null,null,null,"Confidencial:",null,null,"                   "]
[null,null,null,null,null,null,null,null,null,null,null,null,"Fundamento Legal:"]
[]
[null,"Número de Legajo: ",null,null,null,null,null,"de",{"$f":"HOJA_CAPTURA!U348","v":0},"Número de Fojas: "]
[null,"Condiciones de acceso:",null,null,null,null,{"$f":"HOJA_CAPTURA!AL348","v":0}]
[]
[null,null,null,null,null,null,null,null,null,null,null,null,"Tomo(s): ",null,null,"de"]
[]
[]
[null,"Nombre del Expediente:                     ",null,null,null,null,{"$f":"HOJA_CAPTURA!O349","v":0},null,null,null,null,null,null,null,null,"Número del Expediente: ",null,null,null,null,{"$f":"HOJA_CAPTURA!M349","v":0}]
[null,"Valor Documental:   ",null,null,null,"Administrativo",null,null,null,{"$f":"HOJA_CAPTURA!AF349","v":0},"Legal",null,null,null,{"$f":"HOJA_CAPTURA!AG349","v":0},"Contable y/o Fiscal",null,null,null,null,{"$f":"HOJA_CAPTURA!AH349","v":0}]
[]
[null,null,null,null,null,null,null,null,null,null,null,null,"Tomo(s): ",null,null,"de"]
[]
[null,"Subserie: ",null,{"$f":"HOJA_CAPTURA!I350","v":0}]
[null,null,{"$f":"HOJA_CAPTURA!P350","v":0}]
[null,"Valor Documental:   ",null,null,null,"Administrativo",null,null,null,{"$f":"HOJA_CAPTURA!AF350","v":0},"Legal",null,null,null,{"$f":"HOJA_CAPTURA!AG350","v":0},"Contable y/o Fiscal",null,null,null,null,{"$f":"HOJA_CAPTURA!AH350","v":0}]
[]
[null,null,null,null,null,null,null,null,null,null,null,null,"Tomo(s): ",null,null,"de"]
[]
[null,"Subserie: ",null,{"$f":"HOJA_CAPTURA!I351","v":0}]
[null,null,{"$f":"HOJA_CAPTURA!P351","v":0}]
[]
[null,null,null,null,null,null,null,null,null,null,null,null,"Folio: del",null,null,null,"al"]
[null,null,null,null,null,null,null,null,null,null,null,null,"Tomo(s): ",null,null,"de"]
[]
[null,"Serie: ",null,{"$f":"HOJA_CAPTURA!H352","v":0}]
[null,"Asunto o Descripción:                        "]
[null,"(Llenar este apartado sólo en el caso de que la información del expediente sea reservada o confidencial)"]
[null,"Nombre del Responsable de la Clasificación: "]
[]
[null,"Sección: ",null,{"$f":"HOJA_CAPTURA!G353","v":0}]
[null,"Serie: ",null,{"$f":"HOJA_CAPTURA!H353","v":0}]
[null,"Asunto o Descripción:                        "]
[null,"(Llenar este apartado sólo en el caso de que la información del expediente sea reservada o confidencial)"]
[null,"Nombre del Responsable de la Clasificación: "]
[]
[null,"Sección: ",null,{"$f":"HOJA_CAPTURA!G354","v":0}]
[null,null,null,null,null,"(DD-MM-AAAA) ",null,null,null,null,null,null,null,null,null,null,null,"(DD-MM-AAAA) "]
[]
[null,"(Llenar este apartado sólo en el caso de que la información del expediente sea reservada o confidencial)"]
[null,"Nombre del Responsable de la Clasificación: "]
[]
[null,"Sección: ",null,{"$f":"HOJA_CAPTURA!G355","v":0}]
[null,null,null,null,null,"(DD-MM-AAAA) ",null,null,null,null,null,null,null,null,null,null,null,"(DD-MM-AAAA) "]
[]
[]
[]
[null,null,null,null,null,null,null,null,null,null,null,null,null,null," "]
[null,{"$f":"HOJA_CAPTURA!C356","v":0}]
[null,"Fecha de Apertura:",null,null,null,{"$f":"HOJA_CAPTURA!Q356","v":"00:00:00"},null,null,null,null,null,null,null," Fecha de Cierre:",null,null,null,{"$f":"HOJA_CAPTURA!R356","v":"00:00:00"}]
[null,"Fundamento Legal:",null,null,null,{"$f":"HOJA_CAPTURA!AN356","v":0}]
[]
[]
[]
[null,"Vigencia documental (de acuerdo a CADIDO):",null,null,null,null,null,null,null,null,null,null,"AT",{"$f":"HOJA_CAPTURA!AI357","v":0},null,"AC",{"$f":"HOJA_CAPTURA!AJ357","v":0},null,"Total",null,{"$f":"HOJA_CAPTURA!AK357","v":0}]
[null,"Fecha de Apertura:",null,null,null,{"$f":"HOJA_CAPTURA!Q357","v":"00:00:00"},null,null,null,null,null,null,null," Fecha de Cierre:",null,null,null,{"$f":"HOJA_CAPTURA!R357","v":"00:00:00"}]
[null,"Fundamento Legal:",null,null,null,{"$f":"HOJA_CAPTURA!AN357","v":0}]
[]
[]
[]
[null,"Vigencia documental (de acuerdo a CADIDO):",null,null,null,null,null,null,null,null,null,null,"AT",{"$f":"HOJA_CAPTURA!AI358","v":0},null,"AC",{"$f":"HOJA_CAPTURA!AJ358","v":0},null,"Total",null,{"$f":"HOJA_CAPTURA!AK358","v":0}]
[null,"Periodo de Reserva:            ",null,null,null,{"$f":"HOJA_CAPTURA!AM358","v":0},null,"años"]
[null,"Ampliación de periodo de reserva:",null,null,null,null,null,null,null,null,null,null,"Parte(s) o sección(es) Reservada:"]
[]
[]
[]
[null,"Fecha de Apertura:",null,null,null,{"$f":"HOJA_CAPTURA!Q359","v":"00:00:00"},null,null,null,null,null,null,null," Fecha de Cierre:",null,null,null,{"$f":"HOJA_CAPTURA!R359","v":"00:00:00"}]
[null,"Condiciones de acceso:",null,null,null,null,{"$f":"HOJA_CAPTURA!AL359","v":0}]
[null,"Fecha de Desclasificación: "]
[null,"Firma:"]
[]
[null,"Clasificación:",null,null,{"$f":"HOJA_CAPTURA!N360","v":0}]
[null,"Tipo de Archivo:",null,null,null,"Trámite ",null,null,{"$f":"HOJA_CAPTURA!W360","v":0},"Concentración",null,null,{"$f":"HOJA_CAPTURA!X360","v":0},null,"Histórico  ",null,{"$f":"HOJA_CAPTURA!Y360","v":0}]
[null,"Condiciones de acceso:",null,null,null,null,{"$f":"HOJA_CAPTURA!AL360","v":0}]
[null,"Fecha de Desclasificación: "]
[null,"Firma:"]
[]
[null,"Número Total de Legajos: ",null,null,null,null,{"$f":"HOJA_CAPTURA!U361","v":0},null,null,"Número Total de Fojas:",null,null,null,null,null,{"$f":"HOJA_CAPTURA!V361","v":0}]
[null,null,null,null,null,null,null,null,null,null,null,null,null,null,null,null,null,"(Planos, Fotos, etc.)"]
[null,"Condiciones de acceso:",null,null,null,null,{"$f":"HOJA_CAPTURA!AL361","v":0}]
[null,"Fecha de Desclasificación: "]
[null,"Firma:"]
[]
[null,"Número Total de Legajos: ",null,null,null,null,{"$f":"HOJA_CAPTURA!U362","v":0},null,null,"Número Total de Fojas:",null,null,null,null,null,{"$f":"HOJA_CAPTURA!V362","v":0}]
[null,null,null,null,null,null,null,null,null,null,null,null,null,null,null,null,null,"(Planos, Fotos, etc.)"]
[null,"Plazo de Reserva: ",null,null,null,null,null,null,null,null,null,null,"Reservada:",null,null,null,null,"Confidencial:",null,null,"                   "]
[null,null,null,null,null,null,null,null,null,null,null,null,"Fundamento Legal:"]
[]
[]
[null,"Número de Legajo: ",null,null,null,null,null,"de",{"$f":"HOJA_CAPTURA!U363","v":0},"Número de Fojas: "]
[null,"Soporte (Formato):",null,null,null,"Papel:",null,{"$f":"HOJA_CAPTURA!AO363","v":0},"Medio magnético:  ",null,null,null,{"$f":"HOJA_CAPTURA!AP363","v":0},"CD:",{"$f":"HOJA_CAPTURA!AQ363","v":0},"USB:",{"$f":"HOJA_CAPTURA!AR363","v":0},"Otros:",null,{"$f":"HOJA_CAPTURA!AS363","v":0}]
[null,"Fecha de Clasificación: ",null,null,null,null,null,null,null,null,null,null,"Clasificación de la Información:"]
[null,"Cargo:"]
[]
[null,"Nombre del Expediente:                     ",null,null,null,null,{"$f":"HOJA_CAPTURA!O364","v":0},null,null,null,null,null,null,null,null,"Número del Expediente: ",null,null,null,null,{"$f":"HOJA_CAPTURA!M364","v":0}]
[null,"Número de Legajo: ",null,null,null,null,null,"de",{"$f":"HOJA_CAPTURA!U364","v":0},"Número de Fojas: "]
[null,"Soporte (Formato):",null,null,null,"Papel:",null,{"$f":"HOJA_CAPTURA!AO364","v":0},"Medio magnético:  ",null,null,null,{"$f":"HOJA_CAPTURA!AP364","v":0},"CD:",{"$f":"HOJA_CAPTURA!AQ364","v":0},"USB:",{"$f":"HOJA_CAPTURA!AR364","v":0},"Otros:",null,{"$f":"HOJA_CAPTURA!AS364","v":0}]
[null,"Fecha de Clasificación: ",null,null,null,null,null,null,null,null,null,null,"Clasificación de la Información:"]
[null,"Cargo:"]
[]
[null,"Nombre del Expediente:                     ",null,null,null,null,{"$f":"HOJA_CAPTURA!O365","v":0},null,null,null,null,null,null,null,null,"Número del Expediente: ",null,null,null,null,{"$f":"HOJA_CAPTURA!M365","v":0}]
[null,"Valor Documental:   ",null,null,null,"Administrativo",null,null,null,{"$f":"HOJA_CAPTURA!AF365","v":0},"Legal",null,null,null,{"$f":"HOJA_CAPTURA!AG365","v":0},"Contable y/o Fiscal",null,null,null,null,{"$f":"HOJA_CAPTURA!AH365","v":0}]
[]
[null,"Fecha de Clasificación: ",null,null,null,null,null,null,null,null,null,null,"Clasificación de la Información:"]
[null,"Cargo:"]
[]
[null,"Nombre del Expediente:                     ",null,null,null,null,{"$f":"HOJA_CAPTURA!O366","v":0},null,null,null,null,null,null,null,null,"Número del Expediente: ",null,null,null,null,{"$f":"HOJA_CAPTURA!M366","v":0}]
[null,"Valor Documental:   ",null,null,null,"Administrativo",null,null,null,{"$f":"HOJA_CAPTURA!AF366","v":0},"Legal",null,null,null,{"$f":"HOJA_CAPTURA!AG366","v":0},"Contable y/o Fiscal",null,null,null,null,{"$f":"HOJA_CAPTURA!AH366","v":0}]
[]
[null,null,null,null,null,null,null,null,null,null,null,null,"Folio: del",null,null,null,"al"]
[]
[]
[null,"Subserie: ",null,{"$f":"HOJA_CAPTURA!I367","v":0}]
[null,null,{"$f":"HOJA_CAPTURA!P367","v":0}]
[]
[null,null,null,null,null,null,null,null,null,null,null,null,"Folio: del",null,null,null,"al"]
[]
[null,"Serie: ",null,{"$f":"HOJA_CAPTURA!H368","v":0}]
[null,"Asunto o Descripción:                        "]
[null,null,{"$f":"HOJA_CAPTURA!P368","v":0}]
[]
[null,null,null,null,null,null,null,null,null,null,null,null,"Folio: del",null,null,null,"al"]
[]
[null,"Serie: ",null,{"$f":"HOJA_CAPTURA!H369","v":0}]
[null,"Asunto o Descripción:                        "]
[null,"(Llenar este apartado sólo en el caso de que la información del expediente sea reservada o confidencial)"]
[null,"Nombre del Responsable de la Clasificación: "]
[null,null,null,null,null,null,null,null,null,null,null,null,"Folio: del",null,null,null,"al"]
[]
[null,"Serie: ",null,{"$f":"HOJA_CAPTURA!H370","v":0}]
[null,null,null,null,null,"(DD-MM-AAAA) ",null,null,null,null,null,null,null,null,null,null,null,"(DD-MM-AAAA) "]
[]
[]
[null,null,null,null,null,null,null,null,null,null,null,null,null,null," "]
[null,{"$f":"HOJA_CAPTURA!C371","v":0}]
[null,"Sección: ",null,{"$f":"HOJA_CAPTURA!G371","v":0}]
[null,null,null,null,null,"(DD-MM-AAAA) ",null,null,null,null,null,null,null,null,null,null,null,"(DD-MM-AAAA) "]
[]
[]
[null,null,null,null,null,null,null,null,null,null,null,null,null,null," "]
[null,{"$f":"HOJA_CAPTURA!C372","v":0}]
[null,"Fecha de Apertura:",null,null,null,{"$f":"HOJA_CAPTURA!Q372","v":"00:00:00"},null,null,null,null,null,null,null," Fecha de Cierre:",null,null,null,{"$f":"HOJA_CAPTURA!R372","v":"00:00:00"}]
[null,"Fundamento Legal:",null,null,null,{"$f":"HOJA_CAPTURA!AN372","v":0}]
[]
[]
[null,null,null,null,null,null,null,null,null,null,null,null,null,null," "]
[null,{"$f":"HOJA_CAPTURA!C373","v":0}]
[null,"Fecha de Apertura:",null,null,null,{"$f":"HOJA_CAPTURA!Q373","v":"00:00:00"},null,null,null,null,null,null,null," Fecha de Cierre:",null,null,null,{"$f":"HOJA_CAPTURA!R373","v":"00:00:00"}]
[null,"Fundamento Legal:",null,null,null,{"$f":"HOJA_CAPTURA!AN373","v":0}]
[]
[]
[]
[]
[null,"Vigencia documental (de acuerdo a CADIDO):",null,null,null,null,null,null,null,null,null,null,"AT",{"$f":"HOJA_CAPTURA!AI374","v":0},null,"AC",{"$f":"HOJA_CAPTURA!AJ374","v":0},null,"Total",null,{"$f":"HOJA_CAPTURA!AK374","v":0}]
[null,"Periodo de Reserva:            ",null,null,null,{"$f":"HOJA_CAPTURA!AM374","v":0},null,"años"]
[null,"Ampliación de periodo de reserva:",null,null,null,null,null,null,null,null,null,null,"Parte(s) o sección(es) Reservada:"]
[]
[null,"Clasificación:",null,null,{"$f":"HOJA_CAPTURA!N375","v":0}]
[null,"Tipo de Archivo:",null,null,null,"Trámite ",null,null,{"$f":"HOJA_CAPTURA!W375","v":0},"Concentración",null,null,{"$f":"HOJA_CAPTURA!X375","v":0},null,"Histórico  ",null,{"$f":"HOJA_CAPTURA!Y375","v":0}]
[null,"Vigencia documental (de acuerdo a CADIDO):",null,null,null,null,null,null,null,null,null,null,"AT",{"$f":"HOJA_CAPTURA!AI375","v":0},null,"AC",{"$f":"HOJA_CAPTURA!AJ375","v":0},null,"Total",null,{"$f":"HOJA_CAPTURA!AK375","v":0}]
[null,"Periodo de Reserva:            ",null,null,null,{"$f":"HOJA_CAPTURA!AM375","v":0},null,"años"]
[null,"Ampliación de periodo de reserva:",null,null,null,null,null,null,null,null,null,null,"Parte(s) o sección(es) Reservada:"]
[]
[null,"Clasificación:",null,null,{"$f":"HOJA_CAPTURA!N376","v":0}]
[null,"Tipo de Archivo:",null,null,null,"Trámite ",null,null,{"$f":"HOJA_CAPTURA!W376","v":0},"Concentración",null,null,{"$f":"HOJA_CAPTURA!X376","v":0},null,"Histórico  ",null,{"$f":"HOJA_CAPTURA!Y376","v":0}]
[null,"Condiciones de acceso:",null,null,null,null,{"$f":"HOJA_CAPTURA!AL376","v":0}]
[null,"Fecha de Desclasificación: "]
[null,"Ampliación de periodo de reserva:",null,null,null,null,null,null,null,null,null,null,"Parte(s) o sección(es) Reservada:"]
[]
[null,"Clasificación:",null,null,{"$f":"HOJA_CAPTURA!N377","v":0}]
[null,"Tipo de Archivo:",null,null,null,"Trámite ",null,null,{"$f":"HOJA_CAPTURA!W377","v":0},"Concentración",null,null,{"$f":"HOJA_CAPTURA!X377","v":0},null,"Histórico  ",null,{"$f":"HOJA_CAPTURA!Y377","v":0}]
[null,null,null,null,null,null,null,null,null,null,null,null,null,null,null,null,null,"(Planos, Fotos, etc.)"]
[null,"Plazo de Reserva: ",null,null,null,null,null,null,null,null,null,null,"Reservada:",null,null,null,null,"Confidencial:",null,null,"                   "]
[null,null,null,null,null,null,null,null,null,null,null,null,"Fundamento Legal:"]
[]
[]
[null,"Número Total de Legajos: ",null,null,null,null,{"$f":"HOJA_CAPTURA!U378","v":0},null,null,"Número Total de Fojas:",null,null,null,null,null,{"$f":"HOJA_CAPTURA!V378","v":0}]
[null,null,null,null,null,null,null,null,null,null,null,null,null,null,null,null,null,"(Planos, Fotos, etc.)"]
[null,"Plazo de Reserva: ",null,null,null,null,null,null,null,null,null,null,"Reservada:",null,null,null,null,"Confidencial:",null,null,"                   "]
[null,null,null,null,null,null,null,null,null,null,null,null,"Fundamento Legal:"]
[]
[null,"Número de Legajo: ",null,null,null,null,null,"de",{"$f":"HOJA_CAPTURA!U379","v":0},"Número de Fojas: "]
[null,"Soporte (Formato):",null,null,null,"Papel:",null,{"$f":"HOJA_CAPTURA!AO379","v":0},"Medio magnético:  ",null,null,null,{"$f":"HOJA_CAPTURA!AP379","v":0},"CD:",{"$f":"HOJA_CAPTURA!AQ379","v":0},"USB:",{"$f":"HOJA_CAPTURA!AR379","v":0},"Otros:",null,{"$f":"HOJA_CAPTURA!AS379","v":0}]
[null,null,null,null,null,null,null,null,null,null,null,null,null,null,null,null,null,"(Planos, Fotos, etc.)"]
[null,"Plazo de Reserva: ",null,null,null,null,null,null,null,null,null,null,"Reservada:",null,null,null,null,"Confidencial:",null,null,"                   "]
[null,null,null,null,null,null,null,null,null,null,null,null,"Fundamento Legal:"]
[]
[null,"Número de Legajo: ",null,null,null,null,null,"de",{"$f":"HOJA_CAPTURA!U380","v":0},"Número de Fojas: "]
[null,"Soporte (Formato):",null,null,null,"Papel:",null,{"$f":"HOJA_CAPTURA!AO380","v":0},"Medio magnético:  ",null,null,null,{"$f":"HOJA_CAPTURA!AP380","v":0},"CD:",{"$f":"HOJA_CAPTURA!AQ380","v":0},"USB:",{"$f":"HOJA_CAPTURA!AR380","v":0},"Otros:",null,{"$f":"HOJA_CAPTURA!AS380","v":0}]
[null,"Fecha de Clasificación: ",null,null,null,null,null,null,null,null,null,null,"Clasificación de la Información:"]
[null,"Cargo:"]
[null,null,null,null,null,null,null,null,null,null,null,null,"Fundamento Legal:"]
[]
[null,"Nombre del Expediente:                     ",null,null,null,null,{"$f":"HOJA_CAPTURA!O381","v":0},null,null,null,null,null,null,null,null,"Número del Expediente: ",null,null,null,null,{"$f":"HOJA_CAPTURA!M381","v":0}]
[null,"Valor Documental:   ",null,null,null,"Administrativo",null,null,null,{"$f":"HOJA_CAPTURA!AF381","v":0},"Legal",null,null,null,{"$f":"HOJA_CAPTURA!AG381","v":0},"Contable y/o Fiscal",null,null,null,null,{"$f":"HOJA_CAPTURA!AH381","v":0}]
[]
[null,null,null,null,null,null,null,null,null,null,null,null,"Tomo(s): ",null,null,"de"]
[]
[null,"Subserie: ",null,{"$f":"HOJA_CAPTURA!I382","v":0}]
[null,"Nombre del Expediente:                     ",null,null,null,null,{"$f":"HOJA_CAPTURA!O382","v":0},null,null,null,null,null,null,null,null,"Número del Expediente: ",null,null,null,null,{"$f":"HOJA_CAPTURA!M382","v":0}]
[null,"Valor Documental:   ",null,null,null,"Administrativo",null,null,null,{"$f":"HOJA_CAPTURA!AF382","v":0},"Legal",null,null,null,{"$f":"HOJA_CAPTURA!AG382","v":0},"Contable y/o Fiscal",null,null,null,null,{"$f":"HOJA_CAPTURA!AH382","v":0}]
[]
[null,null,null,null,null,null,null,null,null,null,null,null,"Tomo(s): ",null,null,"de"]
[]
[null,"Subserie: ",null,{"$f":"HOJA_CAPTURA!I383","v":0}]
[null,null,{"$f":"HOJA_CAPTURA!P383","v":0}]
[]
[]
[null,null,null,null,null,null,null,null,null,null,null,null,"Tomo(s): ",null,null,"de"]
[]
[null,"Subserie: ",null,{"$f":"HOJA_CAPTURA!I384","v":0}]
[null,null,{"$f":"HOJA_CAPTURA!P384","v":0}]
[]
[]
[]
[]
[null,"Serie: ",null,{"$f":"HOJA_CAPTURA!H385","v":0}]
[null,"Asunto o Descripción:                        "]
[null,"(Llenar este apartado sólo en el caso de que la información del expediente sea reservada o confidencial)"]
[null,"Nombre del Responsable de la Clasificación: "]
[]
[null,"Sección: ",null,{"$f":"HOJA_CAPTURA!G386","v":0}]
[null,null,null,null,null,"(DD-MM-AAAA) ",null,null,null,null,null,null,null,null,null,null,null,"(DD-MM-AAAA) "]
[null,"Asunto o Descripción:                        "]
[null,"(Llenar este apartado sólo en el caso de que la información del expediente sea reservada o confidencial)"]
[null,"Nombre del Responsable de la Clasificación: "]
[]
[null,"Sección: ",null,{"$f":"HOJA_CAPTURA!G387","v":0}]
[null,null,null,null,null,"(DD-MM-AAAA) ",null,null,null,null,null,null,null,null,null,null,null,"(DD-MM-AAAA) "]
[]
[]
[null,"Nombre del Responsable de la Clasificación: "]
[]
[null,"Sección: ",null,{"$f":"HOJA_CAPTURA!G388","v":0}]
[null,"Vigencia documental (de acuerdo a CADIDO):",null,null,null,null,null,null,null,null,null,null,"AT",{"$f":"HOJA_CAPTURA!AI388","v":0},null,"AC",{"$f":"HOJA_CAPTURA!AJ388","v":0},null,"Total",null,{"$f":"HOJA_CAPTURA!AK388","v":0}]
[null,"Fundamento Legal:",null,null,null,{"$f":"HOJA_CAPTURA!AN388","v":0}]
[]
[]
[]
[null,{"$f":"HOJA_CAPTURA!C389","v":0}]
[null,"Fecha de Apertura:",null,null,null,{"$f":"HOJA_CAPTURA!Q389","v":"00:00:00"},null,null,null,null,null,null,null," Fecha de Cierre:",null,null,null,{"$f":"HOJA_CAPTURA!R389","v":"00:00:00"}]
[null,"Fundamento Legal:",null,null,null,{"$f":"HOJA_CAPTURA!AN389","v":0}]
[]
[]
[]
[null,"Vigencia documental (de acuerdo a CADIDO):",null,null,null,null,null,null,null,null,null,null,"AT",{"$f":"HOJA_CAPTURA!AI390","v":0},null,"AC",{"$f":"HOJA_CAPTURA!AJ390","v":0},null,"Total",null,{"$f":"HOJA_CAPTURA!AK390","v":0}]
[null,"Periodo de Reserva:            ",null,null,null,{"$f":"HOJA_CAPTURA!AM390","v":0},null,"años"]
[null,"Fundamento Legal:",null,null,null,{"$f":"HOJA_CAPTURA!AN390","v":0}]
[]
[]
[]
[null,"Vigencia documental (de acuerdo a CADIDO):",null,null,null,null,null,null,null,null,null,null,"AT",{"$f":"HOJA_CAPTURA!AI391","v":0},null,"AC",{"$f":"HOJA_CAPTURA!AJ391","v":0},null,"Total",null,{"$f":"HOJA_CAPTURA!AK391","v":0}]
[null,"Periodo de Reserva:            ",null,null,null,{"$f":"HOJA_CAPTURA!AM391","v":0},null,"años"]
[null,"Ampliación de periodo de reserva:",null,null,null,null,null,null,null,null,null,null,"Parte(s) o sección(es) Reservada:"]
[]
[]
[null,"Clasificación:",null,null,{"$f":"HOJA_CAPTURA!N392","v":0}]
[]
[null,{"$f":"HOJA_CAPTURA!C392","v":0}]
[null,"Sección: ",null,{"$f":"HOJA_CAPTURA!G392","v":0}]
[null,"Serie: ",null,{"$f":"HOJA_CAPTURA!H392","v":0}]
[null,"Subserie: ",null,{"$f":"HOJA_CAPTURA!I392","v":0}]
[null,"Nombre del Expediente:                     ",null,null,null,null,{"$f":"HOJA_CAPTURA!O392","v":0},null,null,null,null,null,null,null,null,"Número del Expediente: ",null,null,null,null,{"$f":"HOJA_CAPTURA!M392","v":0}]
[null,"Número de Legajo: ",null,null,null,null,null,"de",{"$f":"HOJA_CAPTURA!U392","v":0},"Número de Fojas: "]
[null,"Número Total de Legajos: ",null,null,null,null,{"$f":"HOJA_CAPTURA!U392","v":0},null,null,"Número Total de Fojas:",null,null,null,null,null,{"$f":"HOJA_CAPTURA!V392","v":0}]
[null,"Tipo de Archivo:",null,null,null,"Trámite ",null,null,{"$f":"HOJA_CAPTURA!W392","v":0},"Concentración",null,null,{"$f":"HOJA_CAPTURA!X392","v":0},null,"Histórico  ",null,{"$f":"HOJA_CAPTURA!Y392","v":0}]
[null,"Vigencia documental (de acuerdo a CADIDO):",null,null,null,null,null,null,null,null,null,null,"AT",{"$f":"HOJA_CAPTURA!AI392","v":0},null,"AC",{"$f":"HOJA_CAPTURA!AJ392","v":0},null,"Total",null,{"$f":"HOJA_CAPTURA!AK392","v":0}]
[null,"Fecha de Apertura:",null,null,null,{"$f":"HOJA_CAPTURA!Q392","v":"00:00:00"},null,null,null,null,null,null,null," Fecha de Cierre:",null,null,null,{"$f":"HOJA_CAPTURA!R392","v":"00:00:00"}]
[null,null,null,null,null,"(DD-MM-AAAA) ",null,null,null,null,null,null,null,null,null,null,null,"(DD-MM-AAAA) "]
[null,"Asunto o Descripción:                        "]
[null,null,{"$f":"HOJA_CAPTURA!P392","v":0}]
[null,"Valor Documental:   ",null,null,null,"Administrativo",null,null,null,{"$f":"HOJA_CAPTURA!AF392","v":0},"Legal",null,null,null,{"$f":"HOJA_CAPTURA!AG392","v":0},"Contable y/o Fiscal",null,null,null,null,{"$f":"HOJA_CAPTURA!AH392","v":0}]
[null,"Soporte (Formato):",null,null,null,"Papel:",null,{"$f":"HOJA_CAPTURA!AO392","v":0},"Medio magnético:  ",null,null,null,{"$f":"HOJA_CAPTURA!AP392","v":0},"CD:",{"$f":"HOJA_CAPTURA!AQ392","v":0},"USB:",{"$f":"HOJA_CAPTURA!AR392","v":0},"Otros:",null,{"$f":"HOJA_CAPTURA!AS392","v":0}]
[null,null,null,null,null,null,null,null,null,null,null,null,null,null,null,null,null,"(Planos, Fotos, etc.)"]
[null,"Condiciones de acceso:",null,null,null,null,{"$f":"HOJA_CAPTURA!AL392","v":0}]
[null,"Periodo de Reserva:            ",null,null,null,{"$f":"HOJA_CAPTURA!AM392","v":0},null,"años"]
[null,"Fundamento Legal:",null,null,null,{"$f":"HOJA_CAPTURA!AN392","v":0}]
[]
[null,"(Llenar este apartado sólo en el caso de que la información del expediente sea reservada o confidencial)"]
[]
[]
[null,"Fecha de Clasificación: ",null,null,null,null,null,null,null,null,null,null,"Clasificación de la Información:"]
[null,"Plazo de Reserva: ",null,null,null,null,null,null,null,null,null,null,"Reservada:",null,null,null,null,"Confidencial:",null,null,"                   "]
[null,"Fecha de Desclasificación: "]
[null,"Ampliación de periodo de reserva:",null,null,null,null,null,null,null,null,null,null,"Parte(s) o sección(es) Reservada:"]
[]
[]
[null,"Nombre del Responsable de la Clasificación: "]
[null,null,null,null,null,null,null,null,null,null,null,null,"Folio: del",null,null,null,"al"]
[null,null,null,null,null,null,null,null,null,null,null,null,"Tomo(s): ",null,null,"de"]
[null,"Cargo:"]
[null,null,null,null,null,null,null,null,null,null,null,null,"Fundamento Legal:"]
[null,"Firma:"]
[]
[]
[null,null,null,null,null,null,null,null,null,null,null,null,null,null," "]
[]
[]
[]
[]
[]
[]
[null,"Clasificación:",null,null,{"$f":"HOJA_CAPTURA!N393","v":0}]
[]
[null,{"$f":"HOJA_CAPTURA!C393","v":0}]
[null,"Sección: ",null,{"$f":"HOJA_CAPTURA!G393","v":0}]
[null,"Serie: ",null,{"$f":"HOJA_CAPTURA!H393","v":0}]
[null,"Subserie: ",null,{"$f":"HOJA_CAPTURA!I393","v":0}]
[null,"Nombre del Expediente:                     ",null,null,null,null,{"$f":"HOJA_CAPTURA!O393","v":0},null,null,null,null,null,null,null,null,"Número del Expediente: ",null,null,null,null,{"$f":"HOJA_CAPTURA!M393","v":0}]
[null,"Número de Legajo: ",null,null,null,null,null,"de",{"$f":"HOJA_CAPTURA!U393","v":0},"Número de Fojas: "]
[null,"Número Total de Legajos: ",null,null,null,null,{"$f":"HOJA_CAPTURA!U393","v":0},null,null,"Número Total de Fojas:",null,null,null,null,null,{"$f":"HOJA_CAPTURA!V393","v":0}]
[null,"Tipo de Archivo:",null,null,null,"Trámite ",null,null,{"$f":"HOJA_CAPTURA!W393","v":0},"Concentración",null,null,{"$f":"HOJA_CAPTURA!X393","v":0},null,"Histórico  ",null,{"$f":"HOJA_CAPTURA!Y393","v":0}]
[null,"Vigencia documental (de acuerdo a CADIDO):",null,null,null,null,null,null,null,null,null,null,"AT",{"$f":"HOJA_CAPTURA!AI393","v":0},null,"AC",{"$f":"HOJA_CAPTURA!AJ393","v":0},null,"Total",null,{"$f":"HOJA_CAPTURA!AK393","v":0}]
[null,"Fecha de Apertura:",null,null,null,{"$f":"HOJA_CAPTURA!Q393","v":"00:00:00"},null,null,null,null,null,null,null," Fecha de Cierre:",null,null,null,{"$f":"HOJA_CAPTURA!R393","v":"00:00:00"}]
[null,null,null,null,null,"(DD-MM-AAAA) ",null,null,null,null,null,null,null,null,null,null,null,"(DD-MM-AAAA) "]
[null,"Asunto o Descripción:                        "]
[null,null,{"$f":"HOJA_CAPTURA!P393","v":0}]
[null,"Valor Documental:   ",null,null,null,"Administrativo",null,null,null,{"$f":"HOJA_CAPTURA!AF393","v":0},"Legal",null,null,null,{"$f":"HOJA_CAPTURA!AG393","v":0},"Contable y/o Fiscal",null,null,null,null,{"$f":"HOJA_CAPTURA!AH393","v":0}]
[null,"Soporte (Formato):",null,null,null,"Papel:",null,{"$f":"HOJA_CAPTURA!AO393","v":0},"Medio magnético:  ",null,null,null,{"$f":"HOJA_CAPTURA!AP393","v":0},"CD:",{"$f":"HOJA_CAPTURA!AQ393","v":0},"USB:",{"$f":"HOJA_CAPTURA!AR393","v":0},"Otros:",null,{"$f":"HOJA_CAPTURA!AS393","v":0}]
[null,null,null,null,null,null,null,null,null,null,null,null,null,null,null,null,null,"(Planos, Fotos, etc.)"]
[null,"Condiciones de acceso:",null,null,null,null,{"$f":"HOJA_CAPTURA!AL393","v":0}]
[null,"Periodo de Reserva:            ",null,null,null,{"$f":"HOJA_CAPTURA!AM393","v":0},null,"años"]
[null,"Fundamento Legal:",null,null,null,{"$f":"HOJA_CAPTURA!AN393","v":0}]
[]
[null,"(Llenar este apartado sólo en el caso de que la información del expediente sea reservada o confidencial)"]
[]
[]
[null,"Fecha de Clasificación: ",null,null,null,null,null,null,null,null,null,null,"Clasificación de la Información:"]
[null,"Plazo de Reserva: ",null,null,null,null,null,null,null,null,null,null,"Reservada:",null,null,null,null,"Confidencial:",null,null,"                   "]
[null,"Fecha de Desclasificación: "]
[null,"Ampliación de periodo de reserva:",null,null,null,null,null,null,null,null,null,null,"Parte(s) o sección(es) Reservada:"]
[]
[]
[null,"Nombre del Responsable de la Clasificación: "]
[null,null,null,null,null,null,null,null,null,null,null,null,"Folio: del",null,null,null,"al"]
[null,null,null,null,null,null,null,null,null,null,null,null,"Tomo(s): ",null,null,"de"]
[null,"Cargo:"]
[null,null,null,null,null,null,null,null,null,null,null,null,"Fundamento Legal:"]
[null,"Firma:"]
[]
[]
[null,null,null,null,null,null,null,null,null,null,null,null,null,null," "]
[]
[]
[]
[]
[]
[]
[null,"Clasificación:",null,null,{"$f":"HOJA_CAPTURA!N394","v":0}]
[]
[null,{"$f":"HOJA_CAPTURA!C394","v":0}]
[null,"Sección: ",null,{"$f":"HOJA_CAPTURA!G394","v":0}]
[null,"Serie: ",null,{"$f":"HOJA_CAPTURA!H394","v":0}]
[null,"Subserie: ",null,{"$f":"HOJA_CAPTURA!I394","v":0}]
[null,"Nombre del Expediente:                     ",null,null,null,null,{"$f":"HOJA_CAPTURA!O394","v":0},null,null,null,null,null,null,null,null,"Número del Expediente: ",null,null,null,null,{"$f":"HOJA_CAPTURA!M394","v":0}]
[null,"Número de Legajo: ",null,null,null,null,null,"de",{"$f":"HOJA_CAPTURA!U394","v":0},"Número de Fojas: "]
[null,"Número Total de Legajos: ",null,null,null,null,{"$f":"HOJA_CAPTURA!U394","v":0},null,null,"Número Total de Fojas:",null,null,null,null,null,{"$f":"HOJA_CAPTURA!V394","v":0}]
[null,"Tipo de Archivo:",null,null,null,"Trámite ",null,null,{"$f":"HOJA_CAPTURA!W394","v":0},"Concentración",null,null,{"$f":"HOJA_CAPTURA!X394","v":0},null,"Histórico  ",null,{"$f":"HOJA_CAPTURA!Y394","v":0}]
[null,"Vigencia documental (de acuerdo a CADIDO):",null,null,null,null,null,null,null,null,null,null,"AT",{"$f":"HOJA_CAPTURA!AI394","v":0},null,"AC",{"$f":"HOJA_CAPTURA!AJ394","v":0},null,"Total",null,{"$f":"HOJA_CAPTURA!AK394","v":0}]
[null,"Fecha de Apertura:",null,null,null,{"$f":"HOJA_CAPTURA!Q394","v":"00:00:00"},null,null,null,null,null,null,null," Fecha de Cierre:",null,null,null,{"$f":"HOJA_CAPTURA!R394","v":"00:00:00"}]
[null,null,null,null,null,"(DD-MM-AAAA) ",null,null,null,null,null,null,null,null,null,null,null,"(DD-MM-AAAA) "]
[null,"Asunto o Descripción:                        "]
[null,null,{"$f":"HOJA_CAPTURA!P394","v":0}]
[null,"Valor Documental:   ",null,null,null,"Administrativo",null,null,null,{"$f":"HOJA_CAPTURA!AF394","v":0},"Legal",null,null,null,{"$f":"HOJA_CAPTURA!AG394","v":0},"Contable y/o Fiscal",null,null,null,null,{"$f":"HOJA_CAPTURA!AH394","v":0}]
[null,"Soporte (Formato):",null,null,null,"Papel:",null,{"$f":"HOJA_CAPTURA!AO394","v":0},"Medio magnético:  ",null,null,null,{"$f":"HOJA_CAPTURA!AP394","v":0},"CD:",{"$f":"HOJA_CAPTURA!AQ394","v":0},"USB:",{"$f":"HOJA_CAPTURA!AR394","v":0},"Otros:",null,{"$f":"HOJA_CAPTURA!AS394","v":0}]
[null,null,null,null,null,null,null,null,null,null,null,null,null,null,null,null,null,"(Planos, Fotos, etc.)"]
[null,"Condiciones de acceso:",null,null,null,null,{"$f":"HOJA_CAPTURA!AL394","v":0}]
[null,"Periodo de Reserva:            ",null,null,null,{"$f":"HOJA_CAPTURA!AM394","v":0},null,"años"]
[null,"Fundamento Legal:",null,null,null,{"$f":"HOJA_CAPTURA!AN394","v":0}]
[]
[null,"(Llenar este apartado sólo en el caso de que la información del expediente sea reservada o confidencial)"]
[]
[]
[null,"Fecha de Clasificación: ",null,null,null,null,null,null,null,null,null,null,"Clasificación de la Información:"]
[null,"Plazo de Reserva: ",null,null,null,null,null,null,null,null,null,null,"Reservada:",null,null,null,null,"Confidencial:",null,null,"                   "]
[null,"Fecha de Desclasificación: "]
[null,"Ampliación de periodo de reserva:",null,null,null,null,null,null,null,null,null,null,"Parte(s) o sección(es) Reservada:"]
[]
[]
[null,"Nombre del Responsable de la Clasificación: "]
[null,null,null,null,null,null,null,null,null,null,null,null,"Folio: del",null,null,null,"al"]
[null,null,null,null,null,null,null,null,null,null,null,null,"Tomo(s): ",null,null,"de"]
[null,"Cargo:"]
[null,null,null,null,null,null,null,null,null,null,null,null,"Fundamento Legal:"]
[null,"Firma:"]
[]
[]
[null,null,null,null,null,null,null,null,null,null,null,null,null,null," "]
[]
[]
[]
[]
[]
[]
[null,"Clasificación:",null,null,{"$f":"HOJA_CAPTURA!N395","v":0}]
[]
[null,{"$f":"HOJA_CAPTURA!C395","v":0}]
[null,"Sección: ",null,{"$f":"HOJA_CAPTURA!G395","v":0}]
[null,"Serie: ",null,{"$f":"HOJA_CAPTURA!H395","v":0}]
[null,"Subserie: ",null,{"$f":"HOJA_CAPTURA!I395","v":0}]
[null,"Nombre del Expediente:                     ",null,null,null,null,{"$f":"HOJA_CAPTURA!O395","v":0},null,null,null,null,null,null,null,null,"Número del Expediente: ",null,null,null,null,{"$f":"HOJA_CAPTURA!M395","v":0}]
[null,"Número de Legajo: ",null,null,null,null,null,"de",{"$f":"HOJA_CAPTURA!U395","v":0},"Número de Fojas: "]
[null,"Número Total de Legajos: ",null,null,null,null,{"$f":"HOJA_CAPTURA!U395","v":0},null,null,"Número Total de Fojas:",null,null,null,null,null,{"$f":"HOJA_CAPTURA!V395","v":0}]
[null,"Tipo de Archivo:",null,null,null,"Trámite ",null,null,{"$f":"HOJA_CAPTURA!W395","v":0},"Concentración",null,null,{"$f":"HOJA_CAPTURA!X395","v":0},null,"Histórico  ",null,{"$f":"HOJA_CAPTURA!Y395","v":0}]
[null,"Vigencia documental (de acuerdo a CADIDO):",null,null,null,null,null,null,null,null,null,null,"AT",{"$f":"HOJA_CAPTURA!AI395","v":0},null,"AC",{"$f":"HOJA_CAPTURA!AJ395","v":0},null,"Total",null,{"$f":"HOJA_CAPTURA!AK395","v":0}]
[null,"Fecha de Apertura:",null,null,null,{"$f":"HOJA_CAPTURA!Q395","v":"00:00:00"},null,null,null,null,null,null,null," Fecha de Cierre:",null,null,null,{"$f":"HOJA_CAPTURA!R395","v":"00:00:00"}]
[null,null,null,null,null,"(DD-MM-AAAA) ",null,null,null,null,null,null,null,null,null,null,null,"(DD-MM-AAAA) "]
[null,"Asunto o Descripción:                        "]
[null,null,{"$f":"HOJA_CAPTURA!P395","v":0}]
[null,"Valor Documental:   ",null,null,null,"Administrativo",null,null,null,{"$f":"HOJA_CAPTURA!AF395","v":0},"Legal",null,null,null,{"$f":"HOJA_CAPTURA!AG395","v":0},"Contable y/o Fiscal",null,null,null,null,{"$f":"HOJA_CAPTURA!AH395","v":0}]
[null,"Soporte (Formato):",null,null,null,"Papel:",null,{"$f":"HOJA_CAPTURA!AO395","v":0},"Medio magnético:  ",null,null,null,{"$f":"HOJA_CAPTURA!AP395","v":0},"CD:",{"$f":"HOJA_CAPTURA!AQ395","v":0},"USB:",{"$f":"HOJA_CAPTURA!AR395","v":0},"Otros:",null,{"$f":"HOJA_CAPTURA!AS395","v":0}]
[null,null,null,null,null,null,null,null,null,null,null,null,null,null,null,null,null,"(Planos, Fotos, etc.)"]
[null,"Condiciones de acceso:",null,null,null,null,{"$f":"HOJA_CAPTURA!AL395","v":0}]
[null,"Periodo de Reserva:            ",null,null,null,{"$f":"HOJA_CAPTURA!AM395","v":0},null,"años"]
[null,"Fundamento Legal:",null,null,null,{"$f":"HOJA_CAPTURA!AN395","v":0}]
[]
[null,"(Llenar este apartado sólo en el caso de que la información del expediente sea reservada o confidencial)"]
[]
[]
[null,"Fecha de Clasificación: ",null,null,null,null,null,null,null,null,null,null,"Clasificación de la Información:"]
[null,"Plazo de Reserva: ",null,null,null,null,null,null,null,null,null,null,"Reservada:",null,null,null,null,"Confidencial:",null,null,"                   "]
[null,"Fecha de Desclasificación: "]
[null,"Ampliación de periodo de reserva:",null,null,null,null,null,null,null,null,null,null,"Parte(s) o sección(es) Reservada:"]
[]
[]
[null,"Nombre del Responsable de la Clasificación: "]
[null,null,null,null,null,null,null,null,null,null,null,null,"Folio: del",null,null,null,"al"]
[null,null,null,null,null,null,null,null,null,null,null,null,"Tomo(s): ",null,null,"de"]
[null,"Cargo:"]
[null,null,null,null,null,null,null,null,null,null,null,null,"Fundamento Legal:"]
[null,"Firma:"]
[]
[]
[null,null,null,null,null,null,null,null,null,null,null,null,null,null," "]
[]
[]
[]
[]
[]
[]
[null,"Clasificación:",null,null,{"$f":"HOJA_CAPTURA!N396","v":0}]
[]
[null,{"$f":"HOJA_CAPTURA!C396","v":0}]
[null,"Sección: ",null,{"$f":"HOJA_CAPTURA!G396","v":0}]
[null,"Serie: ",null,{"$f":"HOJA_CAPTURA!H396","v":0}]
[null,"Subserie: ",null,{"$f":"HOJA_CAPTURA!I396","v":0}]
[null,"Nombre del Expediente:                     ",null,null,null,null,{"$f":"HOJA_CAPTURA!O396","v":0},null,null,null,null,null,null,null,null,"Número del Expediente: ",null,null,null,null,{"$f":"HOJA_CAPTURA!M396","v":0}]
[null,"Número de Legajo: ",null,null,null,null,null,"de",{"$f":"HOJA_CAPTURA!U396","v":0},"Número de Fojas: "]
[null,"Número Total de Legajos: ",null,null,null,null,{"$f":"HOJA_CAPTURA!U396","v":0},null,null,"Número Total de Fojas:",null,null,null,null,null,{"$f":"HOJA_CAPTURA!V396","v":0}]
[null,"Tipo de Archivo:",null,null,null,"Trámite ",null,null,{"$f":"HOJA_CAPTURA!W396","v":0},"Concentración",null,null,{"$f":"HOJA_CAPTURA!X396","v":0},null,"Histórico  ",null,{"$f":"HOJA_CAPTURA!Y396","v":0}]
[null,"Vigencia documental (de acuerdo a CADIDO):",null,null,null,null,null,null,null,null,null,null,"AT",{"$f":"HOJA_CAPTURA!AI396","v":0},null,"AC",{"$f":"HOJA_CAPTURA!AJ396","v":0},null,"Total",null,{"$f":"HOJA_CAPTURA!AK396","v":0}]
[null,"Fecha de Apertura:",null,null,null,{"$f":"HOJA_CAPTURA!Q396","v":"00:00:00"},null,null,null,null,null,null,null," Fecha de Cierre:",null,null,null,{"$f":"HOJA_CAPTURA!R396","v":"00:00:00"}]
[null,null,null,null,null,"(DD-MM-AAAA) ",null,null,null,null,null,null,null,null,null,null,null,"(DD-MM-AAAA) "]
[null,"Asunto o Descripción:                        "]
[null,null,{"$f":"HOJA_CAPTURA!P396","v":0}]
[null,"Valor Documental:   ",null,null,null,"Administrativo",null,null,null,{"$f":"HOJA_CAPTURA!AF396","v":0},"Legal",null,null,null,{"$f":"HOJA_CAPTURA!AG396","v":0},"Contable y/o Fiscal",null,null,null,null,{"$f":"HOJA_CAPTURA!AH396","v":0}]
[null,"Soporte (Formato):",null,null,null,"Papel:",null,{"$f":"HOJA_CAPTURA!AO396","v":0},"Medio magnético:  ",null,null,null,{"$f":"HOJA_CAPTURA!AP396","v":0},"CD:",{"$f":"HOJA_CAPTURA!AQ396","v":0},"USB:",{"$f":"HOJA_CAPTURA!AR396","v":0},"Otros:",null,{"$f":"HOJA_CAPTURA!AS396","v":0}]
[null,null,null,null,null,null,null,null,null,null,null,null,null,null,null,null,null,"(Planos, Fotos, etc.)"]
[null,"Condiciones de acceso:",null,null,null,null,{"$f":"HOJA_CAPTURA!AL396","v":0}]
[null,"Periodo de Reserva:            ",null,null,null,{"$f":"HOJA_CAPTURA!AM396","v":0},null,"años"]
[null,"Fundamento Legal:",null,null,null,{"$f":"HOJA_CAPTURA!AN396","v":0}]
[]
[null,"(Llenar este apartado sólo en el caso de que la información del expediente sea reservada o confidencial)"]
[]
[]
[null,"Fecha de Clasificación: ",null,null,null,null,null,null,null,null,null,null,"Clasificación de la Información:"]
[null,"Plazo de Reserva: ",null,null,null,null,null,null,null,null,null,null,"Reservada:",null,null,null,null,"Confidencial:",null,null,"                   "]
[null,"Fecha de Desclasificación: "]
[null,"Ampliación de periodo de reserva:",null,null,null,null,null,null,null,null,null,null,"Parte(s) o sección(es) Reservada:"]
[]
[]
[null,"Nombre del Responsable de la Clasificación: "]
[null,null,null,null,null,null,null,null,null,null,null,null,"Folio: del",null,null,null,"al"]
[null,null,null,null,null,null,null,null,null,null,null,null,"Tomo(s): ",null,null,"de"]
[null,"Cargo:"]
[null,null,null,null,null,null,null,null,null,null,null,null,"Fundamento Legal:"]
[null,"Firma:"]
[]
[]
[null,null,null,null,null,null,null,null,null,null,null,null,null,null," "]
[]
[]
[]
[]
[]
[]
[null,"Clasificación:",null,null,{"$f":"HOJA_CAPTURA!N397","v":0}]
[]
[null,{"$f":"HOJA_CAPTURA!C397","v":0}]
[null,"Sección: ",null,{"$f":"HOJA_CAPTURA!G397","v":0}]
[null,"Serie: ",null,{"$f":"HOJA_CAPTURA!H397","v":0}]
[null,"Subserie: ",null,{"$f":"HOJA_CAPTURA!I397","v":0}]
[null,"Nombre del Expediente:                     ",null,null,null,null,{"$f":"HOJA_CAPTURA!O397","v":0},null,null,null,null,null,null,null,null,"Número del Expediente: ",null,null,null,null,{"$f":"HOJA_CAPTURA!M397","v":0}]
[null,"Número de Legajo: ",null,null,null,null,null,"de",{"$f":"HOJA_CAPTURA!U397","v":0},"Número de Fojas: "]
[null,"Número Total de Legajos: ",null,null,null,null,{"$f":"HOJA_CAPTURA!U397","v":0},null,null,"Número Total de Fojas:",null,null,null,null,null,{"$f":"HOJA_CAPTURA!V397","v":0}]
[null,"Tipo de Archivo:",null,null,null,"Trámite ",null,null,{"$f":"HOJA_CAPTURA!W397","v":0},"Concentración",null,null,{"$f":"HOJA_CAPTURA!X397","v":0},null,"Histórico  ",null,{"$f":"HOJA_CAPTURA!Y397","v":0}]
[null,"Vigencia documental (de acuerdo a CADIDO):",null,null,null,null,null,null,null,null,null,null,"AT",{"$f":"HOJA_CAPTURA!AI397","v":0},null,"AC",{"$f":"HOJA_CAPTURA!AJ397","v":0},null,"Total",null,{"$f":"HOJA_CAPTURA!AK397","v":0}]
[null,"Fecha de Apertura:",null,null,null,{"$f":"HOJA_CAPTURA!Q397","v":"00:00:00"},null,null,null,null,null,null,null," Fecha de Cierre:",null,null,null,{"$f":"HOJA_CAPTURA!R397","v":"00:00:00"}]
[null,null,null,null,null,"(DD-MM-AAAA) ",null,null,null,null,null,null,null,null,null,null,null,"(DD-MM-AAAA) "]
[null,"Asunto o Descripción:                        "]
[null,null,{"$f":"HOJA_CAPTURA!P397","v":0}]
[null,"Valor Documental:   ",null,null,null,"Administrativo",null,null,null,{"$f":"HOJA_CAPTURA!AF397","v":0},"Legal",null,null,null,{"$f":"HOJA_CAPTURA!AG397","v":0},"Contable y/o Fiscal",null,null,null,null,{"$f":"HOJA_CAPTURA!AH397","v":0}]
[null,"Soporte (Formato):",null,null,null,"Papel:",null,{"$f":"HOJA_CAPTURA!AO397","v":0},"Medio magnético:  ",null,null,null,{"$f":"HOJA_CAPTURA!AP397","v":0},"CD:",{"$f":"HOJA_CAPTURA!AQ397","v":0},"USB:",{"$f":"HOJA_CAPTURA!AR397","v":0},"Otros:",null,{"$f":"HOJA_CAPTURA!AS397","v":0}]
[null,null,null,null,null,null,null,null,null,null,null,null,null,null,null,null,null,"(Planos, Fotos, etc.)"]
[null,"Condiciones de acceso:",null,null,null,null,{"$f":"HOJA_CAPTURA!AL397","v":0}]
[null,"Periodo de Reserva:            ",null,null,null,{"$f":"HOJA_CAPTURA!AM397","v":0},null,"años"]
[null,"Fundamento Legal:",null,null,null,{"$f":"HOJA_CAPTURA!AN397","v":0}]
[]
[null,"(Llenar este apartado sólo en el caso de que la información del expediente sea reservada o confidencial)"]
[]
[]
[null,"Fecha de Clasificación: ",null,null,null,null,null,null,null,null,null,null,"Clasificación de la Información:"]
[null,"Plazo de Reserva: ",null,null,null,null,null,null,null,null,null,null,"Reservada:",null,null,null,null,"Confidencial:",null,null,"                   "]
[null,"Fecha de Desclasificación: "]
[null,"Ampliación de periodo de reserva:",null,null,null,null,null,null,null,null,null,null,"Parte(s) o sección(es) Reservada:"]
[]
[]
[null,"Nombre del Responsable de la Clasificación: "]
[null,null,null,null,null,null,null,null,null,null,null,null,"Folio: del",null,null,null,"al"]
[null,null,null,null,null,null,null,null,null,null,null,null,"Tomo(s): ",null,null,"de"]
[null,"Cargo:"]
[null,null,null,null,null,null,null,null,null,null,null,null,"Fundamento Legal:"]
[null,"Firma:"]
[]
[]
[null,null,null,null,null,null,null,null,null,null,null,null,null,null," "]
[]
[]
[]
[]
[]
[]
[null,"Clasificación:",null,null,{"$f":"HOJA_CAPTURA!N398","v":0}]
[]
[null,{"$f":"HOJA_CAPTURA!C398","v":0}]
[null,"Sección: ",null,{"$f":"HOJA_CAPTURA!G398","v":0}]
[null,"Serie: ",null,{"$f":"HOJA_CAPTURA!H398","v":0}]
[null,"Subserie: ",null,{"$f":"HOJA_CAPTURA!I398","v":0}]
[null,"Nombre del Expediente:                     ",null,null,null,null,{"$f":"HOJA_CAPTURA!O398","v":0},null,null,null,null,null,null,null,null,"Número del Expediente: ",null,null,null,null,{"$f":"HOJA_CAPTURA!M398","v":0}]
[null,"Número de Legajo: ",null,null,null,null,null,"de",{"$f":"HOJA_CAPTURA!U398","v":0},"Número de Fojas: "]
[null,"Número Total de Legajos: ",null,null,null,null,{"$f":"HOJA_CAPTURA!U398","v":0},null,null,"Número Total de Fojas:",null,null,null,null,null,{"$f":"HOJA_CAPTURA!V398","v":0}]
[null,"Tipo de Archivo:",null,null,null,"Trámite ",null,null,{"$f":"HOJA_CAPTURA!W398","v":0},"Concentración",null,null,{"$f":"HOJA_CAPTURA!X398","v":0},null,"Histórico  ",null,{"$f":"HOJA_CAPTURA!Y398","v":0}]
[null,"Vigencia documental (de acuerdo a CADIDO):",null,null,null,null,null,null,null,null,null,null,"AT",{"$f":"HOJA_CAPTURA!AI398","v":0},null,"AC",{"$f":"HOJA_CAPTURA!AJ398","v":0},null,"Total",null,{"$f":"HOJA_CAPTURA!AK398","v":0}]
[null,"Fecha de Apertura:",null,null,null,{"$f":"HOJA_CAPTURA!Q398","v":"00:00:00"},null,null,null,null,null,null,null," Fecha de Cierre:",null,null,null,{"$f":"HOJA_CAPTURA!R398","v":"00:00:00"}]
[null,null,null,null,null,"(DD-MM-AAAA) ",null,null,null,null,null,null,null,null,null,null,null,"(DD-MM-AAAA) "]
[null,"Asunto o Descripción:                        "]
[null,null,{"$f":"HOJA_CAPTURA!P398","v":0}]
[null,"Valor Documental:   ",null,null,null,"Administrativo",null,null,null,{"$f":"HOJA_CAPTURA!AF398","v":0},"Legal",null,null,null,{"$f":"HOJA_CAPTURA!AG398","v":0},"Contable y/o Fiscal",null,null,null,null,{"$f":"HOJA_CAPTURA!AH398","v":0}]
[null,"Soporte (Formato):",null,null,null,"Papel:",null,{"$f":"HOJA_CAPTURA!AO398","v":0},"Medio magnético:  ",null,null,null,{"$f":"HOJA_CAPTURA!AP398","v":0},"CD:",{"$f":"HOJA_CAPTURA!AQ398","v":0},"USB:",{"$f":"HOJA_CAPTURA!AR398","v":0},"Otros:",null,{"$f":"HOJA_CAPTURA!AS398","v":0}]
[null,null,null,null,null,null,null,null,null,null,null,null,null,null,null,null,null,"(Planos, Fotos, etc.)"]
[null,"Condiciones de acceso:",null,null,null,null,{"$f":"HOJA_CAPTURA!AL398","v":0}]
[null,"Periodo de Reserva:            ",null,null,null,{"$f":"HOJA_CAPTURA!AM398","v":0},null,"años"]
[null,"Fundamento Legal:",null,null,null,{"$f":"HOJA_CAPTURA!AN398","v":0}]
[]
[null,"(Llenar este apartado sólo en el caso de que la información del expediente sea reservada o confidencial)"]
[]
[]
[null,"Fecha de Clasificación: ",null,null,null,null,null,null,null,null,null,null,"Clasificación de la Información:"]
[null,"Plazo de Reserva: ",null,null,null,null,null,null,null,null,null,null,"Reservada:",null,null,null,null,"Confidencial:",null,null,"                   "]
[null,"Fecha de Desclasificación: "]
[null,"Ampliación de periodo de reserva:",null,null,null,null,null,null,null,null,null,null,"Parte(s) o sección(es) Reservada:"]
[]
[]
[null,"Nombre del Responsable de la Clasificación: "]
[null,null,null,null,null,null,null,null,null,null,null,null,"Folio: del",null,null,null,"al"]
[null,null,null,null,null,null,null,null,null,null,null,null,"Tomo(s): ",null,null,"de"]
[null,"Cargo:"]
[null,null,null,null,null,null,null,null,null,null,null,null,"Fundamento Legal:"]
[null,"Firma:"]
[]
[]
[null,null,null,null,null,null,null,null,null,null,null,null,null,null," "]
[]
[]
[]
[]
[]
[]
[null,"Clasificación:",null,null,{"$f":"HOJA_CAPTURA!N399","v":0}]
[]
[null,{"$f":"HOJA_CAPTURA!C399","v":0}]
[null,"Sección: ",null,{"$f":"HOJA_CAPTURA!G399","v":0}]
[null,"Serie: ",null,{"$f":"HOJA_CAPTURA!H399","v":0}]
[null,"Subserie: ",null,{"$f":"HOJA_CAPTURA!I399","v":0}]
[null,"Nombre del Expediente:                     ",null,null,null,null,{"$f":"HOJA_CAPTURA!O399","v":0},null,null,null,null,null,null,null,null,"Número del Expediente: ",null,null,null,null,{"$f":"HOJA_CAPTURA!M399","v":0}]
[null,"Número de Legajo: ",null,null,null,null,null,"de",{"$f":"HOJA_CAPTURA!U399","v":0},"Número de Fojas: "]
[null,"Número Total de Legajos: ",null,null,null,null,{"$f":"HOJA_CAPTURA!U399","v":0},null,null,"Número Total de Fojas:",null,null,null,null,null,{"$f":"HOJA_CAPTURA!V399","v":0}]
[null,"Tipo de Archivo:",null,null,null,"Trámite ",null,null,{"$f":"HOJA_CAPTURA!W399","v":0},"Concentración",null,null,{"$f":"HOJA_CAPTURA!X399","v":0},null,"Histórico  ",null,{"$f":"HOJA_CAPTURA!Y399","v":0}]
[null,"Vigencia documental (de acuerdo a CADIDO):",null,null,null,null,null,null,null,null,null,null,"AT",{"$f":"HOJA_CAPTURA!AI399","v":0},null,"AC",{"$f":"HOJA_CAPTURA!AJ399","v":0},null,"Total",null,{"$f":"HOJA_CAPTURA!AK399","v":0}]
[null,"Fecha de Apertura:",null,null,null,{"$f":"HOJA_CAPTURA!Q399","v":"00:00:00"},null,null,null,null,null,null,null," Fecha de Cierre:",null,null,null,{"$f":"HOJA_CAPTURA!R399","v":"00:00:00"}]
[null,null,null,null,null,"(DD-MM-AAAA) ",null,null,null,null,null,null,null,null,null,null,null,"(DD-MM-AAAA) "]
[null,"Asunto o Descripción:                        "]
[null,null,{"$f":"HOJA_CAPTURA!P399","v":0}]
[null,"Valor Documental:   ",null,null,null,"Administrativo",null,null,null,{"$f":"HOJA_CAPTURA!AF399","v":0},"Legal",null,null,null,{"$f":"HOJA_CAPTURA!AG399","v":0},"Contable y/o Fiscal",null,null,null,null,{"$f":"HOJA_CAPTURA!AH399","v":0}]
[null,"Soporte (Formato):",null,null,null,"Papel:",null,{"$f":"HOJA_CAPTURA!AO399","v":0},"Medio magnético:  ",null,null,null,{"$f":"HOJA_CAPTURA!AP399","v":0},"CD:",{"$f":"HOJA_CAPTURA!AQ399","v":0},"USB:",{"$f":"HOJA_CAPTURA!AR399","v":0},"Otros:",null,{"$f":"HOJA_CAPTURA!AS399","v":0}]
[null,null,null,null,null,null,null,null,null,null,null,null,null,null,null,null,null,"(Planos, Fotos, etc.)"]
[null,"Condiciones de acceso:",null,null,null,null,{"$f":"HOJA_CAPTURA!AL399","v":0}]
[null,"Periodo de Reserva:            ",null,null,null,{"$f":"HOJA_CAPTURA!AM399","v":0},null,"años"]
[null,"Fundamento Legal:",null,null,null,{"$f":"HOJA_CAPTURA!AN399","v":0}]
[]
[null,"(Llenar este apartado sólo en el caso de que la información del expediente sea reservada o confidencial)"]
[]
[]
[null,"Fecha de Clasificación: ",null,null,null,null,null,null,null,null,null,null,"Clasificación de la Información:"]
[null,"Plazo de Reserva: ",null,null,null,null,null,null,null,null,null,null,"Reservada:",null,null,null,null,"Confidencial:",null,null,"                   "]
[null,"Fecha de Desclasificación: "]
[null,"Ampliación de periodo de reserva:",null,null,null,null,null,null,null,null,null,null,"Parte(s) o sección(es) Reservada:"]
[]
[]
[null,"Nombre del Responsable de la Clasificación: "]
[null,null,null,null,null,null,null,null,null,null,null,null,"Folio: del",null,null,null,"al"]
[null,null,null,null,null,null,null,null,null,null,null,null,"Tomo(s): ",null,null,"de"]
[null,"Cargo:"]
[null,null,null,null,null,null,null,null,null,null,null,null,"Fundamento Legal:"]
[null,"Firma:"]
[]
[]
[null,null,null,null,null,null,null,null,null,null,null,null,null,null," "]
[]
[]
[]
[]
[]
[]
[null,"Clasificación:",null,null,{"$f":"HOJA_CAPTURA!N400","v":0}]
[]
[null,{"$f":"HOJA_CAPTURA!C400","v":0}]
[null,"Sección: ",null,{"$f":"HOJA_CAPTURA!G400","v":0}]
[null,"Serie: ",null,{"$f":"HOJA_CAPTURA!H400","v":0}]
[null,"Subserie: ",null,{"$f":"HOJA_CAPTURA!I400","v":0}]
[null,"Nombre del Expediente:                     ",null,null,null,null,{"$f":"HOJA_CAPTURA!O400","v":0},null,null,null,null,null,null,null,null,"Número del Expediente: ",null,null,null,null,{"$f":"HOJA_CAPTURA!M400","v":0}]
[null,"Número de Legajo: ",null,null,null,null,null,"de",{"$f":"HOJA_CAPTURA!U400","v":0},"Número de Fojas: "]
[null,"Número Total de Legajos: ",null,null,null,null,{"$f":"HOJA_CAPTURA!U400","v":0},null,null,"Número Total de Fojas:",null,null,null,null,null,{"$f":"HOJA_CAPTURA!V400","v":0}]
[null,"Tipo de Archivo:",null,null,null,"Trámite ",null,null,{"$f":"HOJA_CAPTURA!W400","v":0},"Concentración",null,null,{"$f":"HOJA_CAPTURA!X400","v":0},null,"Histórico  ",null,{"$f":"HOJA_CAPTURA!Y400","v":0}]
[null,"Vigencia documental (de acuerdo a CADIDO):",null,null,null,null,null,null,null,null,null,null,"AT",{"$f":"HOJA_CAPTURA!AI400","v":0},null,"AC",{"$f":"HOJA_CAPTURA!AJ400","v":0},null,"Total",null,{"$f":"HOJA_CAPTURA!AK400","v":0}]
[null,"Fecha de Apertura:",null,null,null,{"$f":"HOJA_CAPTURA!Q400","v":"00:00:00"},null,null,null,null,null,null,null," Fecha de Cierre:",null,null,null,{"$f":"HOJA_CAPTURA!R400","v":"00:00:00"}]
[null,null,null,null,null,"(DD-MM-AAAA) ",null,null,null,null,null,null,null,null,null,null,null,"(DD-MM-AAAA) "]
[null,"Asunto o Descripción:                        "]
[null,null,{"$f":"HOJA_CAPTURA!P400","v":0}]
[null,"Valor Documental:   ",null,null,null,"Administrativo",null,null,null,{"$f":"HOJA_CAPTURA!AF400","v":0},"Legal",null,null,null,{"$f":"HOJA_CAPTURA!AG400","v":0},"Contable y/o Fiscal",null,null,null,null,{"$f":"HOJA_CAPTURA!AH400","v":0}]
[null,"Soporte (Formato):",null,null,null,"Papel:",null,{"$f":"HOJA_CAPTURA!AO400","v":0},"Medio magnético:  ",null,null,null,{"$f":"HOJA_CAPTURA!AP400","v":0},"CD:",{"$f":"HOJA_CAPTURA!AQ400","v":0},"USB:",{"$f":"HOJA_CAPTURA!AR400","v":0},"Otros:",null,{"$f":"HOJA_CAPTURA!AS400","v":0}]
[null,null,null,null,null,null,null,null,null,null,null,null,null,null,null,null,null,"(Planos, Fotos, etc.)"]
[null,"Condiciones de acceso:",null,null,null,null,{"$f":"HOJA_CAPTURA!AL400","v":0}]
[null,"Periodo de Reserva:            ",null,null,null,{"$f":"HOJA_CAPTURA!AM400","v":0},null,"años"]
[null,"Fundamento Legal:",null,null,null,{"$f":"HOJA_CAPTURA!AN400","v":0}]
[]
[null,"(Llenar este apartado sólo en el caso de que la información del expediente sea reservada o confidencial)"]
[]
[]
[null,"Fecha de Clasificación: ",null,null,null,null,null,null,null,null,null,null,"Clasificación de la Información:"]
[null,"Plazo de Reserva: ",null,null,null,null,null,null,null,null,null,null,"Reservada:",null,null,null,null,"Confidencial:",null,null,"                   "]
[null,"Fecha de Desclasificación: "]
[null,"Ampliación de periodo de reserva:",null,null,null,null,null,null,null,null,null,null,"Parte(s) o sección(es) Reservada:"]
[]
[]
[null,"Nombre del Responsable de la Clasificación: "]
[null,null,null,null,null,null,null,null,null,null,null,null,"Folio: del",null,null,null,"al"]
[null,null,null,null,null,null,null,null,null,null,null,null,"Tomo(s): ",null,null,"de"]
[null,"Cargo:"]
[null,null,null,null,null,null,null,null,null,null,null,null,"Fundamento Legal:"]
[null,"Firma:"]
[]
[]
[null,null,null,null,null,null,null,null,null,null,null,null,null,null," "]
[]
[]
[]
[]
[]
[]
[null,"Clasificación:",null,null,{"$f":"HOJA_CAPTURA!N401","v":0}]
[]
[null,{"$f":"HOJA_CAPTURA!C401","v":0}]
[null,"Sección: ",null,{"$f":"HOJA_CAPTURA!G401","v":0}]
[null,"Serie: ",null,{"$f":"HOJA_CAPTURA!H401","v":0}]
[null,"Subserie: ",null,{"$f":"HOJA_CAPTURA!I401","v":0}]
[null,"Nombre del Expediente:                     ",null,null,null,null,{"$f":"HOJA_CAPTURA!O401","v":0},null,null,null,null,null,null,null,null,"Número del Expediente: ",null,null,null,null,{"$f":"HOJA_CAPTURA!M401","v":0}]
[null,"Número de Legajo: ",null,null,null,null,null,"de",{"$f":"HOJA_CAPTURA!U401","v":0},"Número de Fojas: "]
[null,"Número Total de Legajos: ",null,null,null,null,{"$f":"HOJA_CAPTURA!U401","v":0},null,null,"Número Total de Fojas:",null,null,null,null,null,{"$f":"HOJA_CAPTURA!V401","v":0}]
[null,"Tipo de Archivo:",null,null,null,"Trámite ",null,null,{"$f":"HOJA_CAPTURA!W401","v":0},"Concentración",null,null,{"$f":"HOJA_CAPTURA!X401","v":0},null,"Histórico  ",null,{"$f":"HOJA_CAPTURA!Y401","v":0}]
[null,"Vigencia documental (de acuerdo a CADIDO):",null,null,null,null,null,null,null,null,null,null,"AT",{"$f":"HOJA_CAPTURA!AI401","v":0},null,"AC",{"$f":"HOJA_CAPTURA!AJ401","v":0},null,"Total",null,{"$f":"HOJA_CAPTURA!AK401","v":0}]
[null,"Fecha de Apertura:",null,null,null,{"$f":"HOJA_CAPTURA!Q401","v":"00:00:00"},null,null,null,null,null,null,null," Fecha de Cierre:",null,null,null,{"$f":"HOJA_CAPTURA!R401","v":"00:00:00"}]
[null,null,null,null,null,"(DD-MM-AAAA) ",null,null,null,null,null,null,null,null,null,null,null,"(DD-MM-AAAA) "]
[null,"Asunto o Descripción:                        "]
[null,null,{"$f":"HOJA_CAPTURA!P401","v":0}]
[null,"Valor Documental:   ",null,null,null,"Administrativo",null,null,null,{"$f":"HOJA_CAPTURA!AF401","v":0},"Legal",null,null,null,{"$f":"HOJA_CAPTURA!AG401","v":0},"Contable y/o Fiscal",null,null,null,null,{"$f":"HOJA_CAPTURA!AH401","v":0}]
[null,"Soporte (Formato):",null,null,null,"Papel:",null,{"$f":"HOJA_CAPTURA!AO401","v":0},"Medio magnético:  ",null,null,null,{"$f":"HOJA_CAPTURA!AP401","v":0},"CD:",{"$f":"HOJA_CAPTURA!AQ401","v":0},"USB:",{"$f":"HOJA_CAPTURA!AR401","v":0},"Otros:",null,{"$f":"HOJA_CAPTURA!AS401","v":0}]
[null,null,null,null,null,null,null,null,null,null,null,null,null,null,null,null,null,"(Planos, Fotos, etc.)"]
[null,"Condiciones de acceso:",null,null,null,null,{"$f":"HOJA_CAPTURA!AL401","v":0}]
[null,"Periodo de Reserva:            ",null,null,null,{"$f":"HOJA_CAPTURA!AM401","v":0},null,"años"]
[null,"Fundamento Legal:",null,null,null,{"$f":"HOJA_CAPTURA!AN401","v":0}]
[]
[null,"(Llenar este apartado sólo en el caso de que la información del expediente sea reservada o confidencial)"]
[]
[]
[null,"Fecha de Clasificación: ",null,null,null,null,null,null,null,null,null,null,"Clasificación de la Información:"]
[null,"Plazo de Reserva: ",null,null,null,null,null,null,null,null,null,null,"Reservada:",null,null,null,null,"Confidencial:",null,null,"                   "]
[null,"Fecha de Desclasificación: "]
[null,"Ampliación de periodo de reserva:",null,null,null,null,null,null,null,null,null,null,"Parte(s) o sección(es) Reservada:"]
[]
[]
[null,"Nombre del Responsable de la Clasificación: "]
[null,null,null,null,null,null,null,null,null,null,null,null,"Folio: del",null,null,null,"al"]
[null,null,null,null,null,null,null,null,null,null,null,null,"Tomo(s): ",null,null,"de"]
[null,"Cargo:"]
[null,null,null,null,null,null,null,null,null,null,null,null,"Fundamento Legal:"]
[null,"Firma:"]
[]
[]
[null,null,null,null,null,null,null,null,null,null,null,null,null,null," "]
[]
[]
[]
[]
[]
[]
[null,"Clasificación:",null,null,{"$f":"HOJA_CAPTURA!N402","v":0}]
[]
[null,{"$f":"HOJA_CAPTURA!C402","v":0}]
[null,"Sección: ",null,{"$f":"HOJA_CAPTURA!G402","v":0}]
[null,"Serie: ",null,{"$f":"HOJA_CAPTURA!H402","v":0}]
[null,"Subserie: ",null,{"$f":"HOJA_CAPTURA!I402","v":0}]
[null,"Nombre del Expediente:                     ",null,null,null,null,{"$f":"HOJA_CAPTURA!O402","v":0},null,null,null,null,null,null,null,null,"Número del Expediente: ",null,null,null,null,{"$f":"HOJA_CAPTURA!M402","v":0}]
[null,"Número de Legajo: ",null,null,null,null,null,"de",{"$f":"HOJA_CAPTURA!U402","v":0},"Número de Fojas: "]
[null,"Número Total de Legajos: ",null,null,null,null,{"$f":"HOJA_CAPTURA!U402","v":0},null,null,"Número Total de Fojas:",null,null,null,null,null,{"$f":"HOJA_CAPTURA!V402","v":0}]
[null,"Tipo de Archivo:",null,null,null,"Trámite ",null,null,{"$f":"HOJA_CAPTURA!W402","v":0},"Concentración",null,null,{"$f":"HOJA_CAPTURA!X402","v":0},null,"Histórico  ",null,{"$f":"HOJA_CAPTURA!Y402","v":0}]
[null,"Vigencia documental (de acuerdo a CADIDO):",null,null,null,null,null,null,null,null,null,null,"AT",{"$f":"HOJA_CAPTURA!AI402","v":0},null,"AC",{"$f":"HOJA_CAPTURA!AJ402","v":0},null,"Total",null,{"$f":"HOJA_CAPTURA!AK402","v":0}]
[null,"Fecha de Apertura:",null,null,null,{"$f":"HOJA_CAPTURA!Q402","v":"00:00:00"},null,null,null,null,null,null,null," Fecha de Cierre:",null,null,null,{"$f":"HOJA_CAPTURA!R402","v":"00:00:00"}]
[null,null,null,null,null,"(DD-MM-AAAA) ",null,null,null,null,null,null,null,null,null,null,null,"(DD-MM-AAAA) "]
[null,"Asunto o Descripción:                        "]
[null,null,{"$f":"HOJA_CAPTURA!P402","v":0}]
[null,"Valor Documental:   ",null,null,null,"Administrativo",null,null,null,{"$f":"HOJA_CAPTURA!AF402","v":0},"Legal",null,null,null,{"$f":"HOJA_CAPTURA!AG8277","v":0},"Contable y/o Fiscal",null,null,null,null,{"$f":"HOJA_CAPTURA!AH8277","v":0}]
[null,"Soporte (Formato):",null,null,null,"Papel:",null,{"$f":"HOJA_CAPTURA!AO402","v":0},"Medio magnético:  ",null,null,null,{"$f":"HOJA_CAPTURA!AP402","v":0},"CD:",{"$f":"HOJA_CAPTURA!AQ402","v":0},"USB:",{"$f":"HOJA_CAPTURA!AR402","v":0},"Otros:",null,{"$f":"HOJA_CAPTURA!AS402","v":0}]
[null,null,null,null,null,null,null,null,null,null,null,null,null,null,null,null,null,"(Planos, Fotos, etc.)"]
[null,"Condiciones de acceso:",null,null,null,null,{"$f":"HOJA_CAPTURA!AL402","v":0}]
[null,"Periodo de Reserva:            ",null,null,null,{"$f":"HOJA_CAPTURA!AM402","v":0},null,"años"]
[null,"Fundamento Legal:",null,null,null,{"$f":"HOJA_CAPTURA!AN402","v":0}]
[]
[null,"(Llenar este apartado sólo en el caso de que la información del expediente sea reservada o confidencial)"]
[]
[]
[null,"Fecha de Clasificación: ",null,null,null,null,null,null,null,null,null,null,"Clasificación de la Información:"]
[null,"Plazo de Reserva: ",null,null,null,null,null,null,null,null,null,null,"Reservada:",null,null,null,null,"Confidencial:",null,null,"                   "]
[null,"Fecha de Desclasificación: "]
[null,"Ampliación de periodo de reserva:",null,null,null,null,null,null,null,null,null,null,"Parte(s) o sección(es) Reservada:"]
[]
[]
[null,"Nombre del Responsable de la Clasificación: "]
[null,null,null,null,null,null,null,null,null,null,null,null,"Folio: del",null,null,null,"al"]
[null,null,null,null,null,null,null,null,null,null,null,null,"Tomo(s): ",null,null,"de"]
[null,"Cargo:"]
[null,null,null,null,null,null,null,null,null,null,null,null,"Fundamento Legal:"]
[null,"Firma:"]
[]
[]
[null,null,null,null,null,null,null,null,null,null,null,null,null,null," "]

{"sheet":"PESTAÑA DE EXPEDIENTE","index":5,"n_rows":440,"n_cols":9,"rows_kept":440,"cut":false,"hidden":false,"merged":[[436,1,436,4],[436,6,436,9],[437,1,437,2],[437,3,437,4],[437,6,437,7],[437,8,437,9],[438,1,438,4],[438,6,438,9],[439,1,439,2],[439,3,439,4],[439,6,439,7],[439,8,439,9],[430,1,430,4],[430,6,430,9],[431,1,431,2],[431,3,431,4],[431,6,431,7],[431,8,431,9],[432,1,432,4],[432,6,432,9],[433,1,433,2],[433,3,433,4],[433,6,433,7],[433,8,433,9],[434,1,434,4],[434,6,434,9],[435,1,435,2],[435,3,435,4],[435,6,435,7],[435,8,435,9],[424,1,424,4],[424,6,424,9],[425,1,425,2],[425,3,425,4],[425,6,425,7],[425,8,425,9],[426,1,426,4],[426,6,426,9],[427,1,427,2],[427,3,427,4],[427,6,427,7],[427,8,427,9],[428,1,428,4],[428,6,428,9],[429,1,429,2],[429,3,429,4],[429,6,429,7],[429,8,429,9],[418,1,418,4],[418,6,418,9],[419,1,419,2],[419,3,419,4],[419,6,419,7],[419,8,419,9],[420,1,420,4],[420,6,420,9],[421,1,421,2],[421,3,421,4],[421,6,421,7],[421,8,421,9],[422,1,422,4],[422,6,422,9],[423,1,423,2],[423,3,423,4],[423,6,423,7],[423,8,423,9],[412,1,412,4],[412,6,412,9],[413,1,413,2],[413,3,413,4],[413,6,413,7],[413,8,413,9],[414,1,414,4],[414,6,414,9],[415,1,415,2],[415,3,415,4],[415,6,415,7],[415,8,415,9],[416,1,416,4],[416,6,416,9],[417,1,417,2],[417,3,417,4],[417,6,417,7],[417,8,417,9],[406,1,406,4],[406,6,406,9],[407,1,407,2],[407,3,407,4],[407,6,407,7],[407,8,407,9],[408,1,408,4],[408,6,408,9],[409,1,409,2],[409,3,409,4],[409,6,409,7],[409,8,409,9],[410,1,410,4],[410,6,410,9],[411,1,411,2],[411,3,411,4],[411,6,411,7],[411,8,411,9],[400,1,400,4],[400,6,400,9],[401,1,401,2],[401,3,401,4],[401,6,401,7],[401,8,401,9],[402,1,402,4],[402,6,402,9],[403,1,403,2],[403,3,403,4],[403,6,403,7],[403,8,403,9],[404,1,404,4],[404,6,404,9],[405,1,405,2],[405,3,405,4],[405,6,405,7],[405,8,405,9],[394,1,394,4],[394,6,394,9],[395,1,395,2],[395,3,395,4],[395,6,395,7],[395,8,395,9],[396,1,396,4],[396,6,396,9],[397,1,397,2],[397,3,397,4],[397,6,397,7],[397,8,397,9],[398,1,398,4],[398,6,398,9],[399,1,399,2],[399,3,399,4],[399,6,399,7],[399,8,399,9],[388,1,388,4],[388,6,388,9],[389,1,389,2],[389,3,389,4],[389,6,389,7],[389,8,389,9],[390,1,390,4],[390,6,390,9],[391,1,391,2],[391,3,391,4],[391,6,391,7],[391,8,391,9],[392,1,392,4],[392,6,392,9],[393,1,393,2],[393,3,393,4],[393,6,393,7],[393,8,393,9],[382,1,382,4],[382,6,382,9],[383,1,383,2],[383,3,383,4],[383,6,383,7],[383,8,383,9],[384,1,384,4],[384,6,384,9],[385,1,385,2],[385,3,385,4],[385,6,385,7],[385,8,385,9],[386,1,386,4],[386,6,386,9],[387,1,387,2],[387,3,387,4],[387,6,387,7],[387,8,387,9],[376,1,376,4],[376,6,376,9],[377,1,377,2],[377,3,377,4],[377,6,377,7],[377,8,377,9],[378,1,378,4],[378,6,378,9],[379,1,379,2],[379,3,379,4],[379,6,379,7],[379,8,379,9],[380,1,380,4],[380,6,380,9],[381,1,381,2],[381,3,381,4],[381,6,381,7],[381,8,381,9],[370,1,370,4],[370,6,370,9],[371,1,371,2],[371,3,371,4],[371,6,371,7],[371,8,371,9],[372,1,372,4],[372,6,372,9],[373,1,373,2],[373,3,373,4],[373,6,373,7],[373,8,373,9],[374,1,374,4],[374,6,374,9],[375,1,375,2],[375,3,375,4],[375,6,375,7],[375,8,375,9],[364,1,364,4],[364,6,364,9],[365,1,365,2],[365,3,365,4],[365,6,365,7],[365,8,365,9],[366,1,366,4],[366,6,366,9],[367,1,367,2],[367,3,367,4],[367,6,367,7],[367,8,367,9],[368,1,368,4],[368,6,368,9],[369,1,369,2],[369,3,369,4],[369,6,369,7],[369,8,369,9],[358,1,358,4],[358,6,358,9],[359,1,359,2],[359,3,359,4],[359,6,359,7],[359,8,359,9],[360,1,360,4],[360,6,360,9],[361,1,361,2],[361,3,361,4],[361,6,361,7],[361,8,361,9],[362,1,362,4],[362,6,362,9],[363,1,363,2],[363,3,363,4],[363,6,363,7],[363,8,363,9],[352,1,352,4],[352,6,352,9],[353,1,353,2],[353,3,353,4],[353,6,353,7],[353,8,353,9],[354,1,354,4],[354,6,354,9],[355,1,355,2],[355,3,355,4],[355,6,355,7],[355,8,355,9],[356,1,356,4],[356,6,356,9],[357,1,357,2],[357,3,357,4],[357,6,357,7],[357,8,357,9],[210,1,210,4],[210,6,210,9],[211,1,211,2],[211,3,211,4],[211,6,211,7],[211,8,211,9],[212,1,212,4],[212,6,212,9],[213,1,213,2],[213,3,213,4],[213,6,213,7],[213,8,213,9],[218,1,218,4],[218,6,218,9],[219,1,219,2],[219,3,219,4],[219,6,219,7],[219,8,219,9],[214,1,214,4],[214,6,214,9],[215,1,215,2],[215,3,215,4],[215,6,215,7],[215,8,215,9],[216,1,216,4],[216,6,216,9],[217,1,217,2],[217,3,217,4],[217,6,217,7],[217,8,217,9],[204,1,204,4],[204,6,204,9],[205,1,205,2],[205,3,205,4],[205,6,205,7],[205,8,205,9],[206,1,206,4],[206,6,206,9],[207,1,207,2],[207,3,207,4],[207,6,207,7],[207,8,207,9],[208,1,208,4],[208,6,208,9],[209,1,209,2],[209,3,209,4],[209,6,209,7],[209,8,209,9],[198,1,198,4],[198,6,198,9],[199,1,199,2],[199,3,199,4],[199,6,199,7],[199,8,199,9],[200,1,200,4],[200,6,200,9],[201,1,201,2],[201,3,201,4],[201,6,201,7],[201,8,201,9],[202,1,202,4],[202,6,202,9],[203,1,203,2],[203,3,203,4],[203,6,203,7],[203,8,203,9],[192,1,192,4],[192,6,192,9],[193,1,193,2],[193,3,193,4],[193,6,193,7],[193,8,193,9],[194,1,194,4],[194,6,194,9],[195,1,195,2],[195,3,195,4],[195,6,195,7],[195,8,195,9],[196,1,196,4],[196,6,196,9],[197,1,197,2],[197,3,197,4],[197,6,197,7],[197,8,197,9],[186,1,186,4],[186,6,186,9],[187,1,187,2],[187,3,187,4],[187,6,187,7],[187,8,187,9],[188,1,188,4],[188,6,188,9],[189,1,189,2],[189,3,189,4],[189,6,189,7],[189,8,189,9],[190,1,190,4],[190,6,190,9],[191,1,191,2],[191,3,191,4],[191,6,191,7],[191,8,191,9],[180,1,180,4],[180,6,180,9],[181,1,181,2],[181,3,181,4],[181,6,181,7],[181,8,181,9],[182,1,182,4],[182,6,182,9],[183,1,183,2],[183,3,183,4],[183,6,183,7],[183,8,183,9],[184,1,184,4],[184,6,184,9],[185,1,185,2],[185,3,185,4],[185,6,185,7],[185,8,185,9],[174,1,174,4],[174,6,174,9],[175,1,175,2],[175,3,175,4],[175,6,175,7],[175,8,175,9],[176,1,176,4],[176,6,176,9],[177,1,177,2],[177,3,177,4],[177,6,177,7],[177,8,177,9],[178,1,178,4],[178,6,178,9],[179,1,179,2],[179,3,179,4],[179,6,179,7],[179,8,179,9],[168,1,168,4],[168,6,168,9],[169,1,169,2],[169,3,169,4],[169,6,169,7],[169,8,169,9],[170,1,170,4],[170,6,170,9],[171,1,171,2],[171,3,171,4],[171,6,171,7],[171,8,171,9],[172,1,172,4],[172,6,172,9],[173,1,173,2],[173,3,173,4],[173,6,173,7],[173,8,173,9],[162,1,162,4],[162,6,162,9],[163,1,163,2],[163,3,163,4],[163,6,163,7],[163,8,163,9],[164,1,164,4],[164,6,164,9],[165,1,165,2],[165,3,165,4],[165,6,165,7],[165,8,165,9],[166,1,166,4],[166,6,166,9],[167,1,167,2],[167,3,167,4],[167,6,167,7],[167,8,167,9],[156,1,156,4],[156,6,156,9],[157,1,157,2],[157,3,157,4],[157,6,157,7],[157,8,157,9],[158,1,158,4],[158,6,158,9],[159,1,159,2],[159,3,159,4],[159,6,159,7],[159,8,159,9],[160,1,160,4],[160,6,160,9],[161,1,161,2],[161,3,161,4],[161,6,161,7],[161,8,161,9],[150,1,150,4],[150,6,150,9],[151,1,151,2],[151,3,151,4],[151,6,151,7],[151,8,151,9],[152,1,152,4],[152,6,152,9],[153,1,153,2],[153,3,153,4],[153,6,153,7],[153,8,153,9],[154,1,154,4],[154,6,154,9],[155,1,155,2],[155,3,155,4],[155,6,155,7],[155,8,155,9],[144,1,144,4],[144,6,144,9],[145,1,145,2],[145,3,145,4],[145,6,145,7],[145,8,145,9],[146,1,146,4],[146,6,146,9],[147,1,147,2],[147,3,147,4],[147,6,147,7],[147,8,147,9],[148,1,148,4],[148,6,148,9],[149,1,149,2],[149,3,149,4],[149,6,149,7],[149,8,149,9],[137,8,137,9],[138,1,138,4],[138,6,138,9],[139,1,139,2],[139,3,139,4],[139,6,139,7],[139,8,139,9],[140,1,140,4],[140,6,140,9],[141,1,141,2],[141,3,141,4],[141,6,141,7],[141,8,141,9],[142,1,142,4],[142,6,142,9],[143,1,143,2],[143,3,143,4],[143,6,143,7],[143,8,143,9],[125,1,125,2],[125,6,125,7],[126,1,126,4],[126,6,126,9],[127,1,127,2],[127,6,127,7],[124,1,124,4],[124,6,124,9],[125,3,125,4],[125,8,125,9],[127,3,127,4],[134,1,134,4],[134,6,134,9],[135,1,135,2],[135,3,135,4],[135,6,135,7],[135,8,135,9],[113,1,113,2],[113,6,113,7],[114,1,114,4],[114,6,114,9],[115,1,115,2],[115,6,115,7],[113,3,113,4],[115,3,115,4],[117,3,117,4],[117,8,117,9],[115,8,115,9],[113,8,113,9],[127,8,127,9],[119,1,119,2],[119,6,119,7],[120,1,120,4],[120,6,120,9],[121,1,121,2],[121,6,121,7],[116,1,116,4],[116,6,116,9],[117,1,117,2],[117,6,117,7],[118,1,118,4],[118,6,118,9],[119,3,119,4],[121,3,121,4],[121,8,121,9],[119,8,119,9],[122,1,122,4],[122,6,122,9],[123,1,123,2],[97,8,97,9],[95,8,95,9],[110,1,110,4],[110,6,110,9],[104,1,104,4],[104,6,104,9],[105,1,105,2],[105,6,105,7],[106,1,106,4],[106,6,106,9],[105,3,105,4],[105,8,105,9],[103,1,103,2],[111,1,111,2],[111,6,111,7],[112,1,112,4],[112,6,112,9],[107,1,107,2],[108,1,108,4],[108,6,108,9],[109,1,109,2],[109,6,109,7],[111,3,111,4],[111,8,111,9],[107,3,107,4],[109,3,109,4],[109,8,109,9],[107,8,107,9],[85,3,85,4],[79,8,79,9],[81,8,81,9],[83,8,83,9],[85,8,85,9],[84,1,84,4],[84,6,84,9],[85,1,85,2],[85,6,85,7],[79,3,79,4],[81,3,81,4],[87,1,87,2],[87,6,87,7],[87,3,87,4],[87,8,87,9],[103,6,103,7],[98,1,98,4],[98,6,98,9],[99,1,99,2],[99,6,99,7],[100,1,100,4],[100,6,100,9],[101,3,101,4],[103,3,103,4],[103,8,103,9],[101,8,101,9],[88,1,88,4],[88,6,88,9],[89,1,89,2],[89,3,89,4],[95,1,95,2],[95,6,95,7],[51,3,51,4],[51,8,51,9],[86,1,86,4],[86,6,86,9],[81,1,81,2],[81,6,81,7],[82,1,82,4],[82,6,82,9],[83,1,83,2],[83,6,83,7],[51,1,51,2],[51,6,51,7],[52,1,52,4],[52,6,52,9],[53,1,53,2],[53,6,53,7],[69,1,69,2],[69,6,69,7],[70,1,70,4],[70,6,70,9],[57,1,57,2],[57,6,57,7],[58,1,58,4],[58,6,58,9],[59,1,59,2],[59,6,59,7],[78,6,78,9],[79,1,79,2],[79,6,79,7],[80,1,80,4],[80,6,80,9],[83,3,83,4],[45,1,45,2],[45,3,45,4],[45,6,45,7],[48,1,48,4],[48,6,48,9],[49,1,49,2],[49,6,49,7],[45,8,45,9],[47,8,47,9],[49,8,49,9],[50,1,50,4],[50,6,50,9],[46,1,46,4],[46,6,46,9],[47,1,47,2],[47,3,47,4],[47,6,47,7],[49,3,49,4],[13,1,13,2],[14,1,14,4],[8,6,8,9],[9,6,9,7],[10,6,10,9],[11,6,11,7],[44,1,44,4],[44,6,44,9],[39,3,39,4],[41,3,41,4],[43,3,43,4],[9,8,9,9],[11,8,11,9],[13,8,13,9],[15,8,15,9],[17,8,17,9],[19,8,19,9],[21,8,21,9],[23,8,23,9],[9,3,9,4],[11,3,11,4],[13,3,13,4],[12,6,12,9],[13,6,13,7],[14,6,14,9],[15,6,15,7],[22,6,22,9],[23,6,23,7],[20,1,20,4],[21,1,21,2],[15,3,15,4],[17,3,17,4],[19,3,19,4],[19,1,19,2],[15,1,15,2],[16,1,16,4],[17,1,17,2],[18,1,18,4],[19,6,19,7],[22,1,22,4],[23,1,23,2],[21,3,21,4],[23,3,23,4],[16,6,16,9],[17,6,17,7],[0,1,0,4],[1,1,1,2],[0,6,0,9],[1,6,1,7],[2,1,2,4],[2,6,2,9],[1,3,1,4],[3,3,3,4],[5,6,5,7],[3,1,3,2],[3,6,3,7],[4,6,4,9],[1,8,1,9],[3,8,3,9],[18,6,18,9],[20,6,20,9],[21,6,21,7],[6,6,6,9],[7,6,7,7],[4,1,4,4],[5,1,5,2],[6,1,6,4],[7,1,7,2],[8,1,8,4],[9,1,9,2],[10,1,10,4],[5,8,5,9],[7,8,7,9],[5,3,5,4],[7,3,7,4],[11,1,11,2],[12,1,12,4],[37,3,37,4],[24,1,24,4],[25,1,25,2],[26,1,26,4],[27,1,27,2],[24,6,24,9],[25,6,25,7],[26,6,26,9],[27,6,27,7],[25,8,25,9],[27,8,27,9],[25,3,25,4],[27,3,27,4],[28,6,28,9],[29,6,29,7],[30,6,30,9],[31,6,31,7],[28,1,28,4],[29,1,29,2],[30,1,30,4],[31,1,31,2],[29,8,29,9],[31,8,31,9],[29,3,29,4],[31,3,31,4],[32,1,32,4],[33,1,33,2],[34,1,34,4],[35,1,35,2],[32,6,32,9],[33,6,33,7],[34,6,34,9],[35,6,35,7],[35,3,35,4],[33,8,33,9],[35,8,35,9],[33,3,33,4],[42,1,42,4],[43,1,43,2],[36,6,36,9],[37,6,37,7],[38,6,38,9],[39,6,39,7],[40,6,40,9],[41,6,41,7],[42,6,42,9],[43,6,43,7],[36,1,36,4],[37,1,37,2],[38,1,38,4],[39,1,39,2],[40,1,40,4],[41,1,41,2],[37,8,37,9],[39,8,39,9],[41,8,41,9],[43,8,43,9],[75,1,75,2],[76,1,76,4],[77,1,77,2],[72,1,72,4],[73,1,73,2],[74,1,74,4],[71,1,71,2],[78,1,78,4],[62,6,62,9],[75,6,75,7],[76,6,76,9],[77,6,77,7],[72,6,72,9],[73,6,73,7],[74,6,74,9],[71,3,71,4],[73,3,73,4],[75,3,75,4],[77,3,77,4],[71,6,71,7],[63,8,63,9],[65,8,65,9],[67,8,67,9],[69,8,69,9],[53,3,53,4],[55,3,55,4],[57,3,57,4],[59,3,59,4],[61,3,61,4],[63,3,63,4],[65,3,65,4],[67,3,67,4],[69,3,69,4],[66,1,66,4],[67,1,67,2],[68,1,68,4],[63,1,63,2],[64,1,64,4],[65,1,65,2],[60,1,60,4],[61,1,61,2],[62,1,62,4],[54,1,54,4],[55,1,55,2],[56,1,56,4],[53,8,53,9],[55,8,55,9],[57,8,57,9],[59,8,59,9],[61,8,61,9],[60,6,60,9],[61,6,61,7],[54,6,54,9],[55,6,55,7],[56,6,56,9],[71,8,71,9],[73,8,73,9],[75,8,75,9],[77,8,77,9],[66,6,66,9],[67,6,67,7],[68,6,68,9],[63,6,63,7],[64,6,64,9],[65,6,65,7],[89,8,89,9],[123,3,123,4],[123,6,123,7],[123,8,123,9],[92,1,92,4],[92,6,92,9],[93,1,93,2],[93,6,93,7],[94,1,94,4],[94,6,94,9],[90,1,90,4],[90,6,90,9],[91,1,91,2],[91,3,91,4],[91,6,91,7],[93,3,93,4],[93,8,93,9],[91,8,91,9],[107,6,107,7],[101,1,101,2],[101,6,101,7],[102,1,102,4],[102,6,102,9],[97,1,97,2],[96,1,96,4],[96,6,96,9],[89,6,89,7],[97,6,97,7],[95,3,95,4],[97,3,97,4],[99,3,99,4],[99,8,99,9],[220,1,220,4],[221,1,221,2],[221,3,221,4],[222,1,222,4],[223,1,223,2],[223,3,223,4],[224,1,224,4],[225,1,225,2],[225,3,225,4],[128,1,128,4],[128,6,128,9],[129,1,129,2],[129,3,129,4],[129,6,129,7],[130,1,130,4],[130,6,130,9],[131,1,131,2],[131,3,131,4],[131,6,131,7],[131,8,131,9],[129,8,129,9],[132,1,132,4],[132,6,132,9],[133,1,133,2],[133,3,133,4],[133,6,133,7],[133,8,133,9],[136,1,136,4],[136,6,136,9],[137,1,137,2],[137,3,137,4],[137,6,137,7],[239,3,239,4],[240,1,240,4],[241,1,241,2],[241,3,241,4],[242,1,242,4],[243,1,243,2],[243,3,243,4],[232,1,232,4],[233,1,233,2],[233,3,233,4],[234,1,234,4],[235,1,235,2],[235,3,235,4],[236,1,236,4],[237,1,237,2],[237,3,237,4],[226,1,226,4],[227,1,227,2],[227,3,227,4],[228,1,228,4],[229,1,229,2],[229,3,229,4],[230,1,230,4],[231,1,231,2],[231,3,231,4],[232,6,232,9],[233,6,233,7],[233,8,233,9],[256,1,256,4],[257,1,257,2],[257,3,257,4],[258,1,258,4],[259,1,259,2],[259,3,259,4],[260,1,260,4],[261,1,261,2],[261,3,261,4],[250,1,250,4],[251,1,251,2],[251,3,251,4],[252,1,252,4],[253,1,253,2],[253,3,253,4],[254,1,254,4],[255,1,255,2],[255,3,255,4],[244,1,244,4],[245,1,245,2],[245,3,245,4],[246,1,246,4],[247,1,247,2],[247,3,247,4],[248,1,248,4],[249,1,249,2],[249,3,249,4],[238,1,238,4],[239,1,239,2],[220,6,220,9],[221,6,221,7],[221,8,221,9],[222,6,222,9],[223,6,223,7],[223,8,223,9],[224,6,224,9],[225,6,225,7],[225,8,225,9],[226,6,226,9]],"merged_total":1320,"flags":["merged_cut"]}
[null,{"$f":"HOJA_CAPTURA!N3","v":0},null,null,null,null,{"$f":"HOJA_CAPTURA!N25","v":0}]
[null,"Título del Expediente:",null,{"$f":"HOJA_CAPTURA!O3","v":0},null,null,"Título del Expediente:",null,{"$f":"HOJA_CAPTURA!O25","v":0}]
[null,{"$f":"HOJA_CAPTURA!N4","v":0},null,null,null,null,{"$f":"HOJA_CAPTURA!N26","v":0}]
[null,"Título del Expediente:",null,{"$f":"HOJA_CAPTURA!O4","v":0},null,null,"Título del Expediente:",null,{"$f":"HOJA_CAPTURA!O26","v":0}]
[null,{"$f":"HOJA_CAPTURA!N5","v":0},null,null,null,null,{"$f":"HOJA_CAPTURA!N27","v":0}]
[null,"Título del Expediente:",null,{"$f":"HOJA_CAPTURA!O5","v":0},null,null,"Título del Expediente:",null,{"$f":"HOJA_CAPTURA!O27","v":0}]
[null,{"$f":"HOJA_CAPTURA!N6","v":0},null,null,null,null,{"$f":"HOJA_CAPTURA!N28","v":0}]
[null,"Título del Expediente:",null,{"$f":"HOJA_CAPTURA!O6","v":0},null,null,"Título del Expediente:",null,{"$f":"HOJA_CAPTURA!O28","v":0}]
[null,{"$f":"HOJA_CAPTURA!N7","v":0},null,null,null,null,{"$f":"HOJA_CAPTURA!N29","v":0}]
[null,"Título del Expediente:",null,{"$f":"HOJA_CAPTURA!O7","v":0},null,null,"Título del Expediente:",null,{"$f":"HOJA_CAPTURA!O29","v":0}]
[null,{"$f":"HOJA_CAPTURA!N8","v":0},null,null,null,null,{"$f":"HOJA_CAPTURA!N30","v":0}]
[null,"Título del Expediente:",null,{"$f":"HOJA_CAPTURA!O8","v":0},null,null,"Título del Expediente:",null,{"$f":"HOJA_CAPTURA!O30","v":0}]
[null,{"$f":"HOJA_CAPTURA!N9","v":0},null,null,null,null,{"$f":"HOJA_CAPTURA!N31","v":0}]
[null,"Título del Expediente:",null,{"$f":"HOJA_CAPTURA!O9","v":0},null,null,"Título del Expediente:",null,{"$f":"HOJA_CAPTURA!O31","v":0}]
[null,{"$f":"HOJA_CAPTURA!N10","v":0},null,null,null,null,{"$f":"HOJA_CAPTURA!N32","v":0}]
[null,"Título del Expediente:",null,{"$f":"HOJA_CAPTURA!O10","v":0},null,null,"Título del Expediente:",null,{"$f":"HOJA_CAPTURA!O32","v":0}]
[null,{"$f":"HOJA_CAPTURA!N11","v":0},null,null,null,null,{"$f":"HOJA_CAPTURA!N33","v":0}]
[null,"Título del Expediente:",null,{"$f":"HOJA_CAPTURA!O11","v":0},null,null,"Título del Expediente:",null,{"$f":"HOJA_CAPTURA!O33","v":0}]
[null,{"$f":"HOJA_CAPTURA!N12","v":0},null,null,null,null,{"$f":"HOJA_CAPTURA!N34","v":0}]
[null,"Título del Expediente:",null,{"$f":"HOJA_CAPTURA!O12","v":0},null,null,"Título del Expediente:",null,{"$f":"HOJA_CAPTURA!O34","v":0}]
[null,{"$f":"HOJA_CAPTURA!N13","v":0},null,null,null,null,{"$f":"HOJA_CAPTURA!N35","v":0}]
[null,"Título del Expediente:",null,{"$f":"HOJA_CAPTURA!O13","v":0},null,null,"Título del Expediente:",null,{"$f":"HOJA_CAPTURA!O35","v":0}]
[null,{"$f":"HOJA_CAPTURA!N14","v":0},null,null,null,null,{"$f":"HOJA_CAPTURA!N36","v":0}]
[null,"Título del Expediente:",null,{"$f":"HOJA_CAPTURA!O14","v":0},null,null,"Título del Expediente:",null,{"$f":"HOJA_CAPTURA!O36","v":0}]
[null,{"$f":"HOJA_CAPTURA!N15","v":0},null,null,null,null,{"$f":"HOJA_CAPTURA!N37","v":0}]
[null,"Título del Expediente:",null,{"$f":"HOJA_CAPTURA!O15","v":0},null,null,"Título del Expediente:",null,{"$f":"HOJA_CAPTURA!O37","v":0}]
[null,{"$f":"HOJA_CAPTURA!N16","v":0},null,null,null,null,{"$f":"HOJA_CAPTURA!N38","v":0}]
[null,"Título del Expediente:",null,{"$f":"HOJA_CAPTURA!O16","v":0},null,null,"Título del Expediente:",null,{"$f":"HOJA_CAPTURA!O38","v":0}]
[null,{"$f":"HOJA_CAPTURA!N17","v":0},null,null,null,null,{"$f":"HOJA_CAPTURA!N39","v":0}]
[null,"Título del Expediente:",null,{"$f":"HOJA_CAPTURA!O17","v":0},null,null,"Título del Expediente:",null,{"$f":"HOJA_CAPTURA!O39","v":0}]
[null,{"$f":"HOJA_CAPTURA!N18","v":0},null,null,null,null,{"$f":"HOJA_CAPTURA!N40","v":0}]
[null,"Título del Expediente:",null,{"$f":"HOJA_CAPTURA!O18","v":0},null,null,"Título del Expediente:",null,{"$f":"HOJA_CAPTURA!O40","v":0}]
[null,{"$f":"HOJA_CAPTURA!N19","v":0},null,null,null,null,{"$f":"HOJA_CAPTURA!N41","v":0}]
[null,"Título del Expediente:",null,{"$f":"HOJA_CAPTURA!O19","v":0},null,null,"Título del Expediente:",null,{"$f":"HOJA_CAPTURA!O41","v":0}]
[null,{"$f":"HOJA_CAPTURA!N20","v":0},null,null,null,null,{"$f":"HOJA_CAPTURA!N42","v":0}]
[null,"Título del Expediente:",null,{"$f":"HOJA_CAPTURA!O20","v":0},null,null,"Título del Expediente:",null,{"$f":"HOJA_CAPTURA!O42","v":0}]
[null,{"$f":"HOJA_CAPTURA!N21","v":0},null,null,null,null,{"$f":"HOJA_CAPTURA!N43","v":0}]
[null,"Título del Expediente:",null,{"$f":"HOJA_CAPTURA!O21","v":0},null,null,"Título del Expediente:",null,{"$f":"HOJA_CAPTURA!O43","v":0}]
[null,{"$f":"HOJA_CAPTURA!N22","v":0},null,null,null,null,{"$f":"HOJA_CAPTURA!N44","v":0}]
[null,"Título del Expediente:",null,{"$f":"HOJA_CAPTURA!O22","v":0},null,null,"Título del Expediente:",null,{"$f":"HOJA_CAPTURA!O44","v":0}]
[null,{"$f":"HOJA_CAPTURA!N23","v":0},null,null,null,null,{"$f":"HOJA_CAPTURA!N45","v":0}]
[null,"Título del Expediente:",null,{"$f":"HOJA_CAPTURA!O23","v":0},null,null,"Título del Expediente:",null,{"$f":"HOJA_CAPTURA!O45","v":0}]
[null,{"$f":"HOJA_CAPTURA!N24","v":0},null,null,null,null,{"$f":"HOJA_CAPTURA!N46","v":0}]
[null,"Título del Expediente:",null,{"$f":"HOJA_CAPTURA!O24","v":0},null,null,"Título del Expediente:",null,{"$f":"HOJA_CAPTURA!O46","v":0}]
[null,{"$f":"HOJA_CAPTURA!N47","v":0},null,null,null,null,{"$f":"HOJA_CAPTURA!N69","v":0}]
[null,"Título del Expediente:",null,{"$f":"HOJA_CAPTURA!O47","v":0},null,null,"Título del Expediente:",null,{"$f":"HOJA_CAPTURA!O69","v":0}]
[null,{"$f":"HOJA_CAPTURA!N48","v":0},null,null,null,null,{"$f":"HOJA_CAPTURA!N70","v":0}]
[null,"Título del Expediente:",null,{"$f":"HOJA_CAPTURA!O48","v":0},null,null,"Título del Expediente:",null,{"$f":"HOJA_CAPTURA!O70","v":0}]
[null,{"$f":"HOJA_CAPTURA!N49","v":0},null,null,null,null,{"$f":"HOJA_CAPTURA!N71","v":0}]
[null,"Título del Expediente:",null,{"$f":"HOJA_CAPTURA!O49","v":0},null,null,"Título del Expediente:",null,{"$f":"HOJA_CAPTURA!O71","v":0}]
[null,{"$f":"HOJA_CAPTURA!N50","v":0},null,null,null,null,{"$f":"HOJA_CAPTURA!N72","v":0}]
[null,"Título del Expediente:",null,{"$f":"HOJA_CAPTURA!O50","v":0},null,null,"Título del Expediente:",null,{"$f":"HOJA_CAPTURA!O72","v":0}]
[null,{"$f":"HOJA_CAPTURA!N51","v":0},null,null,null,null,{"$f":"HOJA_CAPTURA!N73","v":0}]
[null,"Título del Expediente:",null,{"$f":"HOJA_CAPTURA!O51","v":0},null,null,"Título del Expediente:",null,{"$f":"HOJA_CAPTURA!O73","v":0}]
[null,{"$f":"HOJA_CAPTURA!N52","v":0},null,null,null,null,{"$f":"HOJA_CAPTURA!N74","v":0}]
[null,"Título del Expediente:",null,{"$f":"HOJA_CAPTURA!O52","v":0},null,null,"Título del Expediente:",null,{"$f":"HOJA_CAPTURA!O74","v":0}]
[null,{"$f":"HOJA_CAPTURA!N53","v":0},null,null,null,null,{"$f":"HOJA_CAPTURA!N75","v":0}]
[null,"Título del Expediente:",null,{"$f":"HOJA_CAPTURA!O53","v":0},null,null,"Título del Expediente:",null,{"$f":"HOJA_CAPTURA!O75","v":0}]
[null,{"$f":"HOJA_CAPTURA!N54","v":0},null,null,null,null,{"$f":"HOJA_CAPTURA!N76","v":0}]
[null,"Título del Expediente:",null,{"$f":"HOJA_CAPTURA!O54","v":0},null,null,"Título del Expediente:",null,{"$f":"HOJA_CAPTURA!O76","v":0}]
[null,{"$f":"HOJA_CAPTURA!N55","v":0},null,null,null,null,{"$f":"HOJA_CAPTURA!N77","v":0}]
[null,"Título del Expediente:",null,{"$f":"HOJA_CAPTURA!O55","v":0},null,null,"Título del Expediente:",null,{"$f":"HOJA_CAPTURA!O77","v":0}]
[null,{"$f":"HOJA_CAPTURA!N56","v":0},null,null,null,null,{"$f":"HOJA_CAPTURA!N78","v":0}]
[null,"Título del Expediente:",null,{"$f":"HOJA_CAPTURA!O56","v":0},null,null,"Título del Expediente:",null,{"$f":"HOJA_CAPTURA!O78","v":0}]
[null,{"$f":"HOJA_CAPTURA!N57","v":0},null,null,null,null,{"$f":"HOJA_CAPTURA!N79","v":0}]
[null,"Título del Expediente:",null,{"$f":"HOJA_CAPTURA!O57","v":0},null,null,"Título del Expediente:",null,{"$f":"HOJA_CAPTURA!O79","v":0}]
[null,{"$f":"HOJA_CAPTURA!N58","v":0},null,null,null,null,{"$f":"HOJA_CAPTURA!N80","v":0}]
[null,"Título del Expediente:",null,{"$f":"HOJA_CAPTURA!O58","v":0},null,null,"Título del Expediente:",null,{"$f":"HOJA_CAPTURA!O80","v":0}]
[null,{"$f":"HOJA_CAPTURA!N59","v":0},null,null,null,null,{"$f":"HOJA_CAPTURA!N81","v":0}]
[null,"Título del Expediente:",null,{"$f":"HOJA_CAPTURA!O59","v":0},null,null,"Título del Expediente:",null,{"$f":"HOJA_CAPTURA!O81","v":0}]
[null,{"$f":"HOJA_CAPTURA!N60","v":0},null,null,null,null,{"$f":"HOJA_CAPTURA!N82","v":0}]
[null,"Título del Expediente:",null,{"$f":"HOJA_CAPTURA!O60","v":0},null,null,"Título del Expediente:",null,{"$f":"HOJA_CAPTURA!O82","v":0}]
[null,{"$f":"HOJA_CAPTURA!N61","v":0},null,null,null,null,{"$f":"HOJA_CAPTURA!N83","v":0}]
[null,"Título del Expediente:",null,{"$f":"HOJA_CAPTURA!O61","v":0},null,null,"Título del Expediente:",null,{"$f":"HOJA_CAPTURA!O83","v":0}]
[null,{"$f":"HOJA_CAPTURA!N62","v":0},null,null,null,null,{"$f":"HOJA_CAPTURA!N84","v":0}]
[null,"Título del Expediente:",null,{"$f":"HOJA_CAPTURA!O62","v":0},null,null,"Título del Expediente:",null,{"$f":"HOJA_CAPTURA!O84","v":0}]
[null,{"$f":"HOJA_CAPTURA!N63","v":0},null,null,null,null,{"$f":"HOJA_CAPTURA!N85","v":0}]
[null,"Título del Expediente:",null,{"$f":"HOJA_CAPTURA!O63","v":0},null,null,"Título del Expediente:",null,{"$f":"HOJA_CAPTURA!O85","v":0}]
[null,{"$f":"HOJA_CAPTURA!N64","v":0},null,null,null,null,{"$f":"HOJA_CAPTURA!N86","v":0}]
[null,"Título del Expediente:",null,{"$f":"HOJA_CAPTURA!O64","v":0},null,null,"Título del Expediente:",null,{"$f":"HOJA_CAPTURA!O86","v":0}]
[null,{"$f":"HOJA_CAPTURA!N65","v":0},null,null,null,null,{"$f":"HOJA_CAPTURA!N87","v":0}]
[null,"Título del Expediente:",null,{"$f":"HOJA_CAPTURA!O65","v":0},null,null,"Título del Expediente:",null,{"$f":"HOJA_CAPTURA!O87","v":0}]
[null,{"$f":"HOJA_CAPTURA!N66","v":0},null,null,null,null,{"$f":"HOJA_CAPTURA!N88","v":0}]
[null,"Título del Expediente:",null,{"$f":"HOJA_CAPTURA!O66","v":0},null,null,"Título del Expediente:",null,{"$f":"HOJA_CAPTURA!O88","v":0}]
[null,{"$f":"HOJA_CAPTURA!N67","v":0},null,null,null,null,{"$f":"HOJA_CAPTURA!N89","v":0}]
[null,"Título del Expediente:",null,{"$f":"HOJA_CAPTURA!O67","v":0},null,null,"Título del Expediente:",null,{"$f":"HOJA_CAPTURA!O89","v":0}]
[null,{"$f":"HOJA_CAPTURA!N68","v":0},null,null,null,null,{"$f":"HOJA_CAPTURA!N90","v":0}]
[null,"Título del Expediente:",null,{"$f":"HOJA_CAPTURA!O68","v":0},null,null,"Título del Expediente:",null,{"$f":"HOJA_CAPTURA!O90","v":0}]
[null,{"$f":"HOJA_CAPTURA!N91","v":0},null,null,null,null,{"$f":"HOJA_CAPTURA!N113","v":0}]
[null,"Título del Expediente:",null,{"$f":"HOJA_CAPTURA!O91","v":0},null,null,"Título del Expediente:",null,{"$f":"HOJA_CAPTURA!O113","v":0}]
[null,{"$f":"HOJA_CAPTURA!N92","v":0},null,null,null,null,{"$f":"HOJA_CAPTURA!N114","v":0}]
[null,"Título del Expediente:",null,{"$f":"HOJA_CAPTURA!O92","v":0},null,null,"Título del Expediente:",null,{"$f":"HOJA_CAPTURA!O114","v":0}]
[null,{"$f":"HOJA_CAPTURA!N93","v":0},null,null,null,null,{"$f":"HOJA_CAPTURA!N115","v":0}]
[null,"Título del Expediente:",null,{"$f":"HOJA_CAPTURA!O93","v":0},null,null,"Título del Expediente:",null,{"$f":"HOJA_CAPTURA!O115","v":0}]
[null,{"$f":"HOJA_CAPTURA!N94","v":0},null,null,null,null,{"$f":"HOJA_CAPTURA!N116","v":0}]
[null,"Título del Expediente:",null,{"$f":"HOJA_CAPTURA!O94","v":0},null,null,"Título del Expediente:",null,{"$f":"HOJA_CAPTURA!O116","v":0}]
[null,{"$f":"HOJA_CAPTURA!N95","v":0},null,null,null,null,{"$f":"HOJA_CAPTURA!N117","v":0}]
[null,"Título del Expediente:",null,{"$f":"HOJA_CAPTURA!O95","v":0},null,null,"Título del Expediente:",null,{"$f":"HOJA_CAPTURA!O117","v":0}]
[null,{"$f":"HOJA_CAPTURA!N96","v":0},null,null,null,null,{"$f":"HOJA_CAPTURA!N118","v":0}]
[null,"Título del Expediente:",null,{"$f":"HOJA_CAPTURA!O96","v":0},null,null,"Título del Expediente:",null,{"$f":"HOJA_CAPTURA!O118","v":0}]
[null,{"$f":"HOJA_CAPTURA!N97","v":0},null,null,null,null,{"$f":"HOJA_CAPTURA!N119","v":0}]
[null,"Título del Expediente:",null,{"$f":"HOJA_CAPTURA!O97","v":0},null,null,"Título del Expediente:",null,{"$f":"HOJA_CAPTURA!O119","v":0}]
[null,{"$f":"HOJA_CAPTURA!N98","v":0},null,null,null,null,{"$f":"HOJA_CAPTURA!N120","v":0}]
[null,"Título del Expediente:",null,{"$f":"HOJA_CAPTURA!O98","v":0},null,null,"Título del Expediente:",null,{"$f":"HOJA_CAPTURA!O120","v":0}]
[null,{"$f":"HOJA_CAPTURA!N99","v":0},null,null,null,null,{"$f":"HOJA_CAPTURA!N121","v":0}]
[null,"Título del Expediente:",null,{"$f":"HOJA_CAPTURA!O99","v":0},null,null,"Título del Expediente:",null,{"$f":"HOJA_CAPTURA!O121","v":0}]
[null,{"$f":"HOJA_CAPTURA!N100","v":0},null,null,null,null,{"$f":"HOJA_CAPTURA!N122","v":0}]
[null,"Título del Expediente:",null,{"$f":"HOJA_CAPTURA!O100","v":0},null,null,"Título del Expediente:",null,{"$f":"HOJA_CAPTURA!O122","v":0}]
[null,{"$f":"HOJA_CAPTURA!N101","v":0},null,null,null,null,{"$f":"HOJA_CAPTURA!N123","v":0}]
[null,"Título del Expediente:",null,{"$f":"HOJA_CAPTURA!O101","v":0},null,null,"Título del Expediente:",null,{"$f":"HOJA_CAPTURA!O123","v":0}]
[null,{"$f":"HOJA_CAPTURA!N102","v":0},null,null,null,null,{"$f":"HOJA_CAPTURA!N124","v":0}]
[null,"Título del Expediente:",null,{"$f":"HOJA_CAPTURA!O102","v":0},null,null,"Título del Expediente:",null,{"$f":"HOJA_CAPTURA!O124","v":0}]
[null,{"$f":"HOJA_CAPTURA!N103","v":0},null,null,null,null,{"$f":"HOJA_CAPTURA!N125","v":0}]
[null,"Título del Expediente:",null,{"$f":"HOJA_CAPTURA!O103","v":0},null,null,"Título del Expediente:",null,{"$f":"HOJA_CAPTURA!O125","v":0}]
[null,{"$f":"HOJA_CAPTURA!N104","v":0},null,null,null,null,{"$f":"HOJA_CAPTURA!N126","v":0}]
[null,"Título del Expediente:",null,{"$f":"HOJA_CAPTURA!O104","v":0},null,null,"Título del Expediente:",null,{"$f":"HOJA_CAPTURA!O126","v":0}]
[null,{"$f":"HOJA_CAPTURA!N105","v":0},null,null,null,null,{"$f":"HOJA_CAPTURA!N127","v":0}]
[null,"Título del Expediente:",null,{"$f":"HOJA_CAPTURA!O105","v":0},null,null,"Título del Expediente:",null,{"$f":"HOJA_CAPTURA!O127","v":0}]
[null,{"$f":"HOJA_CAPTURA!N106","v":0},null,null,null,null,{"$f":"HOJA_CAPTURA!N128","v":0}]
[null,"Título del Expediente:",null,{"$f":"HOJA_CAPTURA!O106","v":0},null,null,"Título del Expediente:",null,{"$f":"HOJA_CAPTURA!O128","v":0}]
[null,{"$f":"HOJA_CAPTURA!N107","v":0},null,null,null,null,{"$f":"HOJA_CAPTURA!N129","v":0}]
[null,"Título del Expediente:",null,{"$f":"HOJA_CAPTURA!O107","v":0},null,null,"Título del Expediente:",null,{"$f":"HOJA_CAPTURA!O129","v":0}]
[null,{"$f":"HOJA_CAPTURA!N108","v":0},null,null,null,null,{"$f":"HOJA_CAPTURA!N130","v":0}]
[null,"Título del Expediente:",null,{"$f":"HOJA_CAPTURA!O108","v":0},null,null,"Título del Expediente:",null,{"$f":"HOJA_CAPTURA!O130","v":0}]
[null,{"$f":"HOJA_CAPTURA!N109","v":0},null,null,null,null,{"$f":"HOJA_CAPTURA!N131","v":0}]
[null,"Título del Expediente:",null,{"$f":"HOJA_CAPTURA!O109","v":0},null,null,"Título del Expediente:",null,{"$f":"HOJA_CAPTURA!O131","v":0}]
[null,{"$f":"HOJA_CAPTURA!N110","v":0},null,null,null,null,{"$f":"HOJA_CAPTURA!N132","v":0}]
[null,"Título del Expediente:",null,{"$f":"HOJA_CAPTURA!O110","v":0},null,null,"Título del Expediente:",null,{"$f":"HOJA_CAPTURA!O132","v":0}]
[null,{"$f":"HOJA_CAPTURA!N111","v":0},null,null,null,null,{"$f":"HOJA_CAPTURA!N133","v":0}]
[null,"Título del Expediente:",null,{"$f":"HOJA_CAPTURA!O111","v":0},null,null,"Título del Expediente:",null,{"$f":"HOJA_CAPTURA!O133","v":0}]
[null,{"$f":"HOJA_CAPTURA!N112","v":0},null,null,null,null,{"$f":"HOJA_CAPTURA!N134","v":0}]
[null,"Título del Expediente:",null,{"$f":"HOJA_CAPTURA!O112","v":0},null,null,"Título del Expediente:",null,{"$f":"HOJA_CAPTURA!O134","v":0}]
[null,{"$f":"HOJA_CAPTURA!N135","v":0},null,null,null,null,{"$f":"HOJA_CAPTURA!N157","v":0}]
[null,"Título del Expediente:",null,{"$f":"HOJA_CAPTURA!O135","v":0},null,null,"Título del Expediente:",null,{"$f":"HOJA_CAPTURA!O157","v":0}]
[null,{"$f":"HOJA_CAPTURA!N136","v":0},null,null,null,null,{"$f":"HOJA_CAPTURA!N158","v":0}]
[null,"Título del Expediente:",null,{"$f":"HOJA_CAPTURA!O136","v":0},null,null,"Título del Expediente:",null,{"$f":"HOJA_CAPTURA!O158","v":0}]
[null,{"$f":"HOJA_CAPTURA!N137","v":0},null,null,null,null,{"$f":"HOJA_CAPTURA!N159","v":0}]
[null,"Título del Expediente:",null,{"$f":"HOJA_CAPTURA!O137","v":0},null,null,"Título del Expediente:",null,{"$f":"HOJA_CAPTURA!O159","v":0}]
[null,{"$f":"HOJA_CAPTURA!N138","v":0},null,null,null,null,{"$f":"HOJA_CAPTURA!N160","v":0}]
[null,"Título del Expediente:",null,{"$f":"HOJA_CAPTURA!O138","v":0},null,null,"Título del Expediente:",null,{"$f":"HOJA_CAPTURA!O160","v":0}]
[null,{"$f":"HOJA_CAPTURA!N139","v":0},null,null,null,null,{"$f":"HOJA_CAPTURA!N161","v":0}]
[null,"Título del Expediente:",null,{"$f":"HOJA_CAPTURA!O139","v":0},null,null,"Título del Expediente:",null,{"$f":"HOJA_CAPTURA!O161","v":0}]
[null,{"$f":"HOJA_CAPTURA!N140","v":0},null,null,null,null,{"$f":"HOJA_CAPTURA!N162","v":0}]
[null,"Título del Expediente:",null,{"$f":"HOJA_CAPTURA!O140","v":0},null,null,"Título del Expediente:",null,{"$f":"HOJA_CAPTURA!O162","v":0}]
[null,{"$f":"HOJA_CAPTURA!N141","v":0},null,null,null,null,{"$f":"HOJA_CAPTURA!N163","v":0}]
[null,"Título del Expediente:",null,{"$f":"HOJA_CAPTURA!O141","v":0},null,null,"Título del Expediente:",null,{"$f":"HOJA_CAPTURA!O163","v":0}]
[null,{"$f":"HOJA_CAPTURA!N142","v":0},null,null,null,null,{"$f":"HOJA_CAPTURA!N164","v":0}]
[null,"Título del Expediente:",null,{"$f":"HOJA_CAPTURA!O142","v":0},null,null,"Título del Expediente:",null,{"$f":"HOJA_CAPTURA!O164","v":0}]
[null,{"$f":"HOJA_CAPTURA!N143","v":0},null,null,null,null,{"$f":"HOJA_CAPTURA!N165","v":0}]
[null,"Título del Expediente:",null,{"$f":"HOJA_CAPTURA!O143","v":0},null,null,"Título del Expediente:",null,{"$f":"HOJA_CAPTURA!O165","v":0}]
[null,{"$f":"HOJA_CAPTURA!N144","v":0},null,null,null,null,{"$f":"HOJA_CAPTURA!N166","v":0}]
[null,"Título del Expediente:",null,{"$f":"HOJA_CAPTURA!O144","v":0},null,null,"Título del Expediente:",null,{"$f":"HOJA_CAPTURA!O166","v":0}]
[null,{"$f":"HOJA_CAPTURA!N145","v":0},null,null,null,null,{"$f":"HOJA_CAPTURA!N167","v":0}]
[null,"Título del Expediente:",null,{"$f":"HOJA_CAPTURA!O145","v":0},null,null,"Título del Expediente:",null,{"$f":"HOJA_CAPTURA!O167","v":0}]
[null,{"$f":"HOJA_CAPTURA!N146","v":0},null,null,null,null,{"$f":"HOJA_CAPTURA!N168","v":0}]
[null,"Título del Expediente:",null,{"$f":"HOJA_CAPTURA!O146","v":0},null,null,"Título del Expediente:",null,{"$f":"HOJA_CAPTURA!O168","v":0}]
[null,{"$f":"HOJA_CAPTURA!N147","v":0},null,null,null,null,{"$f":"HOJA_CAPTURA!N169","v":0}]
[null,"Título del Expediente:",null,{"$f":"HOJA_CAPTURA!O147","v":0},null,null,"Título del Expediente:",null,{"$f":"HOJA_CAPTURA!O169","v":0}]
[null,{"$f":"HOJA_CAPTURA!N148","v":0},null,null,null,null,{"$f":"HOJA_CAPTURA!N170","v":0}]
[null,"Título del Expediente:",null,{"$f":"HOJA_CAPTURA!O148","v":0},null,null,"Título del Expediente:",null,{"$f":"HOJA_CAPTURA!O170","v":0}]
[null,{"$f":"HOJA_CAPTURA!N149","v":0},null,null,null,null,{"$f":"HOJA_CAPTURA!N171","v":0}]
[null,"Título del Expediente:",null,{"$f":"HOJA_CAPTURA!O149","v":0},null,null,"Título del Expediente:",null,{"$f":"HOJA_CAPTURA!O171","v":0}]
[null,{"$f":"HOJA_CAPTURA!N150","v":0},null,null,null,null,{"$f":"HOJA_CAPTURA!N172","v":0}]
[null,"Título del Expediente:",null,{"$f":"HOJA_CAPTURA!O150","v":0},null,null,"Título del Expediente:",null,{"$f":"HOJA_CAPTURA!O172","v":0}]
[null,{"$f":"HOJA_CAPTURA!N151","v":0},null,null,null,null,{"$f":"HOJA_CAPTURA!N173","v":0}]
[null,"Título del Expediente:",null,{"$f":"HOJA_CAPTURA!O151","v":0},null,null,"Título del Expediente:",null,{"$f":"HOJA_CAPTURA!O173","v":0}]
[null,{"$f":"HOJA_CAPTURA!N152","v":0},null,null,null,null,{"$f":"HOJA_CAPTURA!N174","v":0}]
[null,"Título del Expediente:",null,{"$f":"HOJA_CAPTURA!O152","v":0},null,null,"Título del Expediente:",null,{"$f":"HOJA_CAPTURA!O174","v":0}]
[null,{"$f":"HOJA_CAPTURA!N153","v":0},null,null,null,null,{"$f":"HOJA_CAPTURA!N175","v":0}]
[null,"Título del Expediente:",null,{"$f":"HOJA_CAPTURA!O153","v":0},null,null,"Título del Expediente:",null,{"$f":"HOJA_CAPTURA!O175","v":0}]
[null,{"$f":"HOJA_CAPTURA!N154","v":0},null,null,null,null,{"$f":"HOJA_CAPTURA!N176","v":0}]
[null,"Título del Expediente:",null,{"$f":"HOJA_CAPTURA!O154","v":0},null,null,"Título del Expediente:",null,{"$f":"HOJA_CAPTURA!O176","v":0}]
[null,{"$f":"HOJA_CAPTURA!N155","v":0},null,null,null,null,{"$f":"HOJA_CAPTURA!N177","v":0}]
[null,"Título del Expediente:",null,{"$f":"HOJA_CAPTURA!O155","v":0},null,null,"Título del Expediente:",null,{"$f":"HOJA_CAPTURA!O177","v":0}]
[null,{"$f":"HOJA_CAPTURA!N156","v":0},null,null,null,null,{"$f":"HOJA_CAPTURA!N178","v":0}]
[null,"Título del Expediente:",null,{"$f":"HOJA_CAPTURA!O156","v":0},null,null,"Título del Expediente:",null,{"$f":"HOJA_CAPTURA!O178","v":0}]
[null,{"$f":"HOJA_CAPTURA!N179","v":0},null,null,null,null,{"$f":"HOJA_CAPTURA!N201","v":0}]
[null,"Título del Expediente:",null,{"$f":"HOJA_CAPTURA!O179","v":0},null,null,"Título del Expediente:",null,{"$f":"HOJA_CAPTURA!O201","v":0}]
[null,{"$f":"HOJA_CAPTURA!N180","v":0},null,null,null,null,{"$f":"HOJA_CAPTURA!N202","v":0}]
[null,"Título del Expediente:",null,{"$f":"HOJA_CAPTURA!O180","v":0},null,null,"Título del Expediente:",null,{"$f":"HOJA_CAPTURA!O202","v":0}]
[null,{"$f":"HOJA_CAPTURA!N181","v":0},null,null,null,null,{"$f":"HOJA_CAPTURA!N203","v":0}]
[null,"Título del Expediente:",null,{"$f":"HOJA_CAPTURA!O181","v":0},null,null,"Título del Expediente:",null,{"$f":"HOJA_CAPTURA!O203","v":0}]
[null,{"$f":"HOJA_CAPTURA!N182","v":0},null,null,null,null,{"$f":"HOJA_CAPTURA!N204","v":0}]
[null,"Título del Expediente:",null,{"$f":"HOJA_CAPTURA!O182","v":0},null,null,"Título del Expediente:",null,{"$f":"HOJA_CAPTURA!O204","v":0}]
[null,{"$f":"HOJA_CAPTURA!N183","v":0},null,null,null,null,{"$f":"HOJA_CAPTURA!N205","v":0}]
[null,"Título del Expediente:",null,{"$f":"HOJA_CAPTURA!O183","v":0},null,null,"Título del Expediente:",null,{"$f":"HOJA_CAPTURA!O205","v":0}]
[null,{"$f":"HOJA_CAPTURA!N184","v":0},null,null,null,null,{"$f":"HOJA_CAPTURA!N206","v":0}]
[null,"Título del Expediente:",null,{"$f":"HOJA_CAPTURA!O184","v":0},null,null,"Título del Expediente:",null,{"$f":"HOJA_CAPTURA!O206","v":0}]
[null,{"$f":"HOJA_CAPTURA!N185","v":0},null,null,null,null,{"$f":"HOJA_CAPTURA!N207","v":0}]
[null,"Título del Expediente:",null,{"$f":"HOJA_CAPTURA!O185","v":0},null,null,"Título del Expediente:",null,{"$f":"HOJA_CAPTURA!O207","v":0}]
[null,{"$f":"HOJA_CAPTURA!N186","v":0},null,null,null,null,{"$f":"HOJA_CAPTURA!N208","v":0}]
[null,"Título del Expediente:",null,{"$f":"HOJA_CAPTURA!O186","v":0},null,null,"Título del Expediente:",null,{"$f":"HOJA_CAPTURA!O208","v":0}]
[null,{"$f":"HOJA_CAPTURA!N187","v":0},null,null,null,null,{"$f":"HOJA_CAPTURA!N209","v":0}]
[null,"Título del Expediente:",null,{"$f":"HOJA_CAPTURA!O187","v":0},null,null,"Título del Expediente:",null,{"$f":"HOJA_CAPTURA!O209","v":0}]
[null,{"$f":"HOJA_CAPTURA!N188","v":0},null,null,null,null,{"$f":"HOJA_CAPTURA!N210","v":0}]
[null,"Título del Expediente:",null,{"$f":"HOJA_CAPTURA!O188","v":0},null,null,"Título del Expediente:",null,{"$f":"HOJA_CAPTURA!O210","v":0}]
[null,{"$f":"HOJA_CAPTURA!N189","v":0},null,null,null,null,{"$f":"HOJA_CAPTURA!N211","v":0}]
[null,"Título del Expediente:",null,{"$f":"HOJA_CAPTURA!O189","v":0},null,null,"Título del Expediente:",null,{"$f":"HOJA_CAPTURA!O211","v":0}]
[null,{"$f":"HOJA_CAPTURA!N190","v":0},null,null,null,null,{"$f":"HOJA_CAPTURA!N212","v":0}]
[null,"Título del Expediente:",null,{"$f":"HOJA_CAPTURA!O190","v":0},null,null,"Título del Expediente:",null,{"$f":"HOJA_CAPTURA!O212","v":0}]
[null,{"$f":"HOJA_CAPTURA!N191","v":0},null,null,null,null,{"$f":"HOJA_CAPTURA!N213","v":0}]
[null,"Título del Expediente:",null,{"$f":"HOJA_CAPTURA!O191","v":0},null,null,"Título del Expediente:",null,{"$f":"HOJA_CAPTURA!O213","v":0}]
[null,{"$f":"HOJA_CAPTURA!N192","v":0},null,null,null,null,{"$f":"HOJA_CAPTURA!N214","v":0}]
[null,"Título del Expediente:",null,{"$f":"HOJA_CAPTURA!O192","v":0},null,null,"Título del Expediente:",null,{"$f":"HOJA_CAPTURA!O214","v":0}]
[null,{"$f":"HOJA_CAPTURA!N193","v":0},null,null,null,null,{"$f":"HOJA_CAPTURA!N215","v":0}]
[null,"Título del Expediente:",null,{"$f":"HOJA_CAPTURA!O193","v":0},null,null,"Título del Expediente:",null,{"$f":"HOJA_CAPTURA!O215","v":0}]
[null,{"$f":"HOJA_CAPTURA!N194","v":0},null,null,null,null,{"$f":"HOJA_CAPTURA!N216","v":0}]
[null,"Título del Expediente:",null,{"$f":"HOJA_CAPTURA!O194","v":0},null,null,"Título del Expediente:",null,{"$f":"HOJA_CAPTURA!O216","v":0}]
[null,{"$f":"HOJA_CAPTURA!N195","v":0},null,null,null,null,{"$f":"HOJA_CAPTURA!N217","v":0}]
[null,"Título del Expediente:",null,{"$f":"HOJA_CAPTURA!O195","v":0},null,null,"Título del Expediente:",null,{"$f":"HOJA_CAPTURA!O217","v":0}]
[null,{"$f":"HOJA_CAPTURA!N196","v":0},null,null,null,null,{"$f":"HOJA_CAPTURA!N218","v":0}]
[null,"Título del Expediente:",null,{"$f":"HOJA_CAPTURA!O196","v":0},null,null,"Título del Expediente:",null,{"$f":"HOJA_CAPTURA!O218","v":0}]
[null,{"$f":"HOJA_CAPTURA!N197","v":0},null,null,null,null,{"$f":"HOJA_CAPTURA!N219","v":0}]
[null,"Título del Expediente:",null,{"$f":"HOJA_CAPTURA!O197","v":0},null,null,"Título del Expediente:",null,{"$f":"HOJA_CAPTURA!O219","v":0}]
[null,{"$f":"HOJA_CAPTURA!N198","v":0},null,null,null,null,{"$f":"HOJA_CAPTURA!N220","v":0}]
[null,"Título del Expediente:",null,{"$f":"HOJA_CAPTURA!O198","v":0},null,null,"Título del Expediente:",null,{"$f":"HOJA_CAPTURA!O220","v":0}]
[null,{"$f":"HOJA_CAPTURA!N199","v":0},null,null,null,null,{"$f":"HOJA_CAPTURA!N221","v":0}]
[null,"Título del Expediente:",null,{"$f":"HOJA_CAPTURA!O199","v":0},null,null,"Título del Expediente:",null,{"$f":"HOJA_CAPTURA!O221","v":0}]
[null,{"$f":"HOJA_CAPTURA!N200","v":0},null,null,null,null,{"$f":"HOJA_CAPTURA!N222","v":0}]
[null,"Título del Expediente:",null,{"$f":"HOJA_CAPTURA!O200","v":0},null,null,"Título del Expediente:",null,{"$f":"HOJA_CAPTURA!O222","v":0}]
[null,{"$f":"HOJA_CAPTURA!N223","v":0},null,null,null,null,{"$f":"HOJA_CAPTURA!N245","v":0}]
[null,"Título del Expediente:",null,{"$f":"HOJA_CAPTURA!O223","v":0},null,null,"Título del Expediente:",null,{"$f":"HOJA_CAPTURA!O245","v":0}]
[null,{"$f":"HOJA_CAPTURA!N224","v":0},null,null,null,null,{"$f":"HOJA_CAPTURA!N246","v":0}]
[null,"Título del Expediente:",null,{"$f":"HOJA_CAPTURA!O224","v":0},null,null,"Título del Expediente:",null,{"$f":"HOJA_CAPTURA!O246","v":0}]
[null,{"$f":"HOJA_CAPTURA!N225","v":0},null,null,null,null,{"$f":"HOJA_CAPTURA!N247","v":0}]
[null,"Título del Expediente:",null,{"$f":"HOJA_CAPTURA!O225","v":0},null,null,"Título del Expediente:",null,{"$f":"HOJA_CAPTURA!O247","v":0}]
[null,{"$f":"HOJA_CAPTURA!N226","v":0},null,null,null,null,{"$f":"HOJA_CAPTURA!N248","v":0}]
[null,"Título del Expediente:",null,{"$f":"HOJA_CAPTURA!O226","v":0},null,null,"Título del Expediente:",null,{"$f":"HOJA_CAPTURA!O248","v":0}]
[null,{"$f":"HOJA_CAPTURA!N227","v":0},null,null,null,null,{"$f":"HOJA_CAPTURA!N249","v":0}]
[null,"Título del Expediente:",null,{"$f":"HOJA_CAPTURA!O227","v":0},null,null,"Título del Expediente:",null,{"$f":"HOJA_CAPTURA!O249","v":0}]
[null,{"$f":"HOJA_CAPTURA!N228","v":0},null,null,null,null,{"$f":"HOJA_CAPTURA!N250","v":0}]
[null,"Título del Expediente:",null,{"$f":"HOJA_CAPTURA!O228","v":0},null,null,"Título del Expediente:",null,{"$f":"HOJA_CAPTURA!O250","v":0}]
[null,{"$f":"HOJA_CAPTURA!N229","v":0},null,null,null,null,{"$f":"HOJA_CAPTURA!N251","v":0}]
[null,"Título del Expediente:",null,{"$f":"HOJA_CAPTURA!O229","v":0},null,null,"Título del Expediente:",null,{"$f":"HOJA_CAPTURA!O251","v":0}]
[null,{"$f":"HOJA_CAPTURA!N230","v":0},null,null,null,null,{"$f":"HOJA_CAPTURA!N252","v":0}]
[null,"Título del Expediente:",null,{"$f":"HOJA_CAPTURA!O230","v":0},null,null,"Título del Expediente:",null,{"$f":"HOJA_CAPTURA!O252","v":0}]
[null,{"$f":"HOJA_CAPTURA!N231","v":0},null,null,null,null,{"$f":"HOJA_CAPTURA!N253","v":0}]
[null,"Título del Expediente:",null,{"$f":"HOJA_CAPTURA!O231","v":0},null,null,"Título del Expediente:",null,{"$f":"HOJA_CAPTURA!O253","v":0}]
[null,{"$f":"HOJA_CAPTURA!N232","v":0},null,null,null,null,{"$f":"HOJA_CAPTURA!N254","v":0}]
[null,"Título del Expediente:",null,{"$f":"HOJA_CAPTURA!O232","v":0},null,null,"Título del Expediente:",null,{"$f":"HOJA_CAPTURA!O254","v":0}]
[null,{"$f":"HOJA_CAPTURA!N233","v":0},null,null,null,null,{"$f":"HOJA_CAPTURA!N255","v":0}]
[null,"Título del Expediente:",null,{"$f":"HOJA_CAPTURA!O233","v":0},null,null,"Título del Expediente:",null,{"$f":"HOJA_CAPTURA!O255","v":0}]
[null,{"$f":"HOJA_CAPTURA!N234","v":0},null,null,null,null,{"$f":"HOJA_CAPTURA!N256","v":0}]
[null,"Título del Expediente:",null,{"$f":"HOJA_CAPTURA!O234","v":0},null,null,"Título del Expediente:",null,{"$f":"HOJA_CAPTURA!O256","v":0}]
[null,{"$f":"HOJA_CAPTURA!N235","v":0},null,null,null,null,{"$f":"HOJA_CAPTURA!N257","v":0}]
[null,"Título del Expediente:",null,{"$f":"HOJA_CAPTURA!O235","v":0},null,null,"Título del Expediente:",null,{"$f":"HOJA_CAPTURA!O257","v":0}]
[null,{"$f":"HOJA_CAPTURA!N236","v":0},null,null,null,null,{"$f":"HOJA_CAPTURA!N258","v":0}]
[null,"Título del Expediente:",null,{"$f":"HOJA_CAPTURA!O236","v":0},null,null,"Título del Expediente:",null,{"$f":"HOJA_CAPTURA!O258","v":0}]
[null,{"$f":"HOJA_CAPTURA!N237","v":0},null,null,null,null,{"$f":"HOJA_CAPTURA!N259","v":0}]
[null,"Título del Expediente:",null,{"$f":"HOJA_CAPTURA!O237","v":0},null,null,"Título del Expediente:",null,{"$f":"HOJA_CAPTURA!O259","v":0}]
[null,{"$f":"HOJA_CAPTURA!N238","v":0},null,null,null,null,{"$f":"HOJA_CAPTURA!N260","v":0}]
[null,"Título del Expediente:",null,{"$f":"HOJA_CAPTURA!O238","v":0},null,null,"Título del Expediente:",null,{"$f":"HOJA_CAPTURA!O260","v":0}]
[null,{"$f":"HOJA_CAPTURA!N239","v":0},null,null,null,null,{"$f":"HOJA_CAPTURA!N261","v":0}]
[null,"Título del Expediente:",null,{"$f":"HOJA_CAPTURA!O239","v":0},null,null,"Título del Expediente:",null,{"$f":"HOJA_CAPTURA!O261","v":0}]
[null,{"$f":"HOJA_CAPTURA!N240","v":0},null,null,null,null,{"$f":"HOJA_CAPTURA!N262","v":0}]
[null,"Título del Expediente:",null,{"$f":"HOJA_CAPTURA!O240","v":0},null,null,"Título del Expediente:",null,{"$f":"HOJA_CAPTURA!O262","v":0}]
[null,{"$f":"HOJA_CAPTURA!N241","v":0},null,null,null,null,{"$f":"HOJA_CAPTURA!N263","v":0}]
[null,"Título del Expediente:",null,{"$f":"HOJA_CAPTURA!O241","v":0},null,null,"Título del Expediente:",null,{"$f":"HOJA_CAPTURA!O263","v":0}]
[null,{"$f":"HOJA_CAPTURA!N242","v":0},null,null,null,null,{"$f":"HOJA_CAPTURA!N264","v":0}]
[null,"Título del Expediente:",null,{"$f":"HOJA_CAPTURA!O242","v":0},null,null,"Título del Expediente:",null,{"$f":"HOJA_CAPTURA!O264","v":0}]
[null,{"$f":"HOJA_CAPTURA!N243","v":0},null,null,null,null,{"$f":"HOJA_CAPTURA!N265","v":0}]
[null,"Título del Expediente:",null,{"$f":"HOJA_CAPTURA!O243","v":0},null,null,"Título del Expediente:",null,{"$f":"HOJA_CAPTURA!O265","v":0}]
[null,{"$f":"HOJA_CAPTURA!N244","v":0},null,null,null,null,{"$f":"HOJA_CAPTURA!N266","v":0}]
[null,"Título del Expediente:",null,{"$f":"HOJA_CAPTURA!O244","v":0},null,null,"Título del Expediente:",null,{"$f":"HOJA_CAPTURA!O266","v":0}]
[null,{"$f":"HOJA_CAPTURA!N267","v":0},null,null,null,null,{"$f":"HOJA_CAPTURA!N289","v":0}]
[null,"Título del Expediente:",null,{"$f":"HOJA_CAPTURA!O267","v":0},null,null,"Título del Expediente:",null,{"$f":"HOJA_CAPTURA!O289","v":0}]
[null,{"$f":"HOJA_CAPTURA!N268","v":0},null,null,null,null,{"$f":"HOJA_CAPTURA!N290","v":0}]
[null,"Título del Expediente:",null,{"$f":"HOJA_CAPTURA!O268","v":0},null,null,"Título del Expediente:",null,{"$f":"HOJA_CAPTURA!O290","v":0}]
[null,{"$f":"HOJA_CAPTURA!N269","v":0},null,null,null,null,{"$f":"HOJA_CAPTURA!N291","v":0}]
[null,"Título del Expediente:",null,{"$f":"HOJA_CAPTURA!O269","v":0},null,null,"Título del Expediente:",null,{"$f":"HOJA_CAPTURA!O291","v":0}]
[null,{"$f":"HOJA_CAPTURA!N270","v":0},null,null,null,null,{"$f":"HOJA_CAPTURA!N292","v":0}]
[null,"Título del Expediente:",null,{"$f":"HOJA_CAPTURA!O270","v":0},null,null,"Título del Expediente:",null,{"$f":"HOJA_CAPTURA!O292","v":0}]
[null,{"$f":"HOJA_CAPTURA!N271","v":0},null,null,null,null,{"$f":"HOJA_CAPTURA!N293","v":0}]
[null,"Título del Expediente:",null,{"$f":"HOJA_CAPTURA!O271","v":0},null,null,"Título del Expediente:",null,{"$f":"HOJA_CAPTURA!O293","v":0}]
[null,{"$f":"HOJA_CAPTURA!N272","v":0},null,null,null,null,{"$f":"HOJA_CAPTURA!N294","v":0}]
[null,"Título del Expediente:",null,{"$f":"HOJA_CAPTURA!O272","v":0},null,null,"Título del Expediente:",null,{"$f":"HOJA_CAPTURA!O294","v":0}]
[null,{"$f":"HOJA_CAPTURA!N273","v":0},null,null,null,null,{"$f":"HOJA_CAPTURA!N295","v":0}]
[null,"Título del Expediente:",null,{"$f":"HOJA_CAPTURA!O273","v":0},null,null,"Título del Expediente:",null,{"$f":"HOJA_CAPTURA!O295","v":0}]
[null,{"$f":"HOJA_CAPTURA!N274","v":0},null,null,null,null,{"$f":"HOJA_CAPTURA!N296","v":0}]
[null,"Título del Expediente:",null,{"$f":"HOJA_CAPTURA!O274","v":0},null,null,"Título del Expediente:",null,{"$f":"HOJA_CAPTURA!O296","v":0}]
[null,{"$f":"HOJA_CAPTURA!N275","v":0},null,null,null,null,{"$f":"HOJA_CAPTURA!N297","v":0}]
[null,"Título del Expediente:",null,{"$f":"HOJA_CAPTURA!O275","v":0},null,null,"Título del Expediente:",null,{"$f":"HOJA_CAPTURA!O297","v":0}]
[null,{"$f":"HOJA_CAPTURA!N276","v":0},null,null,null,null,{"$f":"HOJA_CAPTURA!N298","v":0}]
[null,"Título del Expediente:",null,{"$f":"HOJA_CAPTURA!O276","v":0},null,null,"Título del Expediente:",null,{"$f":"HOJA_CAPTURA!O298","v":0}]
[null,{"$f":"HOJA_CAPTURA!N277","v":0},null,null,null,null,{"$f":"HOJA_CAPTURA!N299","v":0}]
[null,"Título del Expediente:",null,{"$f":"HOJA_CAPTURA!O277","v":0},null,null,"Título del Expediente:",null,{"$f":"HOJA_CAPTURA!O299","v":0}]
[null,{"$f":"HOJA_CAPTURA!N278","v":0},null,null,null,null,{"$f":"HOJA_CAPTURA!N300","v":0}]
[null,"Título del Expediente:",null,{"$f":"HOJA_CAPTURA!O278","v":0},null,null,"Título del Expediente:",null,{"$f":"HOJA_CAPTURA!O300","v":0}]
[null,{"$f":"HOJA_CAPTURA!N279","v":0},null,null,null,null,{"$f":"HOJA_CAPTURA!N301","v":0}]
[null,"Título del Expediente:",null,{"$f":"HOJA_CAPTURA!O279","v":0},null,null,"Título del Expediente:",null,{"$f":"HOJA_CAPTURA!O301","v":0}]
[null,{"$f":"HOJA_CAPTURA!N280","v":0},null,null,null,null,{"$f":"HOJA_CAPTURA!N302","v":0}]
[null,"Título del Expediente:",null,{"$f":"HOJA_CAPTURA!O280","v":0},null,null,"Título del Expediente:",null,{"$f":"HOJA_CAPTURA!O302","v":0}]
[null,{"$f":"HOJA_CAPTURA!N281","v":0},null,null,null,null,{"$f":"HOJA_CAPTURA!N303","v":0}]
[null,"Título del Expediente:",null,{"$f":"HOJA_CAPTURA!O281","v":0},null,null,"Título del Expediente:",null,{"$f":"HOJA_CAPTURA!O303","v":0}]
[null,{"$f":"HOJA_CAPTURA!N282","v":0},null,null,null,null,{"$f":"HOJA_CAPTURA!N304","v":0}]
[null,"Título del Expediente:",null,{"$f":"HOJA_CAPTURA!O282","v":0},null,null,"Título del Expediente:",null,{"$f":"HOJA_CAPTURA!O304","v":0}]
[null,{"$f":"HOJA_CAPTURA!N283","v":0},null,null,null,null,{"$f":"HOJA_CAPTURA!N305","v":0}]
[null,"Título del Expediente:",null,{"$f":"HOJA_CAPTURA!O283","v":0},null,null,"Título del Expediente:",null,{"$f":"HOJA_CAPTURA!O305","v":0}]
[null,{"$f":"HOJA_CAPTURA!N284","v":0},null,null,null,null,{"$f":"HOJA_CAPTURA!N306","v":0}]
[null,"Título del Expediente:",null,{"$f":"HOJA_CAPTURA!O284","v":0},null,null,"Título del Expediente:",null,{"$f":"HOJA_CAPTURA!O306","v":0}]
[null,{"$f":"HOJA_CAPTURA!N285","v":0},null,null,null,null,{"$f":"HOJA_CAPTURA!N307","v":0}]
[null,"Título del Expediente:",null,{"$f":"HOJA_CAPTURA!O285","v":0},null,null,"Título del Expediente:",null,{"$f":"HOJA_CAPTURA!O307","v":0}]
[null,{"$f":"HOJA_CAPTURA!N286","v":0},null,null,null,null,{"$f":"HOJA_CAPTURA!N308","v":0}]
[null,"Título del Expediente:",null,{"$f":"HOJA_CAPTURA!O286","v":0},null,null,"Título del Expediente:",null,{"$f":"HOJA_CAPTURA!O308","v":0}]
[null,{"$f":"HOJA_CAPTURA!N287","v":0},null,null,null,null,{"$f":"HOJA_CAPTURA!N309","v":0}]
[null,"Título del Expediente:",null,{"$f":"HOJA_CAPTURA!O287","v":0},null,null,"Título del Expediente:",null,{"$f":"HOJA_CAPTURA!O309","v":0}]
[null,{"$f":"HOJA_CAPTURA!N288","v":0},null,null,null,null,{"$f":"HOJA_CAPTURA!N310","v":0}]
[null,"Título del Expediente:",null,{"$f":"HOJA_CAPTURA!O288","v":0},null,null,"Título del Expediente:",null,{"$f":"HOJA_CAPTURA!O310","v":0}]
[null,{"$f":"HOJA_CAPTURA!N311","v":0},null,null,null,null,{"$f":"HOJA_CAPTURA!N333","v":0}]
[null,"Título del Expediente:",null,{"$f":"HOJA_CAPTURA!O311","v":0},null,null,"Título del Expediente:",null,{"$f":"HOJA_CAPTURA!O333","v":0}]
[null,{"$f":"HOJA_CAPTURA!N312","v":0},null,null,null,null,{"$f":"HOJA_CAPTURA!N334","v":0}]
[null,"Título del Expediente:",null,{"$f":"HOJA_CAPTURA!O312","v":0},null,null,"Título del Expediente:",null,{"$f":"HOJA_CAPTURA!O334","v":0}]
[null,{"$f":"HOJA_CAPTURA!N313","v":0},null,null,null,null,{"$f":"HOJA_CAPTURA!N335","v":0}]
[null,"Título del Expediente:",null,{"$f":"HOJA_CAPTURA!O313","v":0},null,null,"Título del Expediente:",null,{"$f":"HOJA_CAPTURA!O335","v":0}]
[null,{"$f":"HOJA_CAPTURA!N314","v":0},null,null,null,null,{"$f":"HOJA_CAPTURA!N336","v":0}]
[null,"Título del Expediente:",null,{"$f":"HOJA_CAPTURA!O314","v":0},null,null,"Título del Expediente:",null,{"$f":"HOJA_CAPTURA!O336","v":0}]
[null,{"$f":"HOJA_CAPTURA!N315","v":0},null,null,null,null,{"$f":"HOJA_CAPTURA!N337","v":0}]
[null,"Título del Expediente:",null,{"$f":"HOJA_CAPTURA!O315","v":0},null,null,"Título del Expediente:",null,{"$f":"HOJA_CAPTURA!O337","v":0}]
[null,{"$f":"HOJA_CAPTURA!N316","v":0},null,null,null,null,{"$f":"HOJA_CAPTURA!N338","v":0}]
[null,"Título del Expediente:",null,{"$f":"HOJA_CAPTURA!O316","v":0},null,null,"Título del Expediente:",null,{"$f":"HOJA_CAPTURA!O338","v":0}]
[null,{"$f":"HOJA_CAPTURA!N317","v":0},null,null,null,null,{"$f":"HOJA_CAPTURA!N339","v":0}]
[null,"Título del Expediente:",null,{"$f":"HOJA_CAPTURA!O317","v":0},null,null,"Título del Expediente:",null,{"$f":"HOJA_CAPTURA!O339","v":0}]
[null,{"$f":"HOJA_CAPTURA!N318","v":0},null,null,null,null,{"$f":"HOJA_CAPTURA!N340","v":0}]
[null,"Título del Expediente:",null,{"$f":"HOJA_CAPTURA!O318","v":0},null,null,"Título del Expediente:",null,{"$f":"HOJA_CAPTURA!O340","v":0}]
[null,{"$f":"HOJA_CAPTURA!N319","v":0},null,null,null,null,{"$f":"HOJA_CAPTURA!N341","v":0}]
[null,"Título del Expediente:",null,{"$f":"HOJA_CAPTURA!O319","v":0},null,null,"Título del Expediente:",null,{"$f":"HOJA_CAPTURA!O341","v":0}]
[null,{"$f":"HOJA_CAPTURA!N320","v":0},null,null,null,null,{"$f":"HOJA_CAPTURA!N342","v":0}]
[null,"Título del Expediente:",null,{"$f":"HOJA_CAPTURA!O320","v":0},null,null,"Título del Expediente:",null,{"$f":"HOJA_CAPTURA!O342","v":0}]
[null,{"$f":"HOJA_CAPTURA!N321","v":0},null,null,null,null,{"$f":"HOJA_CAPTURA!N343","v":0}]
[null,"Título del Expediente:",null,{"$f":"HOJA_CAPTURA!O321","v":0},null,null,"Título del Expediente:",null,{"$f":"HOJA_CAPTURA!O343","v":0}]
[null,{"$f":"HOJA_CAPTURA!N322","v":0},null,null,null,null,{"$f":"HOJA_CAPTURA!N344","v":0}]
[null,"Título del Expediente:",null,{"$f":"HOJA_CAPTURA!O322","v":0},null,null,"Título del Expediente:",null,{"$f":"HOJA_CAPTURA!O344","v":0}]
[null,{"$f":"HOJA_CAPTURA!N323","v":0},null,null,null,null,{"$f":"HOJA_CAPTURA!N345","v":0}]
[null,"Título del Expediente:",null,{"$f":"HOJA_CAPTURA!O323","v":0},null,null,"Título del Expediente:",null,{"$f":"HOJA_CAPTURA!O345","v":0}]
[null,{"$f":"HOJA_CAPTURA!N324","v":0},null,null,null,null,{"$f":"HOJA_CAPTURA!N346","v":0}]
[null,"Título del Expediente:",null,{"$f":"HOJA_CAPTURA!O324","v":0},null,null,"Título del Expediente:",null,{"$f":"HOJA_CAPTURA!O346","v":0}]
[null,{"$f":"HOJA_CAPTURA!N325","v":0},null,null,null,null,{"$f":"HOJA_CAPTURA!N347","v":0}]
[null,"Título del Expediente:",null,{"$f":"HOJA_CAPTURA!O325","v":0},null,null,"Título del Expediente:",null,{"$f":"HOJA_CAPTURA!O347","v":0}]
[null,{"$f":"HOJA_CAPTURA!N326","v":0},null,null,null,null,{"$f":"HOJA_CAPTURA!N348","v":0}]
[null,"Título del Expediente:",null,{"$f":"HOJA_CAPTURA!O326","v":0},null,null,"Título del Expediente:",null,{"$f":"HOJA_CAPTURA!O348","v":0}]
[null,{"$f":"HOJA_CAPTURA!N327","v":0},null,null,null,null,{"$f":"HOJA_CAPTURA!N349","v":0}]
[null,"Título del Expediente:",null,{"$f":"HOJA_CAPTURA!O327","v":0},null,null,"Título del Expediente:",null,{"$f":"HOJA_CAPTURA!O349","v":0}]
[null,{"$f":"HOJA_CAPTURA!N328","v":0},null,null,null,null,{"$f":"HOJA_CAPTURA!N350","v":0}]
[null,"Título del Expediente:",null,{"$f":"HOJA_CAPTURA!O328","v":0},null,null,"Título del Expediente:",null,{"$f":"HOJA_CAPTURA!O350","v":0}]
[null,{"$f":"HOJA_CAPTURA!N329","v":0},null,null,null,null,{"$f":"HOJA_CAPTURA!N351","v":0}]
[null,"Título del Expediente:",null,{"$f":"HOJA_CAPTURA!O329","v":0},null,null,"Título del Expediente:",null,{"$f":"HOJA_CAPTURA!O351","v":0}]
[null,{"$f":"HOJA_CAPTURA!N330","v":0},null,null,null,null,{"$f":"HOJA_CAPTURA!N352","v":0}]
[null,"Título del Expediente:",null,{"$f":"HOJA_CAPTURA!O330","v":0},null,null,"Título del Expediente:",null,{"$f":"HOJA_CAPTURA!O352","v":0}]
[null,{"$f":"HOJA_CAPTURA!N331","v":0},null,null,null,null,{"$f":"HOJA_CAPTURA!N353","v":0}]
[null,"Título del Expediente:",null,{"$f":"HOJA_CAPTURA!O331","v":0},null,null,"Título del Expediente:",null,{"$f":"HOJA_CAPTURA!O354","v":0}]
[null,{"$f":"HOJA_CAPTURA!N332","v":0},null,null,null,null,{"$f":"HOJA_CAPTURA!N354","v":0}]
[null,"Título del Expediente:",null,{"$f":"HOJA_CAPTURA!O332","v":0},null,null,"Título del Expediente:",null,{"$f":"HOJA_CAPTURA!O354","v":0}]
[null,{"$f":"HOJA_CAPTURA!N355","v":0},null,null,null,null,{"$f":"HOJA_CAPTURA!N377","v":0}]
[null,"Título del Expediente:",null,{"$f":"HOJA_CAPTURA!O355","v":0},null,null,"Título del Expediente:",null,{"$f":"HOJA_CAPTURA!O377","v":0}]
[null,{"$f":"HOJA_CAPTURA!N356","v":0},null,null,null,null,{"$f":"HOJA_CAPTURA!N378","v":0}]
[null,"Título del Expediente:",null,{"$f":"HOJA_CAPTURA!O356","v":0},null,null,"Título del Expediente:",null,{"$f":"HOJA_CAPTURA!O378","v":0}]
[null,{"$f":"HOJA_CAPTURA!N357","v":0},null,null,null,null,{"$f":"HOJA_CAPTURA!N379","v":0}]
[null,"Título del Expediente:",null,{"$f":"HOJA_CAPTURA!O357","v":0},null,null,"Título del Expediente:",null,{"$f":"HOJA_CAPTURA!O379","v":0}]
[null,{"$f":"HOJA_CAPTURA!N358","v":0},null,null,null,null,{"$f":"HOJA_CAPTURA!N380","v":0}]
[null,"Título del Expediente:",null,{"$f":"HOJA_CAPTURA!O358","v":0},null,null,"Título del Expediente:",null,{"$f":"HOJA_CAPTURA!O380","v":0}]
[null,{"$f":"HOJA_CAPTURA!N359","v":0},null,null,null,null,{"$f":"HOJA_CAPTURA!N381","v":0}]
[null,"Título del Expediente:",null,{"$f":"HOJA_CAPTURA!O359","v":0},null,null,"Título del Expediente:",null,{"$f":"HOJA_CAPTURA!O381","v":0}]
[null,{"$f":"HOJA_CAPTURA!N360","v":0},null,null,null,null,{"$f":"HOJA_CAPTURA!N382","v":0}]
[null,"Título del Expediente:",null,{"$f":"HOJA_CAPTURA!O360","v":0},null,null,"Título del Expediente:",null,{"$f":"HOJA_CAPTURA!O382","v":0}]
[null,{"$f":"HOJA_CAPTURA!N361","v":0},null,null,null,null,{"$f":"HOJA_CAPTURA!N383","v":0}]
[null,"Título del Expediente:",null,{"$f":"HOJA_CAPTURA!O361","v":0},null,null,"Título del Expediente:",null,{"$f":"HOJA_CAPTURA!O383","v":0}]
[null,{"$f":"HOJA_CAPTURA!N362","v":0},null,null,null,null,{"$f":"HOJA_CAPTURA!N384","v":0}]
[null,"Título del Expediente:",null,{"$f":"HOJA_CAPTURA!O362","v":0},null,null,"Título del Expediente:",null,{"$f":"HOJA_CAPTURA!O384","v":0}]
[null,{"$f":"HOJA_CAPTURA!N363","v":0},null,null,null,null,{"$f":"HOJA_CAPTURA!N385","v":0}]
[null,"Título del Expediente:",null,{"$f":"HOJA_CAPTURA!O363","v":0},null,null,"Título del Expediente:",null,{"$f":"HOJA_CAPTURA!O385","v":0}]
[null,{"$f":"HOJA_CAPTURA!N364","v":0},null,null,null,null,{"$f":"HOJA_CAPTURA!N386","v":0}]
[null,"Título del Expediente:",null,{"$f":"HOJA_CAPTURA!O364","v":0},null,null,"Título del Expediente:",null,{"$f":"HOJA_CAPTURA!O386","v":0}]
[null,{"$f":"HOJA_CAPTURA!N365","v":0},null,null,null,null,{"$f":"HOJA_CAPTURA!N387","v":0}]
[null,"Título del Expediente:",null,{"$f":"HOJA_CAPTURA!O365","v":0},null,null,"Título del Expediente:",null,{"$f":"HOJA_CAPTURA!O387","v":0}]
[null,{"$f":"HOJA_CAPTURA!N366","v":0},null,null,null,null,{"$f":"HOJA_CAPTURA!N388","v":0}]
[null,"Título del Expediente:",null,{"$f":"HOJA_CAPTURA!O366","v":0},null,null,"Título del Expediente:",null,{"$f":"HOJA_CAPTURA!O388","v":0}]
[null,{"$f":"HOJA_CAPTURA!N367","v":0},null,null,null,null,{"$f":"HOJA_CAPTURA!N389","v":0}]
[null,"Título del Expediente:",null,{"$f":"HOJA_CAPTURA!O367","v":0},null,null,"Título del Expediente:",null,{"$f":"HOJA_CAPTURA!O389","v":0}]
[null,{"$f":"HOJA_CAPTURA!N368","v":0},null,null,null,null,{"$f":"HOJA_CAPTURA!N390","v":0}]
[null,"Título del Expediente:",null,{"$f":"HOJA_CAPTURA!O368","v":0},null,null,"Título del Expediente:",null,{"$f":"HOJA_CAPTURA!O390","v":0}]
[null,{"$f":"HOJA_CAPTURA!N369","v":0},null,null,null,null,{"$f":"HOJA_CAPTURA!N391","v":0}]
[null,"Título del Expediente:",null,{"$f":"HOJA_CAPTURA!O369","v":0},null,null,"Título del Expediente:",null,{"$f":"HOJA_CAPTURA!O391","v":0}]
[null,{"$f":"HOJA_CAPTURA!N370","v":0},null,null,null,null,{"$f":"HOJA_CAPTURA!N392","v":0}]
[null,"Título del Expediente:",null,{"$f":"HOJA_CAPTURA!O370","v":0},null,null,"Título del Expediente:",null,{"$f":"HOJA_CAPTURA!O392","v":0}]
[null,{"$f":"HOJA_CAPTURA!N371","v":0},null,null,null,null,{"$f":"HOJA_CAPTURA!N393","v":0}]
[null,"Título del Expediente:",null,{"$f":"HOJA_CAPTURA!O371","v":0},null,null,"Título del Expediente:",null,{"$f":"HOJA_CAPTURA!O393","v":0}]
[null,{"$f":"HOJA_CAPTURA!N372","v":0},null,null,null,null,{"$f":"HOJA_CAPTURA!N394","v":0}]
[null,"Título del Expediente:",null,{"$f":"HOJA_CAPTURA!O372","v":0},null,null,"Título del Expediente:",null,{"$f":"HOJA_CAPTURA!O394","v":0}]
[null,{"$f":"HOJA_CAPTURA!N373","v":0},null,null,null,null,{"$f":"HOJA_CAPTURA!N395","v":0}]
[null,"Título del Expediente:",null,{"$f":"HOJA_CAPTURA!O373","v":0},null,null,"Título del Expediente:",null,{"$f":"HOJA_CAPTURA!O395","v":0}]
[null,{"$f":"HOJA_CAPTURA!N374","v":0},null,null,null,null,{"$f":"HOJA_CAPTURA!N396","v":0}]
[null,"Título del Expediente:",null,{"$f":"HOJA_CAPTURA!O374","v":0},null,null,"Título del Expediente:",null,{"$f":"HOJA_CAPTURA!O396","v":0}]
[null,{"$f":"HOJA_CAPTURA!N375","v":0},null,null,null,null,{"$f":"HOJA_CAPTURA!N397","v":0}]
[null,"Título del Expediente:",null,{"$f":"HOJA_CAPTURA!O375","v":0},null,null,"Título del Expediente:",null,{"$f":"HOJA_CAPTURA!O397","v":0}]
[null,{"$f":"HOJA_CAPTURA!N376","v":0},null,null,null,null,{"$f":"HOJA_CAPTURA!N398","v":0}]
[null,"Título del Expediente:",null,{"$f":"HOJA_CAPTURA!O376","v":0},null,null,"Título del Expediente:",null,{"$f":"HOJA_CAPTURA!O398","v":0}]
[null,{"$f":"HOJA_CAPTURA!N399","v":0},null,null,null,null,{"$f":"HOJA_CAPTURA!N421","v":0}]
[null,"Título del Expediente:",null,{"$f":"HOJA_CAPTURA!O399","v":0},null,null,"Título del Expediente:",null,{"$f":"HOJA_CAPTURA!O421","v":0}]
[null,{"$f":"HOJA_CAPTURA!N400","v":0},null,null,null,null,{"$f":"HOJA_CAPTURA!N422","v":0}]
[null,"Título del Expediente:",null,{"$f":"HOJA_CAPTURA!O400","v":0},null,null,"Título del Expediente:",null,{"$f":"HOJA_CAPTURA!O422","v":0}]
[null,{"$f":"HOJA_CAPTURA!N401","v":0},null,null,null,null,{"$f":"HOJA_CAPTURA!N423","v":0}]
[null,"Título del Expediente:",null,{"$f":"HOJA_CAPTURA!O401","v":0},null,null,"Título del Expediente:",null,{"$f":"HOJA_CAPTURA!O423","v":0}]
[null,{"$f":"HOJA_CAPTURA!N402","v":0},null,null,null,null,{"$f":"HOJA_CAPTURA!N424","v":0}]
[null,"Título del Expediente:",null,{"$f":"HOJA_CAPTURA!O402","v":0},null,null,"Título del Expediente:",null,{"$f":"HOJA_CAPTURA!O424","v":0}]
[null,{"$f":"HOJA_CAPTURA!N403","v":0},null,null,null,null,{"$f":"HOJA_CAPTURA!N425","v":0}]
[null,"Título del Expediente:",null,{"$f":"HOJA_CAPTURA!O403","v":0},null,null,"Título del Expediente:",null,{"$f":"HOJA_CAPTURA!O425","v":0}]
[null,{"$f":"HOJA_CAPTURA!N404","v":0},null,null,null,null,{"$f":"HOJA_CAPTURA!N426","v":0}]
[null,"Título del Expediente:",null,{"$f":"HOJA_CAPTURA!O404","v":0},null,null,"Título del Expediente:",null,{"$f":"HOJA_CAPTURA!O426","v":0}]
[null,{"$f":"HOJA_CAPTURA!N405","v":0},null,null,null,null,{"$f":"HOJA_CAPTURA!N427","v":0}]
[null,"Título del Expediente:",null,{"$f":"HOJA_CAPTURA!O405","v":0},null,null,"Título del Expediente:",null,{"$f":"HOJA_CAPTURA!O427","v":0}]
[null,{"$f":"HOJA_CAPTURA!N406","v":0},null,null,null,null,{"$f":"HOJA_CAPTURA!N428","v":0}]
[null,"Título del Expediente:",null,{"$f":"HOJA_CAPTURA!O406","v":0},null,null,"Título del Expediente:",null,{"$f":"HOJA_CAPTURA!O428","v":0}]
[null,{"$f":"HOJA_CAPTURA!N407","v":0},null,null,null,null,{"$f":"HOJA_CAPTURA!N429","v":0}]
[null,"Título del Expediente:",null,{"$f":"HOJA_CAPTURA!O407","v":0},null,null,"Título del Expediente:",null,{"$f":"HOJA_CAPTURA!O429","v":0}]
[null,{"$f":"HOJA_CAPTURA!N408","v":0},null,null,null,null,{"$f":"HOJA_CAPTURA!N430","v":0}]
[null,"Título del Expediente:",null,{"$f":"HOJA_CAPTURA!O408","v":0},null,null,"Título del Expediente:",null,{"$f":"HOJA_CAPTURA!O430","v":0}]
[null,{"$f":"HOJA_CAPTURA!N409","v":0},null,null,null,null,{"$f":"HOJA_CAPTURA!N431","v":0}]
[null,"Título del Expediente:",null,{"$f":"HOJA_CAPTURA!O409","v":0},null,null,"Título del Expediente:",null,{"$f":"HOJA_CAPTURA!O431","v":0}]
[null,{"$f":"HOJA_CAPTURA!N410","v":0},null,null,null,null,{"$f":"HOJA_CAPTURA!N432","v":0}]
[null,"Título del Expediente:",null,{"$f":"HOJA_CAPTURA!O410","v":0},null,null,"Título del Expediente:",null,{"$f":"HOJA_CAPTURA!O432","v":0}]
[null,{"$f":"HOJA_CAPTURA!N411","v":0},null,null,null,null,{"$f":"HOJA_CAPTURA!N433","v":0}]
[null,"Título del Expediente:",null,{"$f":"HOJA_CAPTURA!O411","v":0},null,null,"Título del Expediente:",null,{"$f":"HOJA_CAPTURA!O433","v":0}]
[null,{"$f":"HOJA_CAPTURA!N412","v":0},null,null,null,null,{"$f":"HOJA_CAPTURA!N434","v":0}]
[null,"Título del Expediente:",null,{"$f":"HOJA_CAPTURA!O412","v":0},null,null,"Título del Expediente:",null,{"$f":"HOJA_CAPTURA!O434","v":0}]
[null,{"$f":"HOJA_CAPTURA!N413","v":0},null,null,null,null,{"$f":"HOJA_CAPTURA!N435","v":0}]
[null,"Título del Expediente:",null,{"$f":"HOJA_CAPTURA!O413","v":0},null,null,"Título del Expediente:",null,{"$f":"HOJA_CAPTURA!O435","v":0}]
[null,{"$f":"HOJA_CAPTURA!N414","v":0},null,null,null,null,{"$f":"HOJA_CAPTURA!N436","v":0}]
[null,"Título del Expediente:",null,{"$f":"HOJA_CAPTURA!O414","v":0},null,null,"Título del Expediente:",null,{"$f":"HOJA_CAPTURA!O436","v":0}]
[null,{"$f":"HOJA_CAPTURA!N415","v":0},null,null,null,null,{"$f":"HOJA_CAPTURA!N437","v":0}]
[null,"Título del Expediente:",null,{"$f":"HOJA_CAPTURA!O415","v":0},null,null,"Título del Expediente:",null,{"$f":"HOJA_CAPTURA!O437","v":0}]
[null,{"$f":"HOJA_CAPTURA!N416","v":0},null,null,null,null,{"$f":"HOJA_CAPTURA!N438","v":0}]
[null,"Título del Expediente:",null,{"$f":"HOJA_CAPTURA!O416","v":0},null,null,"Título del Expediente:",null,{"$f":"HOJA_CAPTURA!O438","v":0}]
[null,{"$f":"HOJA_CAPTURA!N417","v":0},null,null,null,null,{"$f":"HOJA_CAPTURA!N439","v":0}]
[null,"Título del Expediente:",null,{"$f":"HOJA_CAPTURA!O417","v":0},null,null,"Título del Expediente:",null,{"$f":"HOJA_CAPTURA!O439","v":0}]
[null,{"$f":"HOJA_CAPTURA!N418","v":0},null,null,null,null,{"$f":"HOJA_CAPTURA!N440","v":0}]
[null,"Título del Expediente:",null,{"$f":"HOJA_CAPTURA!O418","v":0},null,null,"Título del Expediente:",null,{"$f":"HOJA_CAPTURA!O440","v":0}]
[null,{"$f":"HOJA_CAPTURA!N419","v":0},null,null,null,null,{"$f":"HOJA_CAPTURA!N441","v":0}]
[null,"Título del Expediente:",null,{"$f":"HOJA_CAPTURA!O419","v":0},null,null,"Título del Expediente:",null,{"$f":"HOJA_CAPTURA!O441","v":0}]
[null,{"$f":"HOJA_CAPTURA!N420","v":0},null,null,null,null,{"$f":"HOJA_CAPTURA!N442","v":0}]
[null,"Título del Expediente:",null,{"$f":"HOJA_CAPTURA!O420","v":0},null,null,"Título del Expediente:",null,{"$f":"HOJA_CAPTURA!O442","v":0}]

{"sheet":"ETIQUETA CARPETA","index":6,"n_rows":9200,"n_cols":9,"rows_kept":9200,"cut":false,"hidden":false,"merged":[[4567,5,4569,7],[4567,1,4569,3],[4572,5,4582,7],[4572,1,4582,3],[4480,1,4490,3],[4480,5,4490,7],[4521,1,4523,3],[4521,5,4523,7],[4526,1,4536,3],[4526,5,4536,7],[4383,1,4385,3],[4383,5,4385,7],[4388,1,4398,3],[4388,5,4398,7],[4429,1,4431,3],[4429,5,4431,7],[4434,1,4444,3],[4434,5,4444,7],[4475,1,4477,3],[4475,5,4477,7],[4250,1,4260,3],[4250,5,4260,7],[4291,1,4293,3],[4291,5,4293,7],[4296,1,4306,3],[4296,5,4306,7],[4337,1,4339,3],[4337,5,4339,7],[4342,1,4352,3],[4342,5,4352,7],[4153,1,4155,3],[4153,5,4155,7],[4158,1,4168,3],[4158,5,4168,7],[4199,1,4201,3],[4199,5,4201,7],[4204,1,4214,3],[4204,5,4214,7],[4245,1,4247,3],[4245,5,4247,7],[4020,1,4030,3],[4020,5,4030,7],[4061,1,4063,3],[4061,5,4063,7],[4066,1,4076,3],[4066,5,4076,7],[4107,1,4109,3],[4107,5,4109,7],[4112,1,4122,3],[4112,5,4122,7],[3923,1,3925,3],[3923,5,3925,7],[3928,1,3938,3],[3928,5,3938,7],[3969,1,3971,3],[3969,5,3971,7],[3974,1,3984,3],[3974,5,3984,7],[4015,1,4017,3],[4015,5,4017,7],[3790,1,3800,3],[3790,5,3800,7],[3831,1,3833,3],[3831,5,3833,7],[3836,1,3846,3],[3836,5,3846,7],[3877,1,3879,3],[3877,5,3879,7],[3882,1,3892,3],[3882,5,3892,7],[3693,1,3695,3],[3693,5,3695,7],[3698,1,3708,3],[3698,5,3708,7],[3739,1,3741,3],[3739,5,3741,7],[3744,1,3754,3],[3744,5,3754,7],[3785,1,3787,3],[3785,5,3787,7],[3560,1,3570,3],[3560,5,3570,7],[3601,1,3603,3],[3601,5,3603,7],[3606,1,3616,3],[3606,5,3616,7],[3647,1,3649,3],[3647,5,3649,7],[3652,1,3662,3],[3652,5,3662,7],[3463,1,3465,3],[3463,5,3465,7],[3468,1,3478,3],[3468,5,3478,7],[3509,1,3511,3],[3509,5,3511,7],[3514,1,3524,3],[3514,5,3524,7],[3555,1,3557,3],[3555,5,3557,7],[3330,1,3340,3],[3330,5,3340,7],[3371,1,3373,3],[3371,5,3373,7],[3376,1,3386,3],[3376,5,3386,7],[3417,1,3419,3],[3417,5,3419,7],[3422,1,3432,3],[3422,5,3432,7],[3233,1,3235,3],[3233,5,3235,7],[3238,1,3248,3],[3238,5,3248,7],[3279,1,3281,3],[3279,5,3281,7],[3284,1,3294,3],[3284,5,3294,7],[3325,1,3327,3],[3325,5,3327,7],[3100,1,3110,3],[3100,5,3110,7],[3141,1,3143,3],[3141,5,3143,7],[3146,1,3156,3],[3146,5,3156,7],[3187,1,3189,3],[3187,5,3189,7],[3192,1,3202,3],[3192,5,3202,7],[3003,1,3005,3],[3003,5,3005,7],[3008,1,3018,3],[3008,5,3018,7],[3049,1,3051,3],[3049,5,3051,7],[3054,1,3064,3],[3054,5,3064,7],[3095,1,3097,3],[3095,5,3097,7],[2870,1,2880,3],[2870,5,2880,7],[2911,1,2913,3],[2911,5,2913,7],[2916,1,2926,3],[2916,5,2926,7],[2957,1,2959,3],[2957,5,2959,7],[2962,1,2972,3],[2962,5,2972,7],[2773,1,2775,3],[2773,5,2775,7],[2778,1,2788,3],[2778,5,2788,7],[2819,1,2821,3],[2819,5,2821,7],[2824,1,2834,3],[2824,5,2834,7],[2865,1,2867,3],[2865,5,2867,7],[2640,1,2650,3],[2640,5,2650,7],[2681,1,2683,3],[2681,5,2683,7],[2686,1,2696,3],[2686,5,2696,7],[2727,1,2729,3],[2727,5,2729,7],[2732,1,2742,3],[2732,5,2742,7],[2543,1,2545,3],[2543,5,2545,7],[2548,1,2558,3],[2548,5,2558,7],[2589,1,2591,3],[2589,5,2591,7],[2594,1,2604,3],[2594,5,2604,7],[2635,1,2637,3],[2635,5,2637,7],[2410,1,2420,3],[2410,5,2420,7],[2451,1,2453,3],[2451,5,2453,7],[2456,1,2466,3],[2456,5,2466,7],[2497,1,2499,3],[2497,5,2499,7],[2502,1,2512,3],[2502,5,2512,7],[2313,1,2315,3],[2313,5,2315,7],[2318,1,2328,3],[2318,5,2328,7],[2359,1,2361,3],[2359,5,2361,7],[2364,1,2374,3],[2364,5,2374,7],[2405,1,2407,3],[2405,5,2407,7],[2221,1,2223,3],[2221,5,2223,7],[2226,1,2236,3],[2226,5,2236,7],[2267,1,2269,3],[2267,5,2269,7],[2272,1,2282,3],[2272,5,2282,7],[2088,1,2098,3],[2088,5,2098,7],[2129,1,2131,3],[2129,5,2131,7],[2134,1,2144,3],[2134,5,2144,7],[2175,1,2177,3],[2175,5,2177,7],[2180,1,2190,3],[2180,5,2190,7],[1991,1,1993,3],[1991,5,1993,7],[1996,1,2006,3],[1996,5,2006,7],[2037,1,2039,3],[2037,5,2039,7],[2042,1,2052,3],[2042,5,2052,7],[2083,1,2085,3],[2083,5,2085,7],[1858,1,1868,3],[1858,5,1868,7],[1899,1,1901,3],[1899,5,1901,7],[1904,1,1914,3],[1904,5,1914,7],[1945,1,1947,3],[1945,5,1947,7],[1950,1,1960,3],[1950,5,1960,7],[1761,1,1763,3],[1761,5,1763,7],[1766,1,1776,3],[1766,5,1776,7],[1807,1,1809,3],[1807,5,1809,7],[1812,1,1822,3],[1812,5,1822,7],[1853,1,1855,3],[1853,5,1855,7],[1628,1,1638,3],[1628,5,1638,7],[1669,1,1671,3],[1669,5,1671,7],[1674,1,1684,3],[1674,5,1684,7],[1715,1,1717,3],[1715,5,1717,7],[1720,1,1730,3],[1720,5,1730,7],[1531,1,1533,3],[1531,5,1533,7],[1536,1,1546,3],[1536,5,1546,7],[1577,1,1579,3],[1577,5,1579,7],[1582,1,1592,3],[1582,5,1592,7],[1623,1,1625,3],[1623,5,1625,7],[1485,1,1487,3],[1485,5,1487,7],[1490,1,1500,3],[1490,5,1500,7],[289,1,291,3],[289,5,291,7],[294,1,304,3],[294,5,304,7],[335,1,337,3],[335,5,337,7],[432,1,442,3],[432,5,442,7],[473,1,475,3],[473,5,475,7],[565,1,567,3],[565,5,567,7],[570,1,580,3],[570,5,580,7],[611,1,613,3],[611,5,613,7],[478,1,488,3],[478,5,488,7],[519,1,521,3],[519,5,521,7],[13,1,15,3],[13,5,15,7],[18,1,28,3],[18,5,28,7],[56,1,58,3],[56,5,58,7],[61,1,71,3],[61,5,71,7],[102,1,104,3],[102,5,104,7],[107,1,117,3],[107,5,117,7],[148,1,150,3],[148,5,150,7],[153,1,163,3],[153,5,163,7],[195,1,197,3],[195,5,197,7],[427,1,429,3],[427,5,429,7],[340,1,350,3],[340,5,350,7],[381,1,383,3],[381,5,383,7],[386,1,396,3],[386,5,396,7],[200,1,210,3],[200,5,210,7],[241,1,243,3],[241,5,243,7],[246,1,256,3],[246,5,256,7],[524,1,534,3],[524,5,534,7],[703,1,705,3],[703,5,705,7],[708,1,718,3],[708,5,718,7],[749,1,751,3],[749,5,751,7],[616,1,626,3],[616,5,626,7],[657,1,659,3],[657,5,659,7],[662,1,672,3],[662,5,672,7],[841,1,843,3],[841,5,843,7],[846,1,856,3],[846,5,856,7],[887,1,889,3],[887,5,889,7],[754,1,764,3],[754,5,764,7],[795,1,797,3],[795,5,797,7],[800,1,810,3],[800,5,810,7],[979,1,981,3],[979,5,981,7],[984,1,994,3],[984,5,994,7],[1025,1,1027,3],[1025,5,1027,7],[892,1,902,3],[892,5,902,7],[933,1,935,3],[933,5,935,7],[938,1,948,3],[938,5,948,7],[1117,1,1119,3],[1117,5,1119,7],[1122,1,1132,3],[1122,5,1132,7],[1163,1,1165,3],[1163,5,1165,7],[1030,1,1040,3],[1030,5,1040,7],[1071,1,1073,3],[1071,5,1073,7],[1076,1,1086,3],[1076,5,1086,7],[1255,1,1257,3],[1255,5,1257,7],[1260,1,1270,3],[1260,5,1270,7],[1301,1,1303,3],[1301,5,1303,7],[1168,1,1178,3],[1168,5,1178,7],[1209,1,1211,3],[1209,5,1211,7],[1214,1,1224,3],[1214,5,1224,7],[1444,1,1454,3],[1444,5,1454,7],[1393,1,1395,3],[1393,5,1395,7],[1398,1,1408,3],[1398,5,1408,7],[1439,1,1441,3],[1439,5,1441,7],[1306,1,1316,3],[1306,5,1316,7],[1347,1,1349,3],[1347,5,1349,7],[1352,1,1362,3],[1352,5,1362,7],[4613,1,4615,3],[4613,5,4615,7],[4618,1,4628,3],[4618,5,4628,7],[4659,1,4661,3],[4659,5,4661,7],[4664,1,4674,3],[4664,5,4674,7],[4705,1,4707,3],[4705,5,4707,7],[4710,1,4720,3],[4710,5,4720,7],[4751,1,4753,3],[4751,5,4753,7],[4756,1,4766,3],[4756,5,4766,7],[4797,1,4799,3],[4797,5,4799,7],[4802,1,4812,3],[4802,5,4812,7],[4843,1,4845,3],[4843,5,4845,7],[4848,1,4858,3],[4848,5,4858,7],[4889,1,4891,3],[4889,5,4891,7],[4894,1,4904,3],[4894,5,4904,7],[4935,1,4937,3],[4935,5,4937,7],[4940,1,4950,3],[4940,5,4950,7],[4981,1,4983,3],[4981,5,4983,7],[4986,1,4996,3],[4986,5,4996,7],[5027,1,5029,3],[5027,5,5029,7],[5032,1,5042,3],[5032,5,5042,7],[5073,1,5075,3],[5073,5,5075,7],[5078,1,5088,3],[5078,5,5088,7],[5119,1,5121,3],[5119,5,5121,7],[5124,1,5134,3],[5124,5,5134,7],[5165,1,5167,3],[5165,5,5167,7],[5170,1,5180,3],[5170,5,5180,7],[5211,1,5213,3],[5211,5,5213,7],[5216,1,5226,3],[5216,5,5226,7],[5257,1,5259,3],[5257,5,5259,7],[5262,1,5272,3],[5262,5,5272,7],[5303,1,5305,3],[5303,5,5305,7],[5308,1,5318,3],[5308,5,5318,7],[5349,1,5351,3],[5349,5,5351,7],[5354,1,5364,3],[5354,5,5364,7],[5395,1,5397,3],[5395,5,5397,7],[5400,1,5410,3],[5400,5,5410,7],[5441,1,5443,3],[5441,5,5443,7],[5446,1,5456,3],[5446,5,5456,7],[5487,1,5489,3],[5487,5,5489,7],[5492,1,5502,3],[5492,5,5502,7],[5533,1,5535,3],[5533,5,5535,7],[5538,1,5548,3],[5538,5,5548,7],[5579,1,5581,3],[5579,5,5581,7],[5584,1,5594,3],[5584,5,5594,7],[5625,1,5627,3],[5625,5,5627,7],[5630,1,5640,3],[5630,5,5640,7],[5671,1,5673,3],[5671,5,5673,7],[5676,1,5686,3],[5676,5,5686,7],[5717,1,5719,3],[5717,5,5719,7],[5722,1,5732,3],[5722,5,5732,7],[5763,1,5765,3],[5763,5,5765,7],[5768,1,5778,3],[5768,5,5778,7],[5809,1,5811,3],[5809,5,5811,7],[5814,1,5824,3],[5814,5,5824,7],[5855,1,5857,3],[5855,5,5857,7],[5860,1,5870,3],[5860,5,5870,7],[5901,1,5903,3],[5901,5,5903,7],[5906,1,5916,3],[5906,5,5916,7],[5947,1,5949,3],[5947,5,5949,7],[5952,1,5962,3],[5952,5,5962,7],[5993,1,5995,3],[5993,5,5995,7],[5998,1,6008,3],[5998,5,6008,7],[6039,1,6041,3],[6039,5,6041,7],[6044,1,6054,3],[6044,5,6054,7],[6085,1,6087,3],[6085,5,6087,7],[6090,1,6100,3],[6090,5,6100,7],[6131,1,6133,3],[6131,5,6133,7],[6136,1,6146,3],[6136,5,6146,7],[6177,1,6179,3],[6177,5,6179,7],[6182,1,6192,3],[6182,5,6192,7],[6223,1,6225,3],[6223,5,6225,7],[6228,1,6238,3],[6228,5,6238,7],[6269,1,6271,3],[6269,5,6271,7],[6274,1,6284,3],[6274,5,6284,7],[6315,1,6317,3],[6315,5,6317,7],[6320,1,6330,3],[6320,5,6330,7],[6361,1,6363,3],[6361,5,6363,7],[6366,1,6376,3],[6366,5,6376,7],[6407,1,6409,3],[6407,5,6409,7],[6412,1,6422,3],[6412,5,6422,7],[6453,1,6455,3],[6453,5,6455,7],[6458,1,6468,3],[6458,5,6468,7],[6499,1,6501,3],[6499,5,6501,7],[6504,1,6514,3],[6504,5,6514,7],[6545,1,6547,3],[6545,5,6547,7],[6550,1,6560,3],[6550,5,6560,7],[6591,1,6593,3],[6591,5,6593,7],[6596,1,6606,3],[6596,5,6606,7],[6637,1,6639,3],[6637,5,6639,7],[6642,1,6652,3],[6642,5,6652,7],[6683,1,6685,3],[6683,5,6685,7],[6688,1,6698,3],[6688,5,6698,7],[6729,1,6731,3],[6729,5,6731,7],[6734,1,6744,3],[6734,5,6744,7],[6775,1,6777,3],[6775,5,6777,7],[6780,1,6790,3],[6780,5,6790,7],[6821,1,6823,3],[6821,5,6823,7],[6826,1,6836,3],[6826,5,6836,7],[6867,1,6869,3],[6867,5,6869,7],[6872,1,6882,3],[6872,5,6882,7],[6913,1,6915,3],[6913,5,6915,7],[6918,1,6928,3],[6918,5,6928,7],[6959,1,6961,3],[6959,5,6961,7],[6964,1,6974,3],[6964,5,6974,7],[7005,1,7007,3],[7005,5,7007,7],[7010,1,7020,3],[7010,5,7020,7],[7051,1,7053,3],[7051,5,7053,7],[7056,1,7066,3],[7056,5,7066,7],[7097,1,7099,3],[7097,5,7099,7],[7102,1,7112,3],[7102,5,7112,7],[7143,1,7145,3],[7143,5,7145,7],[7148,1,7158,3],[7148,5,7158,7],[7189,1,7191,3],[7189,5,7191,7],[7194,1,7204,3],[7194,5,7204,7],[7235,1,7237,3],[7235,5,7237,7],[7240,1,7250,3],[7240,5,7250,7],[7281,1,7283,3],[7281,5,7283,7],[7286,1,7296,3],[7286,5,7296,7],[7327,1,7329,3],[7327,5,7329,7],[7332,1,7342,3],[7332,5,7342,7],[7373,1,7375,3],[7373,5,7375,7],[7378,1,7388,3],[7378,5,7388,7],[7419,1,7421,3],[7419,5,7421,7],[7424,1,7434,3],[7424,5,7434,7],[7465,1,7467,3],[7465,5,7467,7],[7470,1,7480,3],[7470,5,7480,7],[7511,1,7513,3],[7511,5,7513,7],[7516,1,7526,3],[7516,5,7526,7],[7557,1,7559,3],[7557,5,7559,7],[7562,1,7572,3],[7562,5,7572,7],[7603,1,7605,3],[7603,5,7605,7],[7608,1,7618,3],[7608,5,7618,7],[7649,1,7651,3],[7649,5,7651,7],[7654,1,7664,3],[7654,5,7664,7],[7695,1,7697,3],[7695,5,7697,7],[7700,1,7710,3],[7700,5,7710,7],[7741,1,7743,3],[7741,5,7743,7],[7746,1,7756,3],[7746,5,7756,7],[7787,1,7789,3],[7787,5,7789,7],[7792,1,7802,3],[7792,5,7802,7],[7833,1,7835,3],[7833,5,7835,7],[7838,1,7848,3],[7838,5,7848,7],[7879,1,7881,3],[7879,5,7881,7],[7884,1,7894,3],[7884,5,7894,7],[7925,1,7927,3],[7925,5,7927,7],[7930,1,7940,3],[7930,5,7940,7],[7971,1,7973,3],[7971,5,7973,7],[7976,1,7986,3],[7976,5,7986,7],[8017,1,8019,3],[8017,5,8019,7],[8022,1,8032,3],[8022,5,8032,7],[8063,1,8065,3],[8063,5,8065,7],[8068,1,8078,3],[8068,5,8078,7],[8109,1,8111,3],[8109,5,8111,7],[8114,1,8124,3],[8114,5,8124,7],[8155,1,8157,3],[8155,5,8157,7],[8160,1,8170,3],[8160,5,8170,7],[8201,1,8203,3],[8201,5,8203,7],[8206,1,8216,3],[8206,5,8216,7],[8247,1,8249,3],[8247,5,8249,7],[8252,1,8262,3],[8252,5,8262,7],[8293,1,8295,3],[8293,5,8295,7],[8298,1,8308,3],[8298,5,8308,7],[8339,1,8341,3],[8339,5,8341,7],[8344,1,8354,3],[8344,5,8354,7],[8385,1,8387,3],[8385,5,8387,7],[8390,1,8400,3],[8390,5,8400,7],[8431,1,8433,3],[8431,5,8433,7],[8436,1,8446,3],[8436,5,8446,7],[8477,1,8479,3],[8477,5,8479,7],[8482,1,8492,3],[8482,5,8492,7],[8523,1,8525,3],[8523,5,8525,7],[8528,1,8538,3],[8528,5,8538,7],[8569,1,8571,3],[8569,5,8571,7],[8574,1,8584,3],[8574,5,8584,7],[8615,1,8617,3],[8615,5,8617,7],[8620,1,8630,3],[8620,5,8630,7],[8661,1,8663,3],[8661,5,8663,7],[8666,1,8676,3],[8666,5,8676,7],[8707,1,8709,3],[8707,5,8709,7],[8712,1,8722,3],[8712,5,8722,7],[8753,1,8755,3],[8753,5,8755,7],[8758,1,8768,3],[8758,5,8768,7],[8799,1,8801,3],[8799,5,8801,7],[8804,1,8814,3],[8804,5,8814,7],[8845,1,8847,3],[8845,5,8847,7],[8850,1,8860,3],[8850,5,8860,7],[8891,1,8893,3],[8891,5,8893,7],[8896,1,8906,3],[8896,5,8906,7],[8937,1,8939,3],[8937,5,8939,7],[8942,1,8952,3],[8942,5,8952,7],[8983,1,8985,3],[8983,5,8985,7],[8988,1,8998,3],[8988,5,8998,7],[9029,1,9031,3],[9029,5,9031,7],[9034,1,9044,3],[9034,5,9044,7],[9075,1,9077,3],[9075,5,9077,7],[9080,1,9090,3],[9080,5,9090,7],[9121,1,9123,3],[9121,5,9123,7],[9126,1,9136,3],[9126,5,9136,7],[9167,1,9169,3],[9167,5,9169,7],[9172,1,9182,3],[9172,5,9182,7]]}
[]
[]
[]
[]
[]
[]
[null,null,null,null,null,null,null,null," "]
[]
[]
[]
[]
[]
[null,null,"Clasificación:",null,null,null,"Clasificación:"]
[null,{"$f":"HOJA_CAPTURA!N3","v":0},null,null,null,{"$f":"HOJA_CAPTURA!N4","v":0}]
[]
[]
[]
[]
[null,{"$f":"HOJA_CAPTURA!O3","v":0},null,null,null,{"$f":"HOJA_CAPTURA!O4","v":0}]
[]
[]
[]
[]
[]
[]
[]
[]
[]
[]
[]
[]
[]
[]
[]
[]
[]
[]
[]
[]
[]
[]
[]
[]
[]
[]
[]
[]
[]
[]
[null,null,null,null,null,null,null,null," "]
[]
[]
[]
[]
[]
[null,null,"Clasificación:",null,null,null,"Clasificación:"]
[null,{"$f":"HOJA_CAPTURA!N5","v":0},null,null,null,{"$f":"HOJA_CAPTURA!N6","v":0}]
[]
[]
[]
[]
[null,{"$f":"HOJA_CAPTURA!O5","v":0},null,null,null,{"$f":"HOJA_CAPTURA!O6","v":0}]
[]
[]
[]
[]
[]
[]
[]
[]
[]
[]
[]
[]
[]
[]
[]
[]
[]
[]
[]
[]
[]
[]
[]
[]
[]
[]
[]
[]
[]
[]
[]
[]
[]
[null,null,null,null,null,null,null,null," "]
[]
[]
[]
[]
[]
[null,null,"Clasificación:",null,null,null,"Clasificación:"]
[null,{"$f":"HOJA_CAPTURA!N7","v":0},null,null,null,{"$f":"HOJA_CAPTURA!N8","v":0}]
[]
[]
[]
[]
[null,{"$f":"HOJA_CAPTURA!O7","v":0},null,null,null,{"$f":"HOJA_CAPTURA!O8","v":0}]
[]
[]
[]
[]
[]
[]
[]
[]
[]
[]
[]
[]
[]
[]
[]
[]
[]
[]
[]
[]
[]
[]
[]
[]
[]
[]
[]
[]
[]
[]
[]
[]
[]
[null,null,null,null,null,null,null,null," "]
[]
[]
[]
[]
[]
[null,null,"Clasificación:",null,null,null,"Clasificación:"]
[null,{"$f":"HOJA_CAPTURA!N9","v":0},null,null,null,{"$f":"HOJA_CAPTURA!N10","v":0}]
[]
[]
[]
[]
[null,{"$f":"HOJA_CAPTURA!O9","v":0},null,null,null,{"$f":"HOJA_CAPTURA!O10","v":0}]
[]
[]
[]
[]
[]
[]
[]
[]
[]
[]
[]
[]
[]
[]
[]
[]
[]
[]
[]
[]
[]
[]
[]
[]
[]
[]
[]
[]
[]
[]
[]
[]
[]
[]
[null,null,null,null,null,null,null,null," "]
[]
[]
[]
[]
[]
[null,null,"Clasificación:",null,null,null,"Clasificación:"]
[null,{"$f":"HOJA_CAPTURA!N11","v":0},null,null,null,{"$f":"HOJA_CAPTURA!N12","v":0}]
[]
[]
[]
[]
[null,{"$f":"HOJA_CAPTURA!O11","v":0},null,null,null,{"$f":"HOJA_CAPTURA!O12","v":0}]
[]
[]
[]
[]
[]
[]
[]
[]
[]
[]
[]
[]
[]
[]
[]
[]
[]
[]
[]
[]
[]
[]
[]
[]
[]
[]
[]
[]
[]
[]
[]
[]
[]
[null,null,null,null,null,null,null,null," "]
[]
[]
[]
[]
[]
[null,null,"Clasificación:",null,null,null,"Clasificación:"]
[null,{"$f":"HOJA_CAPTURA!N13","v":0},null,null,null,{"$f":"HOJA_CAPTURA!N14","v":0}]
[]
[]
[]
[]
[null,{"$f":"HOJA_CAPTURA!O13","v":0},null,null,null,{"$f":"HOJA_CAPTURA!O14","v":0}]
[]
[]
[]
[]
[]
[]
[]
[]
[]
[]
[]
[]
[]
[]
[]
[]
[]
[]
[]
[]
[]
[]
[]
[]
[]
[]
[]
[]
[]
[]
[]
[]
[]
[]
[]
[null,null,null,null,null,null,null,null," "]
[]
[]
[]
[]
[]
[null,null,"Clasificación:",null,null,null,"Clasificación:"]
[null,{"$f":"HOJA_CAPTURA!N15","v":0},null,null,null,{"$f":"HOJA_CAPTURA!N16","v":0}]
[]
[]
[]
[]
[null,{"$f":"HOJA_CAPTURA!O15","v":0},null,null,null,{"$f":"HOJA_CAPTURA!O16","v":0}]
[]
[]
[]
[]
[]
[]
[]
[]
[]
[]
[]
[]
[]
[]
[]
[]
[]
[]
[]
[]
[]
[]
[]
[]
[]
[]
[]
[]
[]
[]
[]
[]
[]
[null,null,null,null,null,null,null,null," "]
[]
[]
[]
[]
[]
[null,null,"Clasificación:",null,null,null,"Clasificación:"]
[null,{"$f":"HOJA_CAPTURA!N17","v":0},null,null,null,{"$f":"HOJA_CAPTURA!N18","v":0}]
[]
[]
[]
[]
[null,{"$f":"HOJA_CAPTURA!O17","v":0},null,null,null,{"$f":"HOJA_CAPTURA!O18","v":0}]
[]
[]
[]
[]
[]
[]
[]
[]
[]
[]
[]
[]
[]
[]
[]
[]
[]
[]
[]
[]
[]
[]
[]
[]
[]
[]
[]
[]
[]
[]
[]
[]
[]
[null,null,null,null,null,null,null,null," "]
[]
[]
[]
[]
[]
[null,null,"Clasificación:",null,null,null,"Clasificación:"]
[null,{"$f":"HOJA_CAPTURA!N19","v":0},null,null,null,{"$f":"HOJA_CAPTURA!N20","v":0}]
[]
[]
[]
[]
[null,{"$f":"HOJA_CAPTURA!O19","v":0},null,null,null,{"$f":"HOJA_CAPTURA!O20","v":0}]
[]
[]
[]
[]
[]
[]
[]
[]
[]
[]
[]
[]
[]
[]
[]
[]
[]
[]
[]
[]
[]
[]
[]
[]
[]
[]
[]
[]
[]
[]
[]
[]
[]
[null,null,null,null,null,null,null,null," "]
[]
[]
[]
[]
[]
[null,null,"Clasificación:",null,null,null,"Clasificación:"]
[null,{"$f":"HOJA_CAPTURA!N21","v":0},null,null,null,{"$f":"HOJA_CAPTURA!N22","v":0}]
[]
[]
[]
[]
[null,{"$f":"HOJA_CAPTURA!O21","v":0},null,null,null,{"$f":"HOJA_CAPTURA!O22","v":0}]
[]
[]
[]
[]
[]
[]
[]
[]
[]
[]
[]
[]
[]
[]
[]
[]
[]
[]
[]
[]
[]
[]
[]
[]
[]
[]
[]
[]
[]
[]
[]
[]
[]
[null,null,null,null,null,null,null,null," "]
[]
[]
[]
[]
[]
[null,null,"Clasificación:",null,null,null,"Clasificación:"]
[null,{"$f":"HOJA_CAPTURA!N23","v":0},null,null,null,{"$f":"HOJA_CAPTURA!N24","v":0}]
[]
[]
[]
[]
[null,{"$f":"HOJA_CAPTURA!O23","v":0},null,null,null,{"$f":"HOJA_CAPTURA!O24","v":0}]
[]
[]
[]
[]
[]
[]
[]
[]
[]
[]
[]
[]
[]
[]
[]
[]
[]
[]
[]
[]
[]
[]
[]
[]
[]
[]
[]
[]
[]
[]
[]
[]
[]
[null,null,null,null,null,null,null,null," "]
[]
[]
[]
[]
[]
[null,null,"Clasificación:",null,null,null,"Clasificación:"]
[null,{"$f":"HOJA_CAPTURA!N25","v":0},null,null,null,{"$f":"HOJA_CAPTURA!N26","v":0}]
[]
[]
[]
[]
[null,{"$f":"HOJA_CAPTURA!O25","v":0},null,null,null,{"$f":"HOJA_CAPTURA!O26","v":0}]
[]
[]
[]
[]
[]
[]
[]
[]
[]
[]
[]
[]
[]
[]
[]
[]
[]
[]
[]
[]
[]
[]
[]
[]
[]
[]
[]
[]
[]
[]
[]
[]
[]
[null,null,null,null,null,null,null,null," "]
[]
[]
[]
[]
[]
[null,null,"Clasificación:",null,null,null,"Clasificación:"]
[null,{"$f":"HOJA_CAPTURA!N27","v":0},null,null,null,{"$f":"HOJA_CAPTURA!N28","v":0}]
[]
[]
[]
[]
[null,{"$f":"HOJA_CAPTURA!O27","v":0},null,null,null,{"$f":"HOJA_CAPTURA!O28","v":0}]
[]
[]
[]
[]
[]
[]
[]
[]
[]
[]
[]
[]
[]
[]
[]
[]
[]
[]
[]
[]
[]
[]
[]
[]
[]
[]
[]
[]
[]
[]
[]
[]
[]
[null,null,null,null,null,null,null,null," "]
[]
[]
[]
[]
[]
[null,null,"Clasificación:",null,null,null,"Clasificación:"]
[null,{"$f":"HOJA_CAPTURA!N29","v":0},null,null,null,{"$f":"HOJA_CAPTURA!N30","v":0}]
[]
[]
[]
[]
[null,{"$f":"HOJA_CAPTURA!O29","v":0},null,null,null,{"$f":"HOJA_CAPTURA!O30","v":0}]
[]
[]
[]
[]
[]
[]
[]
[]
[]
[]
[]
[]
[]
[]
[]
[]
[]
[]
[]
[]
[]
[]
[]
[]
[]
[]
[]
[]
[]
[]
[]
[]
[]
[null,null,null,null,null,null,null,null," "]
[]
[]
[]
[]
[]
[null,null,"Clasificación:",null,null,null,"Clasificación:"]
[null,{"$f":"HOJA_CAPTURA!N31","v":0},null,null,null,{"$f":"HOJA_CAPTURA!N32","v":0}]
[]
[]
[]
[]
[null,{"$f":"HOJA_CAPTURA!O31","v":0},null,null,null,{"$f":"HOJA_CAPTURA!O32","v":0}]
[]
[]
[]
[]
[]
[]
[]
[]
[]
[]
[]
[]
[]
[]
[]
[]
[]
[]
[]
[]
[]
[]
[]
[]
[]
[]
[]
[]
[]
[]
[]
[]
[]
[null,null,null,null,null,null,null,null," "]
[]
[]
[]
[]
[]
[null,null,"Clasificación:",null,null,null,"Clasificación:"]
[null,{"$f":"HOJA_CAPTURA!N33","v":0},null,null,null,{"$f":"HOJA_CAPTURA!N34","v":0}]
[]
[]
[]
[]
[null,{"$f":"HOJA_CAPTURA!O33","v":0},null,null,null,{"$f":"HOJA_CAPTURA!O34","v":0}]
[]
[]
[]
[]
[]
[]
[]
[]
[]
[]
[]
[]
[]
[]
[]
[]
[]
[]
[]
[]
[]
[]
[]
[]
[]
[]
[]
[]
[]
[]
[]
[]
[]
[null,null,null,null,null,null,null,null," "]
[]
[]
[]
[]
[]
[null,null,"Clasificación:",null,null,null,"Clasificación:"]
[null,{"$f":"HOJA_CAPTURA!N35","v":0},null,null,null,{"$f":"HOJA_CAPTURA!N36","v":0}]
[]
[]
[]
[]
[null,{"$f":"HOJA_CAPTURA!O35","v":0},null,null,null,{"$f":"HOJA_CAPTURA!O36","v":0}]
[]
[]
[]
[]
[]
[]
[]
[]
[]
[]
[]
[]
[]
[]
[]
[]
[]
[]
[]
[]
[]
[]
[]
[]
[]
[]
[]
[]
[]
[]
[]
[]
[]
[null,null,null,null,null,null,null,null," "]
[]
[]
[]
[]
[]
[null,null,"Clasificación:",null,null,null,"Clasificación:"]
[null,{"$f":"HOJA_CAPTURA!N37","v":0},null,null,null,{"$f":"HOJA_CAPTURA!N38","v":0}]
[]
[]
[]
[]
[null,{"$f":"HOJA_CAPTURA!O37","v":0},null,null,null,{"$f":"HOJA_CAPTURA!O38","v":0}]
[]
[]
[]
[]
[]
[]
[]
[]
[]
[]
[]
[]
[]
[]
[]
[]
[]
[]
[]
[]
[]
[]
[]
[]
[]
[]
[]
[]
[]
[]
[]
[]
[]
[null,null,null,null,null,null,null,null," "]
[]
[]
[]
[]
[]
[null,null,"Clasificación:",null,null,null,"Clasificación:"]
[null,{"$f":"HOJA_CAPTURA!N39","v":0},null,null,null,{"$f":"HOJA_CAPTURA!N40","v":0}]
[]
[]
[]
[]
[null,{"$f":"HOJA_CAPTURA!O39","v":0},null,null,null,{"$f":"HOJA_CAPTURA!O40","v":0}]
[]
[]
[]
[]
[]
[]
[]
[]
[]
[]
[]
[]
[]
[]
[]
[]
[]
[]
[]
[]
[]
[]
[]
[]
[]
[]
[]
[]
[]
[]
[]
[]
[]
[null,null,null,null,null,null,null,null," "]
[]
[]
[]
[]
[]
[null,null,"Clasificación:",null,null,null,"Clasificación:"]
[null,{"$f":"HOJA_CAPTURA!N41","v":0},null,null,null,{"$f":"HOJA_CAPTURA!N42","v":0}]
[]
[]
[]
[]
[null,{"$f":"HOJA_CAPTURA!O41","v":0},null,null,null,{"$f":"HOJA_CAPTURA!O42","v":0}]
[]
[]
[]
[]
[]
[]
[]
[]
[]
[]
[]
[]
[]
[]
[]
[]
[]
[]
[]
[]
[]
[]
[]
[]
[]
[]
[]
[]
[]
[]
[]
[]
[]
[null,null,null,null,null,null,null,null," "]
[]
[]
[]
[]
[]
[null,null,"Clasificación:",null,null,null,"Clasificación:"]
[null,{"$f":"HOJA_CAPTURA!N43","v":0},null,null,null,{"$f":"HOJA_CAPTURA!N44","v":0}]
[]
[]
[]
[]
[null,{"$f":"HOJA_CAPTURA!O43","v":0},null,null,null,{"$f":"HOJA_CAPTURA!O44","v":0}]
[]
[]
[]
[]
[]
[]
[]
[]
[]
[]
[]
[]
[]
[]
[]
[]
[]
[]
[]
[]
[]
[]
[]
[]
[]
[]
[]
[]
[]
[]
[]
[]
[]
[null,null,null,null,null,null,null,null," "]
[]
[]
[]
[]
[]
[null,null,"Clasificación:",null,null,null,"Clasificación:"]
[null,{"$f":"HOJA_CAPTURA!N45","v":0},null,null,null,{"$f":"HOJA_CAPTURA!N46","v":0}]
[]
[]
[]
[]
[null,{"$f":"HOJA_CAPTURA!O45","v":0},null,null,null,{"$f":"HOJA_CAPTURA!O46","v":0}]
[]
[]
[]
[]
[]
[]
[]
[]
[]
[]
[]
[]
[]
[]
[]
[]
[]
[]
[]
[]
[]
[]
[]
[]
[]
[]
[]
[]
[]
[]
[]
[]
[]
[null,null,null,null,null,null,null,null," "]
[]
[]
[]
[]
[]
[null,null,"Clasificación:",null,null,null,"Clasificación:"]
[null,{"$f":"HOJA_CAPTURA!N47","v":0},null,null,null,{"$f":"HOJA_CAPTURA!N48","v":0}]
[]
[]
[]
[]
[null,{"$f":"HOJA_CAPTURA!O47","v":0},null,null,null,{"$f":"HOJA_CAPTURA!O48","v":0}]
[]
[]
[]
[]
[]
[]
[]
[]
[]
[]
[]
[]
[]
[]
[]
[]
[]
[]
[]
[]
[]
[]
[]
[]
[]
[]
[]
[]
[]
[]
[]
[]
[]
[null,null,null,null,null,null,null,null," "]
[]
[]
[]
[]
[]
[null,null,"Clasificación:",null,null,null,"Clasificación:"]
[null,{"$f":"HOJA_CAPTURA!N49","v":0},null,null,null,{"$f":"HOJA_CAPTURA!N50","v":0}]
[]
[]
[]
[]
[null,{"$f":"HOJA_CAPTURA!O49","v":0},null,null,null,{"$f":"HOJA_CAPTURA!O50","v":0}]
[]
[]
[]
[]
[]
[]
[]
[]
[]
[]
[]
[]
[]
[]
[]
[]
[]
[]
[]
[]
[]
[]
[]
[]
[]
[]
[]
[]
[]
[]
[]
[]
[]
[null,null,null,null,null,null,null,null," "]
[]
[]
[]
[]
[]
[null,null,"Clasificación:",null,null,null,"Clasificación:"]
[null,{"$f":"HOJA_CAPTURA!N51","v":0},null,null,null,{"$f":"HOJA_CAPTURA!N52","v":0}]
[]
[]
[]
[]
[null,{"$f":"HOJA_CAPTURA!O51","v":0},null,null,null,{"$f":"HOJA_CAPTURA!O52","v":0}]
[]
[]
[]
[]
[]
[]
[]
[]
[]
[]
[]
[]
[]
[]
[]
[]
[]
[]
[]
[]
[]
[]
[]
[]
[]
[]
[]
[]
[]
[]
[]
[]
[]
[null,null,null,null,null,null,null,null," "]
[]
[]
[]
[]
[]
[null,null,"Clasificación:",null,null,null,"Clasificación:"]
[null,{"$f":"HOJA_CAPTURA!N53","v":0},null,null,null,{"$f":"HOJA_CAPTURA!N54","v":0}]
[]
[]
[]
[]
[null,{"$f":"HOJA_CAPTURA!O53","v":0},null,null,null,{"$f":"HOJA_CAPTURA!O54","v":0}]
[]
[]
[]
[]
[]
[]
[]
[]
[]
[]
[]
[]
[]
[]
[]
[]
[]
[]
[]
[]
[]
[]
[]
[]
[]
[]
[]
[]
[]
[]
[]
[]
[]
[null,null,null,null,null,null,null,null," "]
[]
[]
[]
[]
[]
[null,null,"Clasificación:",null,null,null,"Clasificación:"]
[null,{"$f":"HOJA_CAPTURA!N55","v":0},null,null,null,{"$f":"HOJA_CAPTURA!N56","v":0}]
[]
[]
[]
[]
[null,{"$f":"HOJA_CAPTURA!O55","v":0},null,null,null,{"$f":"HOJA_CAPTURA!O56","v":0}]
[]
[]
[]
[]
[]
[]
[]
[]
[]
[]
[]
[]
[]
[]
[]
[]
[]
[]
[]
[]
[]
[]
[]
[]
[]
[]
[]
[]
[]
[]
[]
[]
[]
[null,null,null,null,null,null,null,null," "]
[]
[]
[]
[]
[]
[null,null,"Clasificación:",null,null,null,"Clasificación:"]
[null,{"$f":"HOJA_CAPTURA!N57","v":0},null,null,null,{"$f":"HOJA_CAPTURA!N58","v":0}]
[]
[]
[]
[]
[null,{"$f":"HOJA_CAPTURA!O57","v":0},null,null,null,{"$f":"HOJA_CAPTURA!O58","v":0}]
[]
[]
[]
[]
[]
[]
[]
[]
[]
[]
[]
[]
[]
[]
[]
[]
[]
[]
[]
[]
[]
[]
[]
[]
[]
[]
[]
[]
[]
[]
[]
[]
[]
[null,null,null,null,null,null,null,null," "]
[]
[]
[]
[]
[]
[null,null,"Clasificación:",null,null,null,"Clasificación:"]
[null,{"$f":"HOJA_CAPTURA!N59","v":0},null,null,null,{"$f":"HOJA_CAPTURA!N60","v":0}]
[]
[]
[]
[]
[null,{"$f":"HOJA_CAPTURA!O59","v":0},null,null,null,{"$f":"HOJA_CAPTURA!O60","v":0}]
[]
[]
[]
[]
[]
[]
[]
[]
[]
[]
[]
[]
[]
[]
[]
[]
[]
[]
[]
[]
[]
[]
[]
[]
[]
[]
[]
[]
[]
[]
[]
[]
[]
[null,null,null,null,null,null,null,null," "]
[]
[]
[]
[]
[]
[null,null,"Clasificación:",null,null,null,"Clasificación:"]
[null,{"$f":"HOJA_CAPTURA!N61","v":0},null,null,null,{"$f":"HOJA_CAPTURA!N62","v":0}]
[]
[]
[]
[]
[null,{"$f":"HOJA_CAPTURA!O61","v":0},null,null,null,{"$f":"HOJA_CAPTURA!O62","v":0}]
[]
[]
[]
[]
[]
[]
[]
[]
[]
[]
[]
[]
[]
[]
[]
[]
[]
[]
[]
[]
[]
[]
[]
[]
[]
[]
[]
[]
[]
[]
[]
[]
[]
[null,null,null,null,null,null,null,null," "]
[]
[]
[]
[]
[]
[null,null,"Clasificación:",null,null,null,"Clasificación:"]
[null,{"$f":"HOJA_CAPTURA!N63","v":0},null,null,null,{"$f":"HOJA_CAPTURA!N64","v":0}]
[]
[]
[]
[]
[null,{"$f":"HOJA_CAPTURA!O63","v":0},null,null,null,{"$f":"HOJA_CAPTURA!O64","v":0}]
[]
[]
[]
[]
[]
[]
[]
[]
[]
[]
[]
[]
[]
[]
[]
[]
[]
[]
[]
[]
[]
[]
[]
[]
[]
[]
[]
[]
[]
[]
[]
[]
[]
[null,null,null,null,null,null,null,null," "]
[]
[]
[]
[]
[]
[null,null,"Clasificación:",null,null,null,"Clasificación:"]
[null,{"$f":"HOJA_CAPTURA!N65","v":0},null,null,null,{"$f":"HOJA_CAPTURA!N66","v":0}]
[]
[]
[]
[]
[null,{"$f":"HOJA_CAPTURA!O65","v":0},null,null,null,{"$f":"HOJA_CAPTURA!O66","v":0}]
[]
[]
[]
[]
[]
[]
[]
[]
[]
[]
[]
[]
[]
[]
[]
[]
[]
[]
[]
[]
[]
[]
[]
[]
[]
[]
[]
[]
[]
[]
[]
[]
[]
[null,null,null,null,null,null,null,null," "]
[]
[]
[]
[]
[]
[null,null,"Clasificación:",null,null,null,"Clasificación:"]
[null,{"$f":"HOJA_CAPTURA!N67","v":0},null,null,null,{"$f":"HOJA_CAPTURA!N68","v":0}]
[]
[]
[]
[]
[null,{"$f":"HOJA_CAPTURA!O67","v":0},null,null,null,{"$f":"HOJA_CAPTURA!O68","v":0}]
[]
[]
[]
[]
[]
[]
[]
[]
[]
[]
[]
[]
[]
[]
[]
[]
[]
[]
[]
[]
[]
[]
[]
[]
[]
[]
[]
[]
[]
[]
[]
[]
[]
[null,null,null,null,null,null,null,null," "]
[]
[]
[]
[]
[]
[null,null,"Clasificación:",null,null,null,"Clasificación:"]
[null,{"$f":"HOJA_CAPTURA!N69","v":0},null,null,null,{"$f":"HOJA_CAPTURA!N70","v":0}]
[]
[]
[]
[]
[null,{"$f":"HOJA_CAPTURA!O69","v":0},null,null,null,{"$f":"HOJA_CAPTURA!O70","v":0}]
[]
[]
[]
[]
[]
[]
[]
[]
[]
[]
[]
[]
[]
[]
[]
[]
[]
[]
[]
[]
[]
[]
[]
[]
[]
[]
[]
[]
[]
[]
[]
[]
[]
[null,null,null,null,null,null,null,null," "]
[]
[]
[]
[]
[]
[null,null,"Clasificación:",null,null,null,"Clasificación:"]
[null,{"$f":"HOJA_CAPTURA!N71","v":0},null,null,null,{"$f":"HOJA_CAPTURA!N72","v":0}]
[]
[]
[]
[]
[null,{"$f":"HOJA_CAPTURA!O71","v":0},null,null,null,{"$f":"HOJA_CAPTURA!O72","v":0}]
[]
[]
[]
[]
[]
[]
[]
[]
[]
[]
[]
[]
[]
[]
[]
[]
[]
[]
[]
[]
[]
[]
[]
[]
[]
[]
[]
[]
[]
[]
[]
[]
[]
[null,null,null,null,null,null,null,null," "]
[]
[]
[]
[]
[]
[null,null,"Clasificación:",null,null,null,"Clasificación:"]
[null,{"$f":"HOJA_CAPTURA!N73","v":0},null,null,null,{"$f":"HOJA_CAPTURA!N74","v":0}]
[]
[]
[]
[]
[null,{"$f":"HOJA_CAPTURA!O73","v":0},null,null,null,{"$f":"HOJA_CAPTURA!O74","v":0}]
[]
[]
[]
[]
[]
[]
[]
[]
[]
[]
[]
[]
[]
[]
[]
[]
[]
[]
[]
[]
[]
[]
[]
[]
[]
[]
[]
[]
[]
[]
[]
[]
[]
[null,null,null,null,null,null,null,null," "]
[]
[]
[]
[]
[]
[null,null,"Clasificación:",null,null,null,"Clasificación:"]
[null,{"$f":"HOJA_CAPTURA!N75","v":0},null,null,null,{"$f":"HOJA_CAPTURA!N76","v":0}]
[]
[]
[]
[]
[null,{"$f":"HOJA_CAPTURA!O75","v":0},null,null,null,{"$f":"HOJA_CAPTURA!O76","v":0}]
[]
[]
[]
[]
[]
[]
[]
[]
[]
[]
[]
[]
[]
[]
[]
[]
[]
[]
[]
[]
[]
[]
[]
[]
[]
[]
[]
[]
[]
[]
[]
[]
[]
[null,null,null,null,null,null,null,null," "]
[]
[]
[]
[]
[]
[null,null,"Clasificación:",null,null,null,"Clasificación:"]
[null,{"$f":"HOJA_CAPTURA!N77","v":0},null,null,null,{"$f":"HOJA_CAPTURA!N78","v":0}]
[]
[]
[]
[]
[null,{"$f":"HOJA_CAPTURA!O77","v":0},null,null,null,{"$f":"HOJA_CAPTURA!O78","v":0}]
[]
[]
[]
[]
[]
[]
[]
[]
[]
[]
[]
[]
[]
[]
[]
[]
[]
[]
[]
[]
[]
[]
[]
[]
[]
[]
[]
[]
[]
[]
[]
[]
[]
[null,null,null,null,null,null,null,null," "]
[]
[]
[]
[]
[]
[null,null,"Clasificación:",null,null,null,"Clasificación:"]
[null,{"$f":"HOJA_CAPTURA!N79","v":0},null,null,null,{"$f":"HOJA_CAPTURA!N80","v":0}]
[]
[]
[]
[]
[null,{"$f":"HOJA_CAPTURA!O79","v":0},null,null,null,{"$f":"HOJA_CAPTURA!O80","v":0}]
[]
[]
[]
[]
[]
[]
[]
[]
[]
[]
[]
[]
[]
[]
[]
[]
[]
[]
[]
[]
[]
[]
[]
[]
[]
[]
[]
[]
[]
[]
[]
[]
[]
[null,null,null,null,null,null,null,null," "]
[]
[]
[]
[]
[]
[null,null,"Clasificación:",null,null,null,"Clasificación:"]
[null,{"$f":"HOJA_CAPTURA!N81","v":0},null,null,null,{"$f":"HOJA_CAPTURA!N82","v":0}]
[]
[]
[]
[]
[null,{"$f":"HOJA_CAPTURA!O81","v":0},null,null,null,{"$f":"HOJA_CAPTURA!O82","v":0}]
[]
[]
[]
[]
[]
[]
[]
[]
[]
[]
[]
[]
[]
[]
[]
[]
[]
[]
[]
[]
[]
[]
[]
[]
[]
[]
[]
[]
[]
[]
[]
[]
[]
[null,null,null,null,null,null,null,null," "]
[]
[]
[]
[]
[]
[null,null,"Clasificación:",null,null,null,"Clasificación:"]
[null,{"$f":"HOJA_CAPTURA!N83","v":0},null,null,null,{"$f":"HOJA_CAPTURA!N84","v":0}]
[]
[]
[]
[]
[null,{"$f":"HOJA_CAPTURA!O83","v":0},null,null,null,{"$f":"HOJA_CAPTURA!O84","v":0}]
[]
[]
[]
[]
[]
[]
[]
[]
[]
[]
[]
[]
[]
[]
[]
[]
[]
[]
[]
[]
[]
[]
[]
[]
[]
[]
[]
[]
[]
[]
[]
[]
[]
[null,null,null,null,null,null,null,null," "]
[]
[]
[]
[]
[]
[null,null,"Clasificación:",null,null,null,"Clasificación:"]
[null,{"$f":"HOJA_CAPTURA!N85","v":0},null,null,null,{"$f":"HOJA_CAPTURA!N86","v":0}]
[]
[]
[]
[]
[null,{"$f":"HOJA_CAPTURA!O85","v":0},null,null,null,{"$f":"HOJA_CAPTURA!O86","v":0}]
[]
[]
[]
[]
[]
[]
[]
[]
[]
[]
[]
[]
[]
[]
[]
[]
[]
[]
[]
[]
[]
[]
[]
[]
[]
[]
[]
[]
[]
[]
[]
[]
[]
[null,null,null,null,null,null,null,null," "]
[]
[]
[]
[]
[]
[null,null,"Clasificación:",null,null,null,"Clasificación:"]
[null,{"$f":"HOJA_CAPTURA!N87","v":0},null,null,null,{"$f":"HOJA_CAPTURA!N88","v":0}]
[]
[]
[]
[]
[null,{"$f":"HOJA_CAPTURA!O87","v":0},null,null,null,{"$f":"HOJA_CAPTURA!O88","v":0}]
[]
[]
[]
[]
[]
[]
[]
[]
[]
[]
[]
[]
[]
[]
[]
[]
[]
[]
[]
[]
[]
[]
[]
[]
[]
[]
[]
[]
[]
[]
[]
[]
[]
[null,null,null,null,null,null,null,null," "]
[]
[]
[]
[]
[]
[null,null,"Clasificación:",null,null,null,"Clasificación:"]
[null,{"$f":"HOJA_CAPTURA!N89","v":0},null,null,null,{"$f":"HOJA_CAPTURA!N90","v":0}]
[]
[]
[]
[]
[null,{"$f":"HOJA_CAPTURA!O89","v":0},null,null,null,{"$f":"HOJA_CAPTURA!O90","v":0}]
[]
[]
[]
[]
[]
[]
[]
[]
[]
[]
[]
[]
[]
[]
[]
[]
[]
[]
[]
[]
[]
[]
[]
[]
[]
[]
[]
[]
[]
[]
[]
[]
[]
[null,null,null,null,null,null,null,null," "]
[]
[]
[]
[]
[]
[null,null,"Clasificación:",null,null,null,"Clasificación:"]
[null,{"$f":"HOJA_CAPTURA!N91","v":0},null,null,null,{"$f":"HOJA_CAPTURA!N92","v":0}]
[]
[]
[]
[]
[null,{"$f":"HOJA_CAPTURA!O91","v":0},null,null,null,{"$f":"HOJA_CAPTURA!O92","v":0}]
[]
[]
[]
[]
[]
[]
[]
[]
[]
[]
[]
[]
[]
[]
[]
[]
[]
[]
[]
[]
[]
[]
[]
[]
[]
[]
[]
[]
[]
[]
[]
[]
[]
[null,null,null,null,null,null,null,null," "]
[]
[]
[]
[]
[]
[null,null,"Clasificación:",null,null,null,"Clasificación:"]
[null,{"$f":"HOJA_CAPTURA!N93","v":0},null,null,null,{"$f":"HOJA_CAPTURA!N94","v":0}]
[]
[]
[]
[]
[null,{"$f":"HOJA_CAPTURA!O93","v":0},null,null,null,{"$f":"HOJA_CAPTURA!O94","v":0}]
[]
[]
[]
[]
[]
[]
[]
[]
[]
[]
[]
[]
[]
[]
[]
[]
[]
[]
[]
[]
[]
[]
[]
[]
[]
[]
[]
[]
[]
[]
[]
[]
[]
[null,null,null,null,null,null,null,null," "]
[]
[]
[]
[]
[]
[null,null,"Clasificación:",null,null,null,"Clasificación:"]
[null,{"$f":"HOJA_CAPTURA!N95","v":0},null,null,null,{"$f":"HOJA_CAPTURA!N96","v":0}]
[]
[]
[]
[]
[null,{"$f":"HOJA_CAPTURA!O95","v":0},null,null,null,{"$f":"HOJA_CAPTURA!O96","v":0}]
[]
[]
[]
[]
[]
[]
[]
[]
[]
[]
[]
[]
[]
[]
[]
[]
[]
[]
[]
[]
[]
[]
[]
[]
[]
[]
[]
[]
[]
[]
[]
[]
[]
[null,null,null,null,null,null,null,null," "]
[]
[]
[]
[]
[]
[null,null,"Clasificación:",null,null,null,"Clasificación:"]
[null,{"$f":"HOJA_CAPTURA!N97","v":0},null,null,null,{"$f":"HOJA_CAPTURA!N98","v":0}]
[]
[]
[]
[]
[null,{"$f":"HOJA_CAPTURA!O97","v":0},null,null,null,{"$f":"HOJA_CAPTURA!O98","v":0}]
[]
[]
[]
[]
[]
[]
[]
[]
[]
[]
[]
[]
[]
[]
[]
[]
[]
[]
[]
[]
[]
[]
[]
[]
[]
[]
[]
[]
[]
[]
[]
[]
[]
[null,null,null,null,null,null,null,null," "]
[]
[]
[]
[]
[]
[null,null,"Clasificación:",null,null,null,"Clasificación:"]
[null,{"$f":"HOJA_CAPTURA!N99","v":0},null,null,null,{"$f":"HOJA_CAPTURA!N100","v":0}]
[]
[]
[]
[]
[null,{"$f":"HOJA_CAPTURA!O99","v":0},null,null,null,{"$f":"HOJA_CAPTURA!O100","v":0}]
[]
[]
[]
[]
[]
[]
[]
[]
[]
[]
[]
[]
[]
[]
[]
[]
[]
[]
[]
[]
[]
[]
[]
[]
[]
[]
[]
[]
[]
[]
[]
[]
[]
[null,null,null,null,null,null,null,null," "]
[]
[]
[]
[]
[]
[null,null,"Clasificación:",null,null,null,"Clasificación:"]
[null,{"$f":"HOJA_CAPTURA!N101","v":0},null,null,null,{"$f":"HOJA_CAPTURA!N102","v":0}]
[]
[]
[]
[]
[null,{"$f":"HOJA_CAPTURA!O101","v":0},null,null,null,{"$f":"HOJA_CAPTURA!O102","v":0}]
[]
[]
[]
[]
[]
[]
[]
[]
[]
[]
[]
[]
[]
[]
[]
[]
[]
[]
[]
[]
[]
[]
[]
[]
[]
[]
[" "]
[]
[]
[]
[]
[]
[]
[null,null,null,null,null,null,null,null," "]
[]
[]
[]
[]
[]
[null,null,"Clasificación:",null,null,null,"Clasificación:"]
[null,{"$f":"HOJA_CAPTURA!N103","v":0},null,null,null,{"$f":"HOJA_CAPTURA!N104","v":0}]
[]
[]
[]
[]
[null,{"$f":"HOJA_CAPTURA!O103","v":0},null,null,null,{"$f":"HOJA_CAPTURA!O104","v":0}]
[]
[]
[]
[]
[]
[]
[]
[]
[]
[]
[]
[]
[]
[]
[]
[]
[]
[]
[]
[]
[]
[]
[]
[]
[]
[]
[" "]
[]
[]
[]
[]
[]
[]
[null,null,null,null,null,null,null,null," "]
[]
[]
[]
[]
[]
[null,null,"Clasificación:",null,null,null,"Clasificación:"]
[null,{"$f":"HOJA_CAPTURA!N105","v":0},null,null,null,{"$f":"HOJA_CAPTURA!N106","v":0}]
[]
[]
[]
[]
[null,{"$f":"HOJA_CAPTURA!O105","v":0},null,null,null,{"$f":"HOJA_CAPTURA!O106","v":0}]
[]
[]
[]
[]
[]
[]
[]
[]
[]
[]
[]
[]
[]
[]
[]
[]
[]
[]
[]
[]
[]
[]
[]
[]
[]
[]
[" "]
[]
[]
[]
[]
[]
[]
[null,null,null,null,null,null,null,null," "]
[]
[]
[]
[]
[]
[null,null,"Clasificación:",null,null,null,"Clasificación:"]
[null,{"$f":"HOJA_CAPTURA!N107","v":0},null,null,null,{"$f":"HOJA_CAPTURA!N108","v":0}]
[]
[]
[]
[]
[null,{"$f":"HOJA_CAPTURA!O107","v":0},null,null,null,{"$f":"HOJA_CAPTURA!O108","v":0}]
[]
[]
[]
[]
[]
[]
[]
[]
[]
[]
[]
[]
[]
[]
[]
[]
[]
[]
[]
[]
[]
[]
[]
[]
[]
[]
[" "]
[]
[]
[]
[]
[]
[]
[null,null,null,null,null,null,null,null," "]
[]
[]
[]
[]
[]
[null,null,"Clasificación:",null,null,null,"Clasificación:"]
[null,{"$f":"HOJA_CAPTURA!N109","v":0},null,null,null,{"$f":"HOJA_CAPTURA!N110","v":0}]
[]
[]
[]
[]
[null,{"$f":"HOJA_CAPTURA!O109","v":0},null,null,null,{"$f":"HOJA_CAPTURA!O110","v":0}]
[]
[]
[]
[]
[]
[]
[]
[]
[]
[]
[]
[]
[]
[]
[]
[]
[]
[]
[]
[]
[]
[]
[]
[]
[]
[]
[" "]
[]
[]
[]
[]
[]
[]
[null,null,null,null,null,null,null,null," "]
[]
[]
[]
[]
[]
[null,null,"Clasificación:",null,null,null,"Clasificación:"]
[null,{"$f":"HOJA_CAPTURA!N111","v":0},null,null,null,{"$f":"HOJA_CAPTURA!N112","v":0}]
[]
[]
[]
[]
[null,{"$f":"HOJA_CAPTURA!O111","v":0},null,null,null,{"$f":"HOJA_CAPTURA!O112","v":0}]
[]
[]
[]
[]
[]
[]
[]
[]
[]
[]
[]
[]
[]
[]
[]
[]
[]
[]
[]
[]
[]
[]
[]
[]
[]
[]
[" "]
[]
[]
[]
[]
[]
[]
[null,null,null,null,null,null,null,null," "]
[]
[]
[]
[]
[]
[null,null,"Clasificación:",null,null,null,"Clasificación:"]
[null,{"$f":"HOJA_CAPTURA!N113","v":0},null,null,null,{"$f":"HOJA_CAPTURA!N114","v":0}]
[]
[]
[]
[]
[null,{"$f":"HOJA_CAPTURA!O113","v":0},null,null,null,{"$f":"HOJA_CAPTURA!O114","v":0}]
[]
[]
[]
[]
[]
[]
[]
[]
[]
[]
[]
[]
[]
[]
[]
[]
[]
[]
[]
[]
[]
[]
[]
[]
[]
[]
[" "]
[]
[]
[]
[]
[]
[]
[null,null,null,null,null,null,null,null," "]
[]
[]
[]
[]
[]
[null,null,"Clasificación:",null,null,null,"Clasificación:"]
[null,{"$f":"HOJA_CAPTURA!N115","v":0},null,null,null,{"$f":"HOJA_CAPTURA!N116","v":0}]
[]
[]
[]
[]
[null,{"$f":"HOJA_CAPTURA!O115","v":0},null,null,null,{"$f":"HOJA_CAPTURA!O116","v":0}]
[]
[]
[]
[]
[]
[]
[]
[]
[]
[]
[]
[]
[]
[]
[]
[]
[]
[]
[]
[]
[]
[]
[]
[]
[]
[]
[" "]
[]
[]
[]
[]
[]
[]
[null,null,null,null,null,null,null,null," "]
[]
[]
[]
[]
[]
[null,null,"Clasificación:",null,null,null,"Clasificación:"]
[null,{"$f":"HOJA_CAPTURA!N117","v":0},null,null,null,{"$f":"HOJA_CAPTURA!N118","v":0}]
[]
[]
[]
[]
[null,{"$f":"HOJA_CAPTURA!O117","v":0},null,null,null,{"$f":"HOJA_CAPTURA!O118","v":0}]
[]
[]
[]
[]
[]
[]
[]
[]
[]
[]
[]
[]
[]
[]
[]
[]
[]
[]
[]
[]
[]
[]
[]
[]
[]
[]
[" "]
[]
[]
[]
[]
[]
[]
[null,null,null,null,null,null,null,null," "]
[]
[]
[]
[]
[]
[null,null,"Clasificación:",null,null,null,"Clasificación:"]
[null,{"$f":"HOJA_CAPTURA!N119","v":0},null,null,null,{"$f":"HOJA_CAPTURA!N120","v":0}]
[]
[]
[]
[]
[null,{"$f":"HOJA_CAPTURA!O119","v":0},null,null,null,{"$f":"HOJA_CAPTURA!O120","v":0}]
[]
[]
[]
[]
[]
[]
[]
[]
[]
[]
[]
[]
[]
[]
[]
[]
[]
[]
[]
[]
[]
[]
[]
[]
[]
[]
[" "]
[]
[]
[]
[]
[]
[]
[null,null,null,null,null,null,null,null," "]
[]
[]
[]
[]
[]
[null,null,"Clasificación:",null,null,null,"Clasificación:"]
[null,{"$f":"HOJA_CAPTURA!N121","v":0},null,null,null,{"$f":"HOJA_CAPTURA!N122","v":0}]
[]
[]
[]
[]
[null,{"$f":"HOJA_CAPTURA!O121","v":0},null,null,null,{"$f":"HOJA_CAPTURA!O122","v":0}]
[]
[]
[]
[]
[]
[]
[]
[]
[]
[]
[]
[]
[]
[]
[]
[]
[]
[]
[]
[]
[]
[]
[]
[]
[]
[]
[" "]
[]
[]
[]
[]
[]
[]
[null,null,null,null,null,null,null,null," "]
[]
[]
[]
[]
[]
[null,null,"Clasificación:",null,null,null,"Clasificación:"]
[null,{"$f":"HOJA_CAPTURA!N123","v":0},null,null,null,{"$f":"HOJA_CAPTURA!N124","v":0}]
[]
[]
[]
[]
[null,{"$f":"HOJA_CAPTURA!O123","v":0},null,null,null,{"$f":"HOJA_CAPTURA!O124","v":0}]
[]
[]
[]
[]
[]
[]
[]
[]
[]
[]
[]
[]
[]
[]
[]
[]
[]
[]
[]
[]
[]
[]
[]
[]
[]
[]
[" "]
[]
[]
[]
[]
[]
[]
[null,null,null,null,null,null,null,null," "]
[]
[]
[]
[]
[]
[null,null,"Clasificación:",null,null,null,"Clasificación:"]
[null,{"$f":"HOJA_CAPTURA!N125","v":0},null,null,null,{"$f":"HOJA_CAPTURA!N126","v":0}]
[]
[]
[]
[]
[null,{"$f":"HOJA_CAPTURA!O125","v":0},null,null,null,{"$f":"HOJA_CAPTURA!O126","v":0}]
[]
[]
[]
[]
[]
[]
[]
[]
[]
[]
[]
[]
[]
[]
[]
[]
[]
[]
[]
[]
[]
[]
[]
[]
[]
[]
[" "]
[]
[]
[]
[]
[]
[]
[null,null,null,null,null,null,null,null," "]
[]
[]
[]
[]
[]
[null,null,"Clasificación:",null,null,null,"Clasificación:"]
[null,{"$f":"HOJA_CAPTURA!N127","v":0},null,null,null,{"$f":"HOJA_CAPTURA!N128","v":0}]
[]
[]
[]
[]
[null,{"$f":"HOJA_CAPTURA!O127","v":0},null,null,null,{"$f":"HOJA_CAPTURA!O128","v":0}]
[]
[]
[]
[]
[]
[]
[]
[]
[]
[]
[]
[]
[]
[]
[]
[]
[]
[]
[]
[]
[]
[]
[]
[]
[]
[]
[" "]
[]
[]
[]
[]
[]
[]
[null,null,null,null,null,null,null,null," "]
[]
[]
[]
[]
[]
[null,null,"Clasificación:",null,null,null,"Clasificación:"]
[null,{"$f":"HOJA_CAPTURA!N129","v":0},null,null,null,{"$f":"HOJA_CAPTURA!N130","v":0}]
[]
[]
[]
[]
[null,{"$f":"HOJA_CAPTURA!O129","v":0},null,null,null,{"$f":"HOJA_CAPTURA!O130","v":0}]
[]
[]
[]
[]
[]
[]
[]
[]
[]
[]
[]
[]
[]
[]
[]
[]
[]
[]
[]
[]
[]
[]
[]
[]
[]
[]
[" "]
[]
[]
[]
[]
[]
[]
[null,null,null,null,null,null,null,null," "]
[]
[]
[]
[]
[]
[null,null,"Clasificación:",null,null,null,"Clasificación:"]
[null,{"$f":"HOJA_CAPTURA!N131","v":0},null,null,null,{"$f":"HOJA_CAPTURA!N132","v":0}]
[]
[]
[]
[]
[null,{"$f":"HOJA_CAPTURA!O131","v":0},null,null,null,{"$f":"HOJA_CAPTURA!O132","v":0}]
[]
[]
[]
[]
[]
[]
[]
[]
[]
[]
[]
[]
[]
[]
[]
[]
[]
[]
[]
[]
[]
[]
[]
[]
[]
[]
[" "]
[]
[]
[]
[]
[]
[]
[null,null,null,null,null,null,null,null," "]
[]
[]
[]
[]
[]
[null,null,"Clasificación:",null,null,null,"Clasificación:"]
[null,{"$f":"HOJA_CAPTURA!N133","v":0},null,null,null,{"$f":"HOJA_CAPTURA!N134","v":0}]
[]
[]
[]
[]
[null,{"$f":"HOJA_CAPTURA!O133","v":0},null,null,null,{"$f":"HOJA_CAPTURA!O134","v":0}]
[]
[]
[]
[]
[]
[]
[]
[]
[]
[]
[]
[]
[]
[]
[]
[]
[]
[]
[]
[]
[]
[]
[]
[]
[]
[]
[" "]
[]
[]
[]
[]
[]
[]
[null,null,null,null,null,null,null,null," "]
[]
[]
[]
[]
[]
[null,null,"Clasificación:",null,null,null,"Clasificación:"]
[null,{"$f":"HOJA_CAPTURA!N135","v":0},null,null,null,{"$f":"HOJA_CAPTURA!N136","v":0}]
[]
[]
[]
[]
[null,{"$f":"HOJA_CAPTURA!O135","v":0},null,null,null,{"$f":"HOJA_CAPTURA!O136","v":0}]
[]
[]
[]
[]
[]
[]
[]
[]
[]
[]
[]
[]
[]
[]
[]
[]
[]
[]
[]
[]
[]
[]
[]
[]
[]
[]
[" "]
[]
[]
[]
[]
[]
[]
[null,null,null,null,null,null,null,null," "]
[]
[]
[]
[]
[]
[null,null,"Clasificación:",null,null,null,"Clasificación:"]
[null,{"$f":"HOJA_CAPTURA!N137","v":0},null,null,null,{"$f":"HOJA_CAPTURA!N138","v":0}]
[]
[]
[]
[]
[null,{"$f":"HOJA_CAPTURA!O137","v":0},null,null,null,{"$f":"HOJA_CAPTURA!O138","v":0}]
[]
[]
[]
[]
[]
[]
[]
[]
[]
[]
[]
[]
[]
[]
[]
[]
[]
[]
[]
[]
[]
[]
[]
[]
[]
[]
[" "]
[]
[]
[]
[]
[]
[]
[null,null,null,null,null,null,null,null," "]
[]
[]
[]
[]
[]
[null,null,"Clasificación:",null,null,null,"Clasificación:"]
[null,{"$f":"HOJA_CAPTURA!N139","v":0},null,null,null,{"$f":"HOJA_CAPTURA!N140","v":0}]
[]
[]
[]
[]
[null,{"$f":"HOJA_CAPTURA!O139","v":0},null,null,null,{"$f":"HOJA_CAPTURA!O140","v":0}]
[]
[]
[]
[]
[]
[]
[]
[]
[]
[]
[]
[]
[]
[]
[]
[]
[]
[]
[]
[]
[]
[]
[]
[]
[]
[]
[" "]
[]
[]
[]
[]
[]
[]
[null,null,null,null,null,null,null,null," "]
[]
[]
[]
[]
[]
[null,null,"Clasificación:",null,null,null,"Clasificación:"]
[null,{"$f":"HOJA_CAPTURA!N141","v":0},null,null,null,{"$f":"HOJA_CAPTURA!N142","v":0}]
[]
[]
[]
[]
[null,{"$f":"HOJA_CAPTURA!O141","v":0},null,null,null,{"$f":"HOJA_CAPTURA!O142","v":0}]
[]
[]
[]
[]
[]
[]
[]
[]
[]
[]
[]
[]
[]
[]
[]
[]
[]
[]
[]
[]
[]
[]
[]
[]
[]
[]
[" "]
[]
[]
[]
[]
[]
[]
[null,null,null,null,null,null,null,null," "]
[]
[]
[]
[]
[]
[null,null,"Clasificación:",null,null,null,"Clasificación:"]
[null,{"$f":"HOJA_CAPTURA!N143","v":0},null,null,null,{"$f":"HOJA_CAPTURA!N144","v":0}]
[]
[]
[]
[]
[null,{"$f":"HOJA_CAPTURA!O143","v":0},null,null,null,{"$f":"HOJA_CAPTURA!O144","v":0}]
[]
[]
[]
[]
[]
[]
[]
[]
[]
[]
[]
[]
[]
[]
[]
[]
[]
[]
[]
[]
[]
[]
[]
[]
[]
[]
[" "]
[]
[]
[]
[]
[]
[]
[null,null,null,null,null,null,null,null," "]
[]
[]
[]
[]
[]
[null,null,"Clasificación:",null,null,null,"Clasificación:"]
[null,{"$f":"HOJA_CAPTURA!N145","v":0},null,null,null,{"$f":"HOJA_CAPTURA!N146","v":0}]
[]
[]
[]
[]
[null,{"$f":"HOJA_CAPTURA!O145","v":0},null,null,null,{"$f":"HOJA_CAPTURA!O146","v":0}]
[]
[]
[]
[]
[]
[]
[]
[]
[]
[]
[]
[]
[]
[]
[]
[]
[]
[]
[]
[]
[]
[]
[]
[]
[]
[]
[" "]
[]
[]
[]
[]
[]
[]
[null,null,null,null,null,null,null,null," "]
[]
[]
[]
[]
[]
[null,null,"Clasificación:",null,null,null,"Clasificación:"]
[null,{"$f":"HOJA_CAPTURA!N147","v":0},null,null,null,{"$f":"HOJA_CAPTURA!N148","v":0}]
[]
[]
[]
[]
[null,{"$f":"HOJA_CAPTURA!O147","v":0},null,null,null,{"$f":"HOJA_CAPTURA!O148","v":0}]
[]
[]
[]
[]
[]
[]
[]
[]
[]
[]
[]
[]
[]
[]
[]
[]
[]
[]
[]
[]
[]
[]
[]
[]
[]
[]
[" "]
[]
[]
[]
[]
[]
[]
[null,null,null,null,null,null,null,null," "]
[]
[]
[]
[]
[]
[null,null,"Clasificación:",null,null,null,"Clasificación:"]
[null,{"$f":"HOJA_CAPTURA!N149","v":0},null,null,null,{"$f":"HOJA_CAPTURA!N150","v":0}]
[]
[]
[]
[]
[null,{"$f":"HOJA_CAPTURA!O149","v":0},null,null,null,{"$f":"HOJA_CAPTURA!O150","v":0}]
[]
[]
[]
[]
[]
[]
[]
[]
[]
[]
[]
[]
[]
[]
[]
[]
[]
[]
[]
[]
[]
[]
[]
[]
[]
[]
[" "]
[]
[]
[]
[]
[]
[]
[null,null,null,null,null,null,null,null," "]
[]
[]
[]
[]
[]
[null,null,"Clasificación:",null,null,null,"Clasificación:"]
[null,{"$f":"HOJA_CAPTURA!N151","v":0},null,null,null,{"$f":"HOJA_CAPTURA!N152","v":0}]
[]
[]
[]
[]
[null,{"$f":"HOJA_CAPTURA!O151","v":0},null,null,null,{"$f":"HOJA_CAPTURA!O152","v":0}]
[]
[]
[]
[]
[]
[]
[]
[]
[]
[]
[]
[]
[]
[]
[]
[]
[]
[]
[]
[]
[]
[]
[]
[]
[]
[]
[" "]
[]
[]
[]
[]
[]
[]
[null,null,null,null,null,null,null,null," "]
[]
[]
[]
[]
[]
[null,null,"Clasificación:",null,null,null,"Clasificación:"]
[null,{"$f":"HOJA_CAPTURA!N153","v":0},null,null,null,{"$f":"HOJA_CAPTURA!N154","v":0}]
[]
[]
[]
[]
[null,{"$f":"HOJA_CAPTURA!O153","v":0},null,null,null,{"$f":"HOJA_CAPTURA!O154","v":0}]
[]
[]
[]
[]
[]
[]
[]
[]
[]
[]
[]
[]
[]
[]
[]
[]
[]
[]
[]
[]
[]
[]
[]
[]
[]
[]
[" "]
[]
[]
[]
[]
[]
[]
[null,null,null,null,null,null,null,null," "]
[]
[]
[]
[]
[]
[null,null,"Clasificación:",null,null,null,"Clasificación:"]
[null,{"$f":"HOJA_CAPTURA!N155","v":0},null,null,null,{"$f":"HOJA_CAPTURA!N156","v":0}]
[]
[]
[]
[]
[null,{"$f":"HOJA_CAPTURA!O155","v":0},null,null,null,{"$f":"HOJA_CAPTURA!O156","v":0}]
[]
[]
[]
[]
[]
[]
[]
[]
[]
[]
[]
[]
[]
[]
[]
[]
[]
[]
[]
[]
[]
[]
[]
[]
[]
[]
[" "]
[]
[]
[]
[]
[]
[]
[null,null,null,null,null,null,null,null," "]
[]
[]
[]
[]
[]
[null,null,"Clasificación:",null,null,null,"Clasificación:"]
[null,{"$f":"HOJA_CAPTURA!N157","v":0},null,null,null,{"$f":"HOJA_CAPTURA!N158","v":0}]
[]
[]
[]
[]
[null,{"$f":"HOJA_CAPTURA!O157","v":0},null,null,null,{"$f":"HOJA_CAPTURA!O158","v":0}]
[]
[]
[]
[]
[]
[]
[]
[]
[]
[]
[]
[]
[]
[]
[]
[]
[]
[]
[]
[]
[]
[]
[]
[]
[]
[]
[" "]
[]
[]
[]
[]
[]
[]
[null,null,null,null,null,null,null,null," "]
[]
[]
[]
[]
[]
[null,null,"Clasificación:",null,null,null,"Clasificación:"]
[null,{"$f":"HOJA_CAPTURA!N159","v":0},null,null,null,{"$f":"HOJA_CAPTURA!N160","v":0}]
[]
[]
[]
[]
[null,{"$f":"HOJA_CAPTURA!O159","v":0},null,null,null,{"$f":"HOJA_CAPTURA!O160","v":0}]
[]
[]
[]
[]
[]
[]
[]
[]
[]
[]
[]
[]
[]
[]
[]
[]
[]
[]
[]
[]
[]
[]
[]
[]
[]
[]
[" "]
[]
[]
[]
[]
[]
[]
[null,null,null,null,null,null,null,null," "]
[]
[]
[]
[]
[]
[null,null,"Clasificación:",null,null,null,"Clasificación:"]
[null,{"$f":"HOJA_CAPTURA!N161","v":0},null,null,null,{"$f":"HOJA_CAPTURA!N162","v":0}]
[]
[]
[]
[]
[null,{"$f":"HOJA_CAPTURA!O161","v":0},null,null,null,{"$f":"HOJA_CAPTURA!O162","v":0}]
[]
[]
[]
[]
[]
[]
[]
[]
[]
[]
[]
[]
[]
[]
[]
[]
[]
[]
[]
[]
[]
[]
[]
[]
[]
[]
[" "]
[]
[]
[]
[]
[]
[]
[null,null,null,null,null,null,null,null," "]
[]
[]
[]
[]
[]
[null,null,"Clasificación:",null,null,null,"Clasificación:"]
[null,{"$f":"HOJA_CAPTURA!N163","v":0},null,null,null,{"$f":"HOJA_CAPTURA!N164","v":0}]
[]
[]
[]
[]
[null,{"$f":"HOJA_CAPTURA!O163","v":0},null,null,null,{"$f":"HOJA_CAPTURA!O164","v":0}]
[]
[]
[]
[]
[]
[]
[]
[]
[]
[]
[]
[]
[]
[]
[]
[]
[]
[]
[]
[]
[]
[]
[]
[]
[]
[]
[" "]
[]
[]
[]
[]
[]
[]
[null,null,null,null,null,null,null,null," "]
[]
[]
[]
[]
[]
[null,null,"Clasificación:",null,null,null,"Clasificación:"]
[null,{"$f":"HOJA_CAPTURA!N165","v":0},null,null,null,{"$f":"HOJA_CAPTURA!N166","v":0}]
[]
[]
[]
[]
[null,{"$f":"HOJA_CAPTURA!O165","v":0},null,null,null,{"$f":"HOJA_CAPTURA!O166","v":0}]
[]
[]
[]
[]
[]
[]
[]
[]
[]
[]
[]
[]
[]
[]
[]
[]
[]
[]
[]
[]
[]
[]
[]
[]
[]
[]
[" "]
[]
[]
[]
[]
[]
[]
[null,null,null,null,null,null,null,null," "]
[]
[]
[]
[]
[]
[null,null,"Clasificación:",null,null,null,"Clasificación:"]
[null,{"$f":"HOJA_CAPTURA!N167","v":0},null,null,null,{"$f":"HOJA_CAPTURA!N168","v":0}]
[]
[]
[]
[]
[null,{"$f":"HOJA_CAPTURA!O167","v":0},null,null,null,{"$f":"HOJA_CAPTURA!O168","v":0}]
[]
[]
[]
[]
[]
[]
[]
[]
[]
[]
[]
[]
[]
[]
[]
[]
[]
[]
[]
[]
[]
[]
[]
[]
[]
[]
[" "]
[]
[]
[]
[]
[]
[]
[null,null,null,null,null,null,null,null," "]
[]
[]
[]
[]
[]
[null,null,"Clasificación:",null,null,null,"Clasificación:"]
[null,{"$f":"HOJA_CAPTURA!N169","v":0},null,null,null,{"$f":"HOJA_CAPTURA!N170","v":0}]
[]
[]
[]
[]
[null,{"$f":"HOJA_CAPTURA!O169","v":0},null,null,null,{"$f":"HOJA_CAPTURA!O170","v":0}]
[]
[]
[]
[]
[]
[]
[]
[]
[]
[]
[]
[]
[]
[]
[]
[]
[]
[]
[]
[]
[]
[]
[]
[]
[]
[]
[" "]
[]
[]
[]
[]
[]
[]
[null,null,null,null,null,null,null,null," "]
[]
[]
[]
[]
[]
[null,null,"Clasificación:",null,null,null,"Clasificación:"]
[null,{"$f":"HOJA_CAPTURA!N171","v":0},null,null,null,{"$f":"HOJA_CAPTURA!N172","v":0}]
[]
[]
[]
[]
[null,{"$f":"HOJA_CAPTURA!O171","v":0},null,null,null,{"$f":"HOJA_CAPTURA!O172","v":0}]
[]
[]
[]
[]
[]
[]
[]
[]
[]
[]
[]
[]
[]
[]
[]
[]
[]
[]
[]
[]
[]
[]
[]
[]
[]
[]
[" "]
[]
[]
[]
[]
[]
[]
[null,null,null,null,null,null,null,null," "]
[]
[]
[]
[]
[]
[null,null,"Clasificación:",null,null,null,"Clasificación:"]
[null,{"$f":"HOJA_CAPTURA!N173","v":0},null,null,null,{"$f":"HOJA_CAPTURA!N174","v":0}]
[]
[]
[]
[]
[null,{"$f":"HOJA_CAPTURA!O173","v":0},null,null,null,{"$f":"HOJA_CAPTURA!O174","v":0}]
[]
[]
[]
[]
[]
[]
[]
[]
[]
[]
[]
[]
[]
[]
[]
[]
[]
[]
[]
[]
[]
[]
[]
[]
[]
[]
[" "]
[]
[]
[]
[]
[]
[]
[null,null,null,null,null,null,null,null," "]
[]
[]
[]
[]
[]
[null,null,"Clasificación:",null,null,null,"Clasificación:"]
[null,{"$f":"HOJA_CAPTURA!N175","v":0},null,null,null,{"$f":"HOJA_CAPTURA!N176","v":0}]
[]
[]
[]
[]
[null,{"$f":"HOJA_CAPTURA!O175","v":0},null,null,null,{"$f":"HOJA_CAPTURA!O176","v":0}]
[]
[]
[]
[]
[]
[]
[]
[]
[]
[]
[]
[]
[]
[]
[]
[]
[]
[]
[]
[]
[]
[]
[]
[]
[]
[]
[" "]
[]
[]
[]
[]
[]
[]
[null,null,null,null,null,null,null,null," "]
[]
[]
[]
[]
[]
[null,null,"Clasificación:",null,null,null,"Clasificación:"]
[null,{"$f":"HOJA_CAPTURA!N177","v":0},null,null,null,{"$f":"HOJA_CAPTURA!N178","v":0}]
[]
[]
[]
[]
[null,{"$f":"HOJA_CAPTURA!O177","v":0},null,null,null,{"$f":"HOJA_CAPTURA!O178","v":0}]
[]
[]
[]
[]
[]
[]
[]
[]
[]
[]
[]
[]
[]
[]
[]
[]
[]
[]
[]
[]
[]
[]
[]
[]
[]
[]
[" "]
[]
[]
[]
[]
[]
[]
[null,null,null,null,null,null,null,null," "]
[]
[]
[]
[]
[]
[null,null,"Clasificación:",null,null,null,"Clasificación:"]
[null,{"$f":"HOJA_CAPTURA!N179","v":0},null,null,null,{"$f":"HOJA_CAPTURA!N180","v":0}]
[]
[]
[]
[]
[null,{"$f":"HOJA_CAPTURA!O179","v":0},null,null,null,{"$f":"HOJA_CAPTURA!O180","v":0}]
[]
[]
[]
[]
[]
[]
[]
[]
[]
[]
[]
[]
[]
[]
[]
[]
[]
[]
[]
[]
[]
[]
[]
[]
[]
[]
[" "]
[]
[]
[]
[]
[]
[]
[null,null,null,null,null,null,null,null," "]
[]
[]
[]
[]
[]
[null,null,"Clasificación:",null,null,null,"Clasificación:"]
[null,{"$f":"HOJA_CAPTURA!N181","v":0},null,null,null,{"$f":"HOJA_CAPTURA!N182","v":0}]
[]
[]
[]
[]
[null,{"$f":"HOJA_CAPTURA!O181","v":0},null,null,null,{"$f":"HOJA_CAPTURA!O182","v":0}]
[]
[]
[]
[]
[]
[]
[]
[]
[]
[]
[]
[]
[]
[]
[]
[]
[]
[]
[]
[]
[]
[]
[]
[]
[]
[]
[" "]
[]
[]
[]
[]
[]
[]
[null,null,null,null,null,null,null,null," "]
[]
[]
[]
[]
[]
[null,null,"Clasificación:",null,null,null,"Clasificación:"]
[null,{"$f":"HOJA_CAPTURA!N183","v":0},null,null,null,{"$f":"HOJA_CAPTURA!N184","v":0}]
[]
[]
[]
[]
[null,{"$f":"HOJA_CAPTURA!O183","v":0},null,null,null,{"$f":"HOJA_CAPTURA!O184","v":0}]
[]
[]
[]
[]
[]
[]
[]
[]
[]
[]
[]
[]
[]
[]
[]
[]
[]
[]
[]
[]
[]
[]
[]
[]
[]
[]
[" "]
[]
[]
[]
[]
[]
[]
[null,null,null,null,null,null,null,null," "]
[]
[]
[]
[]
[]
[null,null,"Clasificación:",null,null,null,"Clasificación:"]
[null,{"$f":"HOJA_CAPTURA!N185","v":0},null,null,null,{"$f":"HOJA_CAPTURA!N186","v":0}]
[]
[]
[]
[]
[null,{"$f":"HOJA_CAPTURA!O185","v":0},null,null,null,{"$f":"HOJA_CAPTURA!O186","v":0}]
[]
[]
[]
[]
[]
[]
[]
[]
[]
[]
[]
[]
[]
[]
[]
[]
[]
[]
[]
[]
[]
[]
[]
[]
[]
[]
[" "]
[]
[]
[]
[]
[]
[]
[null,null,null,null,null,null,null,null," "]
[]
[]
[]
[]
[]
[null,null,"Clasificación:",null,null,null,"Clasificación:"]
[null,{"$f":"HOJA_CAPTURA!N187","v":0},null,null,null,{"$f":"HOJA_CAPTURA!N188","v":0}]
[]
[]
[]
[]
[null,{"$f":"HOJA_CAPTURA!O187","v":0},null,null,null,{"$f":"HOJA_CAPTURA!O188","v":0}]
[]
[]
[]
[]
[]
[]
[]
[]
[]
[]
[]
[]
[]
[]
[]
[]
[]
[]
[]
[]
[]
[]
[]
[]
[]
[]
[" "]
[]
[]
[]
[]
[]
[]
[null,null,null,null,null,null,null,null," "]
[]
[]
[]
[]
[]
[null,null,"Clasificación:",null,null,null,"Clasificación:"]
[null,{"$f":"HOJA_CAPTURA!N189","v":0},null,null,null,{"$f":"HOJA_CAPTURA!N190","v":0}]
[]
[]
[]
[]
[null,{"$f":"HOJA_CAPTURA!O189","v":0},null,null,null,{"$f":"HOJA_CAPTURA!O190","v":0}]
[]
[]
[]
[]
[]
[]
[]
[]
[]
[]
[]
[]
[]
[]
[]
[]
[]
[]
[]
[]
[]
[]
[]
[]
[]
[]
[" "]
[]
[]
[]
[]
[]
[]
[null,null,null,null,null,null,null,null," "]
[]
[]
[]
[]
[]
[null,null,"Clasificación:",null,null,null,"Clasificación:"]
[null,{"$f":"HOJA_CAPTURA!N191","v":0},null,null,null,{"$f":"HOJA_CAPTURA!N192","v":0}]
[]
[]
[]
[]
[null,{"$f":"HOJA_CAPTURA!O191","v":0},null,null,null,{"$f":"HOJA_CAPTURA!O192","v":0}]
[]
[]
[]
[]
[]
[]
[]
[]
[]
[]
[]
[]
[]
[]
[]
[]
[]
[]
[]
[]
[]
[]
[]
[]
[]
[]
[" "]
[]
[]
[]
[]
[]
[]
[null,null,null,null,null,null,null,null," "]
[]
[]
[]
[]
[]
[null,null,"Clasificación:",null,null,null,"Clasificación:"]
[null,{"$f":"HOJA_CAPTURA!N193","v":0},null,null,null,{"$f":"HOJA_CAPTURA!N194","v":0}]
[]
[]
[]
[]
[null,{"$f":"HOJA_CAPTURA!O193","v":0},null,null,null,{"$f":"HOJA_CAPTURA!O194","v":0}]
[]
[]
[]
[]
[]
[]
[]
[]
[]
[]
[]
[]
[]
[]
[]
[]
[]
[]
[]
[]
[]
[]
[]
[]
[]
[]
[" "]
[]
[]
[]
[]
[]
[]
[null,null,null,null,null,null,null,null," "]
[]
[]
[]
[]
[]
[null,null,"Clasificación:",null,null,null,"Clasificación:"]
[null,{"$f":"HOJA_CAPTURA!N195","v":0},null,null,null,{"$f":"HOJA_CAPTURA!N196","v":0}]
[]
[]
[]
[]
[null,{"$f":"HOJA_CAPTURA!O195","v":0},null,null,null,{"$f":"HOJA_CAPTURA!O196","v":0}]
[]
[]
[]
[]
[]
[]
[]
[]
[]
[]
[]
[]
[]
[]
[]
[]
[]
[]
[]
[]
[]
[]
[]
[]
[]
[]
[" "]
[]
[]
[]
[]
[]
[]
[null,null,null,null,null,null,null,null," "]
[]
[]
[]
[]
[]
[null,null,"Clasificación:",null,null,null,"Clasificación:"]
[null,{"$f":"HOJA_CAPTURA!N197","v":0},null,null,null,{"$f":"HOJA_CAPTURA!N198","v":0}]
[]
[]
[]
[]
[null,{"$f":"HOJA_CAPTURA!O197","v":0},null,null,null,{"$f":"HOJA_CAPTURA!O198","v":0}]
[]
[]
[]
[]
[]
[]
[]
[]
[]
[]
[]
[]
[]
[]
[]
[]
[]
[]
[]
[]
[]
[]
[]
[]
[]
[]
[" "]
[]
[]
[]
[]
[]
[]
[null,null,null,null,null,null,null,null," "]
[]
[]
[]
[]
[]
[null,null,"Clasificación:",null,null,null,"Clasificación:"]
[null,{"$f":"HOJA_CAPTURA!N199","v":0},null,null,null,{"$f":"HOJA_CAPTURA!N200","v":0}]
[]
[]
[]
[]
[null,{"$f":"HOJA_CAPTURA!O199","v":0},null,null,null,{"$f":"HOJA_CAPTURA!O200","v":0}]
[]
[]
[]
[]
[]
[]
[]
[]
[]
[]
[]
[]
[]
[]
[]
[]
[]
[]
[]
[]
[]
[]
[]
[]
[]
[]
[" "]
[]
[]
[]
[]
[]
[]
[null,null,null,null,null,null,null,null," "]
[]
[]
[]
[]
[]
[null,null,"Clasificación:",null,null,null,"Clasificación:"]
[null,{"$f":"HOJA_CAPTURA!N201","v":0},null,null,null,{"$f":"HOJA_CAPTURA!N202","v":0}]
[]
[]
[]
[]
[null,{"$f":"HOJA_CAPTURA!O201","v":0},null,null,null,{"$f":"HOJA_CAPTURA!O202","v":0}]
[]
[]
[]
[]
[]
[]
[]
[]
[]
[]
[]
[]
[]
[]
[]
[]
[]
[]
[]
[]
[]
[]
[]
[]
[]
[]
[" "]
[]
[]
[]
[]
[]
[]
[null,null,null,null,null,null,null,null," "]
[]
[]
[]
[]
[]
[null,null,"Clasificación:",null,null,null,"Clasificación:"]
[null,{"$f":"HOJA_CAPTURA!N203","v":0},null,null,null,{"$f":"HOJA_CAPTURA!N204","v":0}]
[]
[]
[]
[]
[null,{"$f":"HOJA_CAPTURA!O203","v":0},null,null,null,{"$f":"HOJA_CAPTURA!O204","v":0}]
[]
[]
[]
[]
[]
[]
[]
[]
[]
[]
[]
[]
[]
[]
[]
[]
[]
[]
[]
[]
[]
[]
[]
[]
[]
[]
[" "]
[]
[]
[]
[]
[]
[]
[null,null,null,null,null,null,null,null," "]
[]
[]
[]
[]
[]
[null,null,"Clasificación:",null,null,null,"Clasificación:"]
[null,{"$f":"HOJA_CAPTURA!N205","v":0},null,null,null,{"$f":"HOJA_CAPTURA!N206","v":0}]
[]
[]
[]
[]
[null,{"$f":"HOJA_CAPTURA!O205","v":0},null,null,null,{"$f":"HOJA_CAPTURA!O206","v":0}]
[]
[]
[]
[]
[]
[]
[]
[]
[]
[]
[]
[]
[]
[]
[]
[]
[]
[]
[]
[]
[]
[]
[]
[]
[]
[]
[" "]
[]
[]
[]
[]
[]
[]
[null,null,null,null,null,null,null,null," "]
[]
[]
[]
[]
[]
[null,null,"Clasificación:",null,null,null,"Clasificación:"]
[null,{"$f":"HOJA_CAPTURA!N207","v":0},null,null,null,{"$f":"HOJA_CAPTURA!N208","v":0}]
[]
[]
[]
[]
[null,{"$f":"HOJA_CAPTURA!O207","v":0},null,null,null,{"$f":"HOJA_CAPTURA!O208","v":0}]
[]
[]
[]
[]
[]
[]
[]
[]
[]
[]
[]
[]
[]
[]
[]
[]
[]
[]
[]
[]
[]
[]
[]
[]
[]
[]
[" "]
[]
[]
[]
[]
[]
[]
[null,null,null,null,null,null,null,null," "]
[]
[]
[]
[]
[]
[null,null,"Clasificación:",null,null,null,"Clasificación:"]
[null,{"$f":"HOJA_CAPTURA!N209","v":0},null,null,null,{"$f":"HOJA_CAPTURA!N210","v":0}]
[]
[]
[]
[]
[null,{"$f":"HOJA_CAPTURA!O209","v":0},null,null,null,{"$f":"HOJA_CAPTURA!O210","v":0}]
[]
[]
[]
[]
[]
[]
[]
[]
[]
[]
[]
[]
[]
[]
[]
[]
[]
[]
[]
[]
[]
[]
[]
[]
[]
[]
[" "]
[]
[]
[]
[]
[]
[]
[null,null,null,null,null,null,null,null," "]
[]
[]
[]
[]
[]
[null,null,"Clasificación:",null,null,null,"Clasificación:"]
[null,{"$f":"HOJA_CAPTURA!N211","v":0},null,null,null,{"$f":"HOJA_CAPTURA!N212","v":0}]
[]
[]
[]
[]
[null,{"$f":"HOJA_CAPTURA!O211","v":0},null,null,null,{"$f":"HOJA_CAPTURA!O212","v":0}]
[]
[]
[]
[]
[]
[]
[]
[]
[]
[]
[]
[]
[]
[]
[]
[]
[]
[]
[]
[]
[]
[]
[]
[]
[]
[]
[" "]
[]
[]
[]
[]
[]
[]
[null,null,null,null,null,null,null,null," "]
[]
[]
[]
[]
[]
[null,null,"Clasificación:",null,null,null,"Clasificación:"]
[null,{"$f":"HOJA_CAPTURA!N213","v":0},null,null,null,{"$f":"HOJA_CAPTURA!N214","v":0}]
[]
[]
[]
[]
[null,{"$f":"HOJA_CAPTURA!O213","v":0},null,null,null,{"$f":"HOJA_CAPTURA!O214","v":0}]
[]
[]
[]
[]
[]
[]
[]
[]
[]
[]
[]
[]
[]
[]
[]
[]
[]
[]
[]
[]
[]
[]
[]
[]
[]
[]
[" "]
[]
[]
[]
[]
[]
[]
[null,null,null,null,null,null,null,null," "]
[]
[]
[]
[]
[]
[null,null,"Clasificación:",null,null,null,"Clasificación:"]
[null,{"$f":"HOJA_CAPTURA!N215","v":0},null,null,null,{"$f":"HOJA_CAPTURA!N216","v":0}]
[]
[]
[]
[]
[null,{"$f":"HOJA_CAPTURA!O215","v":0},null,null,null,{"$f":"HOJA_CAPTURA!O216","v":0}]
[]
[]
[]
[]
[]
[]
[]
[]
[]
[]
[]
[]
[]
[]
[]
[]
[]
[]
[]
[]
[]
[]
[]
[]
[]
[]
[" "]
[]
[]
[]
[]
[]
[]
[null,null,null,null,null,null,null,null," "]
[]
[]
[]
[]
[]
[null,null,"Clasificación:",null,null,null,"Clasificación:"]
[null,{"$f":"HOJA_CAPTURA!N217","v":0},null,null,null,{"$f":"HOJA_CAPTURA!N218","v":0}]
[]
[]
[]
[]
[null,{"$f":"HOJA_CAPTURA!O217","v":0},null,null,null,{"$f":"HOJA_CAPTURA!O218","v":0}]
[]
[]
[]
[]
[]
[]
[]
[]
[]
[]
[]
[]
[]
[]
[]
[]
[]
[]
[]
[]
[]
[]
[]
[]
[]
[]
[" "]
[]
[]
[]
[]
[]
[]
[null,null,null,null,null,null,null,null," "]
[]
[]
[]
[]
[]
[null,null,"Clasificación:",null,null,null,"Clasificación:"]
[null,{"$f":"HOJA_CAPTURA!N219","v":0},null,null,null,{"$f":"HOJA_CAPTURA!N220","v":0}]
[]
[]
[]
[]
[null,{"$f":"HOJA_CAPTURA!O219","v":0},null,null,null,{"$f":"HOJA_CAPTURA!O220","v":0}]
[]
[]
[]
[]
[]
[]
[]
[]
[]
[]
[]
[]
[]
[]
[]
[]
[]
[]
[]
[]
[]
[]
[]
[]
[]
[]
[" "]
[]
[]
[]
[]
[]
[]
[null,null,null,null,null,null,null,null," "]
[]
[]
[]
[]
[]
[null,null,"Clasificación:",null,null,null,"Clasificación:"]
[null,{"$f":"HOJA_CAPTURA!N221","v":0},null,null,null,{"$f":"HOJA_CAPTURA!N222","v":0}]
[]
[]
[]
[]
[null,{"$f":"HOJA_CAPTURA!O221","v":0},null,null,null,{"$f":"HOJA_CAPTURA!O222","v":0}]
[]
[]
[]
[]
[]
[]
[]
[]
[]
[]
[]
[]
[]
[]
[]
[]
[]
[]
[]
[]
[]
[]
[]
[]
[]
[]
[" "]
[]
[]
[]
[]
[]
[]
[null,null,null,null,null,null,null,null," "]
[]
[]
[]
[]
[]
[null,null,"Clasificación:",null,null,null,"Clasificación:"]
[null,{"$f":"HOJA_CAPTURA!N223","v":0},null,null,null,{"$f":"HOJA_CAPTURA!N224","v":0}]
[]
[]
[]
[]
[null,{"$f":"HOJA_CAPTURA!O223","v":0},null,null,null,{"$f":"HOJA_CAPTURA!O224","v":0}]
[]
[]
[]
[]
[]
[]
[]
[]
[]
[]
[]
[]
[]
[]
[]
[]
[]
[]
[]
[]
[]
[]
[]
[]
[]
[]
[" "]
[]
[]
[]
[]
[]
[]
[null,null,null,null,null,null,null,null," "]
[]
[]
[]
[]
[]
[null,null,"Clasificación:",null,null,null,"Clasificación:"]
[null,{"$f":"HOJA_CAPTURA!N225","v":0},null,null,null,{"$f":"HOJA_CAPTURA!N226","v":0}]
[]
[]
[]
[]
[null,{"$f":"HOJA_CAPTURA!O225","v":0},null,null,null,{"$f":"HOJA_CAPTURA!O226","v":0}]
[]
[]
[]
[]
[]
[]
[]
[]
[]
[]
[]
[]
[]
[]
[]
[]
[]
[]
[]
[]
[]
[]
[]
[]
[]
[]
[" "]
[]
[]
[]
[]
[]
[]
[null,null,null,null,null,null,null,null," "]
[]
[]
[]
[]
[]
[null,null,"Clasificación:",null,null,null,"Clasificación:"]
[null,{"$f":"HOJA_CAPTURA!N227","v":0},null,null,null,{"$f":"HOJA_CAPTURA!N228","v":0}]
[]
[]
[]
[]
[null,{"$f":"HOJA_CAPTURA!O227","v":0},null,null,null,{"$f":"HOJA_CAPTURA!O228","v":0}]
[]
[]
[]
[]
[]
[]
[]
[]
[]
[]
[]
[]
[]
[]
[]
[]
[]
[]
[]
[]
[]
[]
[]
[]
[]
[]
[" "]
[]
[]
[]
[]
[]
[]
[null,null,null,null,null,null,null,null," "]
[]
[]
[]
[]
[]
[null,null,"Clasificación:",null,null,null,"Clasificación:"]
[null,{"$f":"HOJA_CAPTURA!N229","v":0},null,null,null,{"$f":"HOJA_CAPTURA!N230","v":0}]
[]
[]
[]
[]
[null,{"$f":"HOJA_CAPTURA!O229","v":0},null,null,null,{"$f":"HOJA_CAPTURA!O230","v":0}]
[]
[]
[]
[]
[]
[]
[]
[]
[]
[]
[]
[]
[]
[]
[]
[]
[]
[]
[]
[]
[]
[]
[]
[]
[]
[]
[" "]
[]
[]
[]
[]
[]
[]
[null,null,null,null,null,null,null,null," "]
[]
[]
[]
[]
[]
[null,null,"Clasificación:",null,null,null,"Clasificación:"]
[null,{"$f":"HOJA_CAPTURA!N231","v":0},null,null,null,{"$f":"HOJA_CAPTURA!N232","v":0}]
[]
[]
[]
[]
[null,{"$f":"HOJA_CAPTURA!O231","v":0},null,null,null,{"$f":"HOJA_CAPTURA!O232","v":0}]
[]
[]
[]
[]
[]
[]
[]
[]
[]
[]
[]
[]
[]
[]
[]
[]
[]
[]
[]
[]
[]
[]
[]
[]
[]
[]
[" "]
[]
[]
[]
[]
[]
[]
[null,null,null,null,null,null,null,null," "]
[]
[]
[]
[]
[]
[null,null,"Clasificación:",null,null,null,"Clasificación:"]
[null,{"$f":"HOJA_CAPTURA!N233","v":0},null,null,null,{"$f":"HOJA_CAPTURA!N234","v":0}]
[]
[]
[]
[]
[null,{"$f":"HOJA_CAPTURA!O233","v":0},null,null,null,{"$f":"HOJA_CAPTURA!O234","v":0}]
[]
[]
[]
[]
[]
[]
[]
[]
[]
[]
[]
[]
[]
[]
[]
[]
[]
[]
[]
[]
[]
[]
[]
[]
[]
[]
[" "]
[]
[]
[]
[]
[]
[]
[null,null,null,null,null,null,null,null," "]
[]
[]
[]
[]
[]
[null,null,"Clasificación:",null,null,null,"Clasificación:"]
[null,{"$f":"HOJA_CAPTURA!N235","v":0},null,null,null,{"$f":"HOJA_CAPTURA!N236","v":0}]
[]
[]
[]
[]
[null,{"$f":"HOJA_CAPTURA!O235","v":0},null,null,null,{"$f":"HOJA_CAPTURA!O236","v":0}]
[]
[]
[]
[]
[]
[]
[]
[]
[]
[]
[]
[]
[]
[]
[]
[]
[]
[]
[]
[]
[]
[]
[]
[]
[]
[]
[" "]
[]
[]
[]
[]
[]
[]
[null,null,null,null,null,null,null,null," "]
[]
[]
[]
[]
[]
[null,null,"Clasificación:",null,null,null,"Clasificación:"]
[null,{"$f":"HOJA_CAPTURA!N237","v":0},null,null,null,{"$f":"HOJA_CAPTURA!N238","v":0}]
[]
[]
[]
[]
[null,{"$f":"HOJA_CAPTURA!O237","v":0},null,null,null,{"$f":"HOJA_CAPTURA!O238","v":0}]
[]
[]
[]
[]
[]
[]
[]
[]
[]
[]
[]
[]
[]
[]
[]
[]
[]
[]
[]
[]
[]
[]
[]
[]
[]
[]
[" "]
[]
[]
[]
[]
[]
[]
[null,null,null,null,null,null,null,null," "]
[]
[]
[]
[]
[]
[null,null,"Clasificación:",null,null,null,"Clasificación:"]
[null,{"$f":"HOJA_CAPTURA!N239","v":0},null,null,null,{"$f":"HOJA_CAPTURA!N240","v":0}]
[]
[]
[]
[]
[null,{"$f":"HOJA_CAPTURA!O239","v":0},null,null,null,{"$f":"HOJA_CAPTURA!O240","v":0}]
[]
[]
[]
[]
[]
[]
[]
[]
[]
[]
[]
[]
[]
[]
[]
[]
[]
[]
[]
[]
[]
[]
[]
[]
[]
[]
[" "]
[]
[]
[]
[]
[]
[]
[null,null,null,null,null,null,null,null," "]
[]
[]
[]
[]
[]
[null,null,"Clasificación:",null,null,null,"Clasificación:"]
[null,{"$f":"HOJA_CAPTURA!N241","v":0},null,null,null,{"$f":"HOJA_CAPTURA!N242","v":0}]
[]
[]
[]
[]
[null,{"$f":"HOJA_CAPTURA!O241","v":0},null,null,null,{"$f":"HOJA_CAPTURA!O242","v":0}]
[]
[]
[]
[]
[]
[]
[]
[]
[]
[]
[]
[]
[]
[]
[]
[]
[]
[]
[]
[]
[]
[]
[]
[]
[]
[]
[" "]
[]
[]
[]
[]
[]
[]
[null,null,null,null,null,null,null,null," "]
[]
[]
[]
[]
[]
[null,null,"Clasificación:",null,null,null,"Clasificación:"]
[null,{"$f":"HOJA_CAPTURA!N243","v":0},null,null,null,{"$f":"HOJA_CAPTURA!N244","v":0}]
[]
[]
[]
[]
[null,{"$f":"HOJA_CAPTURA!O243","v":0},null,null,null,{"$f":"HOJA_CAPTURA!O244","v":0}]
[]
[]
[]
[]
[]
[]
[]
[]
[]
[]
[]
[]
[]
[]
[]
[]
[]
[]
[]
[]
[]
[]
[]
[]
[]
[]
[" "]
[]
[]
[]
[]
[]
[]
[null,null,null,null,null,null,null,null," "]
[]
[]
[]
[]
[]
[null,null,"Clasificación:",null,null,null,"Clasificación:"]
[null,{"$f":"HOJA_CAPTURA!N245","v":0},null,null,null,{"$f":"HOJA_CAPTURA!N246","v":0}]
[]
[]
[]
[]
[null,{"$f":"HOJA_CAPTURA!O245","v":0},null,null,null,{"$f":"HOJA_CAPTURA!O246","v":0}]
[]
[]
[]
[]
[]
[]
[]
[]
[]
[]
[]
[]
[]
[]
[]
[]
[]
[]
[]
[]
[]
[]
[]
[]
[]
[]
[" "]
[]
[]
[]
[]
[]
[]
[null,null,null,null,null,null,null,null," "]
[]
[]
[]
[]
[]
[null,null,"Clasificación:",null,null,null,"Clasificación:"]
[null,{"$f":"HOJA_CAPTURA!N247","v":0},null,null,null,{"$f":"HOJA_CAPTURA!N248","v":0}]
[]
[]
[]
[]
[null,{"$f":"HOJA_CAPTURA!O247","v":0},null,null,null,{"$f":"HOJA_CAPTURA!O248","v":0}]
[]
[]
[]
[]
[]
[]
[]
[]
[]
[]
[]
[]
[]
[]
[]
[]
[]
[]
[]
[]
[]
[]
[]
[]
[]
[]
[" "]
[]
[]
[]
[]
[]
[]
[null,null,null,null,null,null,null,null," "]
[]
[]
[]
[]
[]
[null,null,"Clasificación:",null,null,null,"Clasificación:"]
[null,{"$f":"HOJA_CAPTURA!N249","v":0},null,null,null,{"$f":"HOJA_CAPTURA!N250","v":0}]
[]
[]
[]
[]
[null,{"$f":"HOJA_CAPTURA!O249","v":0},null,null,null,{"$f":"HOJA_CAPTURA!O250","v":0}]
[]
[]
[]
[]
[]
[]
[]
[]
[]
[]
[]
[]
[]
[]
[]
[]
[]
[]
[]
[]
[]
[]
[]
[]
[]
[]
[" "]
[]
[]
[]
[]
[]
[]
[null,null,null,null,null,null,null,null," "]
[]
[]
[]
[]
[]
[null,null,"Clasificación:",null,null,null,"Clasificación:"]
[null,{"$f":"HOJA_CAPTURA!N251","v":0},null,null,null,{"$f":"HOJA_CAPTURA!N252","v":0}]
[]
[]
[]
[]
[null,{"$f":"HOJA_CAPTURA!O251","v":0},null,null,null,{"$f":"HOJA_CAPTURA!O252","v":0}]
[]
[]
[]
[]
[]
[]
[]
[]
[]
[]
[]
[]
[]
[]
[]
[]
[]
[]
[]
[]
[]
[]
[]
[]
[]
[]
[" "]
[]
[]
[]
[]
[]
[]
[null,null,null,null,null,null,null,null," "]
[]
[]
[]
[]
[]
[null,null,"Clasificación:",null,null,null,"Clasificación:"]
[null,{"$f":"HOJA_CAPTURA!N253","v":0},null,null,null,{"$f":"HOJA_CAPTURA!N254","v":0}]
[]
[]
[]
[]
[null,{"$f":"HOJA_CAPTURA!O253","v":0},null,null,null,{"$f":"HOJA_CAPTURA!O254","v":0}]
[]
[]
[]
[]
[]
[]
[]
[]
[]
[]
[]
[]
[]
[]
[]
[]
[]
[]
[]
[]
[]
[]
[]
[]
[]
[]
[" "]
[]
[]
[]
[]
[]
[]
[null,null,null,null,null,null,null,null," "]
[]
[]
[]
[]
[]
[null,null,"Clasificación:",null,null,null,"Clasificación:"]
[null,{"$f":"HOJA_CAPTURA!N255","v":0},null,null,null,{"$f":"HOJA_CAPTURA!N256","v":0}]
[]
[]
[]
[]
[null,{"$f":"HOJA_CAPTURA!O255","v":0},null,null,null,{"$f":"HOJA_CAPTURA!O256","v":0}]
[]
[]
[]
[]
[]
[]
[]
[]
[]
[]
[]
[]
[]
[]
[]
[]
[]
[]
[]
[]
[]
[]
[]
[]
[]
[]
[" "]
[]
[]
[]
[]
[]
[]
[null,null,null,null,null,null,null,null," "]
[]
[]
[]
[]
[]
[null,null,"Clasificación:",null,null,null,"Clasificación:"]
[null,{"$f":"HOJA_CAPTURA!N257","v":0},null,null,null,{"$f":"HOJA_CAPTURA!N258","v":0}]
[]
[]
[]
[]
[null,{"$f":"HOJA_CAPTURA!O257","v":0},null,null,null,{"$f":"HOJA_CAPTURA!O258","v":0}]
[]
[]
[]
[]
[]
[]
[]
[]
[]
[]
[]
[]
[]
[]
[]
[]
[]
[]
[]
[]
[]
[]
[]
[]
[]
[]
[" "]
[]
[]
[]
[]
[]
[]
[null,null,null,null,null,null,null,null," "]
[]
[]
[]
[]
[]
[null,null,"Clasificación:",null,null,null,"Clasificación:"]
[null,{"$f":"HOJA_CAPTURA!N259","v":0},null,null,null,{"$f":"HOJA_CAPTURA!N260","v":0}]
[]
[]
[]
[]
[null,{"$f":"HOJA_CAPTURA!O259","v":0},null,null,null,{"$f":"HOJA_CAPTURA!O260","v":0}]
[]
[]
[]
[]
[]
[]
[]
[]
[]
[]
[]
[]
[]
[]
[]
[]
[]
[]
[]
[]
[]
[]
[]
[]
[]
[]
[" "]
[]
[]
[]
[]
[]
[]
[null,null,null,null,null,null,null,null," "]
[]
[]
[]
[]
[]
[null,null,"Clasificación:",null,null,null,"Clasificación:"]
[null,{"$f":"HOJA_CAPTURA!N261","v":0},null,null,null,{"$f":"HOJA_CAPTURA!N262","v":0}]
[]
[]
[]
[]
[null,{"$f":"HOJA_CAPTURA!O261","v":0},null,null,null,{"$f":"HOJA_CAPTURA!O262","v":0}]
[]
[]
[]
[]
[]
[]
[]
[]
[]
[]
[]
[]
[]
[]
[]
[]
[]
[]
[]
[]
[]
[]
[]
[]
[]
[]
[" "]
[]
[]
[]
[]
[]
[]
[null,null,null,null,null,null,null,null," "]
[]
[]
[]
[]
[]
[null,null,"Clasificación:",null,null,null,"Clasificación:"]
[null,{"$f":"HOJA_CAPTURA!N263","v":0},null,null,null,{"$f":"HOJA_CAPTURA!N264","v":0}]
[]
[]
[]
[]
[null,{"$f":"HOJA_CAPTURA!O263","v":0},null,null,null,{"$f":"HOJA_CAPTURA!O264","v":0}]
[]
[]
[]
[]
[]
[]
[]
[]
[]
[]
[]
[]
[]
[]
[]
[]
[]
[]
[]
[]
[]
[]
[]
[]
[]
[]
[" "]
[]
[]
[]
[]
[]
[]
[null,null,null,null,null,null,null,null," "]
[]
[]
[]
[]
[]
[null,null,"Clasificación:",null,null,null,"Clasificación:"]
[null,{"$f":"HOJA_CAPTURA!N265","v":0},null,null,null,{"$f":"HOJA_CAPTURA!N266","v":0}]
[]
[]
[]
[]
[null,{"$f":"HOJA_CAPTURA!O265","v":0},null,null,null,{"$f":"HOJA_CAPTURA!O266","v":0}]
[]
[]
[]
[]
[]
[]
[]
[]
[]
[]
[]
[]
[]
[]
[]
[]
[]
[]
[]
[]
[]
[]
[]
[]
[]
[]
[" "]
[]
[]
[]
[]
[]
[]
[null,null,null,null,null,null,null,null," "]
[]
[]
[]
[]
[]
[null,null,"Clasificación:",null,null,null,"Clasificación:"]
[null,{"$f":"HOJA_CAPTURA!N267","v":0},null,null,null,{"$f":"HOJA_CAPTURA!N268","v":0}]
[]
[]
[]
[]
[null,{"$f":"HOJA_CAPTURA!O267","v":0},null,null,null,{"$f":"HOJA_CAPTURA!O268","v":0}]
[]
[]
[]
[]
[]
[]
[]
[]
[]
[]
[]
[]
[]
[]
[]
[]
[]
[]
[]
[]
[]
[]
[]
[]
[]
[]
[" "]
[]
[]
[]
[]
[]
[]
[null,null,null,null,null,null,null,null," "]
[]
[]
[]
[]
[]
[null,null,"Clasificación:",null,null,null,"Clasificación:"]
[null,{"$f":"HOJA_CAPTURA!N269","v":0},null,null,null,{"$f":"HOJA_CAPTURA!N270","v":0}]
[]
[]
[]
[]
[null,{"$f":"HOJA_CAPTURA!O269","v":0},null,null,null,{"$f":"HOJA_CAPTURA!O270","v":0}]
[]
[]
[]
[]
[]
[]
[]
[]
[]
[]
[]
[]
[]
[]
[]
[]
[]
[]
[]
[]
[]
[]
[]
[]
[]
[]
[" "]
[]
[]
[]
[]
[]
[]
[null,null,null,null,null,null,null,null," "]
[]
[]
[]
[]
[]
[null,null,"Clasificación:",null,null,null,"Clasificación:"]
[null,{"$f":"HOJA_CAPTURA!N271","v":0},null,null,null,{"$f":"HOJA_CAPTURA!N272","v":0}]
[]
[]
[]
[]
[null,{"$f":"HOJA_CAPTURA!O271","v":0},null,null,null,{"$f":"HOJA_CAPTURA!O272","v":0}]
[]
[]
[]
[]
[]
[]
[]
[]
[]
[]
[]
[]
[]
[]
[]
[]
[]
[]
[]
[]
[]
[]
[]
[]
[]
[]
[" "]
[]
[]
[]
[]
[]
[]
[null,null,null,null,null,null,null,null," "]
[]
[]
[]
[]
[]
[null,null,"Clasificación:",null,null,null,"Clasificación:"]
[null,{"$f":"HOJA_CAPTURA!N273","v":0},null,null,null,{"$f":"HOJA_CAPTURA!N274","v":0}]
[]
[]
[]
[]
[null,{"$f":"HOJA_CAPTURA!O273","v":0},null,null,null,{"$f":"HOJA_CAPTURA!O274","v":0}]
[]
[]
[]
[]
[]
[]
[]
[]
[]
[]
[]
[]
[]
[]
[]
[]
[]
[]
[]
[]
[]
[]
[]
[]
[]
[]
[" "]
[]
[]
[]
[]
[]
[]
[null,null,null,null,null,null,null,null," "]
[]
[]
[]
[]
[]
[null,null,"Clasificación:",null,null,null,"Clasificación:"]
[null,{"$f":"HOJA_CAPTURA!N275","v":0},null,null,null,{"$f":"HOJA_CAPTURA!N276","v":0}]
[]
[]
[]
[]
[null,{"$f":"HOJA_CAPTURA!O275","v":0},null,null,null,{"$f":"HOJA_CAPTURA!O276","v":0}]
[]
[]
[]
[]
[]
[]
[]
[]
[]
[]
[]
[]
[]
[]
[]
[]
[]
[]
[]
[]
[]
[]
[]
[]
[]
[]
[" "]
[]
[]
[]
[]
[]
[]
[null,null,null,null,null,null,null,null," "]
[]
[]
[]
[]
[]
[null,null,"Clasificación:",null,null,null,"Clasificación:"]
[null,{"$f":"HOJA_CAPTURA!N277","v":0},null,null,null,{"$f":"HOJA_CAPTURA!N278","v":0}]
[]
[]
[]
[]
[null,{"$f":"HOJA_CAPTURA!O277","v":0},null,null,null,{"$f":"HOJA_CAPTURA!O278","v":0}]
[]
[]
[]
[]
[]
[]
[]
[]
[]
[]
[]
[]
[]
[]
[]
[]
[]
[]
[]
[]
[]
[]
[]
[]
[]
[]
[" "]
[]
[]
[]
[]
[]
[]
[null,null,null,null,null,null,null,null," "]
[]
[]
[]
[]
[]
[null,null,"Clasificación:",null,null,null,"Clasificación:"]
[null,{"$f":"HOJA_CAPTURA!N279","v":0},null,null,null,{"$f":"HOJA_CAPTURA!N280","v":0}]
[]
[]
[]
[]
[null,{"$f":"HOJA_CAPTURA!O279","v":0},null,null,null,{"$f":"HOJA_CAPTURA!O280","v":0}]
[]
[]
[]
[]
[]
[]
[]
[]
[]
[]
[]
[]
[]
[]
[]
[]
[]
[]
[]
[]
[]
[]
[]
[]
[]
[]
[" "]
[]
[]
[]
[]
[]
[]
[null,null,null,null,null,null,null,null," "]
[]
[]
[]
[]
[]
[null,null,"Clasificación:",null,null,null,"Clasificación:"]
[null,{"$f":"HOJA_CAPTURA!N281","v":0},null,null,null,{"$f":"HOJA_CAPTURA!N282","v":0}]
[]
[]
[]
[]
[null,{"$f":"HOJA_CAPTURA!O281","v":0},null,null,null,{"$f":"HOJA_CAPTURA!O282","v":0}]
[]
[]
[]
[]
[]
[]
[]
[]
[]
[]
[]
[]
[]
[]
[]
[]
[]
[]
[]
[]
[]
[]
[]
[]
[]
[]
[" "]
[]
[]
[]
[]
[]
[]
[null,null,null,null,null,null,null,null," "]
[]
[]
[]
[]
[]
[null,null,"Clasificación:",null,null,null,"Clasificación:"]
[null,{"$f":"HOJA_CAPTURA!N283","v":0},null,null,null,{"$f":"HOJA_CAPTURA!N284","v":0}]
[]
[]
[]
[]
[null,{"$f":"HOJA_CAPTURA!O283","v":0},null,null,null,{"$f":"HOJA_CAPTURA!O284","v":0}]
[]
[]
[]
[]
[]
[]
[]
[]
[]
[]
[]
[]
[]
[]
[]
[]
[]
[]
[]
[]
[]
[]
[]
[]
[]
[]
[" "]
[]
[]
[]
[]
[]
[]
[null,null,null,null,null,null,null,null," "]
[]
[]
[]
[]
[]
[null,null,"Clasificación:",null,null,null,"Clasificación:"]
[null,{"$f":"HOJA_CAPTURA!N285","v":0},null,null,null,{"$f":"HOJA_CAPTURA!N286","v":0}]
[]
[]
[]
[]
[null,{"$f":"HOJA_CAPTURA!O285","v":0},null,null,null,{"$f":"HOJA_CAPTURA!O286","v":0}]
[]
[]
[]
[]
[]
[]
[]
[]
[]
[]
[]
[]
[]
[]
[]
[]
[]
[]
[]
[]
[]
[]
[]
[]
[]
[]
[" "]
[]
[]
[]
[]
[]
[]
[null,null,null,null,null,null,null,null," "]
[]
[]
[]
[]
[]
[null,null,"Clasificación:",null,null,null,"Clasificación:"]
[null,{"$f":"HOJA_CAPTURA!N287","v":0},null,null,null,{"$f":"HOJA_CAPTURA!N288","v":0}]
[]
[]
[]
[]
[null,{"$f":"HOJA_CAPTURA!O287","v":0},null,null,null,{"$f":"HOJA_CAPTURA!O288","v":0}]
[]
[]
[]
[]
[]
[]
[]
[]
[]
[]
[]
[]
[]
[]
[]
[]
[]
[]
[]
[]
[]
[]
[]
[]
[]
[]
[" "]
[]
[]
[]
[]
[]
[]
[null,null,null,null,null,null,null,null," "]
[]
[]
[]
[]
[]
[null,null,"Clasificación:",null,null,null,"Clasificación:"]
[null,{"$f":"HOJA_CAPTURA!N289","v":0},null,null,null,{"$f":"HOJA_CAPTURA!N290","v":0}]
[]
[]
[]
[]
[null,{"$f":"HOJA_CAPTURA!O289","v":0},null,null,null,{"$f":"HOJA_CAPTURA!O290","v":0}]
[]
[]
[]
[]
[]
[]
[]
[]
[]
[]
[]
[]
[]
[]
[]
[]
[]
[]
[]
[]
[]
[]
[]
[]
[]
[]
[" "]
[]
[]
[]
[]
[]
[]
[null,null,null,null,null,null,null,null," "]
[]
[]
[]
[]
[]
[null,null,"Clasificación:",null,null,null,"Clasificación:"]
[null,{"$f":"HOJA_CAPTURA!N291","v":0},null,null,null,{"$f":"HOJA_CAPTURA!N292","v":0}]
[]
[]
[]
[]
[null,{"$f":"HOJA_CAPTURA!O291","v":0},null,null,null,{"$f":"HOJA_CAPTURA!O292","v":0}]
[]
[]
[]
[]
[]
[]
[]
[]
[]
[]
[]
[]
[]
[]
[]
[]
[]
[]
[]
[]
[]
[]
[]
[]
[]
[]
[" "]
[]
[]
[]
[]
[]
[]
[null,null,null,null,null,null,null,null," "]
[]
[]
[]
[]
[]
[null,null,"Clasificación:",null,null,null,"Clasificación:"]
[null,{"$f":"HOJA_CAPTURA!N293","v":0},null,null,null,{"$f":"HOJA_CAPTURA!N294","v":0}]
[]
[]
[]
[]
[null,{"$f":"HOJA_CAPTURA!O293","v":0},null,null,null,{"$f":"HOJA_CAPTURA!O294","v":0}]
[]
[]
[]
[]
[]
[]
[]
[]
[]
[]
[]
[]
[]
[]
[]
[]
[]
[]
[]
[]
[]
[]
[]
[]
[]
[]
[" "]
[]
[]
[]
[]
[]
[]
[null,null,null,null,null,null,null,null," "]
[]
[]
[]
[]
[]
[null,null,"Clasificación:",null,null,null,"Clasificación:"]
[null,{"$f":"HOJA_CAPTURA!N295","v":0},null,null,null,{"$f":"HOJA_CAPTURA!N296","v":0}]
[]
[]
[]
[]
[null,{"$f":"HOJA_CAPTURA!O295","v":0},null,null,null,{"$f":"HOJA_CAPTURA!O296","v":0}]
[]
[]
[]
[]
[]
[]
[]
[]
[]
[]
[]
[]
[]
[]
[]
[]
[]
[]
[]
[]
[]
[]
[]
[]
[]
[]
[" "]
[]
[]
[]
[]
[]
[]
[null,null,null,null,null,null,null,null," "]
[]
[]
[]
[]
[]
[null,null,"Clasificación:",null,null,null,"Clasificación:"]
[null,{"$f":"HOJA_CAPTURA!N297","v":0},null,null,null,{"$f":"HOJA_CAPTURA!N298","v":0}]
[]
[]
[]
[]
[null,{"$f":"HOJA_CAPTURA!O297","v":0},null,null,null,{"$f":"HOJA_CAPTURA!O298","v":0}]
[]
[]
[]
[]
[]
[]
[]
[]
[]
[]
[]
[]
[]
[]
[]
[]
[]
[]
[]
[]
[]
[]
[]
[]
[]
[]
[" "]
[]
[]
[]
[]
[]
[]
[null,null,null,null,null,null,null,null," "]
[]
[]
[]
[]
[]
[null,null,"Clasificación:",null,null,null,"Clasificación:"]
[null,{"$f":"HOJA_CAPTURA!N299","v":0},null,null,null,{"$f":"HOJA_CAPTURA!N300","v":0}]
[]
[]
[]
[]
[null,{"$f":"HOJA_CAPTURA!O299","v":0},null,null,null,{"$f":"HOJA_CAPTURA!O300","v":0}]
[]
[]
[]
[]
[]
[]
[]
[]
[]
[]
[]
[]
[]
[]
[]
[]
[]
[]
[]
[]
[]
[]
[]
[]
[]
[]
[" "]
[]
[]
[]
[]
[]
[]
[null,null,null,null,null,null,null,null," "]
[]
[]
[]
[]
[]
[null,null,"Clasificación:",null,null,null,"Clasificación:"]
[null,{"$f":"HOJA_CAPTURA!N301","v":0},null,null,null,{"$f":"HOJA_CAPTURA!N302","v":0}]
[]
[]
[]
[]
[null,{"$f":"HOJA_CAPTURA!O301","v":0},null,null,null,{"$f":"HOJA_CAPTURA!O302","v":0}]
[]
[]
[]
[]
[]
[]
[]
[]
[]
[]
[]
[]
[]
[]
[]
[]
[]
[]
[]
[]
[]
[]
[]
[]
[]
[]
[" "]
[]
[]
[]
[]
[]
[]
[null,null,null,null,null,null,null,null," "]
[]
[]
[]
[]
[]
[null,null,"Clasificación:",null,null,null,"Clasificación:"]
[null,{"$f":"HOJA_CAPTURA!N303","v":0},null,null,null,{"$f":"HOJA_CAPTURA!N304","v":0}]
[]
[]
[]
[]
[null,{"$f":"HOJA_CAPTURA!O303","v":0},null,null,null,{"$f":"HOJA_CAPTURA!O304","v":0}]
[]
[]
[]
[]
[]
[]
[]
[]
[]
[]
[]
[]
[]
[]
[]
[]
[]
[]
[]
[]
[]
[]
[]
[]
[]
[]
[" "]
[]
[]
[]
[]
[]
[]
[null,null,null,null,null,null,null,null," "]
[]
[]
[]
[]
[]
[null,null,"Clasificación:",null,null,null,"Clasificación:"]
[null,{"$f":"HOJA_CAPTURA!N305","v":0},null,null,null,{"$f":"HOJA_CAPTURA!N306","v":0}]
[]
[]
[]
[]
[null,{"$f":"HOJA_CAPTURA!O305","v":0},null,null,null,{"$f":"HOJA_CAPTURA!O306","v":0}]
[]
[]
[]
[]
[]
[]
[]
[]
[]
[]
[]
[]
[]
[]
[]
[]
[]
[]
[]
[]
[]
[]
[]
[]
[]
[]
[" "]
[]
[]
[]
[]
[]
[]
[null,null,null,null,null,null,null,null," "]
[]
[]
[]
[]
[]
[null,null,"Clasificación:",null,null,null,"Clasificación:"]
[null,{"$f":"HOJA_CAPTURA!N307","v":0},null,null,null,{"$f":"HOJA_CAPTURA!N308","v":0}]
[]
[]
[]
[]
[null,{"$f":"HOJA_CAPTURA!O307","v":0},null,null,null,{"$f":"HOJA_CAPTURA!O308","v":0}]
[]
[]
[]
[]
[]
[]
[]
[]
[]
[]
[]
[]
[]
[]
[]
[]
[]
[]
[]
[]
[]
[]
[]
[]
[]
[]
[" "]
[]
[]
[]
[]
[]
[]
[null,null,null,null,null,null,null,null," "]
[]
[]
[]
[]
[]
[null,null,"Clasificación:",null,null,null,"Clasificación:"]
[null,{"$f":"HOJA_CAPTURA!N309","v":0},null,null,null,{"$f":"HOJA_CAPTURA!N310","v":0}]
[]
[]
[]
[]
[null,{"$f":"HOJA_CAPTURA!O309","v":0},null,null,null,{"$f":"HOJA_CAPTURA!O310","v":0}]
[]
[]
[]
[]
[]
[]
[]
[]
[]
[]
[]
[]
[]
[]
[]
[]
[]
[]
[]
[]
[]
[]
[]
[]
[]
[]
[" "]
[]
[]
[]
[]
[]
[]
[null,null,null,null,null,null,null,null," "]
[]
[]
[]
[]
[]
[null,null,"Clasificación:",null,null,null,"Clasificación:"]
[null,{"$f":"HOJA_CAPTURA!N311","v":0},null,null,null,{"$f":"HOJA_CAPTURA!N312","v":0}]
[]
[]
[]
[]
[null,{"$f":"HOJA_CAPTURA!O311","v":0},null,null,null,{"$f":"HOJA_CAPTURA!O312","v":0}]
[]
[]
[]
[]
[]
[]
[]
[]
[]
[]
[]
[]
[]
[]
[]
[]
[]
[]
[]
[]
[]
[]
[]
[]
[]
[]
[" "]
[]
[]
[]
[]
[]
[]
[null,null,null,null,null,null,null,null," "]
[]
[]
[]
[]
[]
[null,null,"Clasificación:",null,null,null,"Clasificación:"]
[null,{"$f":"HOJA_CAPTURA!N313","v":0},null,null,null,{"$f":"HOJA_CAPTURA!N314","v":0}]
[]
[]
[]
[]
[null,{"$f":"HOJA_CAPTURA!O313","v":0},null,null,null,{"$f":"HOJA_CAPTURA!O314","v":0}]
[]
[]
[]
[]
[]
[]
[]
[]
[]
[]
[]
[]
[]
[]
[]
[]
[]
[]
[]
[]
[]
[]
[]
[]
[]
[]
[" "]
[]
[]
[]
[]
[]
[]
[null,null,null,null,null,null,null,null," "]
[]
[]
[]
[]
[]
[null,null,"Clasificación:",null,null,null,"Clasificación:"]
[null,{"$f":"HOJA_CAPTURA!N315","v":0},null,null,null,{"$f":"HOJA_CAPTURA!N316","v":0}]
[]
[]
[]
[]
[null,{"$f":"HOJA_CAPTURA!O315","v":0},null,null,null,{"$f":"HOJA_CAPTURA!O316","v":0}]
[]
[]
[]
[]
[]
[]
[]
[]
[]
[]
[]
[]
[]
[]
[]
[]
[]
[]
[]
[]
[]
[]
[]
[]
[]
[]
[" "]
[]
[]
[]
[]
[]
[]
[null,null,null,null,null,null,null,null," "]
[]
[]
[]
[]
[]
[null,null,"Clasificación:",null,null,null,"Clasificación:"]
[null,{"$f":"HOJA_CAPTURA!N317","v":0},null,null,null,{"$f":"HOJA_CAPTURA!N318","v":0}]
[]
[]
[]
[]
[null,{"$f":"HOJA_CAPTURA!O317","v":0},null,null,null,{"$f":"HOJA_CAPTURA!O318","v":0}]
[]
[]
[]
[]
[]
[]
[]
[]
[]
[]
[]
[]
[]
[]
[]
[]
[]
[]
[]
[]
[]
[]
[]
[]
[]
[]
[" "]
[]
[]
[]
[]
[]
[]
[null,null,null,null,null,null,null,null," "]
[]
[]
[]
[]
[]
[null,null,"Clasificación:",null,null,null,"Clasificación:"]
[null,{"$f":"HOJA_CAPTURA!N319","v":0},null,null,null,{"$f":"HOJA_CAPTURA!N320","v":0}]
[]
[]
[]
[]
[null,{"$f":"HOJA_CAPTURA!O319","v":0},null,null,null,{"$f":"HOJA_CAPTURA!O320","v":0}]
[]
[]
[]
[]
[]
[]
[]
[]
[]
[]
[]
[]
[]
[]
[]
[]
[]
[]
[]
[]
[]
[]
[]
[]
[]
[]
[" "]
[]
[]
[]
[]
[]
[]
[null,null,null,null,null,null,null,null," "]
[]
[]
[]
[]
[]
[null,null,"Clasificación:",null,null,null,"Clasificación:"]
[null,{"$f":"HOJA_CAPTURA!N321","v":0},null,null,null,{"$f":"HOJA_CAPTURA!N322","v":0}]
[]
[]
[]
[]
[null,{"$f":"HOJA_CAPTURA!O321","v":0},null,null,null,{"$f":"HOJA_CAPTURA!O322","v":0}]
[]
[]
[]
[]
[]
[]
[]
[]
[]
[]
[]
[]
[]
[]
[]
[]
[]
[]
[]
[]
[]
[]
[]
[]
[]
[]
[" "]
[]
[]
[]
[]
[]
[]
[null,null,null,null,null,null,null,null," "]
[]
[]
[]
[]
[]
[null,null,"Clasificación:",null,null,null,"Clasificación:"]
[null,{"$f":"HOJA_CAPTURA!N323","v":0},null,null,null,{"$f":"HOJA_CAPTURA!N324","v":0}]
[]
[]
[]
[]
[null,{"$f":"HOJA_CAPTURA!O323","v":0},null,null,null,{"$f":"HOJA_CAPTURA!O324","v":0}]
[]
[]
[]
[]
[]
[]
[]
[]
[]
[]
[]
[]
[]
[]
[]
[]
[]
[]
[]
[]
[]
[]
[]
[]
[]
[]
[" "]
[]
[]
[]
[]
[]
[]
[null,null,null,null,null,null,null,null," "]
[]
[]
[]
[]
[]
[null,null,"Clasificación:",null,null,null,"Clasificación:"]
[null,{"$f":"HOJA_CAPTURA!N325","v":0},null,null,null,{"$f":"HOJA_CAPTURA!N326","v":0}]
[]
[]
[]
[]
[null,{"$f":"HOJA_CAPTURA!O325","v":0},null,null,null,{"$f":"HOJA_CAPTURA!O326","v":0}]
[]
[]
[]
[]
[]
[]
[]
[]
[]
[]
[]
[]
[]
[]
[]
[]
[]
[]
[]
[]
[]
[]
[]
[]
[]
[]
[" "]
[]
[]
[]
[]
[]
[]
[null,null,null,null,null,null,null,null," "]
[]
[]
[]
[]
[]
[null,null,"Clasificación:",null,null,null,"Clasificación:"]
[null,{"$f":"HOJA_CAPTURA!N327","v":0},null,null,null,{"$f":"HOJA_CAPTURA!N328","v":0}]
[]
[]
[]
[]
[null,{"$f":"HOJA_CAPTURA!O327","v":0},null,null,null,{"$f":"HOJA_CAPTURA!O328","v":0}]
[]
[]
[]
[]
[]
[]
[]
[]
[]
[]
[]
[]
[]
[]
[]
[]
[]
[]
[]
[]
[]
[]
[]
[]
[]
[]
[" "]
[]
[]
[]
[]
[]
[]
[null,null,null,null,null,null,null,null," "]
[]
[]
[]
[]
[]
[null,null,"Clasificación:",null,null,null,"Clasificación:"]
[null,{"$f":"HOJA_CAPTURA!N329","v":0},null,null,null,{"$f":"HOJA_CAPTURA!N330","v":0}]
[]
[]
[]
[]
[null,{"$f":"HOJA_CAPTURA!O329","v":0},null,null,null,{"$f":"HOJA_CAPTURA!O330","v":0}]
[]
[]
[]
[]
[]
[]
[]
[]
[]
[]
[]
[]
[]
[]
[]
[]
[]
[]
[]
[]
[]
[]
[]
[]
[]
[]
[" "]
[]
[]
[]
[]
[]
[]
[null,null,null,null,null,null,null,null," "]
[]
[]
[]
[]
[]
[null,null,"Clasificación:",null,null,null,"Clasificación:"]
[null,{"$f":"HOJA_CAPTURA!N331","v":0},null,null,null,{"$f":"HOJA_CAPTURA!N332","v":0}]
[]
[]
[]
[]
[null,{"$f":"HOJA_CAPTURA!O331","v":0},null,null,null,{"$f":"HOJA_CAPTURA!O332","v":0}]
[]
[]
[]
[]
[]
[]
[]
[]
[]
[]
[]
[]
[]
[]
[]
[]
[]
[]
[]
[]
[]
[]
[]
[]
[]
[]
[" "]
[]
[]
[]
[]
[]
[]
[null,null,null,null,null,null,null,null," "]
[]
[]
[]
[]
[]
[null,null,"Clasificación:",null,null,null,"Clasificación:"]
[null,{"$f":"HOJA_CAPTURA!N333","v":0},null,null,null,{"$f":"HOJA_CAPTURA!N334","v":0}]
[]
[]
[]
[]
[null,{"$f":"HOJA_CAPTURA!O333","v":0},null,null,null,{"$f":"HOJA_CAPTURA!O334","v":0}]
[]
[]
[]
[]
[]
[]
[]
[]
[]
[]
[]
[]
[]
[]
[]
[]
[]
[]
[]
[]
[]
[]
[]
[]
[]
[]
[" "]
[]
[]
[]
[]
[]
[]
[null,null,null,null,null,null,null,null," "]
[]
[]
[]
[]
[]
[null,null,"Clasificación:",null,null,null,"Clasificación:"]
[null,{"$f":"HOJA_CAPTURA!N335","v":0},null,null,null,{"$f":"HOJA_CAPTURA!N336","v":0}]
[]
[]
[]
[]
[null,{"$f":"HOJA_CAPTURA!O335","v":0},null,null,null,{"$f":"HOJA_CAPTURA!O336","v":0}]
[]
[]
[]
[]
[]
[]
[]
[]
[]
[]
[]
[]
[]
[]
[]
[]
[]
[]
[]
[]
[]
[]
[]
[]
[]
[]
[" "]
[]
[]
[]
[]
[]
[]
[null,null,null,null,null,null,null,null," "]
[]
[]
[]
[]
[]
[null,null,"Clasificación:",null,null,null,"Clasificación:"]
[null,{"$f":"HOJA_CAPTURA!N337","v":0},null,null,null,{"$f":"HOJA_CAPTURA!N338","v":0}]
[]
[]
[]
[]
[null,{"$f":"HOJA_CAPTURA!O337","v":0},null,null,null,{"$f":"HOJA_CAPTURA!O338","v":0}]
[]
[]
[]
[]
[]
[]
[]
[]
[]
[]
[]
[]
[]
[]
[]
[]
[]
[]
[]
[]
[]
[]
[]
[]
[]
[]
[" "]
[]
[]
[]
[]
[]
[]
[null,null,null,null,null,null,null,null," "]
[]
[]
[]
[]
[]
[null,null,"Clasificación:",null,null,null,"Clasificación:"]
[null,{"$f":"HOJA_CAPTURA!N339","v":0},null,null,null,{"$f":"HOJA_CAPTURA!N340","v":0}]
[]
[]
[]
[]
[null,{"$f":"HOJA_CAPTURA!O339","v":0},null,null,null,{"$f":"HOJA_CAPTURA!O340","v":0}]
[]
[]
[]
[]
[]
[]
[]
[]
[]
[]
[]
[]
[]
[]
[]
[]
[]
[]
[]
[]
[]
[]
[]
[]
[]
[]
[" "]
[]
[]
[]
[]
[]
[]
[null,null,null,null,null,null,null,null," "]
[]
[]
[]
[]
[]
[null,null,"Clasificación:",null,null,null,"Clasificación:"]
[null,{"$f":"HOJA_CAPTURA!N341","v":0},null,null,null,{"$f":"HOJA_CAPTURA!N342","v":0}]
[]
[]
[]
[]
[null,{"$f":"HOJA_CAPTURA!O341","v":0},null,null,null,{"$f":"HOJA_CAPTURA!O342","v":0}]
[]
[]
[]
[]
[]
[]
[]
[]
[]
[]
[]
[]
[]
[]
[]
[]
[]
[]
[]
[]
[]
[]
[]
[]
[]
[]
[" "]
[]
[]
[]
[]
[]
[]
[null,null,null,null,null,null,null,null," "]
[]
[]
[]
[]
[]
[null,null,"Clasificación:",null,null,null,"Clasificación:"]
[null,{"$f":"HOJA_CAPTURA!N343","v":0},null,null,null,{"$f":"HOJA_CAPTURA!N344","v":0}]
[]
[]
[]
[]
[null,{"$f":"HOJA_CAPTURA!O343","v":0},null,null,null,{"$f":"HOJA_CAPTURA!O344","v":0}]
[]
[]
[]
[]
[]
[]
[]
[]
[]
[]
[]
[]
[]
[]
[]
[]
[]
[]
[]
[]
[]
[]
[]
[]
[]
[]
[" "]
[]
[]
[]
[]
[]
[]
[null,null,null,null,null,null,null,null," "]
[]
[]
[]
[]
[]
[null,null,"Clasificación:",null,null,null,"Clasificación:"]
[null,{"$f":"HOJA_CAPTURA!N345","v":0},null,null,null,{"$f":"HOJA_CAPTURA!N346","v":0}]
[]
[]
[]
[]
[null,{"$f":"HOJA_CAPTURA!O345","v":0},null,null,null,{"$f":"HOJA_CAPTURA!O346","v":0}]
[]
[]
[]
[]
[]
[]
[]
[]
[]
[]
[]
[]
[]
[]
[]
[]
[]
[]
[]
[]
[]
[]
[]
[]
[]
[]
[" "]
[]
[]
[]
[]
[]
[]
[null,null,null,null,null,null,null,null," "]
[]
[]
[]
[]
[]
[null,null,"Clasificación:",null,null,null,"Clasificación:"]
[null,{"$f":"HOJA_CAPTURA!N347","v":0},null,null,null,{"$f":"HOJA_CAPTURA!N348","v":0}]
[]
[]
[]
[]
[null,{"$f":"HOJA_CAPTURA!O347","v":0},null,null,null,{"$f":"HOJA_CAPTURA!O348","v":0}]
[]
[]
[]
[]
[]
[]
[]
[]
[]
[]
[]
[]
[]
[]
[]
[]
[]
[]
[]
[]
[]
[]
[]
[]
[]
[]
[" "]
[]
[]
[]
[]
[]
[]
[null,null,null,null,null,null,null,null," "]
[]
[]
[]
[]
[]
[null,null,"Clasificación:",null,null,null,"Clasificación:"]
[null,{"$f":"HOJA_CAPTURA!N349","v":0},null,null,null,{"$f":"HOJA_CAPTURA!N350","v":0}]
[]
[]
[]
[]
[null,{"$f":"HOJA_CAPTURA!O349","v":0},null,null,null,{"$f":"HOJA_CAPTURA!O350","v":0}]
[]
[]
[]
[]
[]
[]
[]
[]
[]
[]
[]
[]
[]
[]
[]
[]
[]
[]
[]
[]
[]
[]
[]
[]
[]
[]
[" "]
[]
[]
[]
[]
[]
[]
[null,null,null,null,null,null,null,null," "]
[]
[]
[]
[]
[]
[null,null,"Clasificación:",null,null,null,"Clasificación:"]
[null,{"$f":"HOJA_CAPTURA!N351","v":0},null,null,null,{"$f":"HOJA_CAPTURA!N352","v":0}]
[]
[]
[]
[]
[null,{"$f":"HOJA_CAPTURA!O351","v":0},null,null,null,{"$f":"HOJA_CAPTURA!O352","v":0}]
[]
[]
[]
[]
[]
[]
[]
[]
[]
[]
[]
[]
[]
[]
[]
[]
[]
[]
[]
[]
[]
[]
[]
[]
[]
[]
[" "]
[]
[]
[]
[]
[]
[]
[null,null,null,null,null,null,null,null," "]
[]
[]
[]
[]
[]
[null,null,"Clasificación:",null,null,null,"Clasificación:"]
[null,{"$f":"HOJA_CAPTURA!N353","v":0},null,null,null,{"$f":"HOJA_CAPTURA!N354","v":0}]
[]
[]
[]
[]
[null,{"$f":"HOJA_CAPTURA!O353","v":0},null,null,null,{"$f":"HOJA_CAPTURA!O354","v":0}]
[]
[]
[]
[]
[]
[]
[]
[]
[]
[]
[]
[]
[]
[]
[]
[]
[]
[]
[]
[]
[]
[]
[]
[]
[]
[]
[" "]
[]
[]
[]
[]
[]
[]
[null,null,null,null,null,null,null,null," "]
[]
[]
[]
[]
[]
[null,null,"Clasificación:",null,null,null,"Clasificación:"]
[null,{"$f":"HOJA_CAPTURA!N355","v":0},null,null,null,{"$f":"HOJA_CAPTURA!N356","v":0}]
[]
[]
[]
[]
[null,{"$f":"HOJA_CAPTURA!O355","v":0},null,null,null,{"$f":"HOJA_CAPTURA!O356","v":0}]
[]
[]
[]
[]
[]
[]
[]
[]
[]
[]
[]
[]
[]
[]
[]
[]
[]
[]
[]
[]
[]
[]
[]
[]
[]
[]
[" "]
[]
[]
[]
[]
[]
[]
[null,null,null,null,null,null,null,null," "]
[]
[]
[]
[]
[]
[null,null,"Clasificación:",null,null,null,"Clasificación:"]
[null,{"$f":"HOJA_CAPTURA!N357","v":0},null,null,null,{"$f":"HOJA_CAPTURA!N358","v":0}]
[]
[]
[]
[]
[null,{"$f":"HOJA_CAPTURA!O357","v":0},null,null,null,{"$f":"HOJA_CAPTURA!O358","v":0}]
[]
[]
[]
[]
[]
[]
[]
[]
[]
[]
[]
[]
[]
[]
[]
[]
[]
[]
[]
[]
[]
[]
[]
[]
[]
[]
[" "]
[]
[]
[]
[]
[]
[]
[null,null,null,null,null,null,null,null," "]
[]
[]
[]
[]
[]
[null,null,"Clasificación:",null,null,null,"Clasificación:"]
[null,{"$f":"HOJA_CAPTURA!N359","v":0},null,null,null,{"$f":"HOJA_CAPTURA!N360","v":0}]
[]
[]
[]
[]
[null,{"$f":"HOJA_CAPTURA!O359","v":0},null,null,null,{"$f":"HOJA_CAPTURA!O360","v":0}]
[]
[]
[]
[]
[]
[]
[]
[]
[]
[]
[]
[]
[]
[]
[]
[]
[]
[]
[]
[]
[]
[]
[]
[]
[]
[]
[" "]
[]
[]
[]
[]
[]
[]
[null,null,null,null,null,null,null,null," "]
[]
[]
[]
[]
[]
[null,null,"Clasificación:",null,null,null,"Clasificación:"]
[null,{"$f":"HOJA_CAPTURA!N361","v":0},null,null,null,{"$f":"HOJA_CAPTURA!N362","v":0}]
[]
[]
[]
[]
[null,{"$f":"HOJA_CAPTURA!O361","v":0},null,null,null,{"$f":"HOJA_CAPTURA!O362","v":0}]
[]
[]
[]
[]
[]
[]
[]
[]
[]
[]
[]
[]
[]
[]
[]
[]
[]
[]
[]
[]
[]
[]
[]
[]
[]
[]
[" "]
[]
[]
[]
[]
[]
[]
[null,null,null,null,null,null,null,null," "]
[]
[]
[]
[]
[]
[null,null,"Clasificación:",null,null,null,"Clasificación:"]
[null,{"$f":"HOJA_CAPTURA!N363","v":0},null,null,null,{"$f":"HOJA_CAPTURA!N364","v":0}]
[]
[]
[]
[]
[null,{"$f":"HOJA_CAPTURA!O363","v":0},null,null,null,{"$f":"HOJA_CAPTURA!O364","v":0}]
[]
[]
[]
[]
[]
[]
[]
[]
[]
[]
[]
[]
[]
[]
[]
[]
[]
[]
[]
[]
[]
[]
[]
[]
[]
[]
[" "]
[]
[]
[]
[]
[]
[]
[null,null,null,null,null,null,null,null," "]
[]
[]
[]
[]
[]
[null,null,"Clasificación:",null,null,null,"Clasificación:"]
[null,{"$f":"HOJA_CAPTURA!N365","v":0},null,null,null,{"$f":"HOJA_CAPTURA!N366","v":0}]
[]
[]
[]
[]
[null,{"$f":"HOJA_CAPTURA!O365","v":0},null,null,null,{"$f":"HOJA_CAPTURA!O366","v":0}]
[]
[]
[]
[]
[]
[]
[]
[]
[]
[]
[]
[]
[]
[]
[]
[]
[]
[]
[]
[]
[]
[]
[]
[]
[]
[]
[" "]
[]
[]
[]
[]
[]
[]
[null,null,null,null,null,null,null,null," "]
[]
[]
[]
[]
[]
[null,null,"Clasificación:",null,null,null,"Clasificación:"]
[null,{"$f":"HOJA_CAPTURA!N367","v":0},null,null,null,{"$f":"HOJA_CAPTURA!N368","v":0}]
[]
[]
[]
[]
[null,{"$f":"HOJA_CAPTURA!O367","v":0},null,null,null,{"$f":"HOJA_CAPTURA!O368","v":0}]
[]
[]
[]
[]
[]
[]
[]
[]
[]
[]
[]
[]
[]
[]
[]
[]
[]
[]
[]
[]
[]
[]
[]
[]
[]
[]
[" "]
[]
[]
[]
[]
[]
[]
[null,null,null,null,null,null,null,null," "]
[]
[]
[]
[]
[]
[null,null,"Clasificación:",null,null,null,"Clasificación:"]
[null,{"$f":"HOJA_CAPTURA!N369","v":0},null,null,null,{"$f":"HOJA_CAPTURA!N370","v":0}]
[]
[]
[]
[]
[null,{"$f":"HOJA_CAPTURA!O369","v":0},null,null,null,{"$f":"HOJA_CAPTURA!O370","v":0}]
[]
[]
[]
[]
[]
[]
[]
[]
[]
[]
[]
[]
[]
[]
[]
[]
[]
[]
[]
[]
[]
[]
[]
[]
[]
[]
[" "]
[]
[]
[]
[]
[]
[]
[null,null,null,null,null,null,null,null," "]
[]
[]
[]
[]
[]
[null,null,"Clasificación:",null,null,null,"Clasificación:"]
[null,{"$f":"HOJA_CAPTURA!N371","v":0},null,null,null,{"$f":"HOJA_CAPTURA!N372","v":0}]
[]
[]
[]
[]
[null,{"$f":"HOJA_CAPTURA!O371","v":0},null,null,null,{"$f":"HOJA_CAPTURA!O372","v":0}]
[]
[]
[]
[]
[]
[]
[]
[]
[]
[]
[]
[]
[]
[]
[]
[]
[]
[]
[]
[]
[]
[]
[]
[]
[]
[]
[" "]
[]
[]
[]
[]
[]
[]
[null,null,null,null,null,null,null,null," "]
[]
[]
[]
[]
[]
[null,null,"Clasificación:",null,null,null,"Clasificación:"]
[null,{"$f":"HOJA_CAPTURA!N373","v":0},null,null,null,{"$f":"HOJA_CAPTURA!N374","v":0}]
[]
[]
[]
[]
[null,{"$f":"HOJA_CAPTURA!O373","v":0},null,null,null,{"$f":"HOJA_CAPTURA!O374","v":0}]
[]
[]
[]
[]
[]
[]
[]
[]
[]
[]
[]
[]
[]
[]
[]
[]
[]
[]
[]
[]
[]
[]
[]
[]
[]
[]
[" "]
[]
[]
[]
[]
[]
[]
[null,null,null,null,null,null,null,null," "]
[]
[]
[]
[]
[]
[null,null,"Clasificación:",null,null,null,"Clasificación:"]
[null,{"$f":"HOJA_CAPTURA!N375","v":0},null,null,null,{"$f":"HOJA_CAPTURA!N376","v":0}]
[]
[]
[]
[]
[null,{"$f":"HOJA_CAPTURA!O375","v":0},null,null,null,{"$f":"HOJA_CAPTURA!O376","v":0}]
[]
[]
[]
[]
[]
[]
[]
[]
[]
[]
[]
[]
[]
[]
[]
[]
[]
[]
[]
[]
[]
[]
[]
[]
[]
[]
[" "]
[]
[]
[]
[]
[]
[]
[null,null,null,null,null,null,null,null," "]
[]
[]
[]
[]
[]
[null,null,"Clasificación:",null,null,null,"Clasificación:"]
[null,{"$f":"HOJA_CAPTURA!N377","v":0},null,null,null,{"$f":"HOJA_CAPTURA!N378","v":0}]
[]
[]
[]
[]
[null,{"$f":"HOJA_CAPTURA!O377","v":0},null,null,null,{"$f":"HOJA_CAPTURA!O378","v":0}]
[]
[]
[]
[]
[]
[]
[]
[]
[]
[]
[]
[]
[]
[]
[]
[]
[]
[]
[]
[]
[]
[]
[]
[]
[]
[]
[" "]
[]
[]
[]
[]
[]
[]
[null,null,null,null,null,null,null,null," "]
[]
[]
[]
[]
[]
[null,null,"Clasificación:",null,null,null,"Clasificación:"]
[null,{"$f":"HOJA_CAPTURA!N379","v":0},null,null,null,{"$f":"HOJA_CAPTURA!N380","v":0}]
[]
[]
[]
[]
[null,{"$f":"HOJA_CAPTURA!O379","v":0},null,null,null,{"$f":"HOJA_CAPTURA!O380","v":0}]
[]
[]
[]
[]
[]
[]
[]
[]
[]
[]
[]
[]
[]
[]
[]
[]
[]
[]
[]
[]
[]
[]
[]
[]
[]
[]
[" "]
[]
[]
[]
[]
[]
[]
[null,null,null,null,null,null,null,null," "]
[]
[]
[]
[]
[]
[null,null,"Clasificación:",null,null,null,"Clasificación:"]
[null,{"$f":"HOJA_CAPTURA!N381","v":0},null,null,null,{"$f":"HOJA_CAPTURA!N382","v":0}]
[]
[]
[]
[]
[null,{"$f":"HOJA_CAPTURA!O381","v":0},null,null,null,{"$f":"HOJA_CAPTURA!O382","v":0}]
[]
[]
[]
[]
[]
[]
[]
[]
[]
[]
[]
[]
[]
[]
[]
[]
[]
[]
[]
[]
[]
[]
[]
[]
[]
[]
[" "]
[]
[]
[]
[]
[]
[]
[null,null,null,null,null,null,null,null," "]
[]
[]
[]
[]
[]
[null,null,"Clasificación:",null,null,null,"Clasificación:"]
[null,{"$f":"HOJA_CAPTURA!N383","v":0},null,null,null,{"$f":"HOJA_CAPTURA!N384","v":0}]
[]
[]
[]
[]
[null,{"$f":"HOJA_CAPTURA!O383","v":0},null,null,null,{"$f":"HOJA_CAPTURA!O384","v":0}]
[]
[]
[]
[]
[]
[]
[]
[]
[]
[]
[]
[]
[]
[]
[]
[]
[]
[]
[]
[]
[]
[]
[]
[]
[]
[]
[" "]
[]
[]
[]
[]
[]
[]
[null,null,null,null,null,null,null,null," "]
[]
[]
[]
[]
[]
[null,null,"Clasificación:",null,null,null,"Clasificación:"]
[null,{"$f":"HOJA_CAPTURA!N385","v":0},null,null,null,{"$f":"HOJA_CAPTURA!N386","v":0}]
[]
[]
[]
[]
[null,{"$f":"HOJA_CAPTURA!O385","v":0},null,null,null,{"$f":"HOJA_CAPTURA!O386","v":0}]
[]
[]
[]
[]
[]
[]
[]
[]
[]
[]
[]
[]
[]
[]
[]
[]
[]
[]
[]
[]
[]
[]
[]
[]
[]
[]
[" "]
[]
[]
[]
[]
[]
[]
[null,null,null,null,null,null,null,null," "]
[]
[]
[]
[]
[]
[null,null,"Clasificación:",null,null,null,"Clasificación:"]
[null,{"$f":"HOJA_CAPTURA!N387","v":0},null,null,null,{"$f":"HOJA_CAPTURA!N388","v":0}]
[]
[]
[]
[]
[null,{"$f":"HOJA_CAPTURA!O387","v":0},null,null,null,{"$f":"HOJA_CAPTURA!O388","v":0}]
[]
[]
[]
[]
[]
[]
[]
[]
[]
[]
[]
[]
[]
[]
[]
[]
[]
[]
[]
[]
[]
[]
[]
[]
[]
[]
[" "]
[]
[]
[]
[]
[]
[]
[null,null,null,null,null,null,null,null," "]
[]
[]
[]
[]
[]
[null,null,"Clasificación:",null,null,null,"Clasificación:"]
[null,{"$f":"HOJA_CAPTURA!N389","v":0},null,null,null,{"$f":"HOJA_CAPTURA!N390","v":0}]
[]
[]
[]
[]
[null,{"$f":"HOJA_CAPTURA!O389","v":0},null,null,null,{"$f":"HOJA_CAPTURA!O390","v":0}]
[]
[]
[]
[]
[]
[]
[]
[]
[]
[]
[]
[]
[]
[]
[]
[]
[]
[]
[]
[]
[]
[]
[]
[]
[]
[]
[" "]
[]
[]
[]
[]
[]
[]
[null,null,null,null,null,null,null,null," "]
[]
[]
[]
[]
[]
[null,null,"Clasificación:",null,null,null,"Clasificación:"]
[null,{"$f":"HOJA_CAPTURA!N391","v":0},null,null,null,{"$f":"HOJA_CAPTURA!N392","v":0}]
[]
[]
[]
[]
[null,{"$f":"HOJA_CAPTURA!O391","v":0},null,null,null,{"$f":"HOJA_CAPTURA!O392","v":0}]
[]
[]
[]
[]
[]
[]
[]
[]
[]
[]
[]
[]
[]
[]
[]
[]
[]
[]
[]
[]
[]
[]
[]
[]
[]
[]
[" "]
[]
[]
[]
[]
[]
[]
[null,null,null,null,null,null,null,null," "]
[]
[]
[]
[]
[]
[null,null,"Clasificación:",null,null,null,"Clasificación:"]
[null,{"$f":"HOJA_CAPTURA!N393","v":0},null,null,null,{"$f":"HOJA_CAPTURA!N394","v":0}]
[]
[]
[]
[]
[null,{"$f":"HOJA_CAPTURA!O393","v":0},null,null,null,{"$f":"HOJA_CAPTURA!O394","v":0}]
[]
[]
[]
[]
[]
[]
[]
[]
[]
[]
[]
[]
[]
[]
[]
[]
[]
[]
[]
[]
[]
[]
[]
[]
[]
[]
[" "]
[]
[]
[]
[]
[]
[]
[null,null,null,null,null,null,null,null," "]
[]
[]
[]
[]
[]
[null,null,"Clasificación:",null,null,null,"Clasificación:"]
[null,{"$f":"HOJA_CAPTURA!N395","v":0},null,null,null,{"$f":"HOJA_CAPTURA!N396","v":0}]
[]
[]
[]
[]
[null,{"$f":"HOJA_CAPTURA!O395","v":0},null,null,null,{"$f":"HOJA_CAPTURA!O396","v":0}]
[]
[]
[]
[]
[]
[]
[]
[]
[]
[]
[]
[]
[]
[]
[]
[]
[]
[]
[]
[]
[]
[]
[]
[]
[]
[]
[" "]
[]
[]
[]
[]
[]
[]
[null,null,null,null,null,null,null,null," "]
[]
[]
[]
[]
[]
[null,null,"Clasificación:",null,null,null,"Clasificación:"]
[null,{"$f":"HOJA_CAPTURA!N397","v":0},null,null,null,{"$f":"HOJA_CAPTURA!N398","v":0}]
[]
[]
[]
[]
[null,{"$f":"HOJA_CAPTURA!O397","v":0},null,null,null,{"$f":"HOJA_CAPTURA!O398","v":0}]
[]
[]
[]
[]
[]
[]
[]
[]
[]
[]
[]
[]
[]
[]
[]
[]
[]
[]
[]
[]
[]
[]
[]
[]
[]
[]
[" "]
[]
[]
[]
[]
[]
[]
[null,null,null,null,null,null,null,null," "]
[]
[]
[]
[]
[]
[null,null,"Clasificación:",null,null,null,"Clasificación:"]
[null,{"$f":"HOJA_CAPTURA!N399","v":0},null,null,null,{"$f":"HOJA_CAPTURA!N400","v":0}]
[]
[]
[]
[]
[null,{"$f":"HOJA_CAPTURA!O399","v":0},null,null,null,{"$f":"HOJA_CAPTURA!O400","v":0}]
[]
[]
[]
[]
[]
[]
[]
[]
[]
[]
[]
[]
[]
[]
[]
[]
[]
[]
[]
[]
[]
[]
[]
[]
[]
[]
[" "]
[]
[]
[]
[]
[]
[]
[null,null,null,null,null,null,null,null," "]
[]
[]
[]
[]
[]
[null,null,"Clasificación:",null,null,null,"Clasificación:"]
[null,{"$f":"HOJA_CAPTURA!N401","v":0},null,null,null,{"$f":"HOJA_CAPTURA!N402","v":0}]
[]
[]
[]
[]
[null,{"$f":"HOJA_CAPTURA!O401","v":0},null,null,null,{"$f":"HOJA_CAPTURA!O402","v":0}]
[]
[]
[]
[]
[]
[]
[]
[]
[]
[]
[]
[]
[]
[]
[]
[]
[]
[]
[]
[]
[]
[]
[]
[]
[]
[]
[" "]

{"sheet":"PORTADA DE CAJA","index":7,"n_rows":48,"n_cols":14,"rows_kept":48,"cut":false,"hidden":false,"merged":[[3,4,3,8],[27,4,27,8],[10,1,10,2],[10,4,10,10],[11,4,11,7],[11,9,11,11],[12,4,12,7],[12,9,12,11],[6,2,6,3],[6,5,6,7],[6,9,6,11],[7,2,8,3],[7,5,8,7],[7,9,8,11],[14,6,15,11],[17,2,17,6],[17,8,17,11],[19,1,19,2],[14,1,14,5],[19,3,21,6],[19,7,21,11],[30,2,30,3],[30,5,30,7],[30,9,30,11],[31,2,32,3],[31,5,32,7],[31,9,32,11],[34,1,34,2],[34,4,34,10],[35,4,35,7],[35,9,35,11],[36,4,36,7],[36,9,36,11],[38,1,38,5],[38,6,39,11],[41,2,41,6],[41,8,41,11],[43,1,43,2],[43,3,45,6],[43,7,45,11]]}
[]
[]
[]
[null,null,null,null,"ETIQUETA DE IDENTIFICACIÓN DE CAJA",null,null,null,null,null,null,null,null,"."]
[]
[]
[null,null,"Año",null,null,"No. de Transferencia",null,null,null,"No. de Caja"]
[null,null,{"$f":"TODAY()","v":"2024-08-13"},null,null,{"$f":"HOJA_CAPTURA!L3","v":0},null,null,null,{"$f":"HOJA_CAPTURA!K3","v":0}]
[]
[]
[null,"Sección:",null,null,{"$f":"HOJA_CAPTURA!G3","v":0}]
[null,"Serie:",null,null,{"$f":"HOJA_CAPTURA!H3","v":0},null,null,null,"Clave:",{"$f":"HOJA_CAPTURA!AB3","v":" "}]
[null,"Subserie:",null,null,{"$f":"HOJA_CAPTURA!AE3","v":""},null,null,null,"Clave:",{"$f":"HOJA_CAPTURA!AD3","v":" "}]
[]
[null,"No. de expedientes contenidos en la caja:",null,null,null,null,{"$f":"HOJA_CAPTURA!J404","v":0}]
[]
[]
[null,"Del",{"$f":"HOJA_CAPTURA!M405","v":0},null,null,null,null,"al",{"$f":"HOJA_CAPTURA!M404","v":0}]
[]
[null,"Fechas extremas:",null,{"$f":"MIN(HOJA_CAPTURA!Q3:Q402)","v":"00:00:00"},null,null,null,{"$f":"MAX(HOJA_CAPTURA!R3:R402)","v":"00:00:00"}]
[]
[]
[]
[null,null," "]
[]
[]
[]
[null,null,null,null,"ETIQUETA DE IDENTIFICACIÓN DE CAJA",null,null,null,null,null,null,null,null,"."]
[]
[]
[null,null,"Año",null,null,"No. de Transferencia",null,null,null,"No. de Caja"]
[null,null,"dd/mm/aaaa"]
[]
[]
[null,"Sección:",null,null,"(En caso de utilizar más de una sección)"]
[null,"Serie:",null,null,"(En caso de utilizar más de una serie)",null,null,null,"Clave:"]
[null,"Subserie:",null,null,"(En caso de utilizar más de una subserie)",null,null,null,"Clave:"]
[]
[null,"No. de expedientes contenidos en la caja:"]
[]
[]
[null,"Del",null,null,null,null,null,"al"]
[]
[null,"Fechas extremas:"]
[]
[]
[]
[null,null," "]

{"sheet":"TRANSFERENCIA PRIMARIA","index":8,"n_rows":2499,"n_cols":15,"rows_kept":2499,"cut":false,"hidden":false,"merged":[[2445,2,2445,4],[2445,7,2445,14],[2446,0,2446,4],[2460,0,2461,0],[2460,1,2461,1],[2460,2,2461,2],[2460,3,2461,3],[2460,4,2461,4],[2460,6,2461,6],[2460,7,2461,7],[22,1,22,4],[2419,1,2419,13],[2420,2,2420,4],[2420,7,2420,14],[2421,0,2421,4],[2441,0,2442,0],[2441,1,2442,1],[2441,2,2442,2],[2441,3,2442,3],[2441,4,2442,4],[2441,6,2442,6],[2441,13,2442,13],[2441,14,2442,14],[2435,0,2436,0],[2435,1,2436,1],[2435,2,2436,2],[2435,3,2436,3],[2435,4,2436,4],[2435,6,2436,6],[2435,7,2436,7],[2185,0,2186,0],[2157,8,2157,14],[2170,7,2170,14],[2171,0,2171,4],[2171,6,2171,14],[2172,1,2172,4],[2173,0,2173,4],[2173,6,2173,14],[2179,0,2179,2],[2180,0,2180,3],[2444,1,2444,13],[2164,10,2165,10],[2164,11,2165,11],[2164,12,2165,12],[2164,13,2165,13],[2164,14,2165,14],[2166,8,2167,8],[2166,9,2167,9],[2166,10,2167,10],[2166,11,2167,11],[2166,12,2167,12],[2166,13,2167,13],[2166,14,2167,14],[2185,1,2186,1],[2185,2,2186,2],[2185,3,2186,3],[2185,4,2186,4],[2185,13,2186,13],[2185,14,2186,14],[2183,5,2184,5],[2183,7,2183,9],[2183,10,2183,12],[2166,0,2167,0],[2166,1,2167,1],[2146,0,2146,4],[2146,6,2146,14],[2147,1,2147,4],[2148,0,2148,4],[2162,0,2163,0],[2162,1,2163,1],[2162,2,2163,2],[2162,3,2163,3],[2162,4,2163,4],[2162,6,2163,6],[2162,7,2163,7],[2162,8,2163,8],[2162,9,2163,9],[2164,0,2165,0],[2164,1,2165,1],[2164,2,2165,2],[2164,3,2165,3],[2164,4,2165,4],[2164,6,2165,6],[2164,7,2165,7],[2164,8,2165,8],[2164,9,2165,9],[2158,4,2159,4],[2158,5,2159,5],[2158,6,2159,6],[2158,7,2158,9],[2158,10,2158,12],[2158,13,2159,13],[2158,14,2159,14],[2160,0,2161,0],[2160,1,2161,1],[2160,2,2161,2],[2135,13,2136,13],[2135,14,2136,14],[2123,6,2123,14],[2129,0,2129,2],[2162,10,2163,10],[2162,11,2163,11],[2162,12,2163,12],[2162,13,2163,13],[2162,14,2163,14],[2169,1,2169,13],[2170,2,2170,4],[2137,14,2138,14],[2141,0,2142,0],[2141,1,2142,1],[2141,2,2142,2],[2141,3,2142,3],[2141,4,2142,4],[2141,6,2142,6],[2141,7,2142,7],[2156,0,2156,1],[2156,3,2156,5],[2156,7,2156,14],[2141,8,2142,8],[2141,9,2142,9],[2141,10,2142,10],[2141,11,2142,11],[2141,12,2142,12],[2141,13,2142,13],[2141,14,2142,14],[2144,1,2144,13],[2145,2,2145,4],[2145,7,2145,14],[2110,11,2111,11],[2110,12,2111,12],[2110,13,2111,13],[2110,14,2111,14],[2148,6,2148,14],[2154,0,2154,2],[2155,0,2155,3],[2155,4,2155,13],[2121,0,2121,4],[2121,6,2121,14],[2122,1,2122,4],[2123,0,2123,4],[2133,0,2134,0],[2133,1,2134,1],[2133,2,2134,2],[2133,3,2134,3],[2133,4,2134,4],[2133,6,2134,6],[2133,13,2134,13],[2133,14,2134,14],[2135,0,2136,0],[2135,1,2136,1],[2135,2,2136,2],[2135,3,2136,3],[2135,4,2136,4],[2135,6,2136,6],[2135,7,2136,7],[2135,8,2136,8],[2135,9,2136,9],[2135,10,2136,10],[2135,11,2136,11],[2135,12,2136,12],[2112,8,2113,8],[2112,9,2113,9],[2112,10,2113,10],[2112,11,2113,11],[2130,0,2130,3],[2130,4,2130,13],[2131,0,2131,1],[2131,3,2131,5],[2119,1,2119,13],[2120,2,2120,4],[2120,7,2120,14],[2098,6,2098,14],[2104,0,2104,2],[2105,0,2105,3],[2105,4,2105,13],[2106,0,2106,1],[2106,3,2106,5],[2106,7,2106,14],[2107,8,2107,14],[2108,0,2109,0],[2108,1,2109,1],[2108,2,2109,2],[2108,3,2109,3],[2108,4,2109,4],[2108,5,2109,5],[2108,6,2109,6],[2108,7,2108,9],[2108,10,2108,12],[2108,13,2109,13],[2108,14,2109,14],[2110,9,2111,9],[2110,10,2111,10],[2094,1,2094,13],[2095,2,2095,4],[2095,7,2095,14],[2096,0,2096,4],[2096,6,2096,14],[2097,1,2097,4],[2098,0,2098,4],[2091,0,2092,0],[2091,1,2092,1],[2091,2,2092,2],[2091,3,2092,3],[2091,4,2092,4],[2091,6,2092,6],[2091,7,2092,7],[2091,8,2092,8],[2091,9,2092,9],[2091,10,2092,10],[2091,11,2092,11],[2091,12,2092,12],[2091,13,2092,13],[2091,14,2092,14],[2085,2,2086,2],[2085,3,2086,3],[2085,4,2086,4],[2085,6,2086,6],[2085,7,2086,7],[2085,8,2086,8],[2085,9,2086,9],[2085,10,2086,10],[2085,11,2086,11],[2085,12,2086,12],[2085,13,2086,13],[2085,14,2086,14],[2081,0,2081,1],[2081,3,2081,5],[2081,7,2081,14],[2082,8,2082,14],[2083,5,2084,5],[2083,7,2083,9],[2083,10,2083,12],[2083,0,2084,0],[2083,1,2084,1],[2083,2,2084,2],[2083,3,2084,3],[2083,4,2084,4],[2083,6,2084,6],[2083,13,2084,13],[2083,14,2084,14],[2085,0,2086,0],[2085,1,2086,1],[2057,8,2057,14],[2058,0,2059,0],[2058,1,2059,1],[2058,2,2059,2],[2058,3,2059,3],[2058,4,2059,4],[2058,5,2059,5],[2058,6,2059,6],[2058,7,2058,9],[2058,10,2058,12],[2058,13,2059,13],[2064,0,2065,0],[2064,1,2065,1],[2064,2,2065,2],[2064,3,2065,3],[2069,1,2069,13],[2070,2,2070,4],[2070,7,2070,14],[2058,14,2059,14],[2060,0,2061,0],[2060,1,2061,1],[2060,2,2061,2],[2060,3,2061,3],[2060,4,2061,4],[2060,6,2061,6],[2060,7,2061,7],[2060,8,2061,8],[2060,9,2061,9],[2060,10,2061,10],[2060,11,2061,11],[2060,12,2061,12],[2060,13,2061,13],[2041,0,2042,0],[2041,1,2042,1],[2041,2,2042,2],[2041,3,2042,3],[2041,4,2042,4],[2041,6,2042,6],[2041,7,2042,7],[2041,8,2042,8],[2041,9,2042,9],[2041,10,2042,10],[2041,11,2042,11],[2041,12,2042,12],[2041,13,2042,13],[2041,14,2042,14],[2044,1,2044,13],[2045,2,2045,4],[2046,0,2046,4],[2046,6,2046,14],[2037,0,2038,0],[2037,1,2038,1],[2037,2,2038,2],[2037,3,2038,3],[2037,4,2038,4],[2037,6,2038,6],[2037,7,2038,7],[2037,8,2038,8],[2037,9,2038,9],[2037,10,2038,10],[2037,11,2038,11],[2037,12,2038,12],[2037,13,2038,13],[2037,14,2038,14],[2039,0,2040,0],[2039,1,2040,1],[2039,2,2040,2],[2039,3,2040,3],[2039,4,2040,4],[2039,6,2040,6],[2039,7,2040,7],[2039,8,2040,8],[2039,9,2040,9],[2039,10,2040,10],[2039,11,2040,11],[2039,12,2040,12],[2039,13,2040,13],[2039,14,2040,14],[1994,1,1994,13],[1998,0,1998,4],[1998,6,1998,14],[2033,7,2033,9],[2033,10,2033,12],[2033,13,2034,13],[2033,14,2034,14],[2035,0,2036,0],[2035,1,2036,1],[2035,2,2036,2],[2035,3,2036,3],[2035,4,2036,4],[2035,6,2036,6],[2035,7,2036,7],[2035,8,2036,8],[2035,9,2036,9],[2035,10,2036,10],[2035,11,2036,11],[2035,12,2036,12],[2035,13,2036,13],[2035,14,2036,14],[2007,8,2007,14],[2008,0,2009,0],[2008,1,2009,1],[2008,2,2009,2],[2008,3,2009,3],[2008,4,2009,4],[2008,5,2009,5],[2008,6,2009,6],[2008,7,2008,9],[2008,10,2008,12],[2008,13,2009,13],[1989,2,1990,2],[1989,3,1990,3],[1989,4,1990,4],[1989,6,1990,6],[1989,7,1990,7],[1989,8,1990,8],[1989,9,1990,9],[1989,10,1990,10],[1989,11,1990,11],[1989,12,1990,12],[1989,13,1990,13],[1989,14,1990,14],[1991,0,1992,0],[1991,1,1992,1],[1991,2,1992,2],[1991,3,1992,3],[1991,4,1992,4],[1991,6,1992,6],[1991,7,1992,7],[1991,8,1992,8],[1991,9,1992,9],[1991,10,1992,10],[1991,11,1992,11],[1991,12,1992,12],[1991,13,1992,13],[1991,14,1992,14],[1971,0,1971,4],[1971,6,1971,14],[1972,1,1972,4],[1973,0,1973,4],[1973,6,1973,14],[1979,0,1979,2],[1980,0,1980,3],[1980,4,1980,13],[1981,0,1981,1],[1981,3,1981,5],[1981,7,1981,14],[1982,8,1982,14],[1983,0,1984,0],[1983,1,1984,1],[1983,2,1984,2],[1987,0,1988,0],[1987,1,1988,1],[1987,2,1988,2],[1987,3,1988,3],[1987,4,1988,4],[1987,6,1988,6],[1987,7,1988,7],[1987,8,1988,8],[1987,9,1988,9],[1987,10,1988,10],[1987,11,1988,11],[1987,12,1988,12],[1987,13,1988,13],[1987,14,1988,14],[1983,3,1984,3],[1983,4,1984,4],[1983,5,1984,5],[1970,2,1970,4],[1970,7,1970,14],[1935,11,1936,11],[1935,12,1936,12],[1935,13,1936,13],[1935,14,1936,14],[1937,7,1938,7],[1937,8,1938,8],[1937,9,1938,9],[1937,10,1938,10],[1937,11,1938,11],[1937,12,1938,12],[1944,1,1944,13],[1945,2,1945,4],[1945,7,1945,14],[1946,0,1946,4],[1946,6,1946,14],[1941,0,1942,0],[1941,1,1942,1],[1941,2,1942,2],[1939,0,1940,0],[1939,1,1940,1],[1939,2,1940,2],[1939,3,1940,3],[1939,4,1940,4],[1939,6,1940,6],[1939,7,1940,7],[1939,8,1940,8],[1939,9,1940,9],[1939,10,1940,10],[1939,11,1940,11],[1939,12,1940,12],[1969,1,1969,13],[1919,1,1919,13],[1920,2,1920,4],[1920,7,1920,14],[1921,0,1921,4],[1921,6,1921,14],[1929,0,1929,2],[1930,0,1930,3],[1930,4,1930,13],[1931,0,1931,1],[1931,3,1931,5],[1931,7,1931,14],[1932,8,1932,14],[1933,0,1934,0],[1933,1,1934,1],[1933,2,1934,2],[1933,3,1934,3],[1933,4,1934,4],[1933,5,1934,5],[1933,6,1934,6],[1933,7,1933,9],[1933,10,1933,12],[1933,13,1934,13],[1933,14,1934,14],[1937,0,1938,0],[1937,1,1938,1],[1937,2,1938,2],[1937,3,1938,3],[1937,4,1938,4],[1937,6,1938,6],[1937,13,1938,13],[1937,14,1938,14],[1898,0,1898,4],[1898,6,1898,14],[1904,0,1904,2],[1905,0,1905,3],[1905,4,1905,13],[1906,0,1906,1],[1906,3,1906,5],[1906,7,1906,14],[1907,8,1907,14],[1885,11,1886,11],[1885,12,1886,12],[1885,13,1886,13],[1897,1,1897,4],[1916,2,1917,2],[1916,3,1917,3],[1916,4,1917,4],[1916,6,1917,6],[1916,7,1917,7],[1916,8,1917,8],[1916,9,1917,9],[1916,10,1917,10],[1916,11,1917,11],[1916,12,1917,12],[1916,13,1917,13],[1916,14,1917,14],[1910,8,1911,8],[1910,9,1911,9],[1910,10,1911,10],[1910,11,1911,11],[1910,12,1911,12],[1914,1,1915,1],[1914,2,1915,2],[1889,2,1890,2],[1889,3,1890,3],[1889,4,1890,4],[1889,6,1890,6],[1889,7,1890,7],[1889,8,1890,8],[1889,9,1890,9],[1889,10,1890,10],[1889,11,1890,11],[1889,12,1890,12],[1889,13,1890,13],[1891,2,1892,2],[1891,3,1892,3],[1891,4,1892,4],[1891,6,1892,6],[1891,7,1892,7],[1891,8,1892,8],[1891,9,1892,9],[1891,10,1892,10],[1891,11,1892,11],[1891,12,1892,12],[1891,13,1892,13],[1891,14,1892,14],[1844,1,1844,13],[1845,2,1845,4],[1845,7,1845,14],[1860,0,1861,0],[1860,1,1861,1],[1860,2,1861,2],[1860,3,1861,3],[1860,4,1861,4],[1860,6,1861,6],[1860,7,1861,7],[1864,0,1865,0],[1864,1,1865,1],[1864,2,1865,2],[1864,3,1865,3],[1869,1,1869,13],[1870,2,1870,4],[1870,7,1870,14],[1885,8,1886,8],[1885,9,1886,9],[1885,10,1886,10],[1846,0,1846,4],[1846,6,1846,14],[1847,1,1847,4],[1848,0,1848,4],[1848,6,1848,14],[1854,0,1854,2],[1855,0,1855,3],[1855,4,1855,13],[1856,0,1856,1],[1856,3,1856,5],[1856,7,1856,14],[1857,8,1857,14],[1858,0,1859,0],[1858,1,1859,1],[1858,2,1859,2],[1794,1,1794,13],[1795,2,1795,4],[1795,7,1795,14],[1810,0,1811,0],[1810,1,1811,1],[1810,2,1811,2],[1810,3,1811,3],[1810,4,1811,4],[1810,6,1811,6],[1810,7,1811,7],[1814,0,1815,0],[1814,1,1815,1],[1814,2,1815,2],[1814,3,1815,3],[1819,1,1819,13],[1820,2,1820,4],[1820,7,1820,14],[1796,0,1796,4],[1796,6,1796,14],[1797,1,1797,4],[1798,0,1798,4],[1798,6,1798,14],[1804,0,1804,2],[1805,0,1805,3],[1805,4,1805,13],[1806,0,1806,1],[1806,3,1806,5],[1806,7,1806,14],[1807,8,1807,14],[1808,0,1809,0],[1808,1,1809,1],[1808,2,1809,2],[1744,1,1744,13],[1745,2,1745,4],[1745,7,1745,14],[1760,0,1761,0],[1760,1,1761,1],[1760,2,1761,2],[1760,3,1761,3],[1760,4,1761,4],[1760,6,1761,6],[1760,7,1761,7],[1764,0,1765,0],[1764,1,1765,1],[1764,2,1765,2],[1764,3,1765,3],[1769,1,1769,13],[1770,2,1770,4],[1770,7,1770,14],[1746,0,1746,4],[1746,6,1746,14],[1747,1,1747,4],[1748,0,1748,4],[1748,6,1748,14],[1754,0,1754,2],[1755,0,1755,3],[1755,4,1755,13],[1756,0,1756,1],[1756,3,1756,5],[1756,7,1756,14],[1757,8,1757,14],[1758,0,1759,0],[1758,1,1759,1],[1758,2,1759,2],[1694,1,1694,13],[1695,2,1695,4],[1695,7,1695,14],[1710,0,1711,0],[1710,1,1711,1],[1710,2,1711,2],[1710,3,1711,3],[1710,4,1711,4],[1710,6,1711,6],[1710,7,1711,7],[1714,0,1715,0],[1714,1,1715,1],[1714,2,1715,2],[1714,3,1715,3],[1719,1,1719,13],[1720,2,1720,4],[1720,7,1720,14],[1696,0,1696,4],[1696,6,1696,14],[1697,1,1697,4],[1698,0,1698,4],[1698,6,1698,14],[1704,0,1704,2],[1705,0,1705,3],[1705,4,1705,13],[1706,0,1706,1],[1706,3,1706,5],[1706,7,1706,14],[1707,8,1707,14],[1708,0,1709,0],[1708,1,1709,1],[1708,2,1709,2],[1644,1,1644,13],[1645,2,1645,4],[1645,7,1645,14],[1660,0,1661,0],[1660,1,1661,1],[1660,2,1661,2],[1660,3,1661,3],[1660,4,1661,4],[1660,6,1661,6],[1660,7,1661,7],[1664,0,1665,0],[1664,1,1665,1],[1664,2,1665,2],[1664,3,1665,3],[1669,1,1669,13],[1670,2,1670,4],[1670,7,1670,14],[1646,0,1646,4],[1646,6,1646,14],[1647,1,1647,4],[1648,0,1648,4],[1648,6,1648,14],[1654,0,1654,2],[1655,0,1655,3],[1655,4,1655,13],[1656,0,1656,1],[1656,3,1656,5],[1656,7,1656,14],[1657,8,1657,14],[1658,0,1659,0],[1658,1,1659,1],[1658,2,1659,2],[1594,1,1594,13],[1595,2,1595,4],[1595,7,1595,14],[1610,0,1611,0],[1610,1,1611,1],[1610,2,1611,2],[1610,3,1611,3],[1610,4,1611,4],[1610,6,1611,6],[1610,7,1611,7],[1614,0,1615,0],[1614,1,1615,1],[1614,2,1615,2],[1614,3,1615,3],[1619,1,1619,13],[1620,2,1620,4],[1620,7,1620,14],[1596,0,1596,4],[1596,6,1596,14],[1597,1,1597,4],[1598,0,1598,4],[1598,6,1598,14],[1604,0,1604,2],[1605,0,1605,3],[1605,4,1605,13],[1606,0,1606,1],[1606,3,1606,5],[1606,7,1606,14],[1607,8,1607,14],[1608,0,1609,0],[1608,1,1609,1],[1608,2,1609,2],[1544,1,1544,13],[1548,0,1548,4],[1548,6,1548,14],[1560,0,1561,0],[1560,1,1561,1],[1560,2,1561,2],[1560,3,1561,3],[1560,4,1561,4],[1560,6,1561,6],[1560,7,1561,7],[1564,0,1565,0],[1564,1,1565,1],[1564,2,1565,2],[1564,3,1565,3],[1569,1,1569,13],[1570,2,1570,4],[1570,7,1570,14],[1545,2,1545,4],[1545,7,1545,14],[1546,0,1546,4],[1546,6,1546,14],[1547,1,1547,4],[1554,0,1554,2],[1555,0,1555,3],[1555,4,1555,13],[1556,0,1556,1],[1556,3,1556,5],[1556,7,1556,14],[1557,8,1557,14],[1558,0,1559,0],[1558,1,1559,1],[1558,2,1559,2],[1539,0,1540,0],[1539,1,1540,1],[1539,2,1540,2],[1539,3,1540,3],[1539,4,1540,4],[1539,6,1540,6],[1539,7,1540,7],[1539,8,1540,8],[1539,9,1540,9],[1539,10,1540,10],[1539,11,1540,11],[1539,12,1540,12],[1539,13,1540,13],[1539,14,1540,14],[1541,0,1542,0],[1541,1,1542,1],[1541,2,1542,2],[1541,3,1542,3],[1541,4,1542,4],[1541,6,1542,6],[1541,7,1542,7],[1541,8,1542,8],[1541,9,1542,9],[1541,10,1542,10],[1541,11,1542,11],[1541,12,1542,12],[1541,13,1542,13],[1541,14,1542,14],[1535,0,1536,0],[1535,1,1536,1],[1535,2,1536,2],[1535,3,1536,3],[1535,4,1536,4],[1535,6,1536,6],[1535,13,1536,13],[1535,14,1536,14],[1535,7,1536,7],[1535,8,1536,8],[1535,9,1536,9],[1535,10,1536,10],[1535,11,1536,11],[1535,12,1536,12],[1537,0,1538,0],[1537,1,1538,1],[1537,2,1538,2],[1537,3,1538,3],[1537,4,1538,4],[1537,6,1538,6],[1537,7,1538,7],[1537,8,1538,8],[1537,9,1538,9],[1537,10,1538,10],[1537,11,1538,11],[1537,12,1538,12],[1537,13,1538,13],[1537,14,1538,14],[1516,0,1517,0],[1516,1,1517,1],[1516,2,1517,2],[1516,3,1517,3],[1516,4,1517,4],[1516,6,1517,6],[1516,7,1517,7],[1516,8,1517,8],[1516,9,1517,9],[1516,10,1517,10],[1516,11,1517,11],[1516,12,1517,12],[1516,13,1517,13],[1516,14,1517,14],[1519,1,1519,13],[1523,0,1523,4],[1523,6,1523,14],[1520,2,1520,4],[1520,7,1520,14],[1521,0,1521,4],[1521,6,1521,14],[1522,1,1522,4],[1512,7,1513,7],[1512,8,1513,8],[1512,9,1513,9],[1512,10,1513,10],[1512,11,1513,11],[1512,12,1513,12],[1512,13,1513,13],[1512,14,1513,14],[1514,0,1515,0],[1514,1,1515,1],[1514,2,1515,2],[1514,3,1515,3],[1514,4,1515,4],[1514,6,1515,6],[1514,7,1515,7],[1514,8,1515,8],[1514,9,1515,9],[1514,10,1515,10],[1514,11,1515,11],[1514,12,1515,12],[1514,13,1515,13],[1514,14,1515,14],[1512,0,1513,0],[1512,1,1513,1],[1512,2,1513,2],[1512,3,1513,3],[1512,4,1513,4],[1512,6,1513,6],[1510,0,1511,0],[1510,1,1511,1],[1510,2,1511,2],[1510,3,1511,3],[1510,4,1511,4],[1510,6,1511,6],[1510,13,1511,13],[1510,14,1511,14],[1510,7,1511,7],[1510,8,1511,8],[1510,9,1511,9],[1510,10,1511,10],[1510,11,1511,11],[1510,12,1511,12],[1504,0,1504,2],[1505,0,1505,3],[1505,4,1505,13],[1506,0,1506,1],[1506,3,1506,5],[1506,7,1506,14],[1507,8,1507,14],[1508,0,1509,0],[1508,1,1509,1],[1508,2,1509,2],[1508,3,1509,3],[1508,4,1509,4],[1508,5,1509,5],[1508,6,1509,6],[1508,7,1508,9],[1508,10,1508,12],[1508,13,1509,13],[1508,14,1509,14],[1491,0,1492,0],[1491,1,1492,1],[1491,2,1492,2],[1491,3,1492,3],[1491,4,1492,4],[1491,6,1492,6],[1491,7,1492,7],[1491,8,1492,8],[1491,9,1492,9],[1491,10,1492,10],[1491,11,1492,11],[1491,12,1492,12],[1491,13,1492,13],[1491,14,1492,14],[1494,1,1494,13],[1498,0,1498,4],[1498,6,1498,14],[1495,2,1495,4],[1495,7,1495,14],[1496,0,1496,4],[1496,6,1496,14],[1497,1,1497,4],[1469,1,1469,13],[1473,0,1473,4],[1473,6,1473,14],[1485,0,1486,0],[1485,1,1486,1],[1485,2,1486,2],[1485,3,1486,3],[1485,4,1486,4],[1485,6,1486,6],[1485,13,1486,13],[1485,14,1486,14],[1485,7,1486,7],[1485,8,1486,8],[1485,9,1486,9],[1485,10,1486,10],[1485,11,1486,11],[1485,12,1486,12],[1482,8,1482,14],[1483,0,1484,0],[1483,1,1484,1],[1483,2,1484,2],[1483,3,1484,3],[1483,4,1484,4],[1483,5,1484,5],[1483,6,1484,6],[1483,7,1483,9],[1483,10,1483,12],[1483,13,1484,13],[1483,14,1484,14],[1462,14,1463,14],[1464,0,1465,0],[1464,1,1465,1],[1464,2,1465,2],[1464,3,1465,3],[1464,4,1465,4],[1464,6,1465,6],[1464,7,1465,7],[1464,8,1465,8],[1464,9,1465,9],[1464,10,1465,10],[1464,11,1465,11],[1464,12,1465,12],[1464,13,1465,13],[1464,14,1465,14],[1466,0,1467,0],[1466,1,1467,1],[1466,2,1467,2],[1466,3,1467,3],[1466,4,1467,4],[1466,6,1467,6],[1466,7,1467,7],[1466,8,1467,8],[1466,9,1467,9],[1466,10,1467,10],[1466,11,1467,11],[1466,12,1467,12],[1466,13,1467,13],[1466,14,1467,14],[1444,1,1444,13],[1445,2,1445,4],[1445,7,1445,14],[1446,0,1446,4],[1446,6,1446,14],[1460,0,1461,0],[1460,1,1461,1],[1460,2,1461,2],[1460,3,1461,3],[1460,4,1461,4],[1460,6,1461,6],[1460,13,1461,13],[1460,14,1461,14],[1447,1,1447,4],[1448,0,1448,4],[1448,6,1448,14],[1454,0,1454,2],[1455,0,1455,3],[1455,4,1455,13],[1456,0,1456,1],[1456,3,1456,5],[1456,7,1456,14],[1457,8,1457,14],[1458,0,1459,0],[1458,1,1459,1],[1458,2,1459,2]],"merged_total":8200,"flags":["merged_cut"]}
[]
[]
[]
[null,"           "]
["Fecha de transferencia:",null,null,{"$f":"TODAY()","v":"2024-08-13"},"Número de transferencia:",{"$f":"HOJA_CAPTURA!L3","v":0},null,null,null,null,null,null,null,"Hoja: 1 de "]
["Unidad administrativa/Área productora: ",null,null,null,{"$f":"HOJA_CAPTURA!C3","v":0}]
[{"$f":"HOJA_CAPTURA!B3","v":"Fondo: INP"},null,"Sección:",{"$f":"HOJA_CAPTURA!G3","v":0},null,null,"Serie: ",{"$f":"HOJA_CAPTURA!H3","v":0}]
[null,null,null,null,null,null,"Subserie:",null,{"$f":"HOJA_CAPTURA!I3","v":0}]
["No. Consecutivo","No. de caja","No. de expediente","Clasificación archivística del expediente","Descripción o asunto ","                                                                                                                                                                                                                                                          Periodo de trámite","No.  de folios ","Valor documental",null,null,"Vigencia documental",null,null,"Condiciones de acceso (Reservada y confidencial)","Tradición documental "]
[null,null,null,null,null,null,null,"A","L","F/C","AT","AC","Total"]
[{"$f":"HOJA_CAPTURA!J3","v":0},{"$f":"HOJA_CAPTURA!K3","v":0},{"$f":"HOJA_CAPTURA!M3","v":0},{"$f":"HOJA_CAPTURA!N3","v":0},{"$f":"HOJA_CAPTURA!P3","v":0},{"$f":"HOJA_CAPTURA!Q3","v":"00:00:00"},{"$f":"HOJA_CAPTURA!V3","v":0},{"$f":"HOJA_CAPTURA!AF3","v":0},{"$f":"HOJA_CAPTURA!AG3","v":0},{"$f":"HOJA_CAPTURA!AH3","v":0},{"$f":"HOJA_CAPTURA!AI3","v":0},{"$f":"HOJA_CAPTURA!AJ3","v":0},{"$f":"HOJA_CAPTURA!AK3","v":0},{"$f":"HOJA_CAPTURA!AL3","v":0},{"$f":"HOJA_CAPTURA!AU3","v":0}]
[null,null,null,null,null,{"$f":"HOJA_CAPTURA!R3","v":"00:00:00"}]
[{"$f":"HOJA_CAPTURA!J4","v":0},{"$f":"HOJA_CAPTURA!K4","v":0},{"$f":"HOJA_CAPTURA!M4","v":0},{"$f":"HOJA_CAPTURA!N4","v":0},{"$f":"HOJA_CAPTURA!P4","v":0},{"$f":"HOJA_CAPTURA!Q4","v":"00:00:00"},{"$f":"HOJA_CAPTURA!V4","v":0},{"$f":"HOJA_CAPTURA!AF4","v":0},{"$f":"HOJA_CAPTURA!AG4","v":0},{"$f":"HOJA_CAPTURA!AH4","v":0},{"$f":"HOJA_CAPTURA!AI4","v":0},{"$f":"HOJA_CAPTURA!AJ4","v":0},{"$f":"HOJA_CAPTURA!AK4","v":0},{"$f":"HOJA_CAPTURA!AL4","v":0},{"$f":"HOJA_CAPTURA!AU4","v":0}]
[null,null,null,null,null,{"$f":"HOJA_CAPTURA!R4","v":"00:00:00"}]
[{"$f":"HOJA_CAPTURA!J5","v":0},{"$f":"HOJA_CAPTURA!K5","v":0},{"$f":"HOJA_CAPTURA!M5","v":0},{"$f":"HOJA_CAPTURA!N5","v":0},{"$f":"HOJA_CAPTURA!P5","v":0},{"$f":"HOJA_CAPTURA!Q5","v":"00:00:00"},{"$f":"HOJA_CAPTURA!V5","v":0},{"$f":"HOJA_CAPTURA!AF5","v":0},{"$f":"HOJA_CAPTURA!AG5","v":0},{"$f":"HOJA_CAPTURA!AH5","v":0},{"$f":"HOJA_CAPTURA!AI5","v":0},{"$f":"HOJA_CAPTURA!AJ5","v":0},{"$f":"HOJA_CAPTURA!AK5","v":0},{"$f":"HOJA_CAPTURA!AL5","v":0},{"$f":"HOJA_CAPTURA!AU5","v":0}]
[null,null,null,null,null,{"$f":"HOJA_CAPTURA!R5","v":"00:00:00"}]
[{"$f":"HOJA_CAPTURA!J6","v":0},{"$f":"HOJA_CAPTURA!K6","v":0},{"$f":"HOJA_CAPTURA!M6","v":0},{"$f":"HOJA_CAPTURA!N6","v":0},{"$f":"HOJA_CAPTURA!P6","v":0},{"$f":"HOJA_CAPTURA!Q6","v":"00:00:00"},{"$f":"HOJA_CAPTURA!V6","v":0},{"$f":"HOJA_CAPTURA!AF6","v":0},{"$f":"HOJA_CAPTURA!AG6","v":0},{"$f":"HOJA_CAPTURA!AH6","v":0},{"$f":"HOJA_CAPTURA!AI6","v":0},{"$f":"HOJA_CAPTURA!AJ6","v":0},{"$f":"HOJA_CAPTURA!AK6","v":0},{"$f":"HOJA_CAPTURA!AL6","v":0},{"$f":"HOJA_CAPTURA!AU6","v":0}]
[null,null,null,null,null,{"$f":"HOJA_CAPTURA!R6","v":"00:00:00"}]
[]
[null,"\"El presente inventario consta de __fojas y ampara la cantidad de __expedientes de los años de __al__, contenidos en__ cajas, con un peso aproximado de __kg.\""]
[null,null,{"$f":"HOJA_CAPTURA!F3","v":0},null,null,null,null,{"$f":"HOJA_CAPTURA!E3","v":0}]
["Nombre, firma, cargo y área de adscripción de la persona que formuló el inventario ",null,null,null,null,null,"Nombre, firma, cargo y área de adscripción de la persona que revisó el inventario"]
[null,{"$f":"HOJA_CAPTURA!D3","v":0}]
["Nombre y firma del titular de la unidad administrativa que autorizó el inventario",null,null,null,null,null,"Nombre y firma del responsable del archivo de concentración que recibe el inventario"]
[]
[]
[]
[]
[null,"           "]
["Fecha de transferencia:",null,null,{"$f":"TODAY()","v":"2024-08-13"},"Número de transferencia:",{"$f":"HOJA_CAPTURA!L7","v":0},null,null,null,null,null,null,null,"Hoja: 2 de ",{"$f":"O5","v":0}]
["Unidad administrativa/Área productora: ",null,null,null,{"$f":"HOJA_CAPTURA!C7","v":0}]
[{"$f":"HOJA_CAPTURA!B7","v":"Fondo: INP"},null,"Sección:",{"$f":"HOJA_CAPTURA!G7","v":0},null,null,"Serie: ",{"$f":"HOJA_CAPTURA!H7","v":0}]
[null,null,null,null,null,null,"Subserie:",null,{"$f":"HOJA_CAPTURA!I7","v":0}]
["No. Consecutivo","No. de caja","No. de expediente","Clasificación archivística del expediente","Descripción o asunto ","                                                                                                                                                                                                                                                          Periodo de trámite","No.  de folios ","Valor documental",null,null,"Vigencia documental",null,null,"Condiciones de acceso (Reservada y confidencial)","Tradición documental "]
[null,null,null,null,null,null,null,"A","L","F/C","AT","AC","Total"]
[{"$f":"HOJA_CAPTURA!J7","v":0},{"$f":"HOJA_CAPTURA!K7","v":0},{"$f":"HOJA_CAPTURA!M7","v":0},{"$f":"HOJA_CAPTURA!N7","v":0},{"$f":"HOJA_CAPTURA!P7","v":0},{"$f":"HOJA_CAPTURA!Q7","v":"00:00:00"},{"$f":"HOJA_CAPTURA!V7","v":0},{"$f":"HOJA_CAPTURA!AF7","v":0},{"$f":"HOJA_CAPTURA!AG7","v":0},{"$f":"HOJA_CAPTURA!AH7","v":0},{"$f":"HOJA_CAPTURA!AI7","v":0},{"$f":"HOJA_CAPTURA!AJ7","v":0},{"$f":"HOJA_CAPTURA!AK7","v":0},{"$f":"HOJA_CAPTURA!AL7","v":0},{"$f":"HOJA_CAPTURA!AU7","v":0}]
[null,null,null,null,null,{"$f":"HOJA_CAPTURA!R7","v":"00:00:00"}]
[{"$f":"HOJA_CAPTURA!J8","v":0},{"$f":"HOJA_CAPTURA!K8","v":0},{"$f":"HOJA_CAPTURA!M8","v":0},{"$f":"HOJA_CAPTURA!N8","v":0},{"$f":"HOJA_CAPTURA!P8","v":0},{"$f":"HOJA_CAPTURA!Q8","v":"00:00:00"},{"$f":"HOJA_CAPTURA!V8","v":0},{"$f":"HOJA_CAPTURA!AF8","v":0},{"$f":"HOJA_CAPTURA!AG8","v":0},{"$f":"HOJA_CAPTURA!AH8","v":0},{"$f":"HOJA_CAPTURA!AI8","v":0},{"$f":"HOJA_CAPTURA!AJ8","v":0},{"$f":"HOJA_CAPTURA!AK8","v":0},{"$f":"HOJA_CAPTURA!AL8","v":0},{"$f":"HOJA_CAPTURA!AU8","v":0}]
[null,null,null,null,null,{"$f":"HOJA_CAPTURA!R8","v":"00:00:00"}]
[{"$f":"HOJA_CAPTURA!J9","v":0},{"$f":"HOJA_CAPTURA!K9","v":0},{"$f":"HOJA_CAPTURA!M9","v":0},{"$f":"HOJA_CAPTURA!N9","v":0},{"$f":"HOJA_CAPTURA!P9","v":0},{"$f":"HOJA_CAPTURA!Q9","v":"00:00:00"},{"$f":"HOJA_CAPTURA!V9","v":0},{"$f":"HOJA_CAPTURA!AF9","v":0},{"$f":"HOJA_CAPTURA!AG9","v":0},{"$f":"HOJA_CAPTURA!AH9","v":0},{"$f":"HOJA_CAPTURA!AI9","v":0},{"$f":"HOJA_CAPTURA!AJ9","v":0},{"$f":"HOJA_CAPTURA!AK9","v":0},{"$f":"HOJA_CAPTURA!AL9","v":0},{"$f":"HOJA_CAPTURA!AU9","v":0}]
[null,null,null,null,null,{"$f":"HOJA_CAPTURA!R9","v":"00:00:00"}]
[{"$f":"HOJA_CAPTURA!J10","v":0},{"$f":"HOJA_CAPTURA!K10","v":0},{"$f":"HOJA_CAPTURA!M10","v":0},{"$f":"HOJA_CAPTURA!N10","v":0},{"$f":"HOJA_CAPTURA!P10","v":0},{"$f":"HOJA_CAPTURA!Q10","v":"00:00:00"},{"$f":"HOJA_CAPTURA!V10","v":0},{"$f":"HOJA_CAPTURA!AF10","v":0},{"$f":"HOJA_CAPTURA!AG10","v":0},{"$f":"HOJA_CAPTURA!AH10","v":0},{"$f":"HOJA_CAPTURA!AI10","v":0},{"$f":"HOJA_CAPTURA!AJ10","v":0},{"$f":"HOJA_CAPTURA!AK10","v":0},{"$f":"HOJA_CAPTURA!AL10","v":0},{"$f":"HOJA_CAPTURA!AU10","v":0}]
[null,null,null,null,null,{"$f":"HOJA_CAPTURA!R10","v":"00:00:00"}]
[]
[null,"\"El presente inventario consta de __fojas y ampara la cantidad de __expedientes de los años de __al__, contenidos en__ cajas, con un peso aproximado de __kg.\""]
[null,null,{"$f":"HOJA_CAPTURA!F7","v":0},null,null,null,null,{"$f":"HOJA_CAPTURA!E7","v":0}]
["Nombre, firma, cargo y área de adscripción de la persona que formuló el inventario ",null,null,null,null,null,"Nombre, firma, cargo y área de adscripción de la persona que revisó el inventario"]
[null,{"$f":"HOJA_CAPTURA!D7","v":0}]
["Nombre y firma del titular de la unidad administrativa que autorizó el inventario",null,null,null,null,null,"Nombre y firma del responsable del archivo de concentración que recibe el inventario"]
[]
[]
[]
[]
[null,"           "]
["Fecha de transferencia:",null,null,{"$f":"TODAY()","v":"2024-08-13"},"Número de transferencia:",{"$f":"HOJA_CAPTURA!L11","v":0},null,null,null,null,null,null,null,"Hoja: 3 de ",{"$f":"O30","v":0}]
["Unidad administrativa/Área productora: ",null,null,null,{"$f":"HOJA_CAPTURA!C11","v":0}]
[{"$f":"HOJA_CAPTURA!B11","v":"Fondo: INP"},null,"Sección:",{"$f":"HOJA_CAPTURA!G11","v":0},null,null,"Serie: ",{"$f":"HOJA_CAPTURA!H11","v":0}]
[null,null,null,null,null,null,"Subserie:",null,{"$f":"HOJA_CAPTURA!I11","v":0}]
["No. Consecutivo","No. de caja","No. de expediente","Clasificación archivística del expediente","Descripción o asunto ","                                                                                                                                                                                                                                                          Periodo de trámite","No.  de folios ","Valor documental",null,null,"Vigencia documental",null,null,"Condiciones de acceso (Reservada y confidencial)","Tradición documental "]
[null,null,null,null,null,null,null,"A","L","F/C","AT","AC","Total"]
[{"$f":"HOJA_CAPTURA!J11","v":0},{"$f":"HOJA_CAPTURA!K11","v":0},{"$f":"HOJA_CAPTURA!M11","v":0},{"$f":"HOJA_CAPTURA!N11","v":0},{"$f":"HOJA_CAPTURA!P11","v":0},{"$f":"HOJA_CAPTURA!Q11","v":"00:00:00"},{"$f":"HOJA_CAPTURA!V11","v":0},{"$f":"HOJA_CAPTURA!AF11","v":0},{"$f":"HOJA_CAPTURA!AG11","v":0},{"$f":"HOJA_CAPTURA!AH11","v":0},{"$f":"HOJA_CAPTURA!AI11","v":0},{"$f":"HOJA_CAPTURA!AJ11","v":0},{"$f":"HOJA_CAPTURA!AK11","v":0},{"$f":"HOJA_CAPTURA!AL11","v":0},{"$f":"HOJA_CAPTURA!AU11","v":0}]
[null,null,null,null,null,{"$f":"HOJA_CAPTURA!R11","v":"00:00:00"}]
[{"$f":"HOJA_CAPTURA!J12","v":0},{"$f":"HOJA_CAPTURA!K12","v":0},{"$f":"HOJA_CAPTURA!M12","v":0},{"$f":"HOJA_CAPTURA!N12","v":0},{"$f":"HOJA_CAPTURA!P12","v":0},{"$f":"HOJA_CAPTURA!Q12","v":"00:00:00"},{"$f":"HOJA_CAPTURA!V12","v":0},{"$f":"HOJA_CAPTURA!AF12","v":0},{"$f":"HOJA_CAPTURA!AG12","v":0},{"$f":"HOJA_CAPTURA!AH12","v":0},{"$f":"HOJA_CAPTURA!AI12","v":0},{"$f":"HOJA_CAPTURA!AJ12","v":0},{"$f":"HOJA_CAPTURA!AK12","v":0},{"$f":"HOJA_CAPTURA!AL12","v":0},{"$f":"HOJA_CAPTURA!AU12","v":0}]
[null,null,null,null,null,{"$f":"HOJA_CAPTURA!R12","v":"00:00:00"}]
[{"$f":"HOJA_CAPTURA!J13","v":0},{"$f":"HOJA_CAPTURA!K13","v":0},{"$f":"HOJA_CAPTURA!M13","v":0},{"$f":"HOJA_CAPTURA!N13","v":0},{"$f":"HOJA_CAPTURA!P13","v":0},{"$f":"HOJA_CAPTURA!Q13","v":"00:00:00"},{"$f":"HOJA_CAPTURA!V13","v":0},{"$f":"HOJA_CAPTURA!AF13","v":0},{"$f":"HOJA_CAPTURA!AG13","v":0},{"$f":"HOJA_CAPTURA!AH13","v":0},{"$f":"HOJA_CAPTURA!AI13","v":0},{"$f":"HOJA_CAPTURA!AJ13","v":0},{"$f":"HOJA_CAPTURA!AK13","v":0},{"$f":"HOJA_CAPTURA!AL13","v":0},{"$f":"HOJA_CAPTURA!AU13","v":0}]
[null,null,null,null,null,{"$f":"HOJA_CAPTURA!R13","v":"00:00:00"}]
[{"$f":"HOJA_CAPTURA!J14","v":0},{"$f":"HOJA_CAPTURA!K14","v":0},{"$f":"HOJA_CAPTURA!M14","v":0},{"$f":"HOJA_CAPTURA!N14","v":0},{"$f":"HOJA_CAPTURA!P14","v":0},{"$f":"HOJA_CAPTURA!Q14","v":"00:00:00"},{"$f":"HOJA_CAPTURA!V14","v":0},{"$f":"HOJA_CAPTURA!AF14","v":0},{"$f":"HOJA_CAPTURA!AG14","v":0},{"$f":"HOJA_CAPTURA!AH14","v":0},{"$f":"HOJA_CAPTURA!AI14","v":0},{"$f":"HOJA_CAPTURA!AJ14","v":0},{"$f":"HOJA_CAPTURA!AK14","v":0},{"$f":"HOJA_CAPTURA!AL14","v":0},{"$f":"HOJA_CAPTURA!AU14","v":0}]
[null,null,null,null,null,{"$f":"HOJA_CAPTURA!R14","v":"00:00:00"}]
[]
[null,"\"El presente inventario consta de __fojas y ampara la cantidad de __expedientes de los años de __al__, contenidos en__ cajas, con un peso aproximado de __kg.\""]
[null,null,{"$f":"HOJA_CAPTURA!F11","v":0},null,null,null,null,{"$f":"HOJA_CAPTURA!E11","v":0}]
["Nombre, firma, cargo y área de adscripción de la persona que formuló el inventario ",null,null,null,null,null,"Nombre, firma, cargo y área de adscripción de la persona que revisó el inventario"]
[null,{"$f":"HOJA_CAPTURA!D11","v":0}]
["Nombre y firma del titular de la unidad administrativa que autorizó el inventario",null,null,null,null,null,"Nombre y firma del responsable del archivo de concentración que recibe el inventario"]
[]
[]
[]
[]
[null,"           "]
["Fecha de transferencia:",null,null,{"$f":"TODAY()","v":"2024-08-13"},"Número de transferencia:",{"$f":"HOJA_CAPTURA!L15","v":0},null,null,null,null,null,null,null,"Hoja: 4 de ",{"$f":"O55","v":0}]
["Unidad administrativa/Área productora: ",null,null,null,{"$f":"HOJA_CAPTURA!C15","v":0}]
[{"$f":"HOJA_CAPTURA!B15","v":"Fondo: INP"},null,"Sección:",{"$f":"HOJA_CAPTURA!G15","v":0},null,null,"Serie: ",{"$f":"HOJA_CAPTURA!H15","v":0}]
[null,null,null,null,null,null,"Subserie:",null,{"$f":"HOJA_CAPTURA!I15","v":0}]
["No. Consecutivo","No. de caja","No. de expediente","Clasificación archivística del expediente","Descripción o asunto ","                                                                                                                                                                                                                                                          Periodo de trámite","No.  de folios ","Valor documental",null,null,"Vigencia documental",null,null,"Condiciones de acceso (Reservada y confidencial)","Tradición documental "]
[null,null,null,null,null,null,null,"A","L","F/C","AT","AC","Total"]
[{"$f":"HOJA_CAPTURA!J15","v":0},{"$f":"HOJA_CAPTURA!K15","v":0},{"$f":"HOJA_CAPTURA!M15","v":0},{"$f":"HOJA_CAPTURA!N15","v":0},{"$f":"HOJA_CAPTURA!P15","v":0},{"$f":"HOJA_CAPTURA!Q15","v":"00:00:00"},{"$f":"HOJA_CAPTURA!V15","v":0},{"$f":"HOJA_CAPTURA!AF15","v":0},{"$f":"HOJA_CAPTURA!AG15","v":0},{"$f":"HOJA_CAPTURA!AH15","v":0},{"$f":"HOJA_CAPTURA!AI15","v":0},{"$f":"HOJA_CAPTURA!AJ15","v":0},{"$f":"HOJA_CAPTURA!AK15","v":0},{"$f":"HOJA_CAPTURA!AL15","v":0},{"$f":"HOJA_CAPTURA!AU15","v":0}]
[null,null,null,null,null,{"$f":"HOJA_CAPTURA!R15","v":"00:00:00"}]
[{"$f":"HOJA_CAPTURA!J16","v":0},{"$f":"HOJA_CAPTURA!K16","v":0},{"$f":"HOJA_CAPTURA!M16","v":0},{"$f":"HOJA_CAPTURA!N16","v":0},{"$f":"HOJA_CAPTURA!P16","v":0},{"$f":"HOJA_CAPTURA!Q16","v":"00:00:00"},{"$f":"HOJA_CAPTURA!V16","v":0},{"$f":"HOJA_CAPTURA!AF16","v":0},{"$f":"HOJA_CAPTURA!AG16","v":0},{"$f":"HOJA_CAPTURA!AH16","v":0},{"$f":"HOJA_CAPTURA!AI16","v":0},{"$f":"HOJA_CAPTURA!AJ16","v":0},{"$f":"HOJA_CAPTURA!AK16","v":0},{"$f":"HOJA_CAPTURA!AL16","v":0},{"$f":"HOJA_CAPTURA!AU16","v":0}]
[null,null,null,null,null,{"$f":"HOJA_CAPTURA!R16","v":"00:00:00"}]
[{"$f":"HOJA_CAPTURA!J17","v":0},{"$f":"HOJA_CAPTURA!K17","v":0},{"$f":"HOJA_CAPTURA!M17","v":0},{"$f":"HOJA_CAPTURA!N17","v":0},{"$f":"HOJA_CAPTURA!P17","v":0},{"$f":"HOJA_CAPTURA!Q17","v":"00:00:00"},{"$f":"HOJA_CAPTURA!V17","v":0},{"$f":"HOJA_CAPTURA!AF17","v":0},{"$f":"HOJA_CAPTURA!AG17","v":0},{"$f":"HOJA_CAPTURA!AH17","v":0},{"$f":"HOJA_CAPTURA!AI17","v":0},{"$f":"HOJA_CAPTURA!AJ17","v":0},{"$f":"HOJA_CAPTURA!AK17","v":0},{"$f":"HOJA_CAPTURA!AL17","v":0},{"$f":"HOJA_CAPTURA!AU17","v":0}]
[null,null,null,null,null,{"$f":"HOJA_CAPTURA!R17","v":"00:00:00"}]
[{"$f":"HOJA_CAPTURA!J18","v":0},{"$f":"HOJA_CAPTURA!K18","v":0},{"$f":"HOJA_CAPTURA!M18","v":0},{"$f":"HOJA_CAPTURA!N18","v":0},{"$f":"HOJA_CAPTURA!P18","v":0},{"$f":"HOJA_CAPTURA!Q18","v":"00:00:00"},{"$f":"HOJA_CAPTURA!V18","v":0},{"$f":"HOJA_CAPTURA!AF18","v":0},{"$f":"HOJA_CAPTURA!AG18","v":0},{"$f":"HOJA_CAPTURA!AH18","v":0},{"$f":"HOJA_CAPTURA!AI18","v":0},{"$f":"HOJA_CAPTURA!AJ18","v":0},{"$f":"HOJA_CAPTURA!AK18","v":0},{"$f":"HOJA_CAPTURA!AL18","v":0},{"$f":"HOJA_CAPTURA!AU18","v":0}]
[null,null,null,null,null,{"$f":"HOJA_CAPTURA!R18","v":"00:00:00"}]
[]
[null,"\"El presente inventario consta de __fojas y ampara la cantidad de __expedientes de los años de __al__, contenidos en__ cajas, con un peso aproximado de __kg.\""]
[null,null,{"$f":"HOJA_CAPTURA!F15","v":0},null,null,null,null,{"$f":"HOJA_CAPTURA!E15","v":0}]
["Nombre, firma, cargo y área de adscripción de la persona que formuló el inventario ",null,null,null,null,null,"Nombre, firma, cargo y área de adscripción de la persona que revisó el inventario"]
[null,{"$f":"HOJA_CAPTURA!D15","v":0}]
["Nombre y firma del titular de la unidad administrativa que autorizó el inventario",null,null,null,null,null,"Nombre y firma del responsable del archivo de concentración que recibe el inventario"]
[]
[]
[]
[]
[null,"           "]
["Fecha de transferencia:",null,null,{"$f":"TODAY()","v":"2024-08-13"},"Número de transferencia:",{"$f":"HOJA_CAPTURA!L19","v":0},null,null,null,null,null,null,null,"Hoja: 5 de ",{"$f":"O80","v":0}]
["Unidad administrativa/Área productora: ",null,null,null,{"$f":"HOJA_CAPTURA!C19","v":0}]
[{"$f":"HOJA_CAPTURA!B19","v":"Fondo: INP"},null,"Sección:",{"$f":"HOJA_CAPTURA!G19","v":0},null,null,"Serie: ",{"$f":"HOJA_CAPTURA!H19","v":0}]
[null,null,null,null,null,null,"Subserie:",null,{"$f":"HOJA_CAPTURA!I19","v":0}]
["No. Consecutivo","No. de caja","No. de expediente","Clasificación archivística del expediente","Descripción o asunto ","                                                                                                                                                                                                                                                          Periodo de trámite","No.  de folios ","Valor documental",null,null,"Vigencia documental",null,null,"Condiciones de acceso (Reservada y confidencial)","Tradición documental "]
[null,null,null,null,null,null,null,"A","L","F/C","AT","AC","Total"]
[{"$f":"HOJA_CAPTURA!J19","v":0},{"$f":"HOJA_CAPTURA!K19","v":0},{"$f":"HOJA_CAPTURA!M19","v":0},{"$f":"HOJA_CAPTURA!N19","v":0},{"$f":"HOJA_CAPTURA!P19","v":0},{"$f":"HOJA_CAPTURA!Q19","v":"00:00:00"},{"$f":"HOJA_CAPTURA!V19","v":0},{"$f":"HOJA_CAPTURA!AF19","v":0},{"$f":"HOJA_CAPTURA!AG19","v":0},{"$f":"HOJA_CAPTURA!AH19","v":0},{"$f":"HOJA_CAPTURA!AI19","v":0},{"$f":"HOJA_CAPTURA!AJ19","v":0},{"$f":"HOJA_CAPTURA!AK19","v":0},{"$f":"HOJA_CAPTURA!AL19","v":0},{"$f":"HOJA_CAPTURA!AU19","v":0}]
[null,null,null,null,null,{"$f":"HOJA_CAPTURA!R19","v":"00:00:00"}]
[{"$f":"HOJA_CAPTURA!J20","v":0},{"$f":"HOJA_CAPTURA!K20","v":0},{"$f":"HOJA_CAPTURA!M20","v":0},{"$f":"HOJA_CAPTURA!N20","v":0},{"$f":"HOJA_CAPTURA!P20","v":0},{"$f":"HOJA_CAPTURA!Q20","v":"00:00:00"},{"$f":"HOJA_CAPTURA!V20","v":0},{"$f":"HOJA_CAPTURA!AF20","v":0},{"$f":"HOJA_CAPTURA!AG20","v":0},{"$f":"HOJA_CAPTURA!AH20","v":0},{"$f":"HOJA_CAPTURA!AI20","v":0},{"$f":"HOJA_CAPTURA!AJ20","v":0},{"$f":"HOJA_CAPTURA!AK20","v":0},{"$f":"HOJA_CAPTURA!AL20","v":0},{"$f":"HOJA_CAPTURA!AU20","v":0}]
[null,null,null,null,null,{"$f":"HOJA_CAPTURA!R20","v":"00:00:00"}]
[{"$f":"HOJA_CAPTURA!J21","v":0},{"$f":"HOJA_CAPTURA!K21","v":0},{"$f":"HOJA_CAPTURA!M21","v":0},{"$f":"HOJA_CAPTURA!N21","v":0},{"$f":"HOJA_CAPTURA!P21","v":0},{"$f":"HOJA_CAPTURA!Q21","v":"00:00:00"},{"$f":"HOJA_CAPTURA!V21","v":0},{"$f":"HOJA_CAPTURA!AF21","v":0},{"$f":"HOJA_CAPTURA!AG21","v":0},{"$f":"HOJA_CAPTURA!AH21","v":0},{"$f":"HOJA_CAPTURA!AI21","v":0},{"$f":"HOJA_CAPTURA!AJ21","v":0},{"$f":"HOJA_CAPTURA!AK21","v":0},{"$f":"HOJA_CAPTURA!AL21","v":0},{"$f":"HOJA_CAPTURA!AU21","v":0}]
[null,null,null,null,null,{"$f":"HOJA_CAPTURA!R21","v":"00:00:00"}]
[{"$f":"HOJA_CAPTURA!J22","v":0},{"$f":"HOJA_CAPTURA!K22","v":0},{"$f":"HOJA_CAPTURA!M22","v":0},{"$f":"HOJA_CAPTURA!N22","v":0},{"$f":"HOJA_CAPTURA!P22","v":0},{"$f":"HOJA_CAPTURA!Q22","v":"00:00:00"},{"$f":"HOJA_CAPTURA!V22","v":0},{"$f":"HOJA_CAPTURA!AF22","v":0},{"$f":"HOJA_CAPTURA!AG22","v":0},{"$f":"HOJA_CAPTURA!AH22","v":0},{"$f":"HOJA_CAPTURA!AI22","v":0},{"$f":"HOJA_CAPTURA!AJ22","v":0},{"$f":"HOJA_CAPTURA!AK22","v":0},{"$f":"HOJA_CAPTURA!AL22","v":0},{"$f":"HOJA_CAPTURA!AU22","v":0}]
[null,null,null,null,null,{"$f":"HOJA_CAPTURA!R22","v":"00:00:00"}]
[]
[null,"\"El presente inventario consta de __fojas y ampara la cantidad de __expedientes de los años de __al__, contenidos en__ cajas, con un peso aproximado de __kg.\""]
[null,null,{"$f":"HOJA_CAPTURA!F19","v":0},null,null,null,null,{"$f":"HOJA_CAPTURA!E19","v":0}]
["Nombre, firma, cargo y área de adscripción de la persona que formuló el inventario ",null,null,null,null,null,"Nombre, firma, cargo y área de adscripción de la persona que revisó el inventario"]
[null,{"$f":"HOJA_CAPTURA!D19","v":0}]
["Nombre y firma del titular de la unidad administrativa que autorizó el inventario",null,null,null,null,null,"Nombre y firma del responsable del archivo de concentración que recibe el inventario"]
[]
[]
[]
[]
[null,"           "]
["Fecha de transferencia:",null,null,{"$f":"TODAY()","v":"2024-08-13"},"Número de transferencia:",{"$f":"HOJA_CAPTURA!L23","v":0},null,null,null,null,null,null,null,"Hoja: 6 de ",{"$f":"O105","v":0}]
["Unidad administrativa/Área productora: ",null,null,null,{"$f":"HOJA_CAPTURA!C23","v":0}]
[{"$f":"HOJA_CAPTURA!B23","v":"Fondo: INP"},null,"Sección:",{"$f":"HOJA_CAPTURA!G23","v":0},null,null,"Serie: ",{"$f":"HOJA_CAPTURA!H23","v":0}]
[null,null,null,null,null,null,"Subserie:",null,{"$f":"HOJA_CAPTURA!I23","v":0}]
["No. Consecutivo","No. de caja","No. de expediente","Clasificación archivística del expediente","Descripción o asunto ","                                                                                                                                                                                                                                                          Periodo de trámite","No.  de folios ","Valor documental",null,null,"Vigencia documental",null,null,"Condiciones de acceso (Reservada y confidencial)","Tradición documental "]
[null,null,null,null,null,null,null,"A","L","F/C","AT","AC","Total"]
[{"$f":"HOJA_CAPTURA!J23","v":0},{"$f":"HOJA_CAPTURA!K23","v":0},{"$f":"HOJA_CAPTURA!M23","v":0},{"$f":"HOJA_CAPTURA!N23","v":0},{"$f":"HOJA_CAPTURA!P23","v":0},{"$f":"HOJA_CAPTURA!Q23","v":"00:00:00"},{"$f":"HOJA_CAPTURA!V23","v":0},{"$f":"HOJA_CAPTURA!AF23","v":0},{"$f":"HOJA_CAPTURA!AG23","v":0},{"$f":"HOJA_CAPTURA!AH23","v":0},{"$f":"HOJA_CAPTURA!AI23","v":0},{"$f":"HOJA_CAPTURA!AJ23","v":0},{"$f":"HOJA_CAPTURA!AK23","v":0},{"$f":"HOJA_CAPTURA!AL23","v":0},{"$f":"HOJA_CAPTURA!AU23","v":0}]
[null,null,null,null,null,{"$f":"HOJA_CAPTURA!R23","v":"00:00:00"}]
[{"$f":"HOJA_CAPTURA!J24","v":0},{"$f":"HOJA_CAPTURA!K24","v":0},{"$f":"HOJA_CAPTURA!M24","v":0},{"$f":"HOJA_CAPTURA!N24","v":0},{"$f":"HOJA_CAPTURA!P24","v":0},{"$f":"HOJA_CAPTURA!Q24","v":"00:00:00"},{"$f":"HOJA_CAPTURA!V24","v":0},{"$f":"HOJA_CAPTURA!AF24","v":0},{"$f":"HOJA_CAPTURA!AG24","v":0},{"$f":"HOJA_CAPTURA!AH24","v":0},{"$f":"HOJA_CAPTURA!AI24","v":0},{"$f":"HOJA_CAPTURA!AJ24","v":0},{"$f":"HOJA_CAPTURA!AK24","v":0},{"$f":"HOJA_CAPTURA!AL24","v":0},{"$f":"HOJA_CAPTURA!AU24","v":0}]
[null,null,null,null,null,{"$f":"HOJA_CAPTURA!R24","v":"00:00:00"}]
[{"$f":"HOJA_CAPTURA!J25","v":0},{"$f":"HOJA_CAPTURA!K25","v":0},{"$f":"HOJA_CAPTURA!M25","v":0},{"$f":"HOJA_CAPTURA!N25","v":0},{"$f":"HOJA_CAPTURA!P25","v":0},{"$f":"HOJA_CAPTURA!Q25","v":"00:00:00"},{"$f":"HOJA_CAPTURA!V25","v":0},{"$f":"HOJA_CAPTURA!AF25","v":0},{"$f":"HOJA_CAPTURA!AG25","v":0},{"$f":"HOJA_CAPTURA!AH25","v":0},{"$f":"HOJA_CAPTURA!AI25","v":0},{"$f":"HOJA_CAPTURA!AJ25","v":0},{"$f":"HOJA_CAPTURA!AK25","v":0},{"$f":"HOJA_CAPTURA!AL25","v":0},{"$f":"HOJA_CAPTURA!AU25","v":0}]
[null,null,null,null,null,{"$f":"HOJA_CAPTURA!R25","v":"00:00:00"}]
[{"$f":"HOJA_CAPTURA!J26","v":0},{"$f":"HOJA_CAPTURA!K26","v":0},{"$f":"HOJA_CAPTURA!M26","v":0},{"$f":"HOJA_CAPTURA!N26","v":0},{"$f":"HOJA_CAPTURA!P26","v":0},{"$f":"HOJA_CAPTURA!Q26","v":"00:00:00"},{"$f":"HOJA_CAPTURA!V26","v":0},{"$f":"HOJA_CAPTURA!AF26","v":0},{"$f":"HOJA_CAPTURA!AG26","v":0},{"$f":"HOJA_CAPTURA!AH26","v":0},{"$f":"HOJA_CAPTURA!AI26","v":0},{"$f":"HOJA_CAPTURA!AJ26","v":0},{"$f":"HOJA_CAPTURA!AK26","v":0},{"$f":"HOJA_CAPTURA!AL26","v":0},{"$f":"HOJA_CAPTURA!AU26","v":0}]
[null,null,null,null,null,{"$f":"HOJA_CAPTURA!R26","v":"00:00:00"}]
[]
[null,"\"El presente inventario consta de __fojas y ampara la cantidad de __expedientes de los años de __al__, contenidos en__ cajas, con un peso aproximado de __kg.\""]
[null,null,{"$f":"HOJA_CAPTURA!F23","v":0},null,null,null,null,{"$f":"HOJA_CAPTURA!E23","v":0}]
["Nombre, firma, cargo y área de adscripción de la persona que formuló el inventario ",null,null,null,null,null,"Nombre, firma, cargo y área de adscripción de la persona que revisó el inventario"]
[null,{"$f":"HOJA_CAPTURA!D23","v":0}]
["Nombre y firma del titular de la unidad administrativa que autorizó el inventario",null,null,null,null,null,"Nombre y firma del responsable del archivo de concentración que recibe el inventario"]
[]
[]
[]
[]
[null,"           "]
["Fecha de transferencia:",null,null,{"$f":"TODAY()","v":"2024-08-13"},"Número de transferencia:",{"$f":"HOJA_CAPTURA!L27","v":0},null,null,null,null,null,null,null,"Hoja: 7 de ",{"$f":"O130","v":0}]
["Unidad administrativa/Área productora: ",null,null,null,{"$f":"HOJA_CAPTURA!C27","v":0}]
[{"$f":"HOJA_CAPTURA!B27","v":"Fondo: INP"},null,"Sección:",{"$f":"HOJA_CAPTURA!G27","v":0},null,null,"Serie: ",{"$f":"HOJA_CAPTURA!H27","v":0}]
[null,null,null,null,null,null,"Subserie:",null,{"$f":"HOJA_CAPTURA!I27","v":0}]
["No. Consecutivo","No. de caja","No. de expediente","Clasificación archivística del expediente","Descripción o asunto ","                                                                                                                                                                                                                                                          Periodo de trámite","No.  de folios ","Valor documental",null,null,"Vigencia documental",null,null,"Condiciones de acceso (Reservada y confidencial)","Tradición documental "]
[null,null,null,null,null,null,null,"A","L","F/C","AT","AC","Total"]
[{"$f":"HOJA_CAPTURA!J27","v":0},{"$f":"HOJA_CAPTURA!K27","v":0},{"$f":"HOJA_CAPTURA!M27","v":0},{"$f":"HOJA_CAPTURA!N27","v":0},{"$f":"HOJA_CAPTURA!P27","v":0},{"$f":"HOJA_CAPTURA!Q27","v":"00:00:00"},{"$f":"HOJA_CAPTURA!V27","v":0},{"$f":"HOJA_CAPTURA!AF27","v":0},{"$f":"HOJA_CAPTURA!AG27","v":0},{"$f":"HOJA_CAPTURA!AH27","v":0},{"$f":"HOJA_CAPTURA!AI27","v":0},{"$f":"HOJA_CAPTURA!AJ27","v":0},{"$f":"HOJA_CAPTURA!AK27","v":0},{"$f":"HOJA_CAPTURA!AL27","v":0},{"$f":"HOJA_CAPTURA!AU27","v":0}]
[null,null,null,null,null,{"$f":"HOJA_CAPTURA!R27","v":"00:00:00"}]
[{"$f":"HOJA_CAPTURA!J28","v":0},{"$f":"HOJA_CAPTURA!K28","v":0},{"$f":"HOJA_CAPTURA!M28","v":0},{"$f":"HOJA_CAPTURA!N28","v":0},{"$f":"HOJA_CAPTURA!P28","v":0},{"$f":"HOJA_CAPTURA!Q28","v":"00:00:00"},{"$f":"HOJA_CAPTURA!V28","v":0},{"$f":"HOJA_CAPTURA!AF28","v":0},{"$f":"HOJA_CAPTURA!AG28","v":0},{"$f":"HOJA_CAPTURA!AH28","v":0},{"$f":"HOJA_CAPTURA!AI28","v":0},{"$f":"HOJA_CAPTURA!AJ28","v":0},{"$f":"HOJA_CAPTURA!AK28","v":0},{"$f":"HOJA_CAPTURA!AL28","v":0},{"$f":"HOJA_CAPTURA!AU28","v":0}]
[null,null,null,null,null,{"$f":"HOJA_CAPTURA!R28","v":"00:00:00"}]
[{"$f":"HOJA_CAPTURA!J29","v":0},{"$f":"HOJA_CAPTURA!K29","v":0},{"$f":"HOJA_CAPTURA!M29","v":0},{"$f":"HOJA_CAPTURA!N29","v":0},{"$f":"HOJA_CAPTURA!P29","v":0},{"$f":"HOJA_CAPTURA!Q29","v":"00:00:00"},{"$f":"HOJA_CAPTURA!V29","v":0},{"$f":"HOJA_CAPTURA!AF29","v":0},{"$f":"HOJA_CAPTURA!AG29","v":0},{"$f":"HOJA_CAPTURA!AH29","v":0},{"$f":"HOJA_CAPTURA!AI29","v":0},{"$f":"HOJA_CAPTURA!AJ29","v":0},{"$f":"HOJA_CAPTURA!AK29","v":0},{"$f":"HOJA_CAPTURA!AL29","v":0},{"$f":"HOJA_CAPTURA!AU29","v":0}]
[null,null,null,null,null,{"$f":"HOJA_CAPTURA!R29","v":"00:00:00"}]
[{"$f":"HOJA_CAPTURA!J30","v":0},{"$f":"HOJA_CAPTURA!K30","v":0},{"$f":"HOJA_CAPTURA!M30","v":0},{"$f":"HOJA_CAPTURA!N30","v":0},{"$f":"HOJA_CAPTURA!P30","v":0},{"$f":"HOJA_CAPTURA!Q30","v":"00:00:00"},{"$f":"HOJA_CAPTURA!V30","v":0},{"$f":"HOJA_CAPTURA!AF30","v":0},{"$f":"HOJA_CAPTURA!AG30","v":0},{"$f":"HOJA_CAPTURA!AH30","v":0},{"$f":"HOJA_CAPTURA!AI30","v":0},{"$f":"HOJA_CAPTURA!AJ30","v":0},{"$f":"HOJA_CAPTURA!AK30","v":0},{"$f":"HOJA_CAPTURA!AL30","v":0},{"$f":"HOJA_CAPTURA!AU30","v":0}]
[null,null,null,null,null,{"$f":"HOJA_CAPTURA!R30","v":"00:00:00"}]
[]
[null,"\"El presente inventario consta de __fojas y ampara la cantidad de __expedientes de los años de __al__, contenidos en__ cajas, con un peso aproximado de __kg.\""]
[null,null,{"$f":"HOJA_CAPTURA!F27","v":0},null,null,null,null,{"$f":"HOJA_CAPTURA!E27","v":0}]
["Nombre, firma, cargo y área de adscripción de la persona que formuló el inventario ",null,null,null,null,null,"Nombre, firma, cargo y área de adscripción de la persona que revisó el inventario"]
[null,{"$f":"HOJA_CAPTURA!D27","v":0}]
["Nombre y firma del titular de la unidad administrativa que autorizó el inventario",null,null,null,null,null,"Nombre y firma del responsable del archivo de concentración que recibe el inventario"]
[]
[]
[]
[]
[null,"           "]
["Fecha de transferencia:",null,null,{"$f":"TODAY()","v":"2024-08-13"},"Número de transferencia:",{"$f":"HOJA_CAPTURA!L31","v":0},null,null,null,null,null,null,null,"Hoja: 8 de ",{"$f":"O155","v":0}]
["Unidad administrativa/Área productora: ",null,null,null,{"$f":"HOJA_CAPTURA!C31","v":0}]
[{"$f":"HOJA_CAPTURA!B31","v":"Fondo: INP"},null,"Sección:",{"$f":"HOJA_CAPTURA!G31","v":0},null,null,"Serie: ",{"$f":"HOJA_CAPTURA!H31","v":0}]
[null,null,null,null,null,null,"Subserie:",null,{"$f":"HOJA_CAPTURA!I31","v":0}]
["No. Consecutivo","No. de caja","No. de expediente","Clasificación archivística del expediente","Descripción o asunto ","                                                                                                                                                                                                                                                          Periodo de trámite","No.  de folios ","Valor documental",null,null,"Vigencia documental",null,null,"Condiciones de acceso (Reservada y confidencial)","Tradición documental "]
[null,null,null,null,null,null,null,"A","L","F/C","AT","AC","Total"]
[{"$f":"HOJA_CAPTURA!J31","v":0},{"$f":"HOJA_CAPTURA!K31","v":0},{"$f":"HOJA_CAPTURA!M31","v":0},{"$f":"HOJA_CAPTURA!N31","v":0},{"$f":"HOJA_CAPTURA!P31","v":0},{"$f":"HOJA_CAPTURA!Q31","v":"00:00:00"},{"$f":"HOJA_CAPTURA!V31","v":0},{"$f":"HOJA_CAPTURA!AF31","v":0},{"$f":"HOJA_CAPTURA!AG31","v":0},{"$f":"HOJA_CAPTURA!AH31","v":0},{"$f":"HOJA_CAPTURA!AI31","v":0},{"$f":"HOJA_CAPTURA!AJ31","v":0},{"$f":"HOJA_CAPTURA!AK31","v":0},{"$f":"HOJA_CAPTURA!AL31","v":0},{"$f":"HOJA_CAPTURA!AU31","v":0}]
[null,null,null,null,null,{"$f":"HOJA_CAPTURA!R31","v":"00:00:00"}]
[{"$f":"HOJA_CAPTURA!J32","v":0},{"$f":"HOJA_CAPTURA!K32","v":0},{"$f":"HOJA_CAPTURA!M32","v":0},{"$f":"HOJA_CAPTURA!N32","v":0},{"$f":"HOJA_CAPTURA!P32","v":0},{"$f":"HOJA_CAPTURA!Q32","v":"00:00:00"},{"$f":"HOJA_CAPTURA!V32","v":0},{"$f":"HOJA_CAPTURA!AF32","v":0},{"$f":"HOJA_CAPTURA!AG32","v":0},{"$f":"HOJA_CAPTURA!AH32","v":0},{"$f":"HOJA_CAPTURA!AI32","v":0},{"$f":"HOJA_CAPTURA!AJ32","v":0},{"$f":"HOJA_CAPTURA!AK32","v":0},{"$f":"HOJA_CAPTURA!AL32","v":0},{"$f":"HOJA_CAPTURA!AU32","v":0}]
[null,null,null,null,null,{"$f":"HOJA_CAPTURA!R32","v":"00:00:00"}]
[{"$f":"HOJA_CAPTURA!J33","v":0},{"$f":"HOJA_CAPTURA!K33","v":0},{"$f":"HOJA_CAPTURA!M33","v":0},{"$f":"HOJA_CAPTURA!N33","v":0},{"$f":"HOJA_CAPTURA!P33","v":0},{"$f":"HOJA_CAPTURA!Q33","v":"00:00:00"},{"$f":"HOJA_CAPTURA!V33","v":0},{"$f":"HOJA_CAPTURA!AF33","v":0},{"$f":"HOJA_CAPTURA!AG33","v":0},{"$f":"HOJA_CAPTURA!AH33","v":0},{"$f":"HOJA_CAPTURA!AI33","v":0},{"$f":"HOJA_CAPTURA!AJ33","v":0},{"$f":"HOJA_CAPTURA!AK33","v":0},{"$f":"HOJA_CAPTURA!AL33","v":0},{"$f":"HOJA_CAPTURA!AU33","v":0}]
[null,null,null,null,null,{"$f":"HOJA_CAPTURA!R33","v":"00:00:00"}]
[{"$f":"HOJA_CAPTURA!J34","v":0},{"$f":"HOJA_CAPTURA!K34","v":0},{"$f":"HOJA_CAPTURA!M34","v":0},{"$f":"HOJA_CAPTURA!N34","v":0},{"$f":"HOJA_CAPTURA!P34","v":0},{"$f":"HOJA_CAPTURA!Q34","v":"00:00:00"},{"$f":"HOJA_CAPTURA!V34","v":0},{"$f":"HOJA_CAPTURA!AF34","v":0},{"$f":"HOJA_CAPTURA!AG34","v":0},{"$f":"HOJA_CAPTURA!AH34","v":0},{"$f":"HOJA_CAPTURA!AI34","v":0},{"$f":"HOJA_CAPTURA!AJ34","v":0},{"$f":"HOJA_CAPTURA!AK34","v":0},{"$f":"HOJA_CAPTURA!AL34","v":0},{"$f":"HOJA_CAPTURA!AU34","v":0}]
[null,null,null,null,null,{"$f":"HOJA_CAPTURA!R34","v":"00:00:00"}]
[]
[null,"\"El presente inventario consta de __fojas y ampara la cantidad de __expedientes de los años de __al__, contenidos en__ cajas, con un peso aproximado de __kg.\""]
[null,null,{"$f":"HOJA_CAPTURA!F31","v":0},null,null,null,null,{"$f":"HOJA_CAPTURA!E31","v":0}]
["Nombre, firma, cargo y área de adscripción de la persona que formuló el inventario ",null,null,null,null,null,"Nombre, firma, cargo y área de adscripción de la persona que revisó el inventario"]
[null,{"$f":"HOJA_CAPTURA!D31","v":0}]
["Nombre y firma del titular de la unidad administrativa que autorizó el inventario",null,null,null,null,null,"Nombre y firma del responsable del archivo de concentración que recibe el inventario"]
[]
[]
[]
[]
[null,"           "]
["Fecha de transferencia:",null,null,{"$f":"TODAY()","v":"2024-08-13"},"Número de transferencia:",{"$f":"HOJA_CAPTURA!L35","v":0},null,null,null,null,null,null,null,"Hoja: 9 de ",{"$f":"O180","v":0}]
["Unidad administrativa/Área productora: ",null,null,null,{"$f":"HOJA_CAPTURA!C35","v":0}]
[{"$f":"HOJA_CAPTURA!B35","v":"Fondo: INP"},null,"Sección:",{"$f":"HOJA_CAPTURA!G35","v":0},null,null,"Serie: ",{"$f":"HOJA_CAPTURA!H35","v":0}]
[null,null,null,null,null,null,"Subserie:",null,{"$f":"HOJA_CAPTURA!I35","v":0}]
["No. Consecutivo","No. de caja","No. de expediente","Clasificación archivística del expediente","Descripción o asunto ","                                                                                                                                                                                                                                                          Periodo de trámite","No.  de folios ","Valor documental",null,null,"Vigencia documental",null,null,"Condiciones de acceso (Reservada y confidencial)","Tradición documental "]
[null,null,null,null,null,null,null,"A","L","F/C","AT","AC","Total"]
[{"$f":"HOJA_CAPTURA!J35","v":0},{"$f":"HOJA_CAPTURA!K35","v":0},{"$f":"HOJA_CAPTURA!M35","v":0},{"$f":"HOJA_CAPTURA!N35","v":0},{"$f":"HOJA_CAPTURA!P35","v":0},{"$f":"HOJA_CAPTURA!Q35","v":"00:00:00"},{"$f":"HOJA_CAPTURA!V35","v":0},{"$f":"HOJA_CAPTURA!AF35","v":0},{"$f":"HOJA_CAPTURA!AG35","v":0},{"$f":"HOJA_CAPTURA!AH35","v":0},{"$f":"HOJA_CAPTURA!AI35","v":0},{"$f":"HOJA_CAPTURA!AJ35","v":0},{"$f":"HOJA_CAPTURA!AK35","v":0},{"$f":"HOJA_CAPTURA!AL35","v":0},{"$f":"HOJA_CAPTURA!AU35","v":0}]
[null,null,null,null,null,{"$f":"HOJA_CAPTURA!R35","v":"00:00:00"}]
[{"$f":"HOJA_CAPTURA!J36","v":0},{"$f":"HOJA_CAPTURA!K36","v":0},{"$f":"HOJA_CAPTURA!M36","v":0},{"$f":"HOJA_CAPTURA!N36","v":0},{"$f":"HOJA_CAPTURA!P36","v":0},{"$f":"HOJA_CAPTURA!Q36","v":"00:00:00"},{"$f":"HOJA_CAPTURA!V36","v":0},{"$f":"HOJA_CAPTURA!AF36","v":0},{"$f":"HOJA_CAPTURA!AG36","v":0},{"$f":"HOJA_CAPTURA!AH36","v":0},{"$f":"HOJA_CAPTURA!AI36","v":0},{"$f":"HOJA_CAPTURA!AJ36","v":0},{"$f":"HOJA_CAPTURA!AK36","v":0},{"$f":"HOJA_CAPTURA!AL36","v":0},{"$f":"HOJA_CAPTURA!AU36","v":0}]
[null,null,null,null,null,{"$f":"HOJA_CAPTURA!R36","v":"00:00:00"}]
[{"$f":"HOJA_CAPTURA!J37","v":0},{"$f":"HOJA_CAPTURA!K37","v":0},{"$f":"HOJA_CAPTURA!M37","v":0},{"$f":"HOJA_CAPTURA!N37","v":0},{"$f":"HOJA_CAPTURA!P37","v":0},{"$f":"HOJA_CAPTURA!Q37","v":"00:00:00"},{"$f":"HOJA_CAPTURA!V37","v":0},{"$f":"HOJA_CAPTURA!AF37","v":0},{"$f":"HOJA_CAPTURA!AG37","v":0},{"$f":"HOJA_CAPTURA!AH37","v":0},{"$f":"HOJA_CAPTURA!AI37","v":0},{"$f":"HOJA_CAPTURA!AJ37","v":0},{"$f":"HOJA_CAPTURA!AK37","v":0},{"$f":"HOJA_CAPTURA!AL37","v":0},{"$f":"HOJA_CAPTURA!AU37","v":0}]
[null,null,null,null,null,{"$f":"HOJA_CAPTURA!R37","v":"00:00:00"}]
[{"$f":"HOJA_CAPTURA!J38","v":0},{"$f":"HOJA_CAPTURA!K38","v":0},{"$f":"HOJA_CAPTURA!M38","v":0},{"$f":"HOJA_CAPTURA!N38","v":0},{"$f":"HOJA_CAPTURA!P38","v":0},{"$f":"HOJA_CAPTURA!Q38","v":"00:00:00"},{"$f":"HOJA_CAPTURA!V38","v":0},{"$f":"HOJA_CAPTURA!AF38","v":0},{"$f":"HOJA_CAPTURA!AG38","v":0},{"$f":"HOJA_CAPTURA!AH38","v":0},{"$f":"HOJA_CAPTURA!AI38","v":0},{"$f":"HOJA_CAPTURA!AJ38","v":0},{"$f":"HOJA_CAPTURA!AK38","v":0},{"$f":"HOJA_CAPTURA!AL38","v":0},{"$f":"HOJA_CAPTURA!AU38","v":0}]
[null,null,null,null,null,{"$f":"HOJA_CAPTURA!R38","v":"00:00:00"}]
[]
[null,"\"El presente inventario consta de __fojas y ampara la cantidad de __expedientes de los años de __al__, contenidos en__ cajas, con un peso aproximado de __kg.\""]
[null,null,{"$f":"HOJA_CAPTURA!F35","v":0},null,null,null,null,{"$f":"HOJA_CAPTURA!E35","v":0}]
["Nombre, firma, cargo y área de adscripción de la persona que formuló el inventario ",null,null,null,null,null,"Nombre, firma, cargo y área de adscripción de la persona que revisó el inventario"]
[null,{"$f":"HOJA_CAPTURA!D35","v":0}]
["Nombre y firma del titular de la unidad administrativa que autorizó el inventario",null,null,null,null,null,"Nombre y firma del responsable del archivo de concentración que recibe el inventario"]
[]
[]
[]
[]
[null,"           "]
["Fecha de transferencia:",null,null,{"$f":"TODAY()","v":"2024-08-13"},"Número de transferencia:",{"$f":"HOJA_CAPTURA!L39","v":0},null,null,null,null,null,null,null,"Hoja: 10 de ",{"$f":"O205","v":0}]
["Unidad administrativa/Área productora: ",null,null,null,{"$f":"HOJA_CAPTURA!C39","v":0}]
[{"$f":"HOJA_CAPTURA!B39","v":"Fondo: INP"},null,"Sección:",{"$f":"HOJA_CAPTURA!G39","v":0},null,null,"Serie: ",{"$f":"HOJA_CAPTURA!H39","v":0}]
[null,null,null,null,null,null,"Subserie:",null,{"$f":"HOJA_CAPTURA!I39","v":0}]
["No. Consecutivo","No. de caja","No. de expediente","Clasificación archivística del expediente","Descripción o asunto ","                                                                                                                                                                                                                                                          Periodo de trámite","No.  de folios ","Valor documental",null,null,"Vigencia documental",null,null,"Condiciones de acceso (Reservada y confidencial)","Tradición documental "]
[null,null,null,null,null,null,null,"A","L","F/C","AT","AC","Total"]
[{"$f":"HOJA_CAPTURA!J39","v":0},{"$f":"HOJA_CAPTURA!K39","v":0},{"$f":"HOJA_CAPTURA!M39","v":0},{"$f":"HOJA_CAPTURA!N39","v":0},{"$f":"HOJA_CAPTURA!P39","v":0},{"$f":"HOJA_CAPTURA!Q39","v":"00:00:00"},{"$f":"HOJA_CAPTURA!V39","v":0},{"$f":"HOJA_CAPTURA!AF39","v":0},{"$f":"HOJA_CAPTURA!AG39","v":0},{"$f":"HOJA_CAPTURA!AH39","v":0},{"$f":"HOJA_CAPTURA!AI39","v":0},{"$f":"HOJA_CAPTURA!AJ39","v":0},{"$f":"HOJA_CAPTURA!AK39","v":0},{"$f":"HOJA_CAPTURA!AL39","v":0},{"$f":"HOJA_CAPTURA!AU39","v":0}]
[null,null,null,null,null,{"$f":"HOJA_CAPTURA!R39","v":"00:00:00"}]
[{"$f":"HOJA_CAPTURA!J40","v":0},{"$f":"HOJA_CAPTURA!K40","v":0},{"$f":"HOJA_CAPTURA!M40","v":0},{"$f":"HOJA_CAPTURA!N40","v":0},{"$f":"HOJA_CAPTURA!P40","v":0},{"$f":"HOJA_CAPTURA!Q40","v":"00:00:00"},{"$f":"HOJA_CAPTURA!V40","v":0},{"$f":"HOJA_CAPTURA!AF40","v":0},{"$f":"HOJA_CAPTURA!AG40","v":0},{"$f":"HOJA_CAPTURA!AH40","v":0},{"$f":"HOJA_CAPTURA!AI40","v":0},{"$f":"HOJA_CAPTURA!AJ40","v":0},{"$f":"HOJA_CAPTURA!AK40","v":0},{"$f":"HOJA_CAPTURA!AL40","v":0},{"$f":"HOJA_CAPTURA!AU40","v":0}]
[null,null,null,null,null,{"$f":"HOJA_CAPTURA!R40","v":"00:00:00"}]
[{"$f":"HOJA_CAPTURA!J41","v":0},{"$f":"HOJA_CAPTURA!K41","v":0},{"$f":"HOJA_CAPTURA!M41","v":0},{"$f":"HOJA_CAPTURA!N41","v":0},{"$f":"HOJA_CAPTURA!P41","v":0},{"$f":"HOJA_CAPTURA!Q41","v":"00:00:00"},{"$f":"HOJA_CAPTURA!V41","v":0},{"$f":"HOJA_CAPTURA!AF41","v":0},{"$f":"HOJA_CAPTURA!AG41","v":0},{"$f":"HOJA_CAPTURA!AH41","v":0},{"$f":"HOJA_CAPTURA!AI41","v":0},{"$f":"HOJA_CAPTURA!AJ41","v":0},{"$f":"HOJA_CAPTURA!AK41","v":0},{"$f":"HOJA_CAPTURA!AL41","v":0},{"$f":"HOJA_CAPTURA!AU41","v":0}]
[null,null,null,null,null,{"$f":"HOJA_CAPTURA!R41","v":"00:00:00"}]
[{"$f":"HOJA_CAPTURA!J42","v":0},{"$f":"HOJA_CAPTURA!K42","v":0},{"$f":"HOJA_CAPTURA!M42","v":0},{"$f":"HOJA_CAPTURA!N42","v":0},{"$f":"HOJA_CAPTURA!P42","v":0},{"$f":"HOJA_CAPTURA!Q42","v":"00:00:00"},{"$f":"HOJA_CAPTURA!V42","v":0},{"$f":"HOJA_CAPTURA!AF42","v":0},{"$f":"HOJA_CAPTURA!AG42","v":0},{"$f":"HOJA_CAPTURA!AH42","v":0},{"$f":"HOJA_CAPTURA!AI42","v":0},{"$f":"HOJA_CAPTURA!AJ42","v":0},{"$f":"HOJA_CAPTURA!AK42","v":0},{"$f":"HOJA_CAPTURA!AL42","v":0},{"$f":"HOJA_CAPTURA!AU42","v":0}]
[null,null,null,null,null,{"$f":"HOJA_CAPTURA!R42","v":"00:00:00"}]
[]
[null,"\"El presente inventario consta de __fojas y ampara la cantidad de __expedientes de los años de __al__, contenidos en__ cajas, con un peso aproximado de __kg.\""]
[null,null,{"$f":"HOJA_CAPTURA!F165","v":0},null,null,null,null,{"$f":"HOJA_CAPTURA!E165","v":0}]
["Nombre, firma, cargo y área de adscripción de la persona que formuló el inventario ",null,null,null,null,null,"Nombre, firma, cargo y área de adscripción de la persona que revisó el inventario"]
[null,{"$f":"HOJA_CAPTURA!D165","v":0}]
["Nombre y firma del titular de la unidad administrativa que autorizó el inventario",null,null,null,null,null,"Nombre y firma del responsable del archivo de concentración que recibe el inventario"]
[]
[]
[]
[]
[null,"           "]
["Fecha de transferencia:",null,null,{"$f":"TODAY()","v":"2024-08-13"},"Número de transferencia:",{"$f":"HOJA_CAPTURA!L43","v":0},null,null,null,null,null,null,null,"Hoja: 11 de ",{"$f":"O230","v":0}]
["Unidad administrativa/Área productora: ",null,null,null,{"$f":"HOJA_CAPTURA!C43","v":0}]
[{"$f":"HOJA_CAPTURA!B43","v":"Fondo: INP"},null,"Sección:",{"$f":"HOJA_CAPTURA!G43","v":0},null,null,"Serie: ",{"$f":"HOJA_CAPTURA!H43","v":0}]
[null,null,null,null,null,null,"Subserie:",null,{"$f":"HOJA_CAPTURA!I43","v":0}]
["No. Consecutivo","No. de caja","No. de expediente","Clasificación archivística del expediente","Descripción o asunto ","                                                                                                                                                                                                                                                          Periodo de trámite","No.  de folios ","Valor documental",null,null,"Vigencia documental",null,null,"Condiciones de acceso (Reservada y confidencial)","Tradición documental "]
[null,null,null,null,null,null,null,"A","L","F/C","AT","AC","Total"]
[{"$f":"HOJA_CAPTURA!J43","v":0},{"$f":"HOJA_CAPTURA!K43","v":0},{"$f":"HOJA_CAPTURA!M43","v":0},{"$f":"HOJA_CAPTURA!N43","v":0},{"$f":"HOJA_CAPTURA!P43","v":0},{"$f":"HOJA_CAPTURA!Q43","v":"00:00:00"},{"$f":"HOJA_CAPTURA!V43","v":0},{"$f":"HOJA_CAPTURA!AF43","v":0},{"$f":"HOJA_CAPTURA!AG44","v":0},{"$f":"HOJA_CAPTURA!AH43","v":0},{"$f":"HOJA_CAPTURA!AI43","v":0},{"$f":"HOJA_CAPTURA!AJ43","v":0},{"$f":"HOJA_CAPTURA!AK43","v":0},{"$f":"HOJA_CAPTURA!AL43","v":0},{"$f":"HOJA_CAPTURA!AU43","v":0}]
[null,null,null,null,null,{"$f":"HOJA_CAPTURA!R43","v":"00:00:00"}]
[{"$f":"HOJA_CAPTURA!J44","v":0},{"$f":"HOJA_CAPTURA!K44","v":0},{"$f":"HOJA_CAPTURA!M44","v":0},{"$f":"HOJA_CAPTURA!N44","v":0},{"$f":"HOJA_CAPTURA!P44","v":0},{"$f":"HOJA_CAPTURA!Q44","v":"00:00:00"},{"$f":"HOJA_CAPTURA!V44","v":0},{"$f":"HOJA_CAPTURA!AF44","v":0},{"$f":"HOJA_CAPTURA!AG44","v":0},{"$f":"HOJA_CAPTURA!AH44","v":0},{"$f":"HOJA_CAPTURA!AI44","v":0},{"$f":"HOJA_CAPTURA!AJ44","v":0},{"$f":"HOJA_CAPTURA!AK44","v":0},{"$f":"HOJA_CAPTURA!AL44","v":0},{"$f":"HOJA_CAPTURA!AU44","v":0}]
[null,null,null,null,null,{"$f":"HOJA_CAPTURA!R44","v":"00:00:00"}]
[{"$f":"HOJA_CAPTURA!J45","v":0},{"$f":"HOJA_CAPTURA!K45","v":0},{"$f":"HOJA_CAPTURA!M45","v":0},{"$f":"HOJA_CAPTURA!N45","v":0},{"$f":"HOJA_CAPTURA!P45","v":0},{"$f":"HOJA_CAPTURA!Q45","v":"00:00:00"},{"$f":"HOJA_CAPTURA!V45","v":0},{"$f":"HOJA_CAPTURA!AF45","v":0},{"$f":"HOJA_CAPTURA!AG45","v":0},{"$f":"HOJA_CAPTURA!AH45","v":0},{"$f":"HOJA_CAPTURA!AI45","v":0},{"$f":"HOJA_CAPTURA!AJ45","v":0},{"$f":"HOJA_CAPTURA!AK45","v":0},{"$f":"HOJA_CAPTURA!AL45","v":0},{"$f":"HOJA_CAPTURA!AU45","v":0}]
[null,null,null,null,null,{"$f":"HOJA_CAPTURA!R45","v":"00:00:00"}]
[{"$f":"HOJA_CAPTURA!J46","v":0},{"$f":"HOJA_CAPTURA!K46","v":0},{"$f":"HOJA_CAPTURA!M46","v":0},{"$f":"HOJA_CAPTURA!N46","v":0},{"$f":"HOJA_CAPTURA!P46","v":0},{"$f":"HOJA_CAPTURA!Q46","v":"00:00:00"},{"$f":"HOJA_CAPTURA!V46","v":0},{"$f":"HOJA_CAPTURA!AF46","v":0},{"$f":"HOJA_CAPTURA!AG46","v":0},{"$f":"HOJA_CAPTURA!AH46","v":0},{"$f":"HOJA_CAPTURA!AI46","v":0},{"$f":"HOJA_CAPTURA!AJ46","v":0},{"$f":"HOJA_CAPTURA!AK46","v":0},{"$f":"HOJA_CAPTURA!AL46","v":0},{"$f":"HOJA_CAPTURA!AU46","v":0}]
[null,null,null,null,null,{"$f":"HOJA_CAPTURA!R46","v":"00:00:00"}]
[]
[null,"\"El presente inventario consta de __fojas y ampara la cantidad de __expedientes de los años de __al__, contenidos en__ cajas, con un peso aproximado de __kg.\""]
[null,null,{"$f":"HOJA_CAPTURA!F43","v":0},null,null,null,null,{"$f":"HOJA_CAPTURA!E43","v":0}]
["Nombre, firma, cargo y área de adscripción de la persona que formuló el inventario ",null,null,null,null,null,"Nombre, firma, cargo y área de adscripción de la persona que revisó el inventario"]
[null,{"$f":"HOJA_CAPTURA!D43","v":0}]
["Nombre y firma del titular de la unidad administrativa que autorizó el inventario",null,null,null,null,null,"Nombre y firma del responsable del archivo de concentración que recibe el inventario"]
[]
[]
[]
[]
[null,"           "]
["Fecha de transferencia:",null,null,{"$f":"TODAY()","v":"2024-08-13"},"Número de transferencia:",{"$f":"HOJA_CAPTURA!L47","v":0},null,null,null,null,null,null,null,"Hoja: 12 de ",{"$f":"O255","v":0}]
["Unidad administrativa/Área productora: ",null,null,null,{"$f":"HOJA_CAPTURA!C47","v":0}]
[{"$f":"HOJA_CAPTURA!B47","v":"Fondo: INP"},null,"Sección:",{"$f":"HOJA_CAPTURA!G47","v":0},null,null,"Serie: ",{"$f":"HOJA_CAPTURA!H47","v":0}]
[null,null,null,null,null,null,"Subserie:",null,{"$f":"HOJA_CAPTURA!I47","v":0}]
["No. Consecutivo","No. de caja","No. de expediente","Clasificación archivística del expediente","Descripción o asunto ","                                                                                                                                                                                                                                                          Periodo de trámite","No.  de folios ","Valor documental",null,null,"Vigencia documental",null,null,"Condiciones de acceso (Reservada y confidencial)","Tradición documental "]
[null,null,null,null,null,null,null,"A","L","F/C","AT","AC","Total"]
[{"$f":"HOJA_CAPTURA!J47","v":0},{"$f":"HOJA_CAPTURA!K47","v":0},{"$f":"HOJA_CAPTURA!M47","v":0},{"$f":"HOJA_CAPTURA!N47","v":0},{"$f":"HOJA_CAPTURA!P47","v":0},{"$f":"HOJA_CAPTURA!Q47","v":"00:00:00"},{"$f":"HOJA_CAPTURA!V47","v":0},{"$f":"HOJA_CAPTURA!AF47","v":0},{"$f":"HOJA_CAPTURA!AG47","v":0},{"$f":"HOJA_CAPTURA!AH47","v":0},{"$f":"HOJA_CAPTURA!AI47","v":0},{"$f":"HOJA_CAPTURA!AJ47","v":0},{"$f":"HOJA_CAPTURA!AK47","v":0},{"$f":"HOJA_CAPTURA!AL47","v":0},{"$f":"HOJA_CAPTURA!AU47","v":0}]
[null,null,null,null,null,{"$f":"HOJA_CAPTURA!R47","v":"00:00:00"}]
[{"$f":"HOJA_CAPTURA!J48","v":0},{"$f":"HOJA_CAPTURA!K48","v":0},{"$f":"HOJA_CAPTURA!M48","v":0},{"$f":"HOJA_CAPTURA!N48","v":0},{"$f":"HOJA_CAPTURA!P48","v":0},{"$f":"HOJA_CAPTURA!Q48","v":"00:00:00"},{"$f":"HOJA_CAPTURA!V48","v":0},{"$f":"HOJA_CAPTURA!AF48","v":0},{"$f":"HOJA_CAPTURA!AG48","v":0},{"$f":"HOJA_CAPTURA!AH48","v":0},{"$f":"HOJA_CAPTURA!AI48","v":0},{"$f":"HOJA_CAPTURA!AJ48","v":0},{"$f":"HOJA_CAPTURA!AK48","v":0},{"$f":"HOJA_CAPTURA!AL48","v":0},{"$f":"HOJA_CAPTURA!AU48","v":0}]
[null,null,null,null,null,{"$f":"HOJA_CAPTURA!R48","v":"00:00:00"}]
[{"$f":"HOJA_CAPTURA!J49","v":0},{"$f":"HOJA_CAPTURA!K49","v":0},{"$f":"HOJA_CAPTURA!M49","v":0},{"$f":"HOJA_CAPTURA!N49","v":0},{"$f":"HOJA_CAPTURA!P49","v":0},{"$f":"HOJA_CAPTURA!Q49","v":"00:00:00"},{"$f":"HOJA_CAPTURA!V49","v":0},{"$f":"HOJA_CAPTURA!AF49","v":0},{"$f":"HOJA_CAPTURA!AG49","v":0},{"$f":"HOJA_CAPTURA!AH49","v":0},{"$f":"HOJA_CAPTURA!AI49","v":0},{"$f":"HOJA_CAPTURA!AJ49","v":0},{"$f":"HOJA_CAPTURA!AK49","v":0},{"$f":"HOJA_CAPTURA!AL49","v":0},{"$f":"HOJA_CAPTURA!AU49","v":0}]
[null,null,null,null,null,{"$f":"HOJA_CAPTURA!R49","v":"00:00:00"}]
[{"$f":"HOJA_CAPTURA!J50","v":0},{"$f":"HOJA_CAPTURA!K50","v":0},{"$f":"HOJA_CAPTURA!M50","v":0},{"$f":"HOJA_CAPTURA!N50","v":0},{"$f":"HOJA_CAPTURA!P50","v":0},{"$f":"HOJA_CAPTURA!Q50","v":"00:00:00"},{"$f":"HOJA_CAPTURA!V50","v":0},{"$f":"HOJA_CAPTURA!AF50","v":0},{"$f":"HOJA_CAPTURA!AG50","v":0},{"$f":"HOJA_CAPTURA!AH50","v":0},{"$f":"HOJA_CAPTURA!AI50","v":0},{"$f":"HOJA_CAPTURA!AJ50","v":0},{"$f":"HOJA_CAPTURA!AK50","v":0},{"$f":"HOJA_CAPTURA!AL50","v":0},{"$f":"HOJA_CAPTURA!AU50","v":0}]
[null,null,null,null,null,{"$f":"HOJA_CAPTURA!R50","v":"00:00:00"}]
[]
[null,"\"El presente inventario consta de __fojas y ampara la cantidad de __expedientes de los años de __al__, contenidos en__ cajas, con un peso aproximado de __kg.\""]
[null,null,{"$f":"HOJA_CAPTURA!F47","v":0},null,null,null,null,{"$f":"HOJA_CAPTURA!E47","v":0}]
["Nombre, firma, cargo y área de adscripción de la persona que formuló el inventario ",null,null,null,null,null,"Nombre, firma, cargo y área de adscripción de la persona que revisó el inventario"]
[null,{"$f":"HOJA_CAPTURA!D47","v":0}]
["Nombre y firma del titular de la unidad administrativa que autorizó el inventario",null,null,null,null,null,"Nombre y firma del responsable del archivo de concentración que recibe el inventario"]
[]
[]
[]
[]
[null,"           "]
["Fecha de transferencia:",null,null,{"$f":"TODAY()","v":"2024-08-13"},"Número de transferencia:",{"$f":"HOJA_CAPTURA!L51","v":0},null,null,null,null,null,null,null,"Hoja: 13 de ",{"$f":"O280","v":0}]
["Unidad administrativa/Área productora: ",null,null,null,{"$f":"HOJA_CAPTURA!C51","v":0}]
[{"$f":"HOJA_CAPTURA!B51","v":"Fondo: INP"},null,"Sección:",{"$f":"HOJA_CAPTURA!G51","v":0},null,null,"Serie: ",{"$f":"HOJA_CAPTURA!H51","v":0}]
[null,null,null,null,null,null,"Subserie:",null,{"$f":"HOJA_CAPTURA!I51","v":0}]
["No. Consecutivo","No. de caja","No. de expediente","Clasificación archivística del expediente","Descripción o asunto ","                                                                                                                                                                                                                                                          Periodo de trámite","No.  de folios ","Valor documental",null,null,"Vigencia documental",null,null,"Condiciones de acceso (Reservada y confidencial)","Tradición documental "]
[null,null,null,null,null,null,null,"A","L","F/C","AT","AC","Total"]
[{"$f":"HOJA_CAPTURA!J51","v":0},{"$f":"HOJA_CAPTURA!K51","v":0},{"$f":"HOJA_CAPTURA!M51","v":0},{"$f":"HOJA_CAPTURA!N51","v":0},{"$f":"HOJA_CAPTURA!P51","v":0},{"$f":"HOJA_CAPTURA!Q51","v":"00:00:00"},{"$f":"HOJA_CAPTURA!V51","v":0},{"$f":"HOJA_CAPTURA!AF51","v":0},{"$f":"HOJA_CAPTURA!AG51","v":0},{"$f":"HOJA_CAPTURA!AH51","v":0},{"$f":"HOJA_CAPTURA!AI51","v":0},{"$f":"HOJA_CAPTURA!AJ51","v":0},{"$f":"HOJA_CAPTURA!AK51","v":0},{"$f":"HOJA_CAPTURA!AL51","v":0},{"$f":"HOJA_CAPTURA!AU51","v":0}]
[null,null,null,null,null,{"$f":"HOJA_CAPTURA!R51","v":"00:00:00"}]
[{"$f":"HOJA_CAPTURA!J52","v":0},{"$f":"HOJA_CAPTURA!K52","v":0},{"$f":"HOJA_CAPTURA!M52","v":0},{"$f":"HOJA_CAPTURA!N52","v":0},{"$f":"HOJA_CAPTURA!P52","v":0},{"$f":"HOJA_CAPTURA!Q52","v":"00:00:00"},{"$f":"HOJA_CAPTURA!V52","v":0},{"$f":"HOJA_CAPTURA!AF52","v":0},{"$f":"HOJA_CAPTURA!AG52","v":0},{"$f":"HOJA_CAPTURA!AH52","v":0},{"$f":"HOJA_CAPTURA!AI52","v":0},{"$f":"HOJA_CAPTURA!AJ52","v":0},{"$f":"HOJA_CAPTURA!AK52","v":0},{"$f":"HOJA_CAPTURA!AL52","v":0},{"$f":"HOJA_CAPTURA!AU52","v":0}]
[null,null,null,null,null,{"$f":"HOJA_CAPTURA!R52","v":"00:00:00"}]
[{"$f":"HOJA_CAPTURA!J53","v":0},{"$f":"HOJA_CAPTURA!K53","v":0},{"$f":"HOJA_CAPTURA!M53","v":0},{"$f":"HOJA_CAPTURA!N53","v":0},{"$f":"HOJA_CAPTURA!P53","v":0},{"$f":"HOJA_CAPTURA!Q53","v":"00:00:00"},{"$f":"HOJA_CAPTURA!V53","v":0},{"$f":"HOJA_CAPTURA!AF53","v":0},{"$f":"HOJA_CAPTURA!AG53","v":0},{"$f":"HOJA_CAPTURA!AH53","v":0},{"$f":"HOJA_CAPTURA!AI53","v":0},{"$f":"HOJA_CAPTURA!AJ53","v":0},{"$f":"HOJA_CAPTURA!AK53","v":0},{"$f":"HOJA_CAPTURA!AL53","v":0},{"$f":"HOJA_CAPTURA!AU53","v":0}]
[null,null,null,null,null,{"$f":"HOJA_CAPTURA!R53","v":"00:00:00"}]
[{"$f":"HOJA_CAPTURA!J54","v":0},{"$f":"HOJA_CAPTURA!K54","v":0},{"$f":"HOJA_CAPTURA!M54","v":0},{"$f":"HOJA_CAPTURA!N54","v":0},{"$f":"HOJA_CAPTURA!P54","v":0},{"$f":"HOJA_CAPTURA!Q54","v":"00:00:00"},{"$f":"HOJA_CAPTURA!V54","v":0},{"$f":"HOJA_CAPTURA!AF54","v":0},{"$f":"HOJA_CAPTURA!AG54","v":0},{"$f":"HOJA_CAPTURA!AH54","v":0},{"$f":"HOJA_CAPTURA!AI54","v":0},{"$f":"HOJA_CAPTURA!AJ54","v":0},{"$f":"HOJA_CAPTURA!AK54","v":0},{"$f":"HOJA_CAPTURA!AL54","v":0},{"$f":"HOJA_CAPTURA!AU54","v":0}]
[null,null,null,null,null,{"$f":"HOJA_CAPTURA!R54","v":"00:00:00"}]
[]
[null,"\"El presente inventario consta de __fojas y ampara la cantidad de __expedientes de los años de __al__, contenidos en__ cajas, con un peso aproximado de __kg.\""]
[null,null,{"$f":"HOJA_CAPTURA!F51","v":0},null,null,null,null,{"$f":"HOJA_CAPTURA!E51","v":0}]
["Nombre, firma, cargo y área de adscripción de la persona que formuló el inventario ",null,null,null,null,null,"Nombre, firma, cargo y área de adscripción de la persona que revisó el inventario"]
[null,{"$f":"HOJA_CAPTURA!D51","v":0}]
["Nombre y firma del titular de la unidad administrativa que autorizó el inventario",null,null,null,null,null,"Nombre y firma del responsable del archivo de concentración que recibe el inventario"]
[]
[]
[]
[]
[null,"           "]
["Fecha de transferencia:",null,null,{"$f":"TODAY()","v":"2024-08-13"},"Número de transferencia:",{"$f":"HOJA_CAPTURA!L55","v":0},null,null,null,null,null,null,null,"Hoja: 14 de ",{"$f":"O305","v":0}]
["Unidad administrativa/Área productora: ",null,null,null,{"$f":"HOJA_CAPTURA!C55","v":0}]
[{"$f":"HOJA_CAPTURA!B55","v":"Fondo: INP"},null,"Sección:",{"$f":"HOJA_CAPTURA!G55","v":0},null,null,"Serie: ",{"$f":"HOJA_CAPTURA!H55","v":0}]
[null,null,null,null,null,null,"Subserie:",null,{"$f":"HOJA_CAPTURA!I55","v":0}]
["No. Consecutivo","No. de caja","No. de expediente","Clasificación archivística del expediente","Descripción o asunto ","                                                                                                                                                                                                                                                          Periodo de trámite","No.  de folios ","Valor documental",null,null,"Vigencia documental",null,null,"Condiciones de acceso (Reservada y confidencial)","Tradición documental "]
[null,null,null,null,null,null,null,"A","L","F/C","AT","AC","Total"]
[{"$f":"HOJA_CAPTURA!J55","v":0},{"$f":"HOJA_CAPTURA!K55","v":0},{"$f":"HOJA_CAPTURA!M55","v":0},{"$f":"HOJA_CAPTURA!N55","v":0},{"$f":"HOJA_CAPTURA!P55","v":0},{"$f":"HOJA_CAPTURA!Q55","v":"00:00:00"},{"$f":"HOJA_CAPTURA!V55","v":0},{"$f":"HOJA_CAPTURA!AF55","v":0},{"$f":"HOJA_CAPTURA!AG55","v":0},{"$f":"HOJA_CAPTURA!AH55","v":0},{"$f":"HOJA_CAPTURA!AI55","v":0},{"$f":"HOJA_CAPTURA!AJ55","v":0},{"$f":"HOJA_CAPTURA!AK55","v":0},{"$f":"HOJA_CAPTURA!AL55","v":0},{"$f":"HOJA_CAPTURA!AU55","v":0}]
[null,null,null,null,null,{"$f":"HOJA_CAPTURA!R55","v":"00:00:00"}]
[{"$f":"HOJA_CAPTURA!J56","v":0},{"$f":"HOJA_CAPTURA!K56","v":0},{"$f":"HOJA_CAPTURA!M56","v":0},{"$f":"HOJA_CAPTURA!N56","v":0},{"$f":"HOJA_CAPTURA!P56","v":0},{"$f":"HOJA_CAPTURA!Q56","v":"00:00:00"},{"$f":"HOJA_CAPTURA!V56","v":0},{"$f":"HOJA_CAPTURA!AF56","v":0},{"$f":"HOJA_CAPTURA!AG56","v":0},{"$f":"HOJA_CAPTURA!AH56","v":0},{"$f":"HOJA_CAPTURA!AI56","v":0},{"$f":"HOJA_CAPTURA!AJ56","v":0},{"$f":"HOJA_CAPTURA!AK56","v":0},{"$f":"HOJA_CAPTURA!AL56","v":0},{"$f":"HOJA_CAPTURA!AU56","v":0}]
[null,null,null,null,null,{"$f":"HOJA_CAPTURA!R56","v":"00:00:00"}]
[{"$f":"HOJA_CAPTURA!J57","v":0},{"$f":"HOJA_CAPTURA!K57","v":0},{"$f":"HOJA_CAPTURA!M57","v":0},{"$f":"HOJA_CAPTURA!N57","v":0},{"$f":"HOJA_CAPTURA!P57","v":0},{"$f":"HOJA_CAPTURA!Q57","v":"00:00:00"},{"$f":"HOJA_CAPTURA!V57","v":0},{"$f":"HOJA_CAPTURA!AF57","v":0},{"$f":"HOJA_CAPTURA!AG57","v":0},{"$f":"HOJA_CAPTURA!AH57","v":0},{"$f":"HOJA_CAPTURA!AI57","v":0},{"$f":"HOJA_CAPTURA!AJ57","v":0},{"$f":"HOJA_CAPTURA!AK57","v":0},{"$f":"HOJA_CAPTURA!AL57","v":0},{"$f":"HOJA_CAPTURA!AU57","v":0}]
[null,null,null,null,null,{"$f":"HOJA_CAPTURA!R57","v":"00:00:00"}]
[{"$f":"HOJA_CAPTURA!J58","v":0},{"$f":"HOJA_CAPTURA!K58","v":0},{"$f":"HOJA_CAPTURA!M58","v":0},{"$f":"HOJA_CAPTURA!N58","v":0},{"$f":"HOJA_CAPTURA!P58","v":0},{"$f":"HOJA_CAPTURA!Q58","v":"00:00:00"},{"$f":"HOJA_CAPTURA!V58","v":0},{"$f":"HOJA_CAPTURA!AF58","v":0},{"$f":"HOJA_CAPTURA!AG58","v":0},{"$f":"HOJA_CAPTURA!AH58","v":0},{"$f":"HOJA_CAPTURA!AI58","v":0},{"$f":"HOJA_CAPTURA!AJ58","v":0},{"$f":"HOJA_CAPTURA!AK58","v":0},{"$f":"HOJA_CAPTURA!AL58","v":0},{"$f":"HOJA_CAPTURA!AU58","v":0}]
[null,null,null,null,null,{"$f":"HOJA_CAPTURA!R58","v":"00:00:00"}]
[]
[null,"\"El presente inventario consta de __fojas y ampara la cantidad de __expedientes de los años de __al__, contenidos en__ cajas, con un peso aproximado de __kg.\""]
[null,null,{"$f":"HOJA_CAPTURA!F55","v":0},null,null,null,null,{"$f":"HOJA_CAPTURA!E55","v":0}]
["Nombre, firma, cargo y área de adscripción de la persona que formuló el inventario ",null,null,null,null,null,"Nombre, firma, cargo y área de adscripción de la persona que revisó el inventario"]
[null,{"$f":"HOJA_CAPTURA!D55","v":0}]
["Nombre y firma del titular de la unidad administrativa que autorizó el inventario",null,null,null,null,null,"Nombre y firma del responsable del archivo de concentración que recibe el inventario"]
[]
[]
[]
[]
[null,"           "]
["Fecha de transferencia:",null,null,{"$f":"TODAY()","v":"2024-08-13"},"Número de transferencia:",{"$f":"HOJA_CAPTURA!L58","v":0},null,null,null,null,null,null,null,"Hoja: 15 de ",{"$f":"O330","v":0}]
["Unidad administrativa/Área productora: ",null,null,null,{"$f":"HOJA_CAPTURA!C58","v":0}]
[{"$f":"HOJA_CAPTURA!B58","v":"Fondo: INP"},null,"Sección:",{"$f":"HOJA_CAPTURA!G58","v":0},null,null,"Serie: ",{"$f":"HOJA_CAPTURA!H58","v":0}]
[null,null,null,null,null,null,"Subserie:",null,{"$f":"HOJA_CAPTURA!I58","v":0}]
["No. Consecutivo","No. de caja","No. de expediente","Clasificación archivística del expediente","Descripción o asunto ","                                                                                                                                                                                                                                                          Periodo de trámite","No.  de folios ","Valor documental",null,null,"Vigencia documental",null,null,"Condiciones de acceso (Reservada y confidencial)","Tradición documental "]
[null,null,null,null,null,null,null,"A","L","F/C","AT","AC","Total"]
[{"$f":"HOJA_CAPTURA!J59","v":0},{"$f":"HOJA_CAPTURA!K59","v":0},{"$f":"HOJA_CAPTURA!M59","v":0},{"$f":"HOJA_CAPTURA!N59","v":0},{"$f":"HOJA_CAPTURA!P59","v":0},{"$f":"HOJA_CAPTURA!Q59","v":"00:00:00"},{"$f":"HOJA_CAPTURA!V59","v":0},{"$f":"HOJA_CAPTURA!AF59","v":0},{"$f":"HOJA_CAPTURA!AG59","v":0},{"$f":"HOJA_CAPTURA!AH59","v":0},{"$f":"HOJA_CAPTURA!AI59","v":0},{"$f":"HOJA_CAPTURA!AJ59","v":0},{"$f":"HOJA_CAPTURA!AK59","v":0},{"$f":"HOJA_CAPTURA!AL59","v":0},{"$f":"HOJA_CAPTURA!AU59","v":0}]
[null,null,null,null,null,{"$f":"HOJA_CAPTURA!R59","v":"00:00:00"}]
[{"$f":"HOJA_CAPTURA!J60","v":0},{"$f":"HOJA_CAPTURA!K60","v":0},{"$f":"HOJA_CAPTURA!M60","v":0},{"$f":"HOJA_CAPTURA!N60","v":0},{"$f":"HOJA_CAPTURA!P60","v":0},{"$f":"HOJA_CAPTURA!Q60","v":"00:00:00"},{"$f":"HOJA_CAPTURA!V60","v":0},{"$f":"HOJA_CAPTURA!AF60","v":0},{"$f":"HOJA_CAPTURA!AG60","v":0},{"$f":"HOJA_CAPTURA!AH60","v":0},{"$f":"HOJA_CAPTURA!AI60","v":0},{"$f":"HOJA_CAPTURA!AJ60","v":0},{"$f":"HOJA_CAPTURA!AK60","v":0},{"$f":"HOJA_CAPTURA!AL60","v":0},{"$f":"HOJA_CAPTURA!AU60","v":0}]
[null,null,null,null,null,{"$f":"HOJA_CAPTURA!R60","v":"00:00:00"}]
[{"$f":"HOJA_CAPTURA!J61","v":0},{"$f":"HOJA_CAPTURA!K61","v":0},{"$f":"HOJA_CAPTURA!M61","v":0},{"$f":"HOJA_CAPTURA!N61","v":0},{"$f":"HOJA_CAPTURA!P61","v":0},{"$f":"HOJA_CAPTURA!Q61","v":"00:00:00"},{"$f":"HOJA_CAPTURA!V61","v":0},{"$f":"HOJA_CAPTURA!AF61","v":0},{"$f":"HOJA_CAPTURA!AG61","v":0},{"$f":"HOJA_CAPTURA!AH61","v":0},{"$f":"HOJA_CAPTURA!AI61","v":0},{"$f":"HOJA_CAPTURA!AJ61","v":0},{"$f":"HOJA_CAPTURA!AK61","v":0},{"$f":"HOJA_CAPTURA!AL61","v":0},{"$f":"HOJA_CAPTURA!AU61","v":0}]
[null,null,null,null,null,{"$f":"HOJA_CAPTURA!R61","v":"00:00:00"}]
[{"$f":"HOJA_CAPTURA!J62","v":0},{"$f":"HOJA_CAPTURA!K62","v":0},{"$f":"HOJA_CAPTURA!M62","v":0},{"$f":"HOJA_CAPTURA!N62","v":0},{"$f":"HOJA_CAPTURA!P62","v":0},{"$f":"HOJA_CAPTURA!Q62","v":"00:00:00"},{"$f":"HOJA_CAPTURA!V62","v":0},{"$f":"HOJA_CAPTURA!AF62","v":0},{"$f":"HOJA_CAPTURA!AG62","v":0},{"$f":"HOJA_CAPTURA!AH62","v":0},{"$f":"HOJA_CAPTURA!AI62","v":0},{"$f":"HOJA_CAPTURA!AJ62","v":0},{"$f":"HOJA_CAPTURA!AK62","v":0},{"$f":"HOJA_CAPTURA!AL62","v":0},{"$f":"HOJA_CAPTURA!AU62","v":0}]
[null,null,null,null,null,{"$f":"HOJA_CAPTURA!R62","v":"00:00:00"}]
[]
[null,"\"El presente inventario consta de __fojas y ampara la cantidad de __expedientes de los años de __al__, contenidos en__ cajas, con un peso aproximado de __kg.\""]
[null,null,{"$f":"HOJA_CAPTURA!F58","v":0},null,null,null,null,{"$f":"HOJA_CAPTURA!E58","v":0}]
["Nombre, firma, cargo y área de adscripción de la persona que formuló el inventario ",null,null,null,null,null,"Nombre, firma, cargo y área de adscripción de la persona que revisó el inventario"]
[null,{"$f":"HOJA_CAPTURA!D58","v":0}]
["Nombre y firma del titular de la unidad administrativa que autorizó el inventario",null,null,null,null,null,"Nombre y firma del responsable del archivo de concentración que recibe el inventario"]
[]
[]
[]
[]
[null,"           "]
["Fecha de transferencia:",null,null,{"$f":"TODAY()","v":"2024-08-13"},"Número de transferencia:",{"$f":"HOJA_CAPTURA!L62","v":0},null,null,null,null,null,null,null,"Hoja: 16 de ",{"$f":"O355","v":0}]
["Unidad administrativa/Área productora: ",null,null,null,{"$f":"HOJA_CAPTURA!C62","v":0}]
[{"$f":"HOJA_CAPTURA!B62","v":"Fondo: INP"},null,"Sección:",{"$f":"HOJA_CAPTURA!G62","v":0},null,null,"Serie: ",{"$f":"HOJA_CAPTURA!H62","v":0}]
[null,null,null,null,null,null,"Subserie:",null,{"$f":"HOJA_CAPTURA!I62","v":0}]
["No. Consecutivo","No. de caja","No. de expediente","Clasificación archivística del expediente","Descripción o asunto ","                                                                                                                                                                                                                                                          Periodo de trámite","No.  de folios ","Valor documental",null,null,"Vigencia documental",null,null,"Condiciones de acceso (Reservada y confidencial)","Tradición documental "]
[null,null,null,null,null,null,null,"A","L","F/C","AT","AC","Total"]
[{"$f":"HOJA_CAPTURA!J63","v":0},{"$f":"HOJA_CAPTURA!K63","v":0},{"$f":"HOJA_CAPTURA!M63","v":0},{"$f":"HOJA_CAPTURA!N63","v":0},{"$f":"HOJA_CAPTURA!P63","v":0},{"$f":"HOJA_CAPTURA!Q63","v":"00:00:00"},{"$f":"HOJA_CAPTURA!V63","v":0},{"$f":"HOJA_CAPTURA!AF63","v":0},{"$f":"HOJA_CAPTURA!AG63","v":0},{"$f":"HOJA_CAPTURA!AH63","v":0},{"$f":"HOJA_CAPTURA!AI63","v":0},{"$f":"HOJA_CAPTURA!AJ63","v":0},{"$f":"HOJA_CAPTURA!AK63","v":0},{"$f":"HOJA_CAPTURA!AL63","v":0},{"$f":"HOJA_CAPTURA!AU63","v":0}]
[null,null,null,null,null,{"$f":"HOJA_CAPTURA!R63","v":"00:00:00"}]
[{"$f":"HOJA_CAPTURA!J64","v":0},{"$f":"HOJA_CAPTURA!K64","v":0},{"$f":"HOJA_CAPTURA!M64","v":0},{"$f":"HOJA_CAPTURA!N64","v":0},{"$f":"HOJA_CAPTURA!P64","v":0},{"$f":"HOJA_CAPTURA!Q64","v":"00:00:00"},{"$f":"HOJA_CAPTURA!V64","v":0},{"$f":"HOJA_CAPTURA!AF64","v":0},{"$f":"HOJA_CAPTURA!AG64","v":0},{"$f":"HOJA_CAPTURA!AH64","v":0},{"$f":"HOJA_CAPTURA!AI64","v":0},{"$f":"HOJA_CAPTURA!AJ64","v":0},{"$f":"HOJA_CAPTURA!AK64","v":0},{"$f":"HOJA_CAPTURA!AL64","v":0},{"$f":"HOJA_CAPTURA!AU64","v":0}]
[null,null,null,null,null,{"$f":"HOJA_CAPTURA!R64","v":"00:00:00"}]
[{"$f":"HOJA_CAPTURA!J65","v":0},{"$f":"HOJA_CAPTURA!K65","v":0},{"$f":"HOJA_CAPTURA!M65","v":0},{"$f":"HOJA_CAPTURA!N65","v":0},{"$f":"HOJA_CAPTURA!P65","v":0},{"$f":"HOJA_CAPTURA!Q65","v":"00:00:00"},{"$f":"HOJA_CAPTURA!V65","v":0},{"$f":"HOJA_CAPTURA!AF65","v":0},{"$f":"HOJA_CAPTURA!AG65","v":0},{"$f":"HOJA_CAPTURA!AH65","v":0},{"$f":"HOJA_CAPTURA!AI65","v":0},{"$f":"HOJA_CAPTURA!AJ65","v":0},{"$f":"HOJA_CAPTURA!AK65","v":0},{"$f":"HOJA_CAPTURA!AL65","v":0},{"$f":"HOJA_CAPTURA!AU65","v":0}]
[null,null,null,null,null,{"$f":"HOJA_CAPTURA!R65","v":"00:00:00"}]
[{"$f":"HOJA_CAPTURA!J66","v":0},{"$f":"HOJA_CAPTURA!K66","v":0},{"$f":"HOJA_CAPTURA!M66","v":0},{"$f":"HOJA_CAPTURA!N66","v":0},{"$f":"HOJA_CAPTURA!P66","v":0},{"$f":"HOJA_CAPTURA!Q66","v":"00:00:00"},{"$f":"HOJA_CAPTURA!V66","v":0},{"$f":"HOJA_CAPTURA!AF66","v":0},{"$f":"HOJA_CAPTURA!AG66","v":0},{"$f":"HOJA_CAPTURA!AH66","v":0},{"$f":"HOJA_CAPTURA!AI66","v":0},{"$f":"HOJA_CAPTURA!AJ66","v":0},{"$f":"HOJA_CAPTURA!AK66","v":0},{"$f":"HOJA_CAPTURA!AL66","v":0},{"$f":"HOJA_CAPTURA!AU66","v":0}]
[null,null,null,null,null,{"$f":"HOJA_CAPTURA!R66","v":"00:00:00"}]
[]
[null,"\"El presente inventario consta de __fojas y ampara la cantidad de __expedientes de los años de __al__, contenidos en__ cajas, con un peso aproximado de __kg.\""]
[null,null,{"$f":"HOJA_CAPTURA!F62","v":0},null,null,null,null,{"$f":"HOJA_CAPTURA!E62","v":0}]
["Nombre, firma, cargo y área de adscripción de la persona que formuló el inventario ",null,null,null,null,null,"Nombre, firma, cargo y área de adscripción de la persona que revisó el inventario"]
[null,{"$f":"HOJA_CAPTURA!D62","v":0}]
["Nombre y firma del titular de la unidad administrativa que autorizó el inventario",null,null,null,null,null,"Nombre y firma del responsable del archivo de concentración que recibe el inventario"]
[]
[]
[]
[]
[null,"           "]
["Fecha de transferencia:",null,null,{"$f":"TODAY()","v":"2024-08-13"},"Número de transferencia:",{"$f":"HOJA_CAPTURA!L67","v":0},null,null,null,null,null,null,null,"Hoja: 17 de ",{"$f":"O380","v":0}]
["Unidad administrativa/Área productora: ",null,null,null,{"$f":"HOJA_CAPTURA!C67","v":0}]
[{"$f":"HOJA_CAPTURA!B67","v":"Fondo: INP"},null,"Sección:",{"$f":"HOJA_CAPTURA!G67","v":0},null,null,"Serie: ",{"$f":"HOJA_CAPTURA!H67","v":0}]
[null,null,null,null,null,null,"Subserie:",null,{"$f":"HOJA_CAPTURA!I67","v":0}]
["No. Consecutivo","No. de caja","No. de expediente","Clasificación archivística del expediente","Descripción o asunto ","                                                                                                                                                                                                                                                          Periodo de trámite","No.  de folios ","Valor documental",null,null,"Vigencia documental",null,null,"Condiciones de acceso (Reservada y confidencial)","Tradición documental "]
[null,null,null,null,null,null,null,"A","L","F/C","AT","AC","Total"]
[{"$f":"HOJA_CAPTURA!J67","v":0},{"$f":"HOJA_CAPTURA!K67","v":0},{"$f":"HOJA_CAPTURA!M67","v":0},{"$f":"HOJA_CAPTURA!N67","v":0},{"$f":"HOJA_CAPTURA!P67","v":0},{"$f":"HOJA_CAPTURA!Q67","v":"00:00:00"},{"$f":"HOJA_CAPTURA!V67","v":0},{"$f":"HOJA_CAPTURA!AF67","v":0},{"$f":"HOJA_CAPTURA!AG67","v":0},{"$f":"HOJA_CAPTURA!AH67","v":0},{"$f":"HOJA_CAPTURA!AI67","v":0},{"$f":"HOJA_CAPTURA!AJ67","v":0},{"$f":"HOJA_CAPTURA!AK67","v":0},{"$f":"HOJA_CAPTURA!AL67","v":0},{"$f":"HOJA_CAPTURA!AU67","v":0}]
[null,null,null,null,null,{"$f":"HOJA_CAPTURA!R67","v":"00:00:00"}]
[{"$f":"HOJA_CAPTURA!J68","v":0},{"$f":"HOJA_CAPTURA!K68","v":0},{"$f":"HOJA_CAPTURA!M68","v":0},{"$f":"HOJA_CAPTURA!N68","v":0},{"$f":"HOJA_CAPTURA!P68","v":0},{"$f":"HOJA_CAPTURA!Q68","v":"00:00:00"},{"$f":"HOJA_CAPTURA!V68","v":0},{"$f":"HOJA_CAPTURA!AF68","v":0},{"$f":"HOJA_CAPTURA!AG68","v":0},{"$f":"HOJA_CAPTURA!AH68","v":0},{"$f":"HOJA_CAPTURA!AI68","v":0},{"$f":"HOJA_CAPTURA!AJ68","v":0},{"$f":"HOJA_CAPTURA!AK68","v":0},{"$f":"HOJA_CAPTURA!AL68","v":0},{"$f":"HOJA_CAPTURA!AU68","v":0}]
[null,null,null,null,null,{"$f":"HOJA_CAPTURA!R68","v":"00:00:00"}]
[{"$f":"HOJA_CAPTURA!J69","v":0},{"$f":"HOJA_CAPTURA!K69","v":0},{"$f":"HOJA_CAPTURA!M69","v":0},{"$f":"HOJA_CAPTURA!N69","v":0},{"$f":"HOJA_CAPTURA!P69","v":0},{"$f":"HOJA_CAPTURA!Q69","v":"00:00:00"},{"$f":"HOJA_CAPTURA!V69","v":0},{"$f":"HOJA_CAPTURA!AF69","v":0},{"$f":"HOJA_CAPTURA!AG69","v":0},{"$f":"HOJA_CAPTURA!AH69","v":0},{"$f":"HOJA_CAPTURA!AI69","v":0},{"$f":"HOJA_CAPTURA!AJ69","v":0},{"$f":"HOJA_CAPTURA!AK69","v":0},{"$f":"HOJA_CAPTURA!AL69","v":0},{"$f":"HOJA_CAPTURA!AU69","v":0}]
[null,null,null,null,null,{"$f":"HOJA_CAPTURA!R69","v":"00:00:00"}]
[{"$f":"HOJA_CAPTURA!J70","v":0},{"$f":"HOJA_CAPTURA!K70","v":0},{"$f":"HOJA_CAPTURA!M70","v":0},{"$f":"HOJA_CAPTURA!N70","v":0},{"$f":"HOJA_CAPTURA!P70","v":0},{"$f":"HOJA_CAPTURA!Q70","v":"00:00:00"},{"$f":"HOJA_CAPTURA!V70","v":0},{"$f":"HOJA_CAPTURA!AF70","v":0},{"$f":"HOJA_CAPTURA!AG70","v":0},{"$f":"HOJA_CAPTURA!AH70","v":0},{"$f":"HOJA_CAPTURA!AI70","v":0},{"$f":"HOJA_CAPTURA!AJ70","v":0},{"$f":"HOJA_CAPTURA!AK70","v":0},{"$f":"HOJA_CAPTURA!AL70","v":0},{"$f":"HOJA_CAPTURA!AU70","v":0}]
[null,null,null,null,null,{"$f":"HOJA_CAPTURA!R70","v":"00:00:00"}]
[]
[null,"\"El presente inventario consta de __fojas y ampara la cantidad de __expedientes de los años de __al__, contenidos en__ cajas, con un peso aproximado de __kg.\""]
[null,null,{"$f":"HOJA_CAPTURA!F65","v":0},null,null,null,null,{"$f":"HOJA_CAPTURA!E65","v":0}]
["Nombre, firma, cargo y área de adscripción de la persona que formuló el inventario ",null,null,null,null,null,"Nombre, firma, cargo y área de adscripción de la persona que revisó el inventario"]
[null,{"$f":"HOJA_CAPTURA!D65","v":0}]
["Nombre y firma del titular de la unidad administrativa que autorizó el inventario",null,null,null,null,null,"Nombre y firma del responsable del archivo de concentración que recibe el inventario"]
[]
[]
[]
[]
[null,"           "]
["Fecha de transferencia:",null,null,{"$f":"TODAY()","v":"2024-08-13"},"Número de transferencia:",{"$f":"HOJA_CAPTURA!L71","v":0},null,null,null,null,null,null,null,"Hoja: 18 de ",{"$f":"O405","v":0}]
["Unidad administrativa/Área productora: ",null,null,null,{"$f":"HOJA_CAPTURA!C71","v":0}]
[{"$f":"HOJA_CAPTURA!B71","v":"Fondo: INP"},null,"Sección:",{"$f":"HOJA_CAPTURA!G71","v":0},null,null,"Serie: ",{"$f":"HOJA_CAPTURA!H71","v":0}]
[null,null,null,null,null,null,"Subserie:",null,{"$f":"HOJA_CAPTURA!I71","v":0}]
["No. Consecutivo","No. de caja","No. de expediente","Clasificación archivística del expediente","Descripción o asunto ","                                                                                                                                                                                                                                                          Periodo de trámite","No.  de folios ","Valor documental",null,null,"Vigencia documental",null,null,"Condiciones de acceso (Reservada y confidencial)","Tradición documental "]
[null,null,null,null,null,null,null,"A","L","F/C","AT","AC","Total"]
[{"$f":"HOJA_CAPTURA!J71","v":0},{"$f":"HOJA_CAPTURA!K71","v":0},{"$f":"HOJA_CAPTURA!M71","v":0},{"$f":"HOJA_CAPTURA!N71","v":0},{"$f":"HOJA_CAPTURA!P71","v":0},{"$f":"HOJA_CAPTURA!Q71","v":"00:00:00"},{"$f":"HOJA_CAPTURA!V71","v":0},{"$f":"HOJA_CAPTURA!AF71","v":0},{"$f":"HOJA_CAPTURA!AG71","v":0},{"$f":"HOJA_CAPTURA!AH71","v":0},{"$f":"HOJA_CAPTURA!AI71","v":0},{"$f":"HOJA_CAPTURA!AJ71","v":0},{"$f":"HOJA_CAPTURA!AK71","v":0},{"$f":"HOJA_CAPTURA!AL71","v":0},{"$f":"HOJA_CAPTURA!AU71","v":0}]
[null,null,null,null,null,{"$f":"HOJA_CAPTURA!R71","v":"00:00:00"}]
[{"$f":"HOJA_CAPTURA!J72","v":0},{"$f":"HOJA_CAPTURA!K72","v":0},{"$f":"HOJA_CAPTURA!M72","v":0},{"$f":"HOJA_CAPTURA!N72","v":0},{"$f":"HOJA_CAPTURA!P72","v":0},{"$f":"HOJA_CAPTURA!Q72","v":"00:00:00"},{"$f":"HOJA_CAPTURA!V72","v":0},{"$f":"HOJA_CAPTURA!AF72","v":0},{"$f":"HOJA_CAPTURA!AG72","v":0},{"$f":"HOJA_CAPTURA!AH72","v":0},{"$f":"HOJA_CAPTURA!AI72","v":0},{"$f":"HOJA_CAPTURA!AJ72","v":0},{"$f":"HOJA_CAPTURA!AK72","v":0},{"$f":"HOJA_CAPTURA!AL72","v":0},{"$f":"HOJA_CAPTURA!AU72","v":0}]
[null,null,null,null,null,{"$f":"HOJA_CAPTURA!R72","v":"00:00:00"}]
[{"$f":"HOJA_CAPTURA!J73","v":0},{"$f":"HOJA_CAPTURA!K73","v":0},{"$f":"HOJA_CAPTURA!M73","v":0},{"$f":"HOJA_CAPTURA!N73","v":0},{"$f":"HOJA_CAPTURA!P73","v":0},{"$f":"HOJA_CAPTURA!Q73","v":"00:00:00"},{"$f":"HOJA_CAPTURA!V73","v":0},{"$f":"HOJA_CAPTURA!AF73","v":0},{"$f":"HOJA_CAPTURA!AG73","v":0},{"$f":"HOJA_CAPTURA!AH73","v":0},{"$f":"HOJA_CAPTURA!AI73","v":0},{"$f":"HOJA_CAPTURA!AJ73","v":0},{"$f":"HOJA_CAPTURA!AK73","v":0},{"$f":"HOJA_CAPTURA!AL73","v":0},{"$f":"HOJA_CAPTURA!AU73","v":0}]
[null,null,null,null,null,{"$f":"HOJA_CAPTURA!R73","v":"00:00:00"}]
[{"$f":"HOJA_CAPTURA!J74","v":0},{"$f":"HOJA_CAPTURA!K74","v":0},{"$f":"HOJA_CAPTURA!M74","v":0},{"$f":"HOJA_CAPTURA!N74","v":0},{"$f":"HOJA_CAPTURA!P74","v":0},{"$f":"HOJA_CAPTURA!Q74","v":"00:00:00"},{"$f":"HOJA_CAPTURA!V74","v":0},{"$f":"HOJA_CAPTURA!AF74","v":0},{"$f":"HOJA_CAPTURA!AG74","v":0},{"$f":"HOJA_CAPTURA!AH74","v":0},{"$f":"HOJA_CAPTURA!AI74","v":0},{"$f":"HOJA_CAPTURA!AJ74","v":0},{"$f":"HOJA_CAPTURA!AK74","v":0},{"$f":"HOJA_CAPTURA!AL74","v":0},{"$f":"HOJA_CAPTURA!AU74","v":0}]
[null,null,null,null,null,{"$f":"HOJA_CAPTURA!R74","v":"00:00:00"}]
[]
[null,"\"El presente inventario consta de __fojas y ampara la cantidad de __expedientes de los años de __al__, contenidos en__ cajas, con un peso aproximado de __kg.\""]
[null,null,{"$f":"HOJA_CAPTURA!F71","v":0},null,null,null,null,{"$f":"HOJA_CAPTURA!E71","v":0}]
["Nombre, firma, cargo y área de adscripción de la persona que formuló el inventario ",null,null,null,null,null,"Nombre, firma, cargo y área de adscripción de la persona que revisó el inventario"]
[null,{"$f":"HOJA_CAPTURA!D71","v":0}]
["Nombre y firma del titular de la unidad administrativa que autorizó el inventario",null,null,null,null,null,"Nombre y firma del responsable del archivo de concentración que recibe el inventario"]
[]
[]
[]
[]
[null,"           "]
["Fecha de transferencia:",null,null,{"$f":"TODAY()","v":"2024-08-13"},"Número de transferencia:",{"$f":"HOJA_CAPTURA!L75","v":0},null,null,null,null,null,null,null,"Hoja: 19 de ",{"$f":"O430","v":0}]
["Unidad administrativa/Área productora: ",null,null,null,{"$f":"HOJA_CAPTURA!C75","v":0}]
[{"$f":"HOJA_CAPTURA!B75","v":"Fondo: INP"},null,"Sección:",{"$f":"HOJA_CAPTURA!G75","v":0},null,null,"Serie: ",{"$f":"HOJA_CAPTURA!H75","v":0}]
[null,null,null,null,null,null,"Subserie:",null,{"$f":"HOJA_CAPTURA!I75","v":0}]
["No. Consecutivo","No. de caja","No. de expediente","Clasificación archivística del expediente","Descripción o asunto ","                                                                                                                                                                                                                                                          Periodo de trámite","No.  de folios ","Valor documental",null,null,"Vigencia documental",null,null,"Condiciones de acceso (Reservada y confidencial)","Tradición documental "]
[null,null,null,null,null,null,null,"A","L","F/C","AT","AC","Total"]
[{"$f":"HOJA_CAPTURA!J75","v":0},{"$f":"HOJA_CAPTURA!K75","v":0},{"$f":"HOJA_CAPTURA!M75","v":0},{"$f":"HOJA_CAPTURA!N75","v":0},{"$f":"HOJA_CAPTURA!P75","v":0},{"$f":"HOJA_CAPTURA!Q75","v":"00:00:00"},{"$f":"HOJA_CAPTURA!V75","v":0},{"$f":"HOJA_CAPTURA!AF75","v":0},{"$f":"HOJA_CAPTURA!AG75","v":0},{"$f":"HOJA_CAPTURA!AH75","v":0},{"$f":"HOJA_CAPTURA!AI75","v":0},{"$f":"HOJA_CAPTURA!AJ75","v":0},{"$f":"HOJA_CAPTURA!AK75","v":0},{"$f":"HOJA_CAPTURA!AL75","v":0},{"$f":"HOJA_CAPTURA!AU75","v":0}]
[null,null,null,null,null,{"$f":"HOJA_CAPTURA!R75","v":"00:00:00"}]
[{"$f":"HOJA_CAPTURA!J76","v":0},{"$f":"HOJA_CAPTURA!K76","v":0},{"$f":"HOJA_CAPTURA!M76","v":0},{"$f":"HOJA_CAPTURA!N76","v":0},{"$f":"HOJA_CAPTURA!P76","v":0},{"$f":"HOJA_CAPTURA!Q76","v":"00:00:00"},{"$f":"HOJA_CAPTURA!V76","v":0},{"$f":"HOJA_CAPTURA!AF76","v":0},{"$f":"HOJA_CAPTURA!AG76","v":0},{"$f":"HOJA_CAPTURA!AH76","v":0},{"$f":"HOJA_CAPTURA!AI76","v":0},{"$f":"HOJA_CAPTURA!AJ76","v":0},{"$f":"HOJA_CAPTURA!AK76","v":0},{"$f":"HOJA_CAPTURA!AL76","v":0},{"$f":"HOJA_CAPTURA!AU76","v":0}]
[null,null,null,null,null,{"$f":"HOJA_CAPTURA!R76","v":"00:00:00"}]
[{"$f":"HOJA_CAPTURA!J77","v":0},{"$f":"HOJA_CAPTURA!K77","v":0},{"$f":"HOJA_CAPTURA!M77","v":0},{"$f":"HOJA_CAPTURA!N77","v":0},{"$f":"HOJA_CAPTURA!P77","v":0},{"$f":"HOJA_CAPTURA!Q77","v":"00:00:00"},{"$f":"HOJA_CAPTURA!V77","v":0},{"$f":"HOJA_CAPTURA!AF77","v":0},{"$f":"HOJA_CAPTURA!AG77","v":0},{"$f":"HOJA_CAPTURA!AH77","v":0},{"$f":"HOJA_CAPTURA!AI77","v":0},{"$f":"HOJA_CAPTURA!AJ77","v":0},{"$f":"HOJA_CAPTURA!AK77","v":0},{"$f":"HOJA_CAPTURA!AL77","v":0},{"$f":"HOJA_CAPTURA!AU77","v":0}]
[null,null,null,null,null,{"$f":"HOJA_CAPTURA!R77","v":"00:00:00"}]
[{"$f":"HOJA_CAPTURA!J78","v":0},{"$f":"HOJA_CAPTURA!K78","v":0},{"$f":"HOJA_CAPTURA!M78","v":0},{"$f":"HOJA_CAPTURA!N78","v":0},{"$f":"HOJA_CAPTURA!P78","v":0},{"$f":"HOJA_CAPTURA!Q78","v":"00:00:00"},{"$f":"HOJA_CAPTURA!V78","v":0},{"$f":"HOJA_CAPTURA!AF78","v":0},{"$f":"HOJA_CAPTURA!AG78","v":0},{"$f":"HOJA_CAPTURA!AH78","v":0},{"$f":"HOJA_CAPTURA!AI78","v":0},{"$f":"HOJA_CAPTURA!AJ78","v":0},{"$f":"HOJA_CAPTURA!AK78","v":0},{"$f":"HOJA_CAPTURA!AL78","v":0},{"$f":"HOJA_CAPTURA!AU78","v":0}]
[null,null,null,null,null,{"$f":"HOJA_CAPTURA!R78","v":"00:00:00"}]
[]
[null,"\"El presente inventario consta de __fojas y ampara la cantidad de __expedientes de los años de __al__, contenidos en__ cajas, con un peso aproximado de __kg.\""]
[null,null,{"$f":"HOJA_CAPTURA!F75","v":0},null,null,null,null,{"$f":"HOJA_CAPTURA!E75","v":0}]
["Nombre, firma, cargo y área de adscripción de la persona que formuló el inventario ",null,null,null,null,null,"Nombre, firma, cargo y área de adscripción de la persona que revisó el inventario"]
[null,{"$f":"HOJA_CAPTURA!D75","v":0}]
["Nombre y firma del titular de la unidad administrativa que autorizó el inventario",null,null,null,null,null,"Nombre y firma del responsable del archivo de concentración que recibe el inventario"]
[]
[]
[]
[]
[null,"           "]
["Fecha de transferencia:",null,null,{"$f":"TODAY()","v":"2024-08-13"},"Número de transferencia:",{"$f":"HOJA_CAPTURA!L79","v":0},null,null,null,null,null,null,null,"Hoja: 20 de ",{"$f":"O455","v":0}]
["Unidad administrativa/Área productora: ",null,null,null,{"$f":"HOJA_CAPTURA!C79","v":0}]
[{"$f":"HOJA_CAPTURA!B79","v":"Fondo: INP"},null,"Sección:",{"$f":"HOJA_CAPTURA!G79","v":0},null,null,"Serie: ",{"$f":"HOJA_CAPTURA!H79","v":0}]
[null,null,null,null,null,null,"Subserie:",null,{"$f":"HOJA_CAPTURA!I79","v":0}]
["No. Consecutivo","No. de caja","No. de expediente","Clasificación archivística del expediente","Descripción o asunto ","                                                                                                                                                                                                                                                          Periodo de trámite","No.  de folios ","Valor documental",null,null,"Vigencia documental",null,null,"Condiciones de acceso (Reservada y confidencial)","Tradición documental "]
[null,null,null,null,null,null,null,"A","L","F/C","AT","AC","Total"]
[{"$f":"HOJA_CAPTURA!J79","v":0},{"$f":"HOJA_CAPTURA!K79","v":0},{"$f":"HOJA_CAPTURA!M79","v":0},{"$f":"HOJA_CAPTURA!N79","v":0},{"$f":"HOJA_CAPTURA!P79","v":0},{"$f":"HOJA_CAPTURA!Q79","v":"00:00:00"},{"$f":"HOJA_CAPTURA!V79","v":0},{"$f":"HOJA_CAPTURA!AF79","v":0},{"$f":"HOJA_CAPTURA!AG79","v":0},{"$f":"HOJA_CAPTURA!AH79","v":0},{"$f":"HOJA_CAPTURA!AI79","v":0},{"$f":"HOJA_CAPTURA!AJ79","v":0},{"$f":"HOJA_CAPTURA!AK79","v":0},{"$f":"HOJA_CAPTURA!AL79","v":0},{"$f":"HOJA_CAPTURA!AU79","v":0}]
[null,null,null,null,null,{"$f":"HOJA_CAPTURA!R79","v":"00:00:00"}]
[{"$f":"HOJA_CAPTURA!J80","v":0},{"$f":"HOJA_CAPTURA!K80","v":0},{"$f":"HOJA_CAPTURA!M80","v":0},{"$f":"HOJA_CAPTURA!N80","v":0},{"$f":"HOJA_CAPTURA!P80","v":0},{"$f":"HOJA_CAPTURA!Q80","v":"00:00:00"},{"$f":"HOJA_CAPTURA!V80","v":0},{"$f":"HOJA_CAPTURA!AF80","v":0},{"$f":"HOJA_CAPTURA!AG80","v":0},{"$f":"HOJA_CAPTURA!AH80","v":0},{"$f":"HOJA_CAPTURA!AI80","v":0},{"$f":"HOJA_CAPTURA!AJ80","v":0},{"$f":"HOJA_CAPTURA!AK80","v":0},{"$f":"HOJA_CAPTURA!AL80","v":0},{"$f":"HOJA_CAPTURA!AU80","v":0}]
[null,null,null,null,null,{"$f":"HOJA_CAPTURA!R80","v":"00:00:00"}]
[{"$f":"HOJA_CAPTURA!J81","v":0},{"$f":"HOJA_CAPTURA!K81","v":0},{"$f":"HOJA_CAPTURA!M81","v":0},{"$f":"HOJA_CAPTURA!N81","v":0},{"$f":"HOJA_CAPTURA!P81","v":0},{"$f":"HOJA_CAPTURA!Q81","v":"00:00:00"},{"$f":"HOJA_CAPTURA!V81","v":0},{"$f":"HOJA_CAPTURA!AF81","v":0},{"$f":"HOJA_CAPTURA!AG81","v":0},{"$f":"HOJA_CAPTURA!AH81","v":0},{"$f":"HOJA_CAPTURA!AI81","v":0},{"$f":"HOJA_CAPTURA!AJ81","v":0},{"$f":"HOJA_CAPTURA!AK81","v":0},{"$f":"HOJA_CAPTURA!AL81","v":0},{"$f":"HOJA_CAPTURA!AU81","v":0}]
[null,null,null,null,null,{"$f":"HOJA_CAPTURA!R81","v":"00:00:00"}]
[{"$f":"HOJA_CAPTURA!J82","v":0},{"$f":"HOJA_CAPTURA!K82","v":0},{"$f":"HOJA_CAPTURA!M82","v":0},{"$f":"HOJA_CAPTURA!N82","v":0},{"$f":"HOJA_CAPTURA!P82","v":0},{"$f":"HOJA_CAPTURA!Q82","v":"00:00:00"},{"$f":"HOJA_CAPTURA!V82","v":0},{"$f":"HOJA_CAPTURA!AF82","v":0},{"$f":"HOJA_CAPTURA!AG82","v":0},{"$f":"HOJA_CAPTURA!AH82","v":0},{"$f":"HOJA_CAPTURA!AI82","v":0},{"$f":"HOJA_CAPTURA!AJ82","v":0},{"$f":"HOJA_CAPTURA!AK82","v":0},{"$f":"HOJA_CAPTURA!AL82","v":0},{"$f":"HOJA_CAPTURA!AU82","v":0}]
[null,null,null,null,null,{"$f":"HOJA_CAPTURA!R82","v":"00:00:00"}]
[]
[null,"\"El presente inventario consta de __fojas y ampara la cantidad de __expedientes de los años de __al__, contenidos en__ cajas, con un peso aproximado de __kg.\""]
[null,null,{"$f":"HOJA_CAPTURA!F79","v":0},null,null,null,null,{"$f":"HOJA_CAPTURA!E79","v":0}]
["Nombre, firma, cargo y área de adscripción de la persona que formuló el inventario ",null,null,null,null,null,"Nombre, firma, cargo y área de adscripción de la persona que revisó el inventario"]
[null,{"$f":"HOJA_CAPTURA!D79","v":0}]
["Nombre y firma del titular de la unidad administrativa que autorizó el inventario",null,null,null,null,null,"Nombre y firma del responsable del archivo de concentración que recibe el inventario"]
[]
[]
[]
[]
[null,"           "]
["Fecha de transferencia:",null,null,{"$f":"TODAY()","v":"2024-08-13"},"Número de transferencia:",{"$f":"HOJA_CAPTURA!L83","v":0},null,null,null,null,null,null,null,"Hoja: 21 de ",{"$f":"O480","v":0}]
["Unidad administrativa/Área productora: ",null,null,null,{"$f":"HOJA_CAPTURA!C83","v":0}]
[{"$f":"HOJA_CAPTURA!B83","v":"Fondo: INP"},null,"Sección:",{"$f":"HOJA_CAPTURA!G83","v":0},null,null,"Serie: ",{"$f":"HOJA_CAPTURA!H83","v":0}]
[null,null,null,null,null,null,"Subserie:",null,{"$f":"HOJA_CAPTURA!I83","v":0}]
["No. Consecutivo","No. de caja","No. de expediente","Clasificación archivística del expediente","Descripción o asunto ","                                                                                                                                                                                                                                                          Periodo de trámite","No.  de folios ","Valor documental",null,null,"Vigencia documental",null,null,"Condiciones de acceso (Reservada y confidencial)","Tradición documental "]
[null,null,null,null,null,null,null,"A","L","F/C","AT","AC","Total"]
[{"$f":"HOJA_CAPTURA!J83","v":0},{"$f":"HOJA_CAPTURA!K83","v":0},{"$f":"HOJA_CAPTURA!M83","v":0},{"$f":"HOJA_CAPTURA!N83","v":0},{"$f":"HOJA_CAPTURA!P83","v":0},{"$f":"HOJA_CAPTURA!Q83","v":"00:00:00"},{"$f":"HOJA_CAPTURA!V83","v":0},{"$f":"HOJA_CAPTURA!AF83","v":0},{"$f":"HOJA_CAPTURA!AG83","v":0},{"$f":"HOJA_CAPTURA!AH83","v":0},{"$f":"HOJA_CAPTURA!AI83","v":0},{"$f":"HOJA_CAPTURA!AJ83","v":0},{"$f":"HOJA_CAPTURA!AK83","v":0},{"$f":"HOJA_CAPTURA!AL83","v":0},{"$f":"HOJA_CAPTURA!AU83","v":0}]
[null,null,null,null,null,{"$f":"HOJA_CAPTURA!R83","v":"00:00:00"}]
[{"$f":"HOJA_CAPTURA!J84","v":0},{"$f":"HOJA_CAPTURA!K84","v":0},{"$f":"HOJA_CAPTURA!M84","v":0},{"$f":"HOJA_CAPTURA!N84","v":0},{"$f":"HOJA_CAPTURA!P84","v":0},{"$f":"HOJA_CAPTURA!Q84","v":"00:00:00"},{"$f":"HOJA_CAPTURA!V84","v":0},{"$f":"HOJA_CAPTURA!AF84","v":0},{"$f":"HOJA_CAPTURA!AG84","v":0},{"$f":"HOJA_CAPTURA!AH84","v":0},{"$f":"HOJA_CAPTURA!AI84","v":0},{"$f":"HOJA_CAPTURA!AJ84","v":0},{"$f":"HOJA_CAPTURA!AK84","v":0},{"$f":"HOJA_CAPTURA!AL84","v":0},{"$f":"HOJA_CAPTURA!AU84","v":0}]
[null,null,null,null,null,{"$f":"HOJA_CAPTURA!R84","v":"00:00:00"}]
[{"$f":"HOJA_CAPTURA!J85","v":0},{"$f":"HOJA_CAPTURA!K85","v":0},{"$f":"HOJA_CAPTURA!M85","v":0},{"$f":"HOJA_CAPTURA!N85","v":0},{"$f":"HOJA_CAPTURA!P85","v":0},{"$f":"HOJA_CAPTURA!Q85","v":"00:00:00"},{"$f":"HOJA_CAPTURA!V85","v":0},{"$f":"HOJA_CAPTURA!AF85","v":0},{"$f":"HOJA_CAPTURA!AG85","v":0},{"$f":"HOJA_CAPTURA!AH85","v":0},{"$f":"HOJA_CAPTURA!AI85","v":0},{"$f":"HOJA_CAPTURA!AJ85","v":0},{"$f":"HOJA_CAPTURA!AK85","v":0},{"$f":"HOJA_CAPTURA!AL85","v":0},{"$f":"HOJA_CAPTURA!AU85","v":0}]
[null,null,null,null,null,{"$f":"HOJA_CAPTURA!R85","v":"00:00:00"}]
[{"$f":"HOJA_CAPTURA!J86","v":0},{"$f":"HOJA_CAPTURA!K86","v":0},{"$f":"HOJA_CAPTURA!M86","v":0},{"$f":"HOJA_CAPTURA!N86","v":0},{"$f":"HOJA_CAPTURA!P86","v":0},{"$f":"HOJA_CAPTURA!Q86","v":"00:00:00"},{"$f":"HOJA_CAPTURA!V86","v":0},{"$f":"HOJA_CAPTURA!AF86","v":0},{"$f":"HOJA_CAPTURA!AG86","v":0},{"$f":"HOJA_CAPTURA!AH86","v":0},{"$f":"HOJA_CAPTURA!AI86","v":0},{"$f":"HOJA_CAPTURA!AJ86","v":0},{"$f":"HOJA_CAPTURA!AK86","v":0},{"$f":"HOJA_CAPTURA!AL86","v":0},{"$f":"HOJA_CAPTURA!AU86","v":0}]
[null,null,null,null,null,{"$f":"HOJA_CAPTURA!R86","v":"00:00:00"}]
[]
[null,"\"El presente inventario consta de __fojas y ampara la cantidad de __expedientes de los años de __al__, contenidos en__ cajas, con un peso aproximado de __kg.\""]
[null,null,{"$f":"HOJA_CAPTURA!F83","v":0},null,null,null,null,{"$f":"HOJA_CAPTURA!E83","v":0}]
["Nombre, firma, cargo y área de adscripción de la persona que formuló el inventario ",null,null,null,null,null,"Nombre, firma, cargo y área de adscripción de la persona que revisó el inventario"]
[null,{"$f":"HOJA_CAPTURA!D83","v":0}]
["Nombre y firma del titular de la unidad administrativa que autorizó el inventario",null,null,null,null,null,"Nombre y firma del responsable del archivo de concentración que recibe el inventario"]
[]
[]
[]
[]
[null,"           "]
["Fecha de transferencia:",null,null,{"$f":"TODAY()","v":"2024-08-13"},"Número de transferencia:",{"$f":"HOJA_CAPTURA!L87","v":0},null,null,null,null,null,null,null,"Hoja: 22 de ",{"$f":"O505","v":0}]
["Unidad administrativa/Área productora: ",null,null,null,{"$f":"HOJA_CAPTURA!C87","v":0}]
[{"$f":"HOJA_CAPTURA!B87","v":"Fondo: INP"},null,"Sección:",{"$f":"HOJA_CAPTURA!G87","v":0},null,null,"Serie: ",{"$f":"HOJA_CAPTURA!H87","v":0}]
[null,null,null,null,null,null,"Subserie:",null,{"$f":"HOJA_CAPTURA!I87","v":0}]
["No. Consecutivo","No. de caja","No. de expediente","Clasificación archivística del expediente","Descripción o asunto ","                                                                                                                                                                                                                                                          Periodo de trámite","No.  de folios ","Valor documental",null,null,"Vigencia documental",null,null,"Condiciones de acceso (Reservada y confidencial)","Tradición documental "]
[null,null,null,null,null,null,null,"A","L","F/C","AT","AC","Total"]
[{"$f":"HOJA_CAPTURA!J87","v":0},{"$f":"HOJA_CAPTURA!K87","v":0},{"$f":"HOJA_CAPTURA!M87","v":0},{"$f":"HOJA_CAPTURA!N87","v":0},{"$f":"HOJA_CAPTURA!P87","v":0},{"$f":"HOJA_CAPTURA!Q87","v":"00:00:00"},{"$f":"HOJA_CAPTURA!V87","v":0},{"$f":"HOJA_CAPTURA!AF87","v":0},{"$f":"HOJA_CAPTURA!AG87","v":0},{"$f":"HOJA_CAPTURA!AH87","v":0},{"$f":"HOJA_CAPTURA!AI87","v":0},{"$f":"HOJA_CAPTURA!AJ87","v":0},{"$f":"HOJA_CAPTURA!AK87","v":0},{"$f":"HOJA_CAPTURA!AL87","v":0},{"$f":"HOJA_CAPTURA!AU87","v":0}]
[null,null,null,null,null,{"$f":"HOJA_CAPTURA!R87","v":"00:00:00"}]
[{"$f":"HOJA_CAPTURA!J88","v":0},{"$f":"HOJA_CAPTURA!K88","v":0},{"$f":"HOJA_CAPTURA!M88","v":0},{"$f":"HOJA_CAPTURA!N88","v":0},{"$f":"HOJA_CAPTURA!P88","v":0},{"$f":"HOJA_CAPTURA!Q88","v":"00:00:00"},{"$f":"HOJA_CAPTURA!V88","v":0},{"$f":"HOJA_CAPTURA!AF88","v":0},{"$f":"HOJA_CAPTURA!AG88","v":0},{"$f":"HOJA_CAPTURA!AH88","v":0},{"$f":"HOJA_CAPTURA!AI88","v":0},{"$f":"HOJA_CAPTURA!AJ88","v":0},{"$f":"HOJA_CAPTURA!AK88","v":0},{"$f":"HOJA_CAPTURA!AL88","v":0},{"$f":"HOJA_CAPTURA!AU88","v":0}]
[null,null,null,null,null,{"$f":"HOJA_CAPTURA!R88","v":"00:00:00"}]
[{"$f":"HOJA_CAPTURA!J89","v":0},{"$f":"HOJA_CAPTURA!K89","v":0},{"$f":"HOJA_CAPTURA!M89","v":0},{"$f":"HOJA_CAPTURA!N89","v":0},{"$f":"HOJA_CAPTURA!P89","v":0},{"$f":"HOJA_CAPTURA!Q89","v":"00:00:00"},{"$f":"HOJA_CAPTURA!V89","v":0},{"$f":"HOJA_CAPTURA!AF89","v":0},{"$f":"HOJA_CAPTURA!AG89","v":0},{"$f":"HOJA_CAPTURA!AH89","v":0},{"$f":"HOJA_CAPTURA!AI89","v":0},{"$f":"HOJA_CAPTURA!AJ89","v":0},{"$f":"HOJA_CAPTURA!AK89","v":0},{"$f":"HOJA_CAPTURA!AL89","v":0},{"$f":"HOJA_CAPTURA!AU89","v":0}]
[null,null,null,null,null,{"$f":"HOJA_CAPTURA!R89","v":"00:00:00"}]
[{"$f":"HOJA_CAPTURA!J90","v":0},{"$f":"HOJA_CAPTURA!K90","v":0},{"$f":"HOJA_CAPTURA!M90","v":0},{"$f":"HOJA_CAPTURA!N90","v":0},{"$f":"HOJA_CAPTURA!P90","v":0},{"$f":"HOJA_CAPTURA!Q90","v":"00:00:00"},{"$f":"HOJA_CAPTURA!V90","v":0},{"$f":"HOJA_CAPTURA!AF90","v":0},{"$f":"HOJA_CAPTURA!AG90","v":0},{"$f":"HOJA_CAPTURA!AH90","v":0},{"$f":"HOJA_CAPTURA!AI90","v":0},{"$f":"HOJA_CAPTURA!AJ90","v":0},{"$f":"HOJA_CAPTURA!AK90","v":0},{"$f":"HOJA_CAPTURA!AL90","v":0},{"$f":"HOJA_CAPTURA!AU90","v":0}]
[null,null,null,null,null,{"$f":"HOJA_CAPTURA!R90","v":"00:00:00"}]
[]
[null,"\"El presente inventario consta de __fojas y ampara la cantidad de __expedientes de los años de __al__, contenidos en__ cajas, con un peso aproximado de __kg.\""]
[null,null,{"$f":"HOJA_CAPTURA!F87","v":0},null,null,null,null,{"$f":"HOJA_CAPTURA!E87","v":0}]
["Nombre, firma, cargo y área de adscripción de la persona que formuló el inventario ",null,null,null,null,null,"Nombre, firma, cargo y área de adscripción de la persona que revisó el inventario"]
[null,{"$f":"HOJA_CAPTURA!D87","v":0}]
["Nombre y firma del titular de la unidad administrativa que autorizó el inventario",null,null,null,null,null,"Nombre y firma del responsable del archivo de concentración que recibe el inventario"]
[]
[]
[]
[]
[null,"           "]
["Fecha de transferencia:",null,null,{"$f":"TODAY()","v":"2024-08-13"},"Número de transferencia:",{"$f":"HOJA_CAPTURA!L91","v":0},null,null,null,null,null,null,null,"Hoja: 23 de ",{"$f":"O530","v":0}]
["Unidad administrativa/Área productora: ",null,null,null,{"$f":"HOJA_CAPTURA!C91","v":0}]
[{"$f":"HOJA_CAPTURA!B91","v":"Fondo: INP"},null,"Sección:",{"$f":"HOJA_CAPTURA!G91","v":0},null,null,"Serie: ",{"$f":"HOJA_CAPTURA!H91","v":0}]
[null,null,null,null,null,null,"Subserie:",null,{"$f":"HOJA_CAPTURA!I91","v":0}]
["No. Consecutivo","No. de caja","No. de expediente","Clasificación archivística del expediente","Descripción o asunto ","                                                                                                                                                                                                                                                          Periodo de trámite","No.  de folios ","Valor documental",null,null,"Vigencia documental",null,null,"Condiciones de acceso (Reservada y confidencial)","Tradición documental "]
[null,null,null,null,null,null,null,"A","L","F/C","AT","AC","Total"]
[{"$f":"HOJA_CAPTURA!J91","v":0},{"$f":"HOJA_CAPTURA!K91","v":0},{"$f":"HOJA_CAPTURA!M91","v":0},{"$f":"HOJA_CAPTURA!N91","v":0},{"$f":"HOJA_CAPTURA!P91","v":0},{"$f":"HOJA_CAPTURA!Q91","v":"00:00:00"},{"$f":"HOJA_CAPTURA!V91","v":0},{"$f":"HOJA_CAPTURA!AF91","v":0},{"$f":"HOJA_CAPTURA!AG91","v":0},{"$f":"HOJA_CAPTURA!AH91","v":0},{"$f":"HOJA_CAPTURA!AI91","v":0},{"$f":"HOJA_CAPTURA!AJ91","v":0},{"$f":"HOJA_CAPTURA!AK91","v":0},{"$f":"HOJA_CAPTURA!AL91","v":0},{"$f":"HOJA_CAPTURA!AU91","v":0}]
[null,null,null,null,null,{"$f":"HOJA_CAPTURA!R91","v":"00:00:00"}]
[{"$f":"HOJA_CAPTURA!J92","v":0},{"$f":"HOJA_CAPTURA!K92","v":0},{"$f":"HOJA_CAPTURA!M92","v":0},{"$f":"HOJA_CAPTURA!N92","v":0},{"$f":"HOJA_CAPTURA!P92","v":0},{"$f":"HOJA_CAPTURA!Q92","v":"00:00:00"},{"$f":"HOJA_CAPTURA!V92","v":0},{"$f":"HOJA_CAPTURA!AF92","v":0},{"$f":"HOJA_CAPTURA!AG92","v":0},{"$f":"HOJA_CAPTURA!AH92","v":0},{"$f":"HOJA_CAPTURA!AI92","v":0},{"$f":"HOJA_CAPTURA!AJ92","v":0},{"$f":"HOJA_CAPTURA!AK92","v":0},{"$f":"HOJA_CAPTURA!AL92","v":0},{"$f":"HOJA_CAPTURA!AU92","v":0}]
[null,null,null,null,null,{"$f":"HOJA_CAPTURA!R92","v":"00:00:00"}]
[{"$f":"HOJA_CAPTURA!J93","v":0},{"$f":"HOJA_CAPTURA!K93","v":0},{"$f":"HOJA_CAPTURA!M93","v":0},{"$f":"HOJA_CAPTURA!N93","v":0},{"$f":"HOJA_CAPTURA!P93","v":0},{"$f":"HOJA_CAPTURA!Q93","v":"00:00:00"},{"$f":"HOJA_CAPTURA!V93","v":0},{"$f":"HOJA_CAPTURA!AF93","v":0},{"$f":"HOJA_CAPTURA!AG93","v":0},{"$f":"HOJA_CAPTURA!AH93","v":0},{"$f":"HOJA_CAPTURA!AI93","v":0},{"$f":"HOJA_CAPTURA!AJ93","v":0},{"$f":"HOJA_CAPTURA!AK93","v":0},{"$f":"HOJA_CAPTURA!AL93","v":0},{"$f":"HOJA_CAPTURA!AU93","v":0}]
[null,null,null,null,null,{"$f":"HOJA_CAPTURA!R93","v":"00:00:00"}]
[{"$f":"HOJA_CAPTURA!J94","v":0},{"$f":"HOJA_CAPTURA!K94","v":0},{"$f":"HOJA_CAPTURA!M94","v":0},{"$f":"HOJA_CAPTURA!N94","v":0},{"$f":"HOJA_CAPTURA!P94","v":0},{"$f":"HOJA_CAPTURA!Q94","v":"00:00:00"},{"$f":"HOJA_CAPTURA!V94","v":0},{"$f":"HOJA_CAPTURA!AF94","v":0},{"$f":"HOJA_CAPTURA!AG94","v":0},{"$f":"HOJA_CAPTURA!AH94","v":0},{"$f":"HOJA_CAPTURA!AI94","v":0},{"$f":"HOJA_CAPTURA!AJ94","v":0},{"$f":"HOJA_CAPTURA!AK94","v":0},{"$f":"HOJA_CAPTURA!AL94","v":0},{"$f":"HOJA_CAPTURA!AU94","v":0}]
[null,null,null,null,null,{"$f":"HOJA_CAPTURA!R94","v":"00:00:00"}]
[]
[null,"\"El presente inventario consta de __fojas y ampara la cantidad de __expedientes de los años de __al__, contenidos en__ cajas, con un peso aproximado de __kg.\""]
[null,null,{"$f":"HOJA_CAPTURA!F91","v":0},null,null,null,null,{"$f":"HOJA_CAPTURA!E91","v":0}]
["Nombre, firma, cargo y área de adscripción de la persona que formuló el inventario ",null,null,null,null,null,"Nombre, firma, cargo y área de adscripción de la persona que revisó el inventario"]
[null,{"$f":"HOJA_CAPTURA!D91","v":0}]
["Nombre y firma del titular de la unidad administrativa que autorizó el inventario",null,null,null,null,null,"Nombre y firma del responsable del archivo de concentración que recibe el inventario"]
[]
[]
[]
[]
[null,"           "]
["Fecha de transferencia:",null,null,{"$f":"TODAY()","v":"2024-08-13"},"Número de transferencia:",{"$f":"HOJA_CAPTURA!L95","v":0},null,null,null,null,null,null,null,"Hoja: 24 de ",{"$f":"O555","v":0}]
["Unidad administrativa/Área productora: ",null,null,null,{"$f":"HOJA_CAPTURA!C95","v":0}]
[{"$f":"HOJA_CAPTURA!B95","v":"Fondo: INP"},null,"Sección:",{"$f":"HOJA_CAPTURA!G95","v":0},null,null,"Serie: ",{"$f":"HOJA_CAPTURA!H95","v":0}]
[null,null,null,null,null,null,"Subserie:",null,{"$f":"HOJA_CAPTURA!I95","v":0}]
["No. Consecutivo","No. de caja","No. de expediente","Clasificación archivística del expediente","Descripción o asunto ","                                                                                                                                                                                                                                                          Periodo de trámite","No.  de folios ","Valor documental",null,null,"Vigencia documental",null,null,"Condiciones de acceso (Reservada y confidencial)","Tradición documental "]
[null,null,null,null,null,null,null,"A","L","F/C","AT","AC","Total"]
[{"$f":"HOJA_CAPTURA!J95","v":0},{"$f":"HOJA_CAPTURA!K95","v":0},{"$f":"HOJA_CAPTURA!M95","v":0},{"$f":"HOJA_CAPTURA!N95","v":0},{"$f":"HOJA_CAPTURA!P95","v":0},{"$f":"HOJA_CAPTURA!Q95","v":"00:00:00"},{"$f":"HOJA_CAPTURA!V95","v":0},{"$f":"HOJA_CAPTURA!AF95","v":0},{"$f":"HOJA_CAPTURA!AG95","v":0},{"$f":"HOJA_CAPTURA!AH95","v":0},{"$f":"HOJA_CAPTURA!AI95","v":0},{"$f":"HOJA_CAPTURA!AJ95","v":0},{"$f":"HOJA_CAPTURA!AK95","v":0},{"$f":"HOJA_CAPTURA!AL95","v":0},{"$f":"HOJA_CAPTURA!AU95","v":0}]
[null,null,null,null,null,{"$f":"HOJA_CAPTURA!R95","v":"00:00:00"}]
[{"$f":"HOJA_CAPTURA!J96","v":0},{"$f":"HOJA_CAPTURA!K96","v":0},{"$f":"HOJA_CAPTURA!M96","v":0},{"$f":"HOJA_CAPTURA!N96","v":0},{"$f":"HOJA_CAPTURA!P96","v":0},{"$f":"HOJA_CAPTURA!Q96","v":"00:00:00"},{"$f":"HOJA_CAPTURA!V96","v":0},{"$f":"HOJA_CAPTURA!AF96","v":0},{"$f":"HOJA_CAPTURA!AG96","v":0},{"$f":"HOJA_CAPTURA!AH96","v":0},{"$f":"HOJA_CAPTURA!AI96","v":0},{"$f":"HOJA_CAPTURA!AJ96","v":0},{"$f":"HOJA_CAPTURA!AK96","v":0},{"$f":"HOJA_CAPTURA!AL96","v":0},{"$f":"HOJA_CAPTURA!AU96","v":0}]
[null,null,null,null,null,{"$f":"HOJA_CAPTURA!R96","v":"00:00:00"}]
[{"$f":"HOJA_CAPTURA!J97","v":0},{"$f":"HOJA_CAPTURA!K97","v":0},{"$f":"HOJA_CAPTURA!M97","v":0},{"$f":"HOJA_CAPTURA!N97","v":0},{"$f":"HOJA_CAPTURA!P97","v":0},{"$f":"HOJA_CAPTURA!Q97","v":"00:00:00"},{"$f":"HOJA_CAPTURA!V97","v":0},{"$f":"HOJA_CAPTURA!AF97","v":0},{"$f":"HOJA_CAPTURA!AG97","v":0},{"$f":"HOJA_CAPTURA!AH97","v":0},{"$f":"HOJA_CAPTURA!AI97","v":0},{"$f":"HOJA_CAPTURA!AJ97","v":0},{"$f":"HOJA_CAPTURA!AK97","v":0},{"$f":"HOJA_CAPTURA!AL97","v":0},{"$f":"HOJA_CAPTURA!AU97","v":0}]
[null,null,null,null,null,{"$f":"HOJA_CAPTURA!R97","v":"00:00:00"}]
[{"$f":"HOJA_CAPTURA!J98","v":0},{"$f":"HOJA_CAPTURA!K98","v":0},{"$f":"HOJA_CAPTURA!M98","v":0},{"$f":"HOJA_CAPTURA!N98","v":0},{"$f":"HOJA_CAPTURA!P98","v":0},{"$f":"HOJA_CAPTURA!Q98","v":"00:00:00"},{"$f":"HOJA_CAPTURA!V98","v":0},{"$f":"HOJA_CAPTURA!AF98","v":0},{"$f":"HOJA_CAPTURA!AG98","v":0},{"$f":"HOJA_CAPTURA!AH98","v":0},{"$f":"HOJA_CAPTURA!AI98","v":0},{"$f":"HOJA_CAPTURA!AJ98","v":0},{"$f":"HOJA_CAPTURA!AK98","v":0},{"$f":"HOJA_CAPTURA!AL98","v":0},{"$f":"HOJA_CAPTURA!AU98","v":0}]
[null,null,null,null,null,{"$f":"HOJA_CAPTURA!R98","v":"00:00:00"}]
[]
[null,"\"El presente inventario consta de __fojas y ampara la cantidad de __expedientes de los años de __al__, contenidos en__ cajas, con un peso aproximado de __kg.\""]
[null,null,{"$f":"HOJA_CAPTURA!F95","v":0},null,null,null,null,{"$f":"HOJA_CAPTURA!E95","v":0}]
["Nombre, firma, cargo y área de adscripción de la persona que formuló el inventario ",null,null,null,null,null,"Nombre, firma, cargo y área de adscripción de la persona que revisó el inventario"]
[null,{"$f":"HOJA_CAPTURA!D95","v":0}]
["Nombre y firma del titular de la unidad administrativa que autorizó el inventario",null,null,null,null,null,"Nombre y firma del responsable del archivo de concentración que recibe el inventario"]
[]
[]
[]
[]
[null,"           "]
["Fecha de transferencia:",null,null,{"$f":"TODAY()","v":"2024-08-13"},"Número de transferencia:",{"$f":"HOJA_CAPTURA!L99","v":0},null,null,null,null,null,null,null,"Hoja: 25 de ",{"$f":"O580","v":0}]
["Unidad administrativa/Área productora: ",null,null,null,{"$f":"HOJA_CAPTURA!C99","v":0}]
[{"$f":"HOJA_CAPTURA!B99","v":"Fondo: INP"},null,"Sección:",{"$f":"HOJA_CAPTURA!G99","v":0},null,null,"Serie: ",{"$f":"HOJA_CAPTURA!H99","v":0}]
[null,null,null,null,null,null,"Subserie:",null,{"$f":"HOJA_CAPTURA!I99","v":0}]
["No. Consecutivo","No. de caja","No. de expediente","Clasificación archivística del expediente","Descripción o asunto ","                                                                                                                                                                                                                                                          Periodo de trámite","No.  de folios ","Valor documental",null,null,"Vigencia documental",null,null,"Condiciones de acceso (Reservada y confidencial)","Tradición documental "]
[null,null,null,null,null,null,null,"A","L","F/C","AT","AC","Total"]
[{"$f":"HOJA_CAPTURA!J99","v":0},{"$f":"HOJA_CAPTURA!K99","v":0},{"$f":"HOJA_CAPTURA!M99","v":0},{"$f":"HOJA_CAPTURA!N99","v":0},{"$f":"HOJA_CAPTURA!P99","v":0},{"$f":"HOJA_CAPTURA!Q99","v":"00:00:00"},{"$f":"HOJA_CAPTURA!V99","v":0},{"$f":"HOJA_CAPTURA!AF99","v":0},{"$f":"HOJA_CAPTURA!AG99","v":0},{"$f":"HOJA_CAPTURA!AH99","v":0},{"$f":"HOJA_CAPTURA!AI99","v":0},{"$f":"HOJA_CAPTURA!AJ99","v":0},{"$f":"HOJA_CAPTURA!AK99","v":0},{"$f":"HOJA_CAPTURA!AL99","v":0},{"$f":"HOJA_CAPTURA!AU99","v":0}]
[null,null,null,null,null,{"$f":"HOJA_CAPTURA!R99","v":"00:00:00"}]
[{"$f":"HOJA_CAPTURA!J100","v":0},{"$f":"HOJA_CAPTURA!K100","v":0},{"$f":"HOJA_CAPTURA!M100","v":0},{"$f":"HOJA_CAPTURA!N100","v":0},{"$f":"HOJA_CAPTURA!P100","v":0},{"$f":"HOJA_CAPTURA!Q100","v":"00:00:00"},{"$f":"HOJA_CAPTURA!V100","v":0},{"$f":"HOJA_CAPTURA!AF100","v":0},{"$f":"HOJA_CAPTURA!AG100","v":0},{"$f":"HOJA_CAPTURA!AH100","v":0},{"$f":"HOJA_CAPTURA!AI100","v":0},{"$f":"HOJA_CAPTURA!AJ100","v":0},{"$f":"HOJA_CAPTURA!AK100","v":0},{"$f":"HOJA_CAPTURA!AL100","v":0},{"$f":"HOJA_CAPTURA!AU100","v":0}]
[null,null,null,null,null,{"$f":"HOJA_CAPTURA!R100","v":"00:00:00"}]
[{"$f":"HOJA_CAPTURA!J101","v":0},{"$f":"HOJA_CAPTURA!K101","v":0},{"$f":"HOJA_CAPTURA!M101","v":0},{"$f":"HOJA_CAPTURA!N101","v":0},{"$f":"HOJA_CAPTURA!P101","v":0},{"$f":"HOJA_CAPTURA!Q101","v":"00:00:00"},{"$f":"HOJA_CAPTURA!V101","v":0},{"$f":"HOJA_CAPTURA!AF101","v":0},{"$f":"HOJA_CAPTURA!AG101","v":0},{"$f":"HOJA_CAPTURA!AH101","v":0},{"$f":"HOJA_CAPTURA!AI101","v":0},{"$f":"HOJA_CAPTURA!AJ101","v":0},{"$f":"HOJA_CAPTURA!AK101","v":0},{"$f":"HOJA_CAPTURA!AL101","v":0},{"$f":"HOJA_CAPTURA!AU101","v":0}]
[null,null,null,null,null,{"$f":"HOJA_CAPTURA!R101","v":"00:00:00"}]
[{"$f":"HOJA_CAPTURA!J102","v":0},{"$f":"HOJA_CAPTURA!K102","v":0},{"$f":"HOJA_CAPTURA!M102","v":0},{"$f":"HOJA_CAPTURA!N102","v":0},{"$f":"HOJA_CAPTURA!P102","v":0},{"$f":"HOJA_CAPTURA!Q102","v":"00:00:00"},{"$f":"HOJA_CAPTURA!V102","v":0},{"$f":"HOJA_CAPTURA!AF102","v":0},{"$f":"HOJA_CAPTURA!AG102","v":0},{"$f":"HOJA_CAPTURA!AH102","v":0},{"$f":"HOJA_CAPTURA!AI102","v":0},{"$f":"HOJA_CAPTURA!AJ102","v":0},{"$f":"HOJA_CAPTURA!AK102","v":0},{"$f":"HOJA_CAPTURA!AL102","v":0},{"$f":"HOJA_CAPTURA!AU102","v":0}]
[null,null,null,null,null,{"$f":"HOJA_CAPTURA!R102","v":"00:00:00"}]
[]
[null,"\"El presente inventario consta de __fojas y ampara la cantidad de __expedientes de los años de __al__, contenidos en__ cajas, con un peso aproximado de __kg.\""]
[null,null,{"$f":"HOJA_CAPTURA!F99","v":0},null,null,null,null,{"$f":"HOJA_CAPTURA!E99","v":0}]
["Nombre, firma, cargo y área de adscripción de la persona que formuló el inventario ",null,null,null,null,null,"Nombre, firma, cargo y área de adscripción de la persona que revisó el inventario"]
[null,{"$f":"HOJA_CAPTURA!D99","v":0}]
["Nombre y firma del titular de la unidad administrativa que autorizó el inventario",null,null,null,null,null,"Nombre y firma del responsable del archivo de concentración que recibe el inventario"]
[]
[]
[]
[]
[null,"           "]
["Fecha de transferencia:",null,null,{"$f":"TODAY()","v":"2024-08-13"},"Número de transferencia:",{"$f":"HOJA_CAPTURA!L103","v":0},null,null,null,null,null,null,null,"Hoja: 26 de ",{"$f":"O605","v":0}]
["Unidad administrativa/Área productora: ",null,null,null,{"$f":"HOJA_CAPTURA!C103","v":0}]
[{"$f":"HOJA_CAPTURA!B103","v":"Fondo: INP"},null,"Sección:",{"$f":"HOJA_CAPTURA!G103","v":0},null,null,"Serie: ",{"$f":"HOJA_CAPTURA!H103","v":0}]
[null,null,null,null,null,null,"Subserie:",null,{"$f":"HOJA_CAPTURA!I103","v":0}]
["No. Consecutivo","No. de caja","No. de expediente","Clasificación archivística del expediente","Descripción o asunto ","                                                                                                                                                                                                                                                          Periodo de trámite","No.  de folios ","Valor documental",null,null,"Vigencia documental",null,null,"Condiciones de acceso (Reservada y confidencial)","Tradición documental "]
[null,null,null,null,null,null,null,"A","L","F/C","AT","AC","Total"]
[{"$f":"HOJA_CAPTURA!J103","v":0},{"$f":"HOJA_CAPTURA!K103","v":0},{"$f":"HOJA_CAPTURA!M103","v":0},{"$f":"HOJA_CAPTURA!N103","v":0},{"$f":"HOJA_CAPTURA!P103","v":0},{"$f":"HOJA_CAPTURA!Q103","v":"00:00:00"},{"$f":"HOJA_CAPTURA!V103","v":0},{"$f":"HOJA_CAPTURA!AF103","v":0},{"$f":"HOJA_CAPTURA!AG103","v":0},{"$f":"HOJA_CAPTURA!AH103","v":0},{"$f":"HOJA_CAPTURA!AI103","v":0},{"$f":"HOJA_CAPTURA!AJ103","v":0},{"$f":"HOJA_CAPTURA!AK103","v":0},{"$f":"HOJA_CAPTURA!AL103","v":0},{"$f":"HOJA_CAPTURA!AU103","v":0}]
[null,null,null,null,null,{"$f":"HOJA_CAPTURA!R103","v":"00:00:00"}]
[{"$f":"HOJA_CAPTURA!J104","v":0},{"$f":"HOJA_CAPTURA!K104","v":0},{"$f":"HOJA_CAPTURA!M104","v":0},{"$f":"HOJA_CAPTURA!N104","v":0},{"$f":"HOJA_CAPTURA!P104","v":0},{"$f":"HOJA_CAPTURA!Q104","v":"00:00:00"},{"$f":"HOJA_CAPTURA!V104","v":0},{"$f":"HOJA_CAPTURA!AF104","v":0},{"$f":"HOJA_CAPTURA!AG104","v":0},{"$f":"HOJA_CAPTURA!AH104","v":0},{"$f":"HOJA_CAPTURA!AI104","v":0},{"$f":"HOJA_CAPTURA!AJ104","v":0},{"$f":"HOJA_CAPTURA!AK104","v":0},{"$f":"HOJA_CAPTURA!AL104","v":0},{"$f":"HOJA_CAPTURA!AU104","v":0}]
[null,null,null,null,null,{"$f":"HOJA_CAPTURA!R104","v":"00:00:00"}]
[{"$f":"HOJA_CAPTURA!J105","v":0},{"$f":"HOJA_CAPTURA!K105","v":0},{"$f":"HOJA_CAPTURA!M105","v":0},{"$f":"HOJA_CAPTURA!N105","v":0},{"$f":"HOJA_CAPTURA!P105","v":0},{"$f":"HOJA_CAPTURA!Q105","v":"00:00:00"},{"$f":"HOJA_CAPTURA!V105","v":0},{"$f":"HOJA_CAPTURA!AF105","v":0},{"$f":"HOJA_CAPTURA!AG105","v":0},{"$f":"HOJA_CAPTURA!AH105","v":0},{"$f":"HOJA_CAPTURA!AI105","v":0},{"$f":"HOJA_CAPTURA!AJ105","v":0},{"$f":"HOJA_CAPTURA!AK105","v":0},{"$f":"HOJA_CAPTURA!AL105","v":0},{"$f":"HOJA_CAPTURA!AU105","v":0}]
[null,null,null,null,null,{"$f":"HOJA_CAPTURA!R105","v":"00:00:00"}]
[{"$f":"HOJA_CAPTURA!J106","v":0},{"$f":"HOJA_CAPTURA!K106","v":0},{"$f":"HOJA_CAPTURA!M106","v":0},{"$f":"HOJA_CAPTURA!N106","v":0},{"$f":"HOJA_CAPTURA!P106","v":0},{"$f":"HOJA_CAPTURA!Q106","v":"00:00:00"},{"$f":"HOJA_CAPTURA!V106","v":0},{"$f":"HOJA_CAPTURA!AF106","v":0},{"$f":"HOJA_CAPTURA!AG106","v":0},{"$f":"HOJA_CAPTURA!AH106","v":0},{"$f":"HOJA_CAPTURA!AI106","v":0},{"$f":"HOJA_CAPTURA!AJ106","v":0},{"$f":"HOJA_CAPTURA!AK106","v":0},{"$f":"HOJA_CAPTURA!AL106","v":0},{"$f":"HOJA_CAPTURA!AU106","v":0}]
[null,null,null,null,null,{"$f":"HOJA_CAPTURA!R106","v":"00:00:00"}]
[]
[null,"\"El presente inventario consta de __fojas y ampara la cantidad de __expedientes de los años de __al__, contenidos en__ cajas, con un peso aproximado de __kg.\""]
[null,null,{"$f":"HOJA_CAPTURA!F103","v":0},null,null,null,null,{"$f":"HOJA_CAPTURA!E103","v":0}]
["Nombre, firma, cargo y área de adscripción de la persona que formuló el inventario ",null,null,null,null,null,"Nombre, firma, cargo y área de adscripción de la persona que revisó el inventario"]
[null,{"$f":"HOJA_CAPTURA!D103","v":0}]
["Nombre y firma del titular de la unidad administrativa que autorizó el inventario",null,null,null,null,null,"Nombre y firma del responsable del archivo de concentración que recibe el inventario"]
[]
[]
[]
[]
[null,"           "]
["Fecha de transferencia:",null,null,{"$f":"TODAY()","v":"2024-08-13"},"Número de transferencia:",{"$f":"HOJA_CAPTURA!L107","v":0},null,null,null,null,null,null,null,"Hoja: 27 de ",{"$f":"O630","v":0}]
["Unidad administrativa/Área productora: ",null,null,null,{"$f":"HOJA_CAPTURA!C107","v":0}]
[{"$f":"HOJA_CAPTURA!B107","v":"Fondo: INP"},null,"Sección:",{"$f":"HOJA_CAPTURA!G107","v":0},null,null,"Serie: ",{"$f":"HOJA_CAPTURA!H107","v":0}]
[null,null,null,null,null,null,"Subserie:",null,{"$f":"HOJA_CAPTURA!I107","v":0}]
["No. Consecutivo","No. de caja","No. de expediente","Clasificación archivística del expediente","Descripción o asunto ","                                                                                                                                                                                                                                                          Periodo de trámite","No.  de folios ","Valor documental",null,null,"Vigencia documental",null,null,"Condiciones de acceso (Reservada y confidencial)","Tradición documental "]
[null,null,null,null,null,null,null,"A","L","F/C","AT","AC","Total"]
[{"$f":"HOJA_CAPTURA!J107","v":0},{"$f":"HOJA_CAPTURA!K107","v":0},{"$f":"HOJA_CAPTURA!M107","v":0},{"$f":"HOJA_CAPTURA!N107","v":0},{"$f":"HOJA_CAPTURA!P107","v":0},{"$f":"HOJA_CAPTURA!Q107","v":"00:00:00"},{"$f":"HOJA_CAPTURA!V107","v":0},{"$f":"HOJA_CAPTURA!AF107","v":0},{"$f":"HOJA_CAPTURA!AG107","v":0},{"$f":"HOJA_CAPTURA!AH107","v":0},{"$f":"HOJA_CAPTURA!AI107","v":0},{"$f":"HOJA_CAPTURA!AJ107","v":0},{"$f":"HOJA_CAPTURA!AK107","v":0},{"$f":"HOJA_CAPTURA!AL107","v":0},{"$f":"HOJA_CAPTURA!AU107","v":0}]
[null,null,null,null,null,{"$f":"HOJA_CAPTURA!R107","v":"00:00:00"}]
[{"$f":"HOJA_CAPTURA!J108","v":0},{"$f":"HOJA_CAPTURA!K108","v":0},{"$f":"HOJA_CAPTURA!M108","v":0},{"$f":"HOJA_CAPTURA!N108","v":0},{"$f":"HOJA_CAPTURA!P108","v":0},{"$f":"HOJA_CAPTURA!Q108","v":"00:00:00"},{"$f":"HOJA_CAPTURA!V108","v":0},{"$f":"HOJA_CAPTURA!AF108","v":0},{"$f":"HOJA_CAPTURA!AG108","v":0},{"$f":"HOJA_CAPTURA!AH108","v":0},{"$f":"HOJA_CAPTURA!AI108","v":0},{"$f":"HOJA_CAPTURA!AJ108","v":0},{"$f":"HOJA_CAPTURA!AK108","v":0},{"$f":"HOJA_CAPTURA!AL108","v":0},{"$f":"HOJA_CAPTURA!AU108","v":0}]
[null,null,null,null,null,{"$f":"HOJA_CAPTURA!R108","v":"00:00:00"}]
[{"$f":"HOJA_CAPTURA!J109","v":0},{"$f":"HOJA_CAPTURA!K109","v":0},{"$f":"HOJA_CAPTURA!M109","v":0},{"$f":"HOJA_CAPTURA!N109","v":0},{"$f":"HOJA_CAPTURA!P109","v":0},{"$f":"HOJA_CAPTURA!Q109","v":"00:00:00"},{"$f":"HOJA_CAPTURA!V109","v":0},{"$f":"HOJA_CAPTURA!AF109","v":0},{"$f":"HOJA_CAPTURA!AG109","v":0},{"$f":"HOJA_CAPTURA!AH109","v":0},{"$f":"HOJA_CAPTURA!AI109","v":0},{"$f":"HOJA_CAPTURA!AJ109","v":0},{"$f":"HOJA_CAPTURA!AK109","v":0},{"$f":"HOJA_CAPTURA!AL109","v":0},{"$f":"HOJA_CAPTURA!AU109","v":0}]
[null,null,null,null,null,{"$f":"HOJA_CAPTURA!R109","v":"00:00:00"}]
[{"$f":"HOJA_CAPTURA!J110","v":0},{"$f":"HOJA_CAPTURA!K110","v":0},{"$f":"HOJA_CAPTURA!M110","v":0},{"$f":"HOJA_CAPTURA!N110","v":0},{"$f":"HOJA_CAPTURA!P110","v":0},{"$f":"HOJA_CAPTURA!Q110","v":"00:00:00"},{"$f":"HOJA_CAPTURA!V110","v":0},{"$f":"HOJA_CAPTURA!AF110","v":0},{"$f":"HOJA_CAPTURA!AG110","v":0},{"$f":"HOJA_CAPTURA!AH110","v":0},{"$f":"HOJA_CAPTURA!AI110","v":0},{"$f":"HOJA_CAPTURA!AJ110","v":0},{"$f":"HOJA_CAPTURA!AK110","v":0},{"$f":"HOJA_CAPTURA!AL110","v":0},{"$f":"HOJA_CAPTURA!AU110","v":0}]
[null,null,null,null,null,{"$f":"HOJA_CAPTURA!R110","v":"00:00:00"}]
[]
[null,"\"El presente inventario consta de __fojas y ampara la cantidad de __expedientes de los años de __al__, contenidos en__ cajas, con un peso aproximado de __kg.\""]
[null,null,{"$f":"HOJA_CAPTURA!F107","v":0},null,null,null,null,{"$f":"HOJA_CAPTURA!E107","v":0}]
["Nombre, firma, cargo y área de adscripción de la persona que formuló el inventario ",null,null,null,null,null,"Nombre, firma, cargo y área de adscripción de la persona que revisó el inventario"]
[null,{"$f":"HOJA_CAPTURA!D107","v":0}]
["Nombre y firma del titular de la unidad administrativa que autorizó el inventario",null,null,null,null,null,"Nombre y firma del responsable del archivo de concentración que recibe el inventario"]
[]
[]
[]
[]
[null,"           "]
["Fecha de transferencia:",null,null,{"$f":"TODAY()","v":"2024-08-13"},"Número de transferencia:",{"$f":"HOJA_CAPTURA!L111","v":0},null,null,null,null,null,null,null,"Hoja: 28 de ",{"$f":"O655","v":0}]
["Unidad administrativa/Área productora: ",null,null,null,{"$f":"HOJA_CAPTURA!C111","v":0}]
[{"$f":"HOJA_CAPTURA!B111","v":"Fondo: INP"},null,"Sección:",{"$f":"HOJA_CAPTURA!G111","v":0},null,null,"Serie: ",{"$f":"HOJA_CAPTURA!H111","v":0}]
[null,null,null,null,null,null,"Subserie:",null,{"$f":"HOJA_CAPTURA!I111","v":0}]
["No. Consecutivo","No. de caja","No. de expediente","Clasificación archivística del expediente","Descripción o asunto ","                                                                                                                                                                                                                                                          Periodo de trámite","No.  de folios ","Valor documental",null,null,"Vigencia documental",null,null,"Condiciones de acceso (Reservada y confidencial)","Tradición documental "]
[null,null,null,null,null,null,null,"A","L","F/C","AT","AC","Total"]
[{"$f":"HOJA_CAPTURA!J111","v":0},{"$f":"HOJA_CAPTURA!K111","v":0},{"$f":"HOJA_CAPTURA!M111","v":0},{"$f":"HOJA_CAPTURA!N111","v":0},{"$f":"HOJA_CAPTURA!P111","v":0},{"$f":"HOJA_CAPTURA!Q111","v":"00:00:00"},{"$f":"HOJA_CAPTURA!V111","v":0},{"$f":"HOJA_CAPTURA!AF111","v":0},{"$f":"HOJA_CAPTURA!AG111","v":0},{"$f":"HOJA_CAPTURA!AH111","v":0},{"$f":"HOJA_CAPTURA!AI111","v":0},{"$f":"HOJA_CAPTURA!AJ111","v":0},{"$f":"HOJA_CAPTURA!AK111","v":0},{"$f":"HOJA_CAPTURA!AL111","v":0},{"$f":"HOJA_CAPTURA!AU111","v":0}]
[null,null,null,null,null,{"$f":"HOJA_CAPTURA!R111","v":"00:00:00"}]
[{"$f":"HOJA_CAPTURA!J112","v":0},{"$f":"HOJA_CAPTURA!K112","v":0},{"$f":"HOJA_CAPTURA!M112","v":0},{"$f":"HOJA_CAPTURA!N112","v":0},{"$f":"HOJA_CAPTURA!P112","v":0},{"$f":"HOJA_CAPTURA!Q112","v":"00:00:00"},{"$f":"HOJA_CAPTURA!V112","v":0},{"$f":"HOJA_CAPTURA!AF112","v":0},{"$f":"HOJA_CAPTURA!AG112","v":0},{"$f":"HOJA_CAPTURA!AH112","v":0},{"$f":"HOJA_CAPTURA!AI112","v":0},{"$f":"HOJA_CAPTURA!AJ112","v":0},{"$f":"HOJA_CAPTURA!AK112","v":0},{"$f":"HOJA_CAPTURA!AL112","v":0},{"$f":"HOJA_CAPTURA!AU112","v":0}]
[null,null,null,null,null,{"$f":"HOJA_CAPTURA!R112","v":"00:00:00"}]
[{"$f":"HOJA_CAPTURA!J113","v":0},{"$f":"HOJA_CAPTURA!K113","v":0},{"$f":"HOJA_CAPTURA!M113","v":0},{"$f":"HOJA_CAPTURA!N113","v":0},{"$f":"HOJA_CAPTURA!P113","v":0},{"$f":"HOJA_CAPTURA!Q113","v":"00:00:00"},{"$f":"HOJA_CAPTURA!V113","v":0},{"$f":"HOJA_CAPTURA!AF113","v":0},{"$f":"HOJA_CAPTURA!AG113","v":0},{"$f":"HOJA_CAPTURA!AH113","v":0},{"$f":"HOJA_CAPTURA!AI113","v":0},{"$f":"HOJA_CAPTURA!AJ113","v":0},{"$f":"HOJA_CAPTURA!AK113","v":0},{"$f":"HOJA_CAPTURA!AL113","v":0},{"$f":"HOJA_CAPTURA!AU113","v":0}]
[null,null,null,null,null,{"$f":"HOJA_CAPTURA!R113","v":"00:00:00"}]
[{"$f":"HOJA_CAPTURA!J114","v":0},{"$f":"HOJA_CAPTURA!K114","v":0},{"$f":"HOJA_CAPTURA!M114","v":0},{"$f":"HOJA_CAPTURA!N114","v":0},{"$f":"HOJA_CAPTURA!P114","v":0},{"$f":"HOJA_CAPTURA!Q114","v":"00:00:00"},{"$f":"HOJA_CAPTURA!V114","v":0},{"$f":"HOJA_CAPTURA!AF114","v":0},{"$f":"HOJA_CAPTURA!AG114","v":0},{"$f":"HOJA_CAPTURA!AH114","v":0},{"$f":"HOJA_CAPTURA!AI114","v":0},{"$f":"HOJA_CAPTURA!AJ114","v":0},{"$f":"HOJA_CAPTURA!AK114","v":0},{"$f":"HOJA_CAPTURA!AL114","v":0},{"$f":"HOJA_CAPTURA!AU114","v":0}]
[null,null,null,null,null,{"$f":"HOJA_CAPTURA!R114","v":"00:00:00"}]
[]
[null,"\"El presente inventario consta de __fojas y ampara la cantidad de __expedientes de los años de __al__, contenidos en__ cajas, con un peso aproximado de __kg.\""]
[null,null,{"$f":"HOJA_CAPTURA!F111","v":0},null,null,null,null,{"$f":"HOJA_CAPTURA!E111","v":0}]
["Nombre, firma, cargo y área de adscripción de la persona que formuló el inventario ",null,null,null,null,null,"Nombre, firma, cargo y área de adscripción de la persona que revisó el inventario"]
[null,{"$f":"HOJA_CAPTURA!D111","v":0}]
["Nombre y firma del titular de la unidad administrativa que autorizó el inventario",null,null,null,null,null,"Nombre y firma del responsable del archivo de concentración que recibe el inventario"]
[]
[]
[]
[]
[null,"           "]
["Fecha de transferencia:",null,null,{"$f":"TODAY()","v":"2024-08-13"},"Número de transferencia:",{"$f":"HOJA_CAPTURA!L115","v":0},null,null,null,null,null,null,null,"Hoja: 29 de ",{"$f":"O680","v":0}]
["Unidad administrativa/Área productora: ",null,null,null,{"$f":"HOJA_CAPTURA!C115","v":0}]
[{"$f":"HOJA_CAPTURA!B115","v":"Fondo: INP"},null,"Sección:",{"$f":"HOJA_CAPTURA!G115","v":0},null,null,"Serie: ",{"$f":"HOJA_CAPTURA!H115","v":0}]
[null,null,null,null,null,null,"Subserie:",null,{"$f":"HOJA_CAPTURA!I115","v":0}]
["No. Consecutivo","No. de caja","No. de expediente","Clasificación archivística del expediente","Descripción o asunto ","                                                                                                                                                                                                                                                          Periodo de trámite","No.  de folios ","Valor documental",null,null,"Vigencia documental",null,null,"Condiciones de acceso (Reservada y confidencial)","Tradición documental "]
[null,null,null,null,null,null,null,"A","L","F/C","AT","AC","Total"]
[{"$f":"HOJA_CAPTURA!J115","v":0},{"$f":"HOJA_CAPTURA!K115","v":0},{"$f":"HOJA_CAPTURA!M115","v":0},{"$f":"HOJA_CAPTURA!N115","v":0},{"$f":"HOJA_CAPTURA!P115","v":0},{"$f":"HOJA_CAPTURA!Q115","v":"00:00:00"},{"$f":"HOJA_CAPTURA!V115","v":0},{"$f":"HOJA_CAPTURA!AF115","v":0},{"$f":"HOJA_CAPTURA!AG115","v":0},{"$f":"HOJA_CAPTURA!AH115","v":0},{"$f":"HOJA_CAPTURA!AI115","v":0},{"$f":"HOJA_CAPTURA!AJ115","v":0},{"$f":"HOJA_CAPTURA!AK115","v":0},{"$f":"HOJA_CAPTURA!AL115","v":0},{"$f":"HOJA_CAPTURA!AU115","v":0}]
[null,null,null,null,null,{"$f":"HOJA_CAPTURA!R115","v":"00:00:00"}]
[{"$f":"HOJA_CAPTURA!J116","v":0},{"$f":"HOJA_CAPTURA!K116","v":0},{"$f":"HOJA_CAPTURA!M116","v":0},{"$f":"HOJA_CAPTURA!N116","v":0},{"$f":"HOJA_CAPTURA!P116","v":0},{"$f":"HOJA_CAPTURA!Q116","v":"00:00:00"},{"$f":"HOJA_CAPTURA!V116","v":0},{"$f":"HOJA_CAPTURA!AF116","v":0},{"$f":"HOJA_CAPTURA!AG116","v":0},{"$f":"HOJA_CAPTURA!AH116","v":0},{"$f":"HOJA_CAPTURA!AI116","v":0},{"$f":"HOJA_CAPTURA!AJ116","v":0},{"$f":"HOJA_CAPTURA!AK116","v":0},{"$f":"HOJA_CAPTURA!AL116","v":0},{"$f":"HOJA_CAPTURA!AU116","v":0}]
[null,null,null,null,null,{"$f":"HOJA_CAPTURA!R116","v":"00:00:00"}]
[{"$f":"HOJA_CAPTURA!J117","v":0},{"$f":"HOJA_CAPTURA!K117","v":0},{"$f":"HOJA_CAPTURA!M117","v":0},{"$f":"HOJA_CAPTURA!N117","v":0},{"$f":"HOJA_CAPTURA!P117","v":0},{"$f":"HOJA_CAPTURA!Q117","v":"00:00:00"},{"$f":"HOJA_CAPTURA!V117","v":0},{"$f":"HOJA_CAPTURA!AF117","v":0},{"$f":"HOJA_CAPTURA!AG117","v":0},{"$f":"HOJA_CAPTURA!AH117","v":0},{"$f":"HOJA_CAPTURA!AI117","v":0},{"$f":"HOJA_CAPTURA!AJ117","v":0},{"$f":"HOJA_CAPTURA!AK117","v":0},{"$f":"HOJA_CAPTURA!AL117","v":0},{"$f":"HOJA_CAPTURA!AU117","v":0}]
[null,null,null,null,null,{"$f":"HOJA_CAPTURA!R117","v":"00:00:00"}]
[{"$f":"HOJA_CAPTURA!J118","v":0},{"$f":"HOJA_CAPTURA!K118","v":0},{"$f":"HOJA_CAPTURA!M118","v":0},{"$f":"HOJA_CAPTURA!N118","v":0},{"$f":"HOJA_CAPTURA!P118","v":0},{"$f":"HOJA_CAPTURA!Q118","v":"00:00:00"},{"$f":"HOJA_CAPTURA!V118","v":0},{"$f":"HOJA_CAPTURA!AF118","v":0},{"$f":"HOJA_CAPTURA!AG118","v":0},{"$f":"HOJA_CAPTURA!AH118","v":0},{"$f":"HOJA_CAPTURA!AI118","v":0},{"$f":"HOJA_CAPTURA!AJ118","v":0},{"$f":"HOJA_CAPTURA!AK118","v":0},{"$f":"HOJA_CAPTURA!AL118","v":0},{"$f":"HOJA_CAPTURA!AU118","v":0}]
[null,null,null,null,null,{"$f":"HOJA_CAPTURA!R118","v":"00:00:00"}]
[]
[null,"\"El presente inventario consta de __fojas y ampara la cantidad de __expedientes de los años de __al__, contenidos en__ cajas, con un peso aproximado de __kg.\""]
[null,null,{"$f":"HOJA_CAPTURA!F115","v":0},null,null,null,null,{"$f":"HOJA_CAPTURA!E115","v":0}]
["Nombre, firma, cargo y área de adscripción de la persona que formuló el inventario ",null,null,null,null,null,"Nombre, firma, cargo y área de adscripción de la persona que revisó el inventario"]
[null,{"$f":"HOJA_CAPTURA!D115","v":0}]
["Nombre y firma del titular de la unidad administrativa que autorizó el inventario",null,null,null,null,null,"Nombre y firma del responsable del archivo de concentración que recibe el inventario"]
[]
[]
[]
[]
[null,"           "]
["Fecha de transferencia:",null,null,{"$f":"TODAY()","v":"2024-08-13"},"Número de transferencia:",{"$f":"HOJA_CAPTURA!L119","v":0},null,null,null,null,null,null,null,"Hoja: 30 de ",{"$f":"O705","v":0}]
["Unidad administrativa/Área productora: ",null,null,null,{"$f":"HOJA_CAPTURA!C119","v":0}]
[{"$f":"HOJA_CAPTURA!B119","v":"Fondo: INP"},null,"Sección:",{"$f":"HOJA_CAPTURA!G119","v":0},null,null,"Serie: ",{"$f":"HOJA_CAPTURA!H119","v":0}]
[null,null,null,null,null,null,"Subserie:",null,{"$f":"HOJA_CAPTURA!I119","v":0}]
["No. Consecutivo","No. de caja","No. de expediente","Clasificación archivística del expediente","Descripción o asunto ","                                                                                                                                                                                                                                                          Periodo de trámite","No.  de folios ","Valor documental",null,null,"Vigencia documental",null,null,"Condiciones de acceso (Reservada y confidencial)","Tradición documental "]
[null,null,null,null,null,null,null,"A","L","F/C","AT","AC","Total"]
[{"$f":"HOJA_CAPTURA!J119","v":0},{"$f":"HOJA_CAPTURA!K119","v":0},{"$f":"HOJA_CAPTURA!M119","v":0},{"$f":"HOJA_CAPTURA!N119","v":0},{"$f":"HOJA_CAPTURA!P119","v":0},{"$f":"HOJA_CAPTURA!Q119","v":"00:00:00"},{"$f":"HOJA_CAPTURA!V119","v":0},{"$f":"HOJA_CAPTURA!AF119","v":0},{"$f":"HOJA_CAPTURA!AG119","v":0},{"$f":"HOJA_CAPTURA!AH119","v":0},{"$f":"HOJA_CAPTURA!AI119","v":0},{"$f":"HOJA_CAPTURA!AJ119","v":0},{"$f":"HOJA_CAPTURA!AK119","v":0},{"$f":"HOJA_CAPTURA!AL119","v":0},{"$f":"HOJA_CAPTURA!AU119","v":0}]
[null,null,null,null,null,{"$f":"HOJA_CAPTURA!R119","v":"00:00:00"}]
[{"$f":"HOJA_CAPTURA!J120","v":0},{"$f":"HOJA_CAPTURA!K120","v":0},{"$f":"HOJA_CAPTURA!M120","v":0},{"$f":"HOJA_CAPTURA!N120","v":0},{"$f":"HOJA_CAPTURA!P120","v":0},{"$f":"HOJA_CAPTURA!Q120","v":"00:00:00"},{"$f":"HOJA_CAPTURA!V120","v":0},{"$f":"HOJA_CAPTURA!AF120","v":0},{"$f":"HOJA_CAPTURA!AG120","v":0},{"$f":"HOJA_CAPTURA!AH120","v":0},{"$f":"HOJA_CAPTURA!AI120","v":0},{"$f":"HOJA_CAPTURA!AJ120","v":0},{"$f":"HOJA_CAPTURA!AK120","v":0},{"$f":"HOJA_CAPTURA!AL120","v":0},{"$f":"HOJA_CAPTURA!AU120","v":0}]
[null,null,null,null,null,{"$f":"HOJA_CAPTURA!R120","v":"00:00:00"}]
[{"$f":"HOJA_CAPTURA!J121","v":0},{"$f":"HOJA_CAPTURA!K121","v":0},{"$f":"HOJA_CAPTURA!M121","v":0},{"$f":"HOJA_CAPTURA!N121","v":0},{"$f":"HOJA_CAPTURA!P121","v":0},{"$f":"HOJA_CAPTURA!Q121","v":"00:00:00"},{"$f":"HOJA_CAPTURA!V121","v":0},{"$f":"HOJA_CAPTURA!AF121","v":0},{"$f":"HOJA_CAPTURA!AG121","v":0},{"$f":"HOJA_CAPTURA!AH121","v":0},{"$f":"HOJA_CAPTURA!AI121","v":0},{"$f":"HOJA_CAPTURA!AJ121","v":0},{"$f":"HOJA_CAPTURA!AK121","v":0},{"$f":"HOJA_CAPTURA!AL121","v":0},{"$f":"HOJA_CAPTURA!AU121","v":0}]
[null,null,null,null,null,{"$f":"HOJA_CAPTURA!R121","v":"00:00:00"}]
[{"$f":"HOJA_CAPTURA!J122","v":0},{"$f":"HOJA_CAPTURA!K122","v":0},{"$f":"HOJA_CAPTURA!M122","v":0},{"$f":"HOJA_CAPTURA!N122","v":0},{"$f":"HOJA_CAPTURA!P122","v":0},{"$f":"HOJA_CAPTURA!Q122","v":"00:00:00"},{"$f":"HOJA_CAPTURA!V122","v":0},{"$f":"HOJA_CAPTURA!AF122","v":0},{"$f":"HOJA_CAPTURA!AG122","v":0},{"$f":"HOJA_CAPTURA!AH122","v":0},{"$f":"HOJA_CAPTURA!AI122","v":0},{"$f":"HOJA_CAPTURA!AJ122","v":0},{"$f":"HOJA_CAPTURA!AK122","v":0},{"$f":"HOJA_CAPTURA!AL122","v":0},{"$f":"HOJA_CAPTURA!AU122","v":0}]
[null,null,null,null,null,{"$f":"HOJA_CAPTURA!R122","v":"00:00:00"}]
[]
[null,"\"El presente inventario consta de __fojas y ampara la cantidad de __expedientes de los años de __al__, contenidos en__ cajas, con un peso aproximado de __kg.\""]
[null,null,{"$f":"HOJA_CAPTURA!F119","v":0},null,null,null,null,{"$f":"HOJA_CAPTURA!E119","v":0}]
["Nombre, firma, cargo y área de adscripción de la persona que formuló el inventario ",null,null,null,null,null,"Nombre, firma, cargo y área de adscripción de la persona que revisó el inventario"]
[null,{"$f":"HOJA_CAPTURA!D119","v":0}]
["Nombre y firma del titular de la unidad administrativa que autorizó el inventario",null,null,null,null,null,"Nombre y firma del responsable del archivo de concentración que recibe el inventario"]
[]
[]
[]
[]
[null,"           "]
["Fecha de transferencia:",null,null,{"$f":"TODAY()","v":"2024-08-13"},"Número de transferencia:",{"$f":"HOJA_CAPTURA!L123","v":0},null,null,null,null,null,null,null,"Hoja: 31 de ",{"$f":"O730","v":0}]
["Unidad administrativa/Área productora: ",null,null,null,{"$f":"HOJA_CAPTURA!C123","v":0}]
[{"$f":"HOJA_CAPTURA!B123","v":"Fondo: INP"},null,"Sección:",{"$f":"HOJA_CAPTURA!G123","v":0},null,null,"Serie: ",{"$f":"HOJA_CAPTURA!H123","v":0}]
[null,null,null,null,null,null,"Subserie:",null,{"$f":"HOJA_CAPTURA!I123","v":0}]
["No. Consecutivo","No. de caja","No. de expediente","Clasificación archivística del expediente","Descripción o asunto ","                                                                                                                                                                                                                                                          Periodo de trámite","No.  de folios ","Valor documental",null,null,"Vigencia documental",null,null,"Condiciones de acceso (Reservada y confidencial)","Tradición documental "]
[null,null,null,null,null,null,null,"A","L","F/C","AT","AC","Total"]
[{"$f":"HOJA_CAPTURA!J123","v":0},{"$f":"HOJA_CAPTURA!K123","v":0},{"$f":"HOJA_CAPTURA!M123","v":0},{"$f":"HOJA_CAPTURA!N123","v":0},{"$f":"HOJA_CAPTURA!P123","v":0},{"$f":"HOJA_CAPTURA!Q123","v":"00:00:00"},{"$f":"HOJA_CAPTURA!V123","v":0},{"$f":"HOJA_CAPTURA!AF123","v":0},{"$f":"HOJA_CAPTURA!AG123","v":0},{"$f":"HOJA_CAPTURA!AH123","v":0},{"$f":"HOJA_CAPTURA!AI123","v":0},{"$f":"HOJA_CAPTURA!AJ123","v":0},{"$f":"HOJA_CAPTURA!AK123","v":0},{"$f":"HOJA_CAPTURA!AL123","v":0},{"$f":"HOJA_CAPTURA!AU123","v":0}]
[null,null,null,null,null,{"$f":"HOJA_CAPTURA!R123","v":"00:00:00"}]
[{"$f":"HOJA_CAPTURA!J124","v":0},{"$f":"HOJA_CAPTURA!K124","v":0},{"$f":"HOJA_CAPTURA!M124","v":0},{"$f":"HOJA_CAPTURA!N124","v":0},{"$f":"HOJA_CAPTURA!P124","v":0},{"$f":"HOJA_CAPTURA!Q124","v":"00:00:00"},{"$f":"HOJA_CAPTURA!V124","v":0},{"$f":"HOJA_CAPTURA!AF124","v":0},{"$f":"HOJA_CAPTURA!AG124","v":0},{"$f":"HOJA_CAPTURA!AH124","v":0},{"$f":"HOJA_CAPTURA!AI124","v":0},{"$f":"HOJA_CAPTURA!AJ124","v":0},{"$f":"HOJA_CAPTURA!AK124","v":0},{"$f":"HOJA_CAPTURA!AL124","v":0},{"$f":"HOJA_CAPTURA!AU124","v":0}]
[null,null,null,null,null,{"$f":"HOJA_CAPTURA!R124","v":"00:00:00"}]
[{"$f":"HOJA_CAPTURA!J125","v":0},{"$f":"HOJA_CAPTURA!K125","v":0},{"$f":"HOJA_CAPTURA!M125","v":0},{"$f":"HOJA_CAPTURA!N125","v":0},{"$f":"HOJA_CAPTURA!P125","v":0},{"$f":"HOJA_CAPTURA!Q125","v":"00:00:00"},{"$f":"HOJA_CAPTURA!V125","v":0},{"$f":"HOJA_CAPTURA!AF125","v":0},{"$f":"HOJA_CAPTURA!AG125","v":0},{"$f":"HOJA_CAPTURA!AH125","v":0},{"$f":"HOJA_CAPTURA!AI125","v":0},{"$f":"HOJA_CAPTURA!AJ125","v":0},{"$f":"HOJA_CAPTURA!AK125","v":0},{"$f":"HOJA_CAPTURA!AL125","v":0},{"$f":"HOJA_CAPTURA!AU125","v":0}]
[null,null,null,null,null,{"$f":"HOJA_CAPTURA!R125","v":"00:00:00"}]
[{"$f":"HOJA_CAPTURA!J126","v":0},{"$f":"HOJA_CAPTURA!K126","v":0},{"$f":"HOJA_CAPTURA!M126","v":0},{"$f":"HOJA_CAPTURA!N126","v":0},{"$f":"HOJA_CAPTURA!P126","v":0},{"$f":"HOJA_CAPTURA!Q126","v":"00:00:00"},{"$f":"HOJA_CAPTURA!V126","v":0},{"$f":"HOJA_CAPTURA!AF126","v":0},{"$f":"HOJA_CAPTURA!AG126","v":0},{"$f":"HOJA_CAPTURA!AH126","v":0},{"$f":"HOJA_CAPTURA!AI126","v":0},{"$f":"HOJA_CAPTURA!AJ126","v":0},{"$f":"HOJA_CAPTURA!AK126","v":0},{"$f":"HOJA_CAPTURA!AL126","v":0},{"$f":"HOJA_CAPTURA!AU126","v":0}]
[null,null,null,null,null,{"$f":"HOJA_CAPTURA!R126","v":"00:00:00"}]
[]
[null,"\"El presente inventario consta de __fojas y ampara la cantidad de __expedientes de los años de __al__, contenidos en__ cajas, con un peso aproximado de __kg.\""]
[null,null,{"$f":"HOJA_CAPTURA!F123","v":0},null,null,null,null,{"$f":"HOJA_CAPTURA!E123","v":0}]
["Nombre, firma, cargo y área de adscripción de la persona que formuló el inventario ",null,null,null,null,null,"Nombre, firma, cargo y área de adscripción de la persona que revisó el inventario"]
[null,{"$f":"HOJA_CAPTURA!D123","v":0}]
["Nombre y firma del titular de la unidad administrativa que autorizó el inventario",null,null,null,null,null,"Nombre y firma del responsable del archivo de concentración que recibe el inventario"]
[]
[]
[]
[]
[null,"           "]
["Fecha de transferencia:",null,null,{"$f":"TODAY()","v":"2024-08-13"},"Número de transferencia:",{"$f":"HOJA_CAPTURA!L127","v":0},null,null,null,null,null,null,null,"Hoja: 32 de ",{"$f":"O755","v":0}]
["Unidad administrativa/Área productora: ",null,null,null,{"$f":"HOJA_CAPTURA!C127","v":0}]
[{"$f":"HOJA_CAPTURA!B127","v":"Fondo: INP"},null,"Sección:",{"$f":"HOJA_CAPTURA!G127","v":0},null,null,"Serie: ",{"$f":"HOJA_CAPTURA!H127","v":0}]
[null,null,null,null,null,null,"Subserie:",null,{"$f":"HOJA_CAPTURA!I127","v":0}]
["No. Consecutivo","No. de caja","No. de expediente","Clasificación archivística del expediente","Descripción o asunto ","                                                                                                                                                                                                                                                          Periodo de trámite","No.  de folios ","Valor documental",null,null,"Vigencia documental",null,null,"Condiciones de acceso (Reservada y confidencial)","Tradición documental "]
[null,null,null,null,null,null,null,"A","L","F/C","AT","AC","Total"]
[{"$f":"HOJA_CAPTURA!J127","v":0},{"$f":"HOJA_CAPTURA!K127","v":0},{"$f":"HOJA_CAPTURA!M127","v":0},{"$f":"HOJA_CAPTURA!N127","v":0},{"$f":"HOJA_CAPTURA!P127","v":0},{"$f":"HOJA_CAPTURA!Q127","v":"00:00:00"},{"$f":"HOJA_CAPTURA!V127","v":0},{"$f":"HOJA_CAPTURA!AF127","v":0},{"$f":"HOJA_CAPTURA!AG127","v":0},{"$f":"HOJA_CAPTURA!AH127","v":0},{"$f":"HOJA_CAPTURA!AI127","v":0},{"$f":"HOJA_CAPTURA!AJ127","v":0},{"$f":"HOJA_CAPTURA!AK127","v":0},{"$f":"HOJA_CAPTURA!AL127","v":0},{"$f":"HOJA_CAPTURA!AU127","v":0}]
[null,null,null,null,null,{"$f":"HOJA_CAPTURA!R127","v":"00:00:00"}]
[{"$f":"HOJA_CAPTURA!J128","v":0},{"$f":"HOJA_CAPTURA!K128","v":0},{"$f":"HOJA_CAPTURA!M128","v":0},{"$f":"HOJA_CAPTURA!N128","v":0},{"$f":"HOJA_CAPTURA!P128","v":0},{"$f":"HOJA_CAPTURA!Q128","v":"00:00:00"},{"$f":"HOJA_CAPTURA!V128","v":0},{"$f":"HOJA_CAPTURA!AF128","v":0},{"$f":"HOJA_CAPTURA!AG128","v":0},{"$f":"HOJA_CAPTURA!AH128","v":0},{"$f":"HOJA_CAPTURA!AI128","v":0},{"$f":"HOJA_CAPTURA!AJ128","v":0},{"$f":"HOJA_CAPTURA!AK128","v":0},{"$f":"HOJA_CAPTURA!AL128","v":0},{"$f":"HOJA_CAPTURA!AU128","v":0}]
[null,null,null,null,null,{"$f":"HOJA_CAPTURA!R128","v":"00:00:00"}]
[{"$f":"HOJA_CAPTURA!J129","v":0},{"$f":"HOJA_CAPTURA!K129","v":0},{"$f":"HOJA_CAPTURA!M129","v":0},{"$f":"HOJA_CAPTURA!N129","v":0},{"$f":"HOJA_CAPTURA!P129","v":0},{"$f":"HOJA_CAPTURA!Q129","v":"00:00:00"},{"$f":"HOJA_CAPTURA!V129","v":0},{"$f":"HOJA_CAPTURA!AF129","v":0},{"$f":"HOJA_CAPTURA!AG129","v":0},{"$f":"HOJA_CAPTURA!AH129","v":0},{"$f":"HOJA_CAPTURA!AI129","v":0},{"$f":"HOJA_CAPTURA!AJ129","v":0},{"$f":"HOJA_CAPTURA!AK129","v":0},{"$f":"HOJA_CAPTURA!AL129","v":0},{"$f":"HOJA_CAPTURA!AU129","v":0}]
[null,null,null,null,null,{"$f":"HOJA_CAPTURA!R129","v":"00:00:00"}]
[{"$f":"HOJA_CAPTURA!J130","v":0},{"$f":"HOJA_CAPTURA!K130","v":0},{"$f":"HOJA_CAPTURA!M130","v":0},{"$f":"HOJA_CAPTURA!N130","v":0},{"$f":"HOJA_CAPTURA!P130","v":0},{"$f":"HOJA_CAPTURA!Q130","v":"00:00:00"},{"$f":"HOJA_CAPTURA!V130","v":0},{"$f":"HOJA_CAPTURA!AF130","v":0},{"$f":"HOJA_CAPTURA!AG130","v":0},{"$f":"HOJA_CAPTURA!AH130","v":0},{"$f":"HOJA_CAPTURA!AI130","v":0},{"$f":"HOJA_CAPTURA!AJ130","v":0},{"$f":"HOJA_CAPTURA!AK130","v":0},{"$f":"HOJA_CAPTURA!AL130","v":0},{"$f":"HOJA_CAPTURA!AU130","v":0}]
[null,null,null,null,null,{"$f":"HOJA_CAPTURA!R130","v":"00:00:00"}]
[]
[null,"\"El presente inventario consta de __fojas y ampara la cantidad de __expedientes de los años de __al__, contenidos en__ cajas, con un peso aproximado de __kg.\""]
[null,null,{"$f":"HOJA_CAPTURA!F127","v":0},null,null,null,null,{"$f":"HOJA_CAPTURA!E127","v":0}]
["Nombre, firma, cargo y área de adscripción de la persona que formuló el inventario ",null,null,null,null,null,"Nombre, firma, cargo y área de adscripción de la persona que revisó el inventario"]
[null,{"$f":"HOJA_CAPTURA!D127","v":0}]
["Nombre y firma del titular de la unidad administrativa que autorizó el inventario",null,null,null,null,null,"Nombre y firma del responsable del archivo de concentración que recibe el inventario"]
[]
[]
[]
[]
[null,"           "]
["Fecha de transferencia:",null,null,{"$f":"TODAY()","v":"2024-08-13"},"Número de transferencia:",{"$f":"HOJA_CAPTURA!L131","v":0},null,null,null,null,null,null,null,"Hoja: 33 de ",{"$f":"O780","v":0}]
["Unidad administrativa/Área productora: ",null,null,null,{"$f":"HOJA_CAPTURA!C131","v":0}]
[{"$f":"HOJA_CAPTURA!B131","v":"Fondo: INP"},null,"Sección:",{"$f":"HOJA_CAPTURA!G131","v":0},null,null,"Serie: ",{"$f":"HOJA_CAPTURA!H131","v":0}]
[null,null,null,null,null,null,"Subserie:",null,{"$f":"HOJA_CAPTURA!I131","v":0}]
["No. Consecutivo","No. de caja","No. de expediente","Clasificación archivística del expediente","Descripción o asunto ","                                                                                                                                                                                                                                                          Periodo de trámite","No.  de folios ","Valor documental",null,null,"Vigencia documental",null,null,"Condiciones de acceso (Reservada y confidencial)","Tradición documental "]
[null,null,null,null,null,null,null,"A","L","F/C","AT","AC","Total"]
[{"$f":"HOJA_CAPTURA!J131","v":0},{"$f":"HOJA_CAPTURA!K131","v":0},{"$f":"HOJA_CAPTURA!M131","v":0},{"$f":"HOJA_CAPTURA!N131","v":0},{"$f":"HOJA_CAPTURA!P131","v":0},{"$f":"HOJA_CAPTURA!Q131","v":"00:00:00"},{"$f":"HOJA_CAPTURA!V131","v":0},{"$f":"HOJA_CAPTURA!AF131","v":0},{"$f":"HOJA_CAPTURA!AG131","v":0},{"$f":"HOJA_CAPTURA!AH131","v":0},{"$f":"HOJA_CAPTURA!AI131","v":0},{"$f":"HOJA_CAPTURA!AJ131","v":0},{"$f":"HOJA_CAPTURA!AK131","v":0},{"$f":"HOJA_CAPTURA!AL131","v":0},{"$f":"HOJA_CAPTURA!AU131","v":0}]
[null,null,null,null,null,{"$f":"HOJA_CAPTURA!R131","v":"00:00:00"}]
[{"$f":"HOJA_CAPTURA!J132","v":0},{"$f":"HOJA_CAPTURA!K132","v":0},{"$f":"HOJA_CAPTURA!M132","v":0},{"$f":"HOJA_CAPTURA!N132","v":0},{"$f":"HOJA_CAPTURA!P132","v":0},{"$f":"HOJA_CAPTURA!Q132","v":"00:00:00"},{"$f":"HOJA_CAPTURA!V132","v":0},{"$f":"HOJA_CAPTURA!AF132","v":0},{"$f":"HOJA_CAPTURA!AG132","v":0},{"$f":"HOJA_CAPTURA!AH132","v":0},{"$f":"HOJA_CAPTURA!AI132","v":0},{"$f":"HOJA_CAPTURA!AJ132","v":0},{"$f":"HOJA_CAPTURA!AK132","v":0},{"$f":"HOJA_CAPTURA!AL132","v":0},{"$f":"HOJA_CAPTURA!AU132","v":0}]
[null,null,null,null,null,{"$f":"HOJA_CAPTURA!R132","v":"00:00:00"}]
[{"$f":"HOJA_CAPTURA!J133","v":0},{"$f":"HOJA_CAPTURA!K133","v":0},{"$f":"HOJA_CAPTURA!M133","v":0},{"$f":"HOJA_CAPTURA!N133","v":0},{"$f":"HOJA_CAPTURA!P133","v":0},{"$f":"HOJA_CAPTURA!Q133","v":"00:00:00"},{"$f":"HOJA_CAPTURA!V133","v":0},{"$f":"HOJA_CAPTURA!AF133","v":0},{"$f":"HOJA_CAPTURA!AG133","v":0},{"$f":"HOJA_CAPTURA!AH133","v":0},{"$f":"HOJA_CAPTURA!AI133","v":0},{"$f":"HOJA_CAPTURA!AJ133","v":0},{"$f":"HOJA_CAPTURA!AK133","v":0},{"$f":"HOJA_CAPTURA!AL133","v":0},{"$f":"HOJA_CAPTURA!AU133","v":0}]
[null,null,null,null,null,{"$f":"HOJA_CAPTURA!R133","v":"00:00:00"}]
[{"$f":"HOJA_CAPTURA!J134","v":0},{"$f":"HOJA_CAPTURA!K134","v":0},{"$f":"HOJA_CAPTURA!M134","v":0},{"$f":"HOJA_CAPTURA!N134","v":0},{"$f":"HOJA_CAPTURA!P134","v":0},{"$f":"HOJA_CAPTURA!Q134","v":"00:00:00"},{"$f":"HOJA_CAPTURA!V134","v":0},{"$f":"HOJA_CAPTURA!AF134","v":0},{"$f":"HOJA_CAPTURA!AG134","v":0},{"$f":"HOJA_CAPTURA!AH134","v":0},{"$f":"HOJA_CAPTURA!AI134","v":0},{"$f":"HOJA_CAPTURA!AJ134","v":0},{"$f":"HOJA_CAPTURA!AK134","v":0},{"$f":"HOJA_CAPTURA!AL134","v":0},{"$f":"HOJA_CAPTURA!AU134","v":0}]
[null,null,null,null,null,{"$f":"HOJA_CAPTURA!R134","v":"00:00:00"}]
[]
[null,"\"El presente inventario consta de __fojas y ampara la cantidad de __expedientes de los años de __al__, contenidos en__ cajas, con un peso aproximado de __kg.\""]
[null,null,{"$f":"HOJA_CAPTURA!F131","v":0},null,null,null,null,{"$f":"HOJA_CAPTURA!E131","v":0}]
["Nombre, firma, cargo y área de adscripción de la persona que formuló el inventario ",null,null,null,null,null,"Nombre, firma, cargo y área de adscripción de la persona que revisó el inventario"]
[null,{"$f":"HOJA_CAPTURA!D131","v":0}]
["Nombre y firma del titular de la unidad administrativa que autorizó el inventario",null,null,null,null,null,"Nombre y firma del responsable del archivo de concentración que recibe el inventario"]
[]
[]
[]
[]
[null,"           "]
["Fecha de transferencia:",null,null,{"$f":"TODAY()","v":"2024-08-13"},"Número de transferencia:",{"$f":"HOJA_CAPTURA!L135","v":0},null,null,null,null,null,null,null,"Hoja: 34 de ",{"$f":"O805","v":0}]
["Unidad administrativa/Área productora: ",null,null,null,{"$f":"HOJA_CAPTURA!C135","v":0}]
[{"$f":"HOJA_CAPTURA!B135","v":"Fondo: INP"},null,"Sección:",{"$f":"HOJA_CAPTURA!G135","v":0},null,null,"Serie: ",{"$f":"HOJA_CAPTURA!H135","v":0}]
[null,null,null,null,null,null,"Subserie:",null,{"$f":"HOJA_CAPTURA!I135","v":0}]
["No. Consecutivo","No. de caja","No. de expediente","Clasificación archivística del expediente","Descripción o asunto ","                                                                                                                                                                                                                                                          Periodo de trámite","No.  de folios ","Valor documental",null,null,"Vigencia documental",null,null,"Condiciones de acceso (Reservada y confidencial)","Tradición documental "]
[null,null,null,null,null,null,null,"A","L","F/C","AT","AC","Total"]
[{"$f":"HOJA_CAPTURA!J135","v":0},{"$f":"HOJA_CAPTURA!K135","v":0},{"$f":"HOJA_CAPTURA!M135","v":0},{"$f":"HOJA_CAPTURA!N135","v":0},{"$f":"HOJA_CAPTURA!P135","v":0},{"$f":"HOJA_CAPTURA!Q135","v":"00:00:00"},{"$f":"HOJA_CAPTURA!V135","v":0},{"$f":"HOJA_CAPTURA!AF135","v":0},{"$f":"HOJA_CAPTURA!AG135","v":0},{"$f":"HOJA_CAPTURA!AH135","v":0},{"$f":"HOJA_CAPTURA!AI135","v":0},{"$f":"HOJA_CAPTURA!AJ135","v":0},{"$f":"HOJA_CAPTURA!AK135","v":0},{"$f":"HOJA_CAPTURA!AL135","v":0},{"$f":"HOJA_CAPTURA!AU135","v":0}]
[null,null,null,null,null,{"$f":"HOJA_CAPTURA!R135","v":"00:00:00"}]
[{"$f":"HOJA_CAPTURA!J136","v":0},{"$f":"HOJA_CAPTURA!K136","v":0},{"$f":"HOJA_CAPTURA!M136","v":0},{"$f":"HOJA_CAPTURA!N136","v":0},{"$f":"HOJA_CAPTURA!P136","v":0},{"$f":"HOJA_CAPTURA!Q136","v":"00:00:00"},{"$f":"HOJA_CAPTURA!V136","v":0},{"$f":"HOJA_CAPTURA!AF136","v":0},{"$f":"HOJA_CAPTURA!AG136","v":0},{"$f":"HOJA_CAPTURA!AH136","v":0},{"$f":"HOJA_CAPTURA!AI136","v":0},{"$f":"HOJA_CAPTURA!AJ136","v":0},{"$f":"HOJA_CAPTURA!AK136","v":0},{"$f":"HOJA_CAPTURA!AL136","v":0},{"$f":"HOJA_CAPTURA!AU136","v":0}]
[null,null,null,null,null,{"$f":"HOJA_CAPTURA!R136","v":"00:00:00"}]
[{"$f":"HOJA_CAPTURA!J137","v":0},{"$f":"HOJA_CAPTURA!K137","v":0},{"$f":"HOJA_CAPTURA!M137","v":0},{"$f":"HOJA_CAPTURA!N137","v":0},{"$f":"HOJA_CAPTURA!P137","v":0},{"$f":"HOJA_CAPTURA!Q137","v":"00:00:00"},{"$f":"HOJA_CAPTURA!V137","v":0},{"$f":"HOJA_CAPTURA!AF137","v":0},{"$f":"HOJA_CAPTURA!AG137","v":0},{"$f":"HOJA_CAPTURA!AH137","v":0},{"$f":"HOJA_CAPTURA!AI137","v":0},{"$f":"HOJA_CAPTURA!AJ137","v":0},{"$f":"HOJA_CAPTURA!AK137","v":0},{"$f":"HOJA_CAPTURA!AL137","v":0},{"$f":"HOJA_CAPTURA!AU137","v":0}]
[null,null,null,null,null,{"$f":"HOJA_CAPTURA!R137","v":"00:00:00"}]
[{"$f":"HOJA_CAPTURA!J138","v":0},{"$f":"HOJA_CAPTURA!K138","v":0},{"$f":"HOJA_CAPTURA!M138","v":0},{"$f":"HOJA_CAPTURA!N138","v":0},{"$f":"HOJA_CAPTURA!P138","v":0},{"$f":"HOJA_CAPTURA!Q138","v":"00:00:00"},{"$f":"HOJA_CAPTURA!V138","v":0},{"$f":"HOJA_CAPTURA!AF138","v":0},{"$f":"HOJA_CAPTURA!AG138","v":0},{"$f":"HOJA_CAPTURA!AH138","v":0},{"$f":"HOJA_CAPTURA!AI138","v":0},{"$f":"HOJA_CAPTURA!AJ138","v":0},{"$f":"HOJA_CAPTURA!AK138","v":0},{"$f":"HOJA_CAPTURA!AL138","v":0},{"$f":"HOJA_CAPTURA!AU138","v":0}]
[null,null,null,null,null,{"$f":"HOJA_CAPTURA!R138","v":"00:00:00"}]
[]
[null,"\"El presente inventario consta de __fojas y ampara la cantidad de __expedientes de los años de __al__, contenidos en__ cajas, con un peso aproximado de __kg.\""]
[null,null,{"$f":"HOJA_CAPTURA!F135","v":0},null,null,null,null,{"$f":"HOJA_CAPTURA!E135","v":0}]
["Nombre, firma, cargo y área de adscripción de la persona que formuló el inventario ",null,null,null,null,null,"Nombre, firma, cargo y área de adscripción de la persona que revisó el inventario"]
[null,{"$f":"HOJA_CAPTURA!D135","v":0}]
["Nombre y firma del titular de la unidad administrativa que autorizó el inventario",null,null,null,null,null,"Nombre y firma del responsable del archivo de concentración que recibe el inventario"]
[]
[]
[]
[]
[null,"           "]
["Fecha de transferencia:",null,null,{"$f":"TODAY()","v":"2024-08-13"},"Número de transferencia:",{"$f":"HOJA_CAPTURA!L139","v":0},null,null,null,null,null,null,null,"Hoja: 35 de ",{"$f":"O830","v":0}]
["Unidad administrativa/Área productora: ",null,null,null,{"$f":"HOJA_CAPTURA!C139","v":0}]
[{"$f":"HOJA_CAPTURA!B139","v":"Fondo: INP"},null,"Sección:",{"$f":"HOJA_CAPTURA!G139","v":0},null,null,"Serie: ",{"$f":"HOJA_CAPTURA!H139","v":0}]
[null,null,null,null,null,null,"Subserie:",null,{"$f":"HOJA_CAPTURA!I139","v":0}]
["No. Consecutivo","No. de caja","No. de expediente","Clasificación archivística del expediente","Descripción o asunto ","                                                                                                                                                                                                                                                          Periodo de trámite","No.  de folios ","Valor documental",null,null,"Vigencia documental",null,null,"Condiciones de acceso (Reservada y confidencial)","Tradición documental "]
[null,null,null,null,null,null,null,"A","L","F/C","AT","AC","Total"]
[{"$f":"HOJA_CAPTURA!J139","v":0},{"$f":"HOJA_CAPTURA!K139","v":0},{"$f":"HOJA_CAPTURA!M139","v":0},{"$f":"HOJA_CAPTURA!N139","v":0},{"$f":"HOJA_CAPTURA!P139","v":0},{"$f":"HOJA_CAPTURA!Q139","v":"00:00:00"},{"$f":"HOJA_CAPTURA!V139","v":0},{"$f":"HOJA_CAPTURA!AF139","v":0},{"$f":"HOJA_CAPTURA!AG139","v":0},{"$f":"HOJA_CAPTURA!AH139","v":0},{"$f":"HOJA_CAPTURA!AI139","v":0},{"$f":"HOJA_CAPTURA!AJ139","v":0},{"$f":"HOJA_CAPTURA!AK139","v":0},{"$f":"HOJA_CAPTURA!AL139","v":0},{"$f":"HOJA_CAPTURA!AU139","v":0}]
[null,null,null,null,null,{"$f":"HOJA_CAPTURA!R139","v":"00:00:00"}]
[{"$f":"HOJA_CAPTURA!J140","v":0},{"$f":"HOJA_CAPTURA!K140","v":0},{"$f":"HOJA_CAPTURA!M140","v":0},{"$f":"HOJA_CAPTURA!N140","v":0},{"$f":"HOJA_CAPTURA!P140","v":0},{"$f":"HOJA_CAPTURA!Q140","v":"00:00:00"},{"$f":"HOJA_CAPTURA!V140","v":0},{"$f":"HOJA_CAPTURA!AF140","v":0},{"$f":"HOJA_CAPTURA!AG140","v":0},{"$f":"HOJA_CAPTURA!AH140","v":0},{"$f":"HOJA_CAPTURA!AI140","v":0},{"$f":"HOJA_CAPTURA!AJ140","v":0},{"$f":"HOJA_CAPTURA!AK140","v":0},{"$f":"HOJA_CAPTURA!AL140","v":0},{"$f":"HOJA_CAPTURA!AU140","v":0}]
[null,null,null,null,null,{"$f":"HOJA_CAPTURA!R140","v":"00:00:00"}]
[{"$f":"HOJA_CAPTURA!J141","v":0},{"$f":"HOJA_CAPTURA!K141","v":0},{"$f":"HOJA_CAPTURA!M141","v":0},{"$f":"HOJA_CAPTURA!N141","v":0},{"$f":"HOJA_CAPTURA!P141","v":0},{"$f":"HOJA_CAPTURA!Q141","v":"00:00:00"},{"$f":"HOJA_CAPTURA!V141","v":0},{"$f":"HOJA_CAPTURA!AF141","v":0},{"$f":"HOJA_CAPTURA!AG141","v":0},{"$f":"HOJA_CAPTURA!AH141","v":0},{"$f":"HOJA_CAPTURA!AI141","v":0},{"$f":"HOJA_CAPTURA!AJ141","v":0},{"$f":"HOJA_CAPTURA!AK141","v":0},{"$f":"HOJA_CAPTURA!AL141","v":0},{"$f":"HOJA_CAPTURA!AU141","v":0}]
[null,null,null,null,null,{"$f":"HOJA_CAPTURA!R141","v":"00:00:00"}]
[{"$f":"HOJA_CAPTURA!J142","v":0},{"$f":"HOJA_CAPTURA!K142","v":0},{"$f":"HOJA_CAPTURA!M142","v":0},{"$f":"HOJA_CAPTURA!N142","v":0},{"$f":"HOJA_CAPTURA!P142","v":0},{"$f":"HOJA_CAPTURA!Q142","v":"00:00:00"},{"$f":"HOJA_CAPTURA!V142","v":0},{"$f":"HOJA_CAPTURA!AF142","v":0},{"$f":"HOJA_CAPTURA!AG142","v":0},{"$f":"HOJA_CAPTURA!AH142","v":0},{"$f":"HOJA_CAPTURA!AI142","v":0},{"$f":"HOJA_CAPTURA!AJ142","v":0},{"$f":"HOJA_CAPTURA!AK142","v":0},{"$f":"HOJA_CAPTURA!AL142","v":0},{"$f":"HOJA_CAPTURA!AU142","v":0}]
[null,null,null,null,null,{"$f":"HOJA_CAPTURA!R142","v":"00:00:00"}]
[]
[null,"\"El presente inventario consta de __fojas y ampara la cantidad de __expedientes de los años de __al__, contenidos en__ cajas, con un peso aproximado de __kg.\""]
[null,null,{"$f":"HOJA_CAPTURA!F139","v":0},null,null,null,null,{"$f":"HOJA_CAPTURA!E139","v":0}]
["Nombre, firma, cargo y área de adscripción de la persona que formuló el inventario ",null,null,null,null,null,"Nombre, firma, cargo y área de adscripción de la persona que revisó el inventario"]
[null,{"$f":"HOJA_CAPTURA!D139","v":0}]
["Nombre y firma del titular de la unidad administrativa que autorizó el inventario",null,null,null,null,null,"Nombre y firma del responsable del archivo de concentración que recibe el inventario"]
[]
[]
[]
[]
[null,"           "]
["Fecha de transferencia:",null,null,{"$f":"TODAY()","v":"2024-08-13"},"Número de transferencia:",{"$f":"HOJA_CAPTURA!L143","v":0},null,null,null,null,null,null,null,"Hoja: 36 de ",{"$f":"O855","v":0}]
["Unidad administrativa/Área productora: ",null,null,null,{"$f":"HOJA_CAPTURA!C143","v":0}]
[{"$f":"HOJA_CAPTURA!B143","v":"Fondo: INP"},null,"Sección:",{"$f":"HOJA_CAPTURA!G143","v":0},null,null,"Serie: ",{"$f":"HOJA_CAPTURA!H143","v":0}]
[null,null,null,null,null,null,"Subserie:",null,{"$f":"HOJA_CAPTURA!I143","v":0}]
["No. Consecutivo","No. de caja","No. de expediente","Clasificación archivística del expediente","Descripción o asunto ","                                                                                                                                                                                                                                                          Periodo de trámite","No.  de folios ","Valor documental",null,null,"Vigencia documental",null,null,"Condiciones de acceso (Reservada y confidencial)","Tradición documental "]
[null,null,null,null,null,null,null,"A","L","F/C","AT","AC","Total"]
[{"$f":"HOJA_CAPTURA!J143","v":0},{"$f":"HOJA_CAPTURA!K143","v":0},{"$f":"HOJA_CAPTURA!M143","v":0},{"$f":"HOJA_CAPTURA!N143","v":0},{"$f":"HOJA_CAPTURA!P143","v":0},{"$f":"HOJA_CAPTURA!Q143","v":"00:00:00"},{"$f":"HOJA_CAPTURA!V143","v":0},{"$f":"HOJA_CAPTURA!AF143","v":0},{"$f":"HOJA_CAPTURA!AG143","v":0},{"$f":"HOJA_CAPTURA!AH143","v":0},{"$f":"HOJA_CAPTURA!AI143","v":0},{"$f":"HOJA_CAPTURA!AJ143","v":0},{"$f":"HOJA_CAPTURA!AK143","v":0},{"$f":"HOJA_CAPTURA!AL143","v":0},{"$f":"HOJA_CAPTURA!AU143","v":0}]
[null,null,null,null,null,{"$f":"HOJA_CAPTURA!R143","v":"00:00:00"}]
[{"$f":"HOJA_CAPTURA!J144","v":0},{"$f":"HOJA_CAPTURA!K144","v":0},{"$f":"HOJA_CAPTURA!M144","v":0},{"$f":"HOJA_CAPTURA!N144","v":0},{"$f":"HOJA_CAPTURA!P144","v":0},{"$f":"HOJA_CAPTURA!Q144","v":"00:00:00"},{"$f":"HOJA_CAPTURA!V144","v":0},{"$f":"HOJA_CAPTURA!AF144","v":0},{"$f":"HOJA_CAPTURA!AG144","v":0},{"$f":"HOJA_CAPTURA!AH144","v":0},{"$f":"HOJA_CAPTURA!AI144","v":0},{"$f":"HOJA_CAPTURA!AJ144","v":0},{"$f":"HOJA_CAPTURA!AK144","v":0},{"$f":"HOJA_CAPTURA!AL144","v":0},{"$f":"HOJA_CAPTURA!AU144","v":0}]
[null,null,null,null,null,{"$f":"HOJA_CAPTURA!R144","v":"00:00:00"}]
[{"$f":"HOJA_CAPTURA!J145","v":0},{"$f":"HOJA_CAPTURA!K145","v":0},{"$f":"HOJA_CAPTURA!M145","v":0},{"$f":"HOJA_CAPTURA!N145","v":0},{"$f":"HOJA_CAPTURA!P145","v":0},{"$f":"HOJA_CAPTURA!Q145","v":"00:00:00"},{"$f":"HOJA_CAPTURA!V145","v":0},{"$f":"HOJA_CAPTURA!AF145","v":0},{"$f":"HOJA_CAPTURA!AG145","v":0},{"$f":"HOJA_CAPTURA!AH145","v":0},{"$f":"HOJA_CAPTURA!AI145","v":0},{"$f":"HOJA_CAPTURA!AJ145","v":0},{"$f":"HOJA_CAPTURA!AK145","v":0},{"$f":"HOJA_CAPTURA!AL145","v":0},{"$f":"HOJA_CAPTURA!AU145","v":0}]
[null,null,null,null,null,{"$f":"HOJA_CAPTURA!R145","v":"00:00:00"}]
[{"$f":"HOJA_CAPTURA!J146","v":0},{"$f":"HOJA_CAPTURA!K146","v":0},{"$f":"HOJA_CAPTURA!M146","v":0},{"$f":"HOJA_CAPTURA!N146","v":0},{"$f":"HOJA_CAPTURA!P146","v":0},{"$f":"HOJA_CAPTURA!Q146","v":"00:00:00"},{"$f":"HOJA_CAPTURA!V146","v":0},{"$f":"HOJA_CAPTURA!AF146","v":0},{"$f":"HOJA_CAPTURA!AG146","v":0},{"$f":"HOJA_CAPTURA!AH146","v":0},{"$f":"HOJA_CAPTURA!AI146","v":0},{"$f":"HOJA_CAPTURA!AJ146","v":0},{"$f":"HOJA_CAPTURA!AK146","v":0},{"$f":"HOJA_CAPTURA!AL146","v":0},{"$f":"HOJA_CAPTURA!AU146","v":0}]
[null,null,null,null,null,{"$f":"HOJA_CAPTURA!R146","v":"00:00:00"}]
[]
[null,"\"El presente inventario consta de __fojas y ampara la cantidad de __expedientes de los años de __al__, contenidos en__ cajas, con un peso aproximado de __kg.\""]
[null,null,{"$f":"HOJA_CAPTURA!F143","v":0},null,null,null,null,{"$f":"HOJA_CAPTURA!E143","v":0}]
["Nombre, firma, cargo y área de adscripción de la persona que formuló el inventario ",null,null,null,null,null,"Nombre, firma, cargo y área de adscripción de la persona que revisó el inventario"]
[null,{"$f":"HOJA_CAPTURA!D143","v":0}]
["Nombre y firma del titular de la unidad administrativa que autorizó el inventario",null,null,null,null,null,"Nombre y firma del responsable del archivo de concentración que recibe el inventario"]
[]
[]
[]
[]
[null,"           "]
["Fecha de transferencia:",null,null,{"$f":"TODAY()","v":"2024-08-13"},"Número de transferencia:",{"$f":"HOJA_CAPTURA!L147","v":0},null,null,null,null,null,null,null,"Hoja: 37 de ",{"$f":"O880","v":0}]
["Unidad administrativa/Área productora: ",null,null,null,{"$f":"HOJA_CAPTURA!C147","v":0}]
[{"$f":"HOJA_CAPTURA!B147","v":"Fondo: INP"},null,"Sección:",{"$f":"HOJA_CAPTURA!G147","v":0},null,null,"Serie: ",{"$f":"HOJA_CAPTURA!H147","v":0}]
[null,null,null,null,null,null,"Subserie:",null,{"$f":"HOJA_CAPTURA!I147","v":0}]
["No. Consecutivo","No. de caja","No. de expediente","Clasificación archivística del expediente","Descripción o asunto ","                                                                                                                                                                                                                                                          Periodo de trámite","No.  de folios ","Valor documental",null,null,"Vigencia documental",null,null,"Condiciones de acceso (Reservada y confidencial)","Tradición documental "]
[null,null,null,null,null,null,null,"A","L","F/C","AT","AC","Total"]
[{"$f":"HOJA_CAPTURA!J147","v":0},{"$f":"HOJA_CAPTURA!K147","v":0},{"$f":"HOJA_CAPTURA!M147","v":0},{"$f":"HOJA_CAPTURA!N147","v":0},{"$f":"HOJA_CAPTURA!P147","v":0},{"$f":"HOJA_CAPTURA!Q147","v":"00:00:00"},{"$f":"HOJA_CAPTURA!V147","v":0},{"$f":"HOJA_CAPTURA!AF147","v":0},{"$f":"HOJA_CAPTURA!AG147","v":0},{"$f":"HOJA_CAPTURA!AH147","v":0},{"$f":"HOJA_CAPTURA!AI147","v":0},{"$f":"HOJA_CAPTURA!AJ147","v":0},{"$f":"HOJA_CAPTURA!AK147","v":0},{"$f":"HOJA_CAPTURA!AL147","v":0},{"$f":"HOJA_CAPTURA!AU147","v":0}]
[null,null,null,null,null,{"$f":"HOJA_CAPTURA!R147","v":"00:00:00"}]
[{"$f":"HOJA_CAPTURA!J148","v":0},{"$f":"HOJA_CAPTURA!K148","v":0},{"$f":"HOJA_CAPTURA!M148","v":0},{"$f":"HOJA_CAPTURA!N148","v":0},{"$f":"HOJA_CAPTURA!P148","v":0},{"$f":"HOJA_CAPTURA!Q148","v":"00:00:00"},{"$f":"HOJA_CAPTURA!V148","v":0},{"$f":"HOJA_CAPTURA!AF148","v":0},{"$f":"HOJA_CAPTURA!AG148","v":0},{"$f":"HOJA_CAPTURA!AH148","v":0},{"$f":"HOJA_CAPTURA!AI148","v":0},{"$f":"HOJA_CAPTURA!AJ148","v":0},{"$f":"HOJA_CAPTURA!AK148","v":0},{"$f":"HOJA_CAPTURA!AL148","v":0},{"$f":"HOJA_CAPTURA!AU148","v":0}]
[null,null,null,null,null,{"$f":"HOJA_CAPTURA!R148","v":"00:00:00"}]
[{"$f":"HOJA_CAPTURA!J149","v":0},{"$f":"HOJA_CAPTURA!K149","v":0},{"$f":"HOJA_CAPTURA!M149","v":0},{"$f":"HOJA_CAPTURA!N149","v":0},{"$f":"HOJA_CAPTURA!P149","v":0},{"$f":"HOJA_CAPTURA!Q149","v":"00:00:00"},{"$f":"HOJA_CAPTURA!V149","v":0},{"$f":"HOJA_CAPTURA!AF149","v":0},{"$f":"HOJA_CAPTURA!AG149","v":0},{"$f":"HOJA_CAPTURA!AH149","v":0},{"$f":"HOJA_CAPTURA!AI149","v":0},{"$f":"HOJA_CAPTURA!AJ149","v":0},{"$f":"HOJA_CAPTURA!AK149","v":0},{"$f":"HOJA_CAPTURA!AL149","v":0},{"$f":"HOJA_CAPTURA!AU149","v":0}]
[null,null,null,null,null,{"$f":"HOJA_CAPTURA!R149","v":"00:00:00"}]
[{"$f":"HOJA_CAPTURA!J150","v":0},{"$f":"HOJA_CAPTURA!K150","v":0},{"$f":"HOJA_CAPTURA!M150","v":0},{"$f":"HOJA_CAPTURA!N150","v":0},{"$f":"HOJA_CAPTURA!P150","v":0},{"$f":"HOJA_CAPTURA!Q150","v":"00:00:00"},{"$f":"HOJA_CAPTURA!V150","v":0},{"$f":"HOJA_CAPTURA!AF150","v":0},{"$f":"HOJA_CAPTURA!AG150","v":0},{"$f":"HOJA_CAPTURA!AH150","v":0},{"$f":"HOJA_CAPTURA!AI150","v":0},{"$f":"HOJA_CAPTURA!AJ150","v":0},{"$f":"HOJA_CAPTURA!AK150","v":0},{"$f":"HOJA_CAPTURA!AL150","v":0},{"$f":"HOJA_CAPTURA!AU150","v":0}]
[null,null,null,null,null,{"$f":"HOJA_CAPTURA!R150","v":"00:00:00"}]
[]
[null,"\"El presente inventario consta de __fojas y ampara la cantidad de __expedientes de los años de __al__, contenidos en__ cajas, con un peso aproximado de __kg.\""]
[null,null,{"$f":"HOJA_CAPTURA!F147","v":0},null,null,null,null,{"$f":"HOJA_CAPTURA!E147","v":0}]
["Nombre, firma, cargo y área de adscripción de la persona que formuló el inventario ",null,null,null,null,null,"Nombre, firma, cargo y área de adscripción de la persona que revisó el inventario"]
[null,{"$f":"HOJA_CAPTURA!D147","v":0}]
["Nombre y firma del titular de la unidad administrativa que autorizó el inventario",null,null,null,null,null,"Nombre y firma del responsable del archivo de concentración que recibe el inventario"]
[]
[]
[]
[]
[null,"           "]
["Fecha de transferencia:",null,null,{"$f":"TODAY()","v":"2024-08-13"},"Número de transferencia:",{"$f":"HOJA_CAPTURA!L151","v":0},null,null,null,null,null,null,null,"Hoja: 38 de ",{"$f":"O905","v":0}]
["Unidad administrativa/Área productora: ",null,null,null,{"$f":"HOJA_CAPTURA!C151","v":0}]
[{"$f":"HOJA_CAPTURA!B151","v":"Fondo: INP"},null,"Sección:",{"$f":"HOJA_CAPTURA!G151","v":0},null,null,"Serie: ",{"$f":"HOJA_CAPTURA!H151","v":0}]
[null,null,null,null,null,null,"Subserie:",null,{"$f":"HOJA_CAPTURA!I151","v":0}]
["No. Consecutivo","No. de caja","No. de expediente","Clasificación archivística del expediente","Descripción o asunto ","                                                                                                                                                                                                                                                          Periodo de trámite","No.  de folios ","Valor documental",null,null,"Vigencia documental",null,null,"Condiciones de acceso (Reservada y confidencial)","Tradición documental "]
[null,null,null,null,null,null,null,"A","L","F/C","AT","AC","Total"]
[{"$f":"HOJA_CAPTURA!J151","v":0},{"$f":"HOJA_CAPTURA!K151","v":0},{"$f":"HOJA_CAPTURA!M151","v":0},{"$f":"HOJA_CAPTURA!N151","v":0},{"$f":"HOJA_CAPTURA!P151","v":0},{"$f":"HOJA_CAPTURA!Q151","v":"00:00:00"},{"$f":"HOJA_CAPTURA!V151","v":0},{"$f":"HOJA_CAPTURA!AF151","v":0},{"$f":"HOJA_CAPTURA!AG151","v":0},{"$f":"HOJA_CAPTURA!AH151","v":0},{"$f":"HOJA_CAPTURA!AI151","v":0},{"$f":"HOJA_CAPTURA!AJ151","v":0},{"$f":"HOJA_CAPTURA!AK151","v":0},{"$f":"HOJA_CAPTURA!AL151","v":0},{"$f":"HOJA_CAPTURA!AU151","v":0}]
[null,null,null,null,null,{"$f":"HOJA_CAPTURA!R151","v":"00:00:00"}]
[{"$f":"HOJA_CAPTURA!J152","v":0},{"$f":"HOJA_CAPTURA!K152","v":0},{"$f":"HOJA_CAPTURA!M152","v":0},{"$f":"HOJA_CAPTURA!N152","v":0},{"$f":"HOJA_CAPTURA!P152","v":0},{"$f":"HOJA_CAPTURA!Q152","v":"00:00:00"},{"$f":"HOJA_CAPTURA!V152","v":0},{"$f":"HOJA_CAPTURA!AF152","v":0},{"$f":"HOJA_CAPTURA!AG152","v":0},{"$f":"HOJA_CAPTURA!AH152","v":0},{"$f":"HOJA_CAPTURA!AI152","v":0},{"$f":"HOJA_CAPTURA!AJ152","v":0},{"$f":"HOJA_CAPTURA!AK152","v":0},{"$f":"HOJA_CAPTURA!AL152","v":0},{"$f":"HOJA_CAPTURA!AU152","v":0}]
[null,null,null,null,null,{"$f":"HOJA_CAPTURA!R152","v":"00:00:00"}]
[{"$f":"HOJA_CAPTURA!J153","v":0},{"$f":"HOJA_CAPTURA!K153","v":0},{"$f":"HOJA_CAPTURA!M153","v":0},{"$f":"HOJA_CAPTURA!N153","v":0},{"$f":"HOJA_CAPTURA!P153","v":0},{"$f":"HOJA_CAPTURA!Q153","v":"00:00:00"},{"$f":"HOJA_CAPTURA!V153","v":0},{"$f":"HOJA_CAPTURA!AF153","v":0},{"$f":"HOJA_CAPTURA!AG153","v":0},{"$f":"HOJA_CAPTURA!AH153","v":0},{"$f":"HOJA_CAPTURA!AI153","v":0},{"$f":"HOJA_CAPTURA!AJ153","v":0},{"$f":"HOJA_CAPTURA!AK153","v":0},{"$f":"HOJA_CAPTURA!AL153","v":0},{"$f":"HOJA_CAPTURA!AU153","v":0}]
[null,null,null,null,null,{"$f":"HOJA_CAPTURA!R153","v":"00:00:00"}]
[{"$f":"HOJA_CAPTURA!J154","v":0},{"$f":"HOJA_CAPTURA!K154","v":0},{"$f":"HOJA_CAPTURA!M154","v":0},{"$f":"HOJA_CAPTURA!N154","v":0},{"$f":"HOJA_CAPTURA!P154","v":0},{"$f":"HOJA_CAPTURA!Q154","v":"00:00:00"},{"$f":"HOJA_CAPTURA!V154","v":0},{"$f":"HOJA_CAPTURA!AF154","v":0},{"$f":"HOJA_CAPTURA!AG154","v":0},{"$f":"HOJA_CAPTURA!AH154","v":0},{"$f":"HOJA_CAPTURA!AI154","v":0},{"$f":"HOJA_CAPTURA!AJ154","v":0},{"$f":"HOJA_CAPTURA!AK154","v":0},{"$f":"HOJA_CAPTURA!AL154","v":0},{"$f":"HOJA_CAPTURA!AU154","v":0}]
[null,null,null,null,null,{"$f":"HOJA_CAPTURA!R154","v":"00:00:00"}]
[]
[null,"\"El presente inventario consta de __fojas y ampara la cantidad de __expedientes de los años de __al__, contenidos en__ cajas, con un peso aproximado de __kg.\""]
[null,null,{"$f":"HOJA_CAPTURA!F151","v":0},null,null,null,null,{"$f":"HOJA_CAPTURA!E151","v":0}]
["Nombre, firma, cargo y área de adscripción de la persona que formuló el inventario ",null,null,null,null,null,"Nombre, firma, cargo y área de adscripción de la persona que revisó el inventario"]
[null,{"$f":"HOJA_CAPTURA!D151","v":0}]
["Nombre y firma del titular de la unidad administrativa que autorizó el inventario",null,null,null,null,null,"Nombre y firma del responsable del archivo de concentración que recibe el inventario"]
[]
[]
[]
[]
[null,"           "]
["Fecha de transferencia:",null,null,{"$f":"TODAY()","v":"2024-08-13"},"Número de transferencia:",{"$f":"HOJA_CAPTURA!L155","v":0},null,null,null,null,null,null,null,"Hoja: 39 de ",{"$f":"O930","v":0}]
["Unidad administrativa/Área productora: ",null,null,null,{"$f":"HOJA_CAPTURA!C155","v":0}]
[{"$f":"HOJA_CAPTURA!B155","v":"Fondo: INP"},null,"Sección:",{"$f":"HOJA_CAPTURA!G155","v":0},null,null,"Serie: ",{"$f":"HOJA_CAPTURA!H155","v":0}]
[null,null,null,null,null,null,"Subserie:",null,{"$f":"HOJA_CAPTURA!I155","v":0}]
["No. Consecutivo","No. de caja","No. de expediente","Clasificación archivística del expediente","Descripción o asunto ","                                                                                                                                                                                                                                                          Periodo de trámite","No.  de folios ","Valor documental",null,null,"Vigencia documental",null,null,"Condiciones de acceso (Reservada y confidencial)","Tradición documental "]
[null,null,null,null,null,null,null,"A","L","F/C","AT","AC","Total"]
[{"$f":"HOJA_CAPTURA!J155","v":0},{"$f":"HOJA_CAPTURA!K155","v":0},{"$f":"HOJA_CAPTURA!M155","v":0},{"$f":"HOJA_CAPTURA!N155","v":0},{"$f":"HOJA_CAPTURA!P155","v":0},{"$f":"HOJA_CAPTURA!Q155","v":"00:00:00"},{"$f":"HOJA_CAPTURA!V155","v":0},{"$f":"HOJA_CAPTURA!AF155","v":0},{"$f":"HOJA_CAPTURA!AG155","v":0},{"$f":"HOJA_CAPTURA!AH155","v":0},{"$f":"HOJA_CAPTURA!AI155","v":0},{"$f":"HOJA_CAPTURA!AJ155","v":0},{"$f":"HOJA_CAPTURA!AK155","v":0},{"$f":"HOJA_CAPTURA!AL155","v":0},{"$f":"HOJA_CAPTURA!AU155","v":0}]
[null,null,null,null,null,{"$f":"HOJA_CAPTURA!R155","v":"00:00:00"}]
[{"$f":"HOJA_CAPTURA!J156","v":0},{"$f":"HOJA_CAPTURA!K156","v":0},{"$f":"HOJA_CAPTURA!M156","v":0},{"$f":"HOJA_CAPTURA!N156","v":0},{"$f":"HOJA_CAPTURA!P156","v":0},{"$f":"HOJA_CAPTURA!Q156","v":"00:00:00"},{"$f":"HOJA_CAPTURA!V156","v":0},{"$f":"HOJA_CAPTURA!AF156","v":0},{"$f":"HOJA_CAPTURA!AG156","v":0},{"$f":"HOJA_CAPTURA!AH156","v":0},{"$f":"HOJA_CAPTURA!AI156","v":0},{"$f":"HOJA_CAPTURA!AJ156","v":0},{"$f":"HOJA_CAPTURA!AK156","v":0},{"$f":"HOJA_CAPTURA!AL156","v":0},{"$f":"HOJA_CAPTURA!AU156","v":0}]
[null,null,null,null,null,{"$f":"HOJA_CAPTURA!R156","v":"00:00:00"}]
[{"$f":"HOJA_CAPTURA!J157","v":0},{"$f":"HOJA_CAPTURA!K157","v":0},{"$f":"HOJA_CAPTURA!M157","v":0},{"$f":"HOJA_CAPTURA!N157","v":0},{"$f":"HOJA_CAPTURA!P157","v":0},{"$f":"HOJA_CAPTURA!Q157","v":"00:00:00"},{"$f":"HOJA_CAPTURA!V157","v":0},{"$f":"HOJA_CAPTURA!AF157","v":0},{"$f":"HOJA_CAPTURA!AG157","v":0},{"$f":"HOJA_CAPTURA!AH157","v":0},{"$f":"HOJA_CAPTURA!AI157","v":0},{"$f":"HOJA_CAPTURA!AJ157","v":0},{"$f":"HOJA_CAPTURA!AK157","v":0},{"$f":"HOJA_CAPTURA!AL157","v":0},{"$f":"HOJA_CAPTURA!AU157","v":0}]
[null,null,null,null,null,{"$f":"HOJA_CAPTURA!R157","v":"00:00:00"}]
[{"$f":"HOJA_CAPTURA!J158","v":0},{"$f":"HOJA_CAPTURA!K158","v":0},{"$f":"HOJA_CAPTURA!M158","v":0},{"$f":"HOJA_CAPTURA!N158","v":0},{"$f":"HOJA_CAPTURA!P158","v":0},{"$f":"HOJA_CAPTURA!Q158","v":"00:00:00"},{"$f":"HOJA_CAPTURA!V158","v":0},{"$f":"HOJA_CAPTURA!AF158","v":0},{"$f":"HOJA_CAPTURA!AG158","v":0},{"$f":"HOJA_CAPTURA!AH158","v":0},{"$f":"HOJA_CAPTURA!AI158","v":0},{"$f":"HOJA_CAPTURA!AJ158","v":0},{"$f":"HOJA_CAPTURA!AK158","v":0},{"$f":"HOJA_CAPTURA!AL158","v":0},{"$f":"HOJA_CAPTURA!AU158","v":0}]
[null,null,null,null,null,{"$f":"HOJA_CAPTURA!R158","v":"00:00:00"}]
[]
[null,"\"El presente inventario consta de __fojas y ampara la cantidad de __expedientes de los años de __al__, contenidos en__ cajas, con un peso aproximado de __kg.\""]
[null,null,{"$f":"HOJA_CAPTURA!F155","v":0},null,null,null,null,{"$f":"HOJA_CAPTURA!E155","v":0}]
["Nombre, firma, cargo y área de adscripción de la persona que formuló el inventario ",null,null,null,null,null,"Nombre, firma, cargo y área de adscripción de la persona que revisó el inventario"]
[null,{"$f":"HOJA_CAPTURA!D155","v":0}]
["Nombre y firma del titular de la unidad administrativa que autorizó el inventario",null,null,null,null,null,"Nombre y firma del responsable del archivo de concentración que recibe el inventario"]
[]
[]
[]
[]
[null,"           "]
["Fecha de transferencia:",null,null,{"$f":"TODAY()","v":"2024-08-13"},"Número de transferencia:",{"$f":"HOJA_CAPTURA!L159","v":0},null,null,null,null,null,null,null,"Hoja: 40 de ",{"$f":"O955","v":0}]
["Unidad administrativa/Área productora: ",null,null,null,{"$f":"HOJA_CAPTURA!C159","v":0}]
[{"$f":"HOJA_CAPTURA!B159","v":"Fondo: INP"},null,"Sección:",{"$f":"HOJA_CAPTURA!G159","v":0},null,null,"Serie: ",{"$f":"HOJA_CAPTURA!H159","v":0}]
[null,null,null,null,null,null,"Subserie:",null,{"$f":"HOJA_CAPTURA!I159","v":0}]
["No. Consecutivo","No. de caja","No. de expediente","Clasificación archivística del expediente","Descripción o asunto ","                                                                                                                                                                                                                                                          Periodo de trámite","No.  de folios ","Valor documental",null,null,"Vigencia documental",null,null,"Condiciones de acceso (Reservada y confidencial)","Tradición documental "]
[null,null,null,null,null,null,null,"A","L","F/C","AT","AC","Total"]
[{"$f":"HOJA_CAPTURA!J159","v":0},{"$f":"HOJA_CAPTURA!K159","v":0},{"$f":"HOJA_CAPTURA!M159","v":0},{"$f":"HOJA_CAPTURA!N159","v":0},{"$f":"HOJA_CAPTURA!P159","v":0},{"$f":"HOJA_CAPTURA!Q159","v":"00:00:00"},{"$f":"HOJA_CAPTURA!V159","v":0},{"$f":"HOJA_CAPTURA!AF159","v":0},{"$f":"HOJA_CAPTURA!AG159","v":0},{"$f":"HOJA_CAPTURA!AH159","v":0},{"$f":"HOJA_CAPTURA!AI159","v":0},{"$f":"HOJA_CAPTURA!AJ159","v":0},{"$f":"HOJA_CAPTURA!AK159","v":0},{"$f":"HOJA_CAPTURA!AL159","v":0},{"$f":"HOJA_CAPTURA!AU159","v":0}]
[null,null,null,null,null,{"$f":"HOJA_CAPTURA!R159","v":"00:00:00"}]
[{"$f":"HOJA_CAPTURA!J160","v":0},{"$f":"HOJA_CAPTURA!K160","v":0},{"$f":"HOJA_CAPTURA!M160","v":0},{"$f":"HOJA_CAPTURA!N160","v":0},{"$f":"HOJA_CAPTURA!P160","v":0},{"$f":"HOJA_CAPTURA!Q160","v":"00:00:00"},{"$f":"HOJA_CAPTURA!V160","v":0},{"$f":"HOJA_CAPTURA!AF160","v":0},{"$f":"HOJA_CAPTURA!AG160","v":0},{"$f":"HOJA_CAPTURA!AH160","v":0},{"$f":"HOJA_CAPTURA!AI160","v":0},{"$f":"HOJA_CAPTURA!AJ160","v":0},{"$f":"HOJA_CAPTURA!AK160","v":0},{"$f":"HOJA_CAPTURA!AL160","v":0},{"$f":"HOJA_CAPTURA!AU160","v":0}]
[null,null,null,null,null,{"$f":"HOJA_CAPTURA!R160","v":"00:00:00"}]
[{"$f":"HOJA_CAPTURA!J161","v":0},{"$f":"HOJA_CAPTURA!K161","v":0},{"$f":"HOJA_CAPTURA!M161","v":0},{"$f":"HOJA_CAPTURA!N161","v":0},{"$f":"HOJA_CAPTURA!P161","v":0},{"$f":"HOJA_CAPTURA!Q161","v":"00:00:00"},{"$f":"HOJA_CAPTURA!V161","v":0},{"$f":"HOJA_CAPTURA!AF161","v":0},{"$f":"HOJA_CAPTURA!AG161","v":0},{"$f":"HOJA_CAPTURA!AH161","v":0},{"$f":"HOJA_CAPTURA!AI161","v":0},{"$f":"HOJA_CAPTURA!AJ161","v":0},{"$f":"HOJA_CAPTURA!AK161","v":0},{"$f":"HOJA_CAPTURA!AL161","v":0},{"$f":"HOJA_CAPTURA!AU161","v":0}]
[null,null,null,null,null,{"$f":"HOJA_CAPTURA!R161","v":"00:00:00"}]
[{"$f":"HOJA_CAPTURA!J162","v":0},{"$f":"HOJA_CAPTURA!K162","v":0},{"$f":"HOJA_CAPTURA!M162","v":0},{"$f":"HOJA_CAPTURA!N162","v":0},{"$f":"HOJA_CAPTURA!P162","v":0},{"$f":"HOJA_CAPTURA!Q162","v":"00:00:00"},{"$f":"HOJA_CAPTURA!V162","v":0},{"$f":"HOJA_CAPTURA!AF162","v":0},{"$f":"HOJA_CAPTURA!AG162","v":0},{"$f":"HOJA_CAPTURA!AH162","v":0},{"$f":"HOJA_CAPTURA!AI162","v":0},{"$f":"HOJA_CAPTURA!AJ162","v":0},{"$f":"HOJA_CAPTURA!AK162","v":0},{"$f":"HOJA_CAPTURA!AL162","v":0},{"$f":"HOJA_CAPTURA!AU162","v":0}]
[null,null,null,null,null,{"$f":"HOJA_CAPTURA!R162","v":"00:00:00"}]
[]
[null,"\"El presente inventario consta de __fojas y ampara la cantidad de __expedientes de los años de __al__, contenidos en__ cajas, con un peso aproximado de __kg.\""]
[null,null,{"$f":"HOJA_CAPTURA!F159","v":0},null,null,null,null,{"$f":"HOJA_CAPTURA!E159","v":0}]
["Nombre, firma, cargo y área de adscripción de la persona que formuló el inventario ",null,null,null,null,null,"Nombre, firma, cargo y área de adscripción de la persona que revisó el inventario"]
[null,{"$f":"HOJA_CAPTURA!D159","v":0}]
["Nombre y firma del titular de la unidad administrativa que autorizó el inventario",null,null,null,null,null,"Nombre y firma del responsable del archivo de concentración que recibe el inventario"]
[]
[]
[]
[]
[null,"           "]
["Fecha de transferencia:",null,null,{"$f":"TODAY()","v":"2024-08-13"},"Número de transferencia:",{"$f":"HOJA_CAPTURA!L163","v":0},null,null,null,null,null,null,null,"Hoja: 41 de ",{"$f":"O980","v":0}]
["Unidad administrativa/Área productora: ",null,null,null,{"$f":"HOJA_CAPTURA!C163","v":0}]
[{"$f":"HOJA_CAPTURA!B163","v":"Fondo: INP"},null,"Sección:",{"$f":"HOJA_CAPTURA!G163","v":0},null,null,"Serie: ",{"$f":"HOJA_CAPTURA!H163","v":0}]
[null,null,null,null,null,null,"Subserie:",null,{"$f":"HOJA_CAPTURA!I163","v":0}]
["No. Consecutivo","No. de caja","No. de expediente","Clasificación archivística del expediente","Descripción o asunto ","                                                                                                                                                                                                                                                          Periodo de trámite","No.  de folios ","Valor documental",null,null,"Vigencia documental",null,null,"Condiciones de acceso (Reservada y confidencial)","Tradición documental "]
[null,null,null,null,null,null,null,"A","L","F/C","AT","AC","Total"]
[{"$f":"HOJA_CAPTURA!J163","v":0},{"$f":"HOJA_CAPTURA!K163","v":0},{"$f":"HOJA_CAPTURA!M163","v":0},{"$f":"HOJA_CAPTURA!N163","v":0},{"$f":"HOJA_CAPTURA!P163","v":0},{"$f":"HOJA_CAPTURA!Q163","v":"00:00:00"},{"$f":"HOJA_CAPTURA!V163","v":0},{"$f":"HOJA_CAPTURA!AF163","v":0},{"$f":"HOJA_CAPTURA!AG163","v":0},{"$f":"HOJA_CAPTURA!AH163","v":0},{"$f":"HOJA_CAPTURA!AI163","v":0},{"$f":"HOJA_CAPTURA!AJ163","v":0},{"$f":"HOJA_CAPTURA!AK163","v":0},{"$f":"HOJA_CAPTURA!AL163","v":0},{"$f":"HOJA_CAPTURA!AU163","v":0}]
[null,null,null,null,null,{"$f":"HOJA_CAPTURA!R163","v":"00:00:00"}]
[{"$f":"HOJA_CAPTURA!J164","v":0},{"$f":"HOJA_CAPTURA!K164","v":0},{"$f":"HOJA_CAPTURA!M164","v":0},{"$f":"HOJA_CAPTURA!N164","v":0},{"$f":"HOJA_CAPTURA!P164","v":0},{"$f":"HOJA_CAPTURA!Q164","v":"00:00:00"},{"$f":"HOJA_CAPTURA!V164","v":0},{"$f":"HOJA_CAPTURA!AF164","v":0},{"$f":"HOJA_CAPTURA!AG164","v":0},{"$f":"HOJA_CAPTURA!AH164","v":0},{"$f":"HOJA_CAPTURA!AI164","v":0},{"$f":"HOJA_CAPTURA!AJ164","v":0},{"$f":"HOJA_CAPTURA!AK164","v":0},{"$f":"HOJA_CAPTURA!AL164","v":0},{"$f":"HOJA_CAPTURA!AU164","v":0}]
[null,null,null,null,null,{"$f":"HOJA_CAPTURA!R164","v":"00:00:00"}]
[{"$f":"HOJA_CAPTURA!J165","v":0},{"$f":"HOJA_CAPTURA!K165","v":0},{"$f":"HOJA_CAPTURA!M165","v":0},{"$f":"HOJA_CAPTURA!N165","v":0},{"$f":"HOJA_CAPTURA!P165","v":0},{"$f":"HOJA_CAPTURA!Q165","v":"00:00:00"},{"$f":"HOJA_CAPTURA!V165","v":0},{"$f":"HOJA_CAPTURA!AF165","v":0},{"$f":"HOJA_CAPTURA!AG165","v":0},{"$f":"HOJA_CAPTURA!AH165","v":0},{"$f":"HOJA_CAPTURA!AI165","v":0},{"$f":"HOJA_CAPTURA!AJ165","v":0},{"$f":"HOJA_CAPTURA!AK165","v":0},{"$f":"HOJA_CAPTURA!AL165","v":0},{"$f":"HOJA_CAPTURA!AU165","v":0}]
[null,null,null,null,null,{"$f":"HOJA_CAPTURA!R165","v":"00:00:00"}]
[{"$f":"HOJA_CAPTURA!J166","v":0},{"$f":"HOJA_CAPTURA!K166","v":0},{"$f":"HOJA_CAPTURA!M166","v":0},{"$f":"HOJA_CAPTURA!N166","v":0},{"$f":"HOJA_CAPTURA!P166","v":0},{"$f":"HOJA_CAPTURA!Q166","v":"00:00:00"},{"$f":"HOJA_CAPTURA!V166","v":0},{"$f":"HOJA_CAPTURA!AF166","v":0},{"$f":"HOJA_CAPTURA!AG166","v":0},{"$f":"HOJA_CAPTURA!AH166","v":0},{"$f":"HOJA_CAPTURA!AI166","v":0},{"$f":"HOJA_CAPTURA!AJ166","v":0},{"$f":"HOJA_CAPTURA!AK166","v":0},{"$f":"HOJA_CAPTURA!AL166","v":0},{"$f":"HOJA_CAPTURA!AU166","v":0}]
[null,null,null,null,null,{"$f":"HOJA_CAPTURA!R166","v":"00:00:00"}]
[]
[null,"\"El presente inventario consta de __fojas y ampara la cantidad de __expedientes de los años de __al__, contenidos en__ cajas, con un peso aproximado de __kg.\""]
[null,null,{"$f":"HOJA_CAPTURA!F163","v":0},null,null,null,null,{"$f":"HOJA_CAPTURA!E163","v":0}]
["Nombre, firma, cargo y área de adscripción de la persona que formuló el inventario ",null,null,null,null,null,"Nombre, firma, cargo y área de adscripción de la persona que revisó el inventario"]
[null,{"$f":"HOJA_CAPTURA!D163","v":0}]
["Nombre y firma del titular de la unidad administrativa que autorizó el inventario",null,null,null,null,null,"Nombre y firma del responsable del archivo de concentración que recibe el inventario"]
[]
[]
[]
[]
[null,"           "]
["Fecha de transferencia:",null,null,{"$f":"TODAY()","v":"2024-08-13"},"Número de transferencia:",{"$f":"HOJA_CAPTURA!L167","v":0},null,null,null,null,null,null,null,"Hoja: 42 de ",{"$f":"O1005","v":0}]
["Unidad administrativa/Área productora: ",null,null,null,{"$f":"HOJA_CAPTURA!C167","v":0}]
[{"$f":"HOJA_CAPTURA!B167","v":"Fondo: INP"},null,"Sección:",{"$f":"HOJA_CAPTURA!G167","v":0},null,null,"Serie: ",{"$f":"HOJA_CAPTURA!H167","v":0}]
[null,null,null,null,null,null,"Subserie:",null,{"$f":"HOJA_CAPTURA!I167","v":0}]
["No. Consecutivo","No. de caja","No. de expediente","Clasificación archivística del expediente","Descripción o asunto ","                                                                                                                                                                                                                                                          Periodo de trámite","No.  de folios ","Valor documental",null,null,"Vigencia documental",null,null,"Condiciones de acceso (Reservada y confidencial)","Tradición documental "]
[null,null,null,null,null,null,null,"A","L","F/C","AT","AC","Total"]
[{"$f":"HOJA_CAPTURA!J167","v":0},{"$f":"HOJA_CAPTURA!K167","v":0},{"$f":"HOJA_CAPTURA!M167","v":0},{"$f":"HOJA_CAPTURA!N167","v":0},{"$f":"HOJA_CAPTURA!P167","v":0},{"$f":"HOJA_CAPTURA!Q167","v":"00:00:00"},{"$f":"HOJA_CAPTURA!V167","v":0},{"$f":"HOJA_CAPTURA!AF167","v":0},{"$f":"HOJA_CAPTURA!AG167","v":0},{"$f":"HOJA_CAPTURA!AH167","v":0},{"$f":"HOJA_CAPTURA!AI167","v":0},{"$f":"HOJA_CAPTURA!AJ167","v":0},{"$f":"HOJA_CAPTURA!AK167","v":0},{"$f":"HOJA_CAPTURA!AL167","v":0},{"$f":"HOJA_CAPTURA!AU167","v":0}]
[null,null,null,null,null,{"$f":"HOJA_CAPTURA!R167","v":"00:00:00"}]
[{"$f":"HOJA_CAPTURA!J168","v":0},{"$f":"HOJA_CAPTURA!K168","v":0},{"$f":"HOJA_CAPTURA!M168","v":0},{"$f":"HOJA_CAPTURA!N168","v":0},{"$f":"HOJA_CAPTURA!P168","v":0},{"$f":"HOJA_CAPTURA!Q168","v":"00:00:00"},{"$f":"HOJA_CAPTURA!V168","v":0},{"$f":"HOJA_CAPTURA!AF168","v":0},{"$f":"HOJA_CAPTURA!AG168","v":0},{"$f":"HOJA_CAPTURA!AH168","v":0},{"$f":"HOJA_CAPTURA!AI168","v":0},{"$f":"HOJA_CAPTURA!AJ168","v":0},{"$f":"HOJA_CAPTURA!AK168","v":0},{"$f":"HOJA_CAPTURA!AL168","v":0},{"$f":"HOJA_CAPTURA!AU168","v":0}]
[null,null,null,null,null,{"$f":"HOJA_CAPTURA!R168","v":"00:00:00"}]
[{"$f":"HOJA_CAPTURA!J169","v":0},{"$f":"HOJA_CAPTURA!K169","v":0},{"$f":"HOJA_CAPTURA!M169","v":0},{"$f":"HOJA_CAPTURA!N169","v":0},{"$f":"HOJA_CAPTURA!P169","v":0},{"$f":"HOJA_CAPTURA!Q169","v":"00:00:00"},{"$f":"HOJA_CAPTURA!V169","v":0},{"$f":"HOJA_CAPTURA!AF169","v":0},{"$f":"HOJA_CAPTURA!AG169","v":0},{"$f":"HOJA_CAPTURA!AH169","v":0},{"$f":"HOJA_CAPTURA!AI169","v":0},{"$f":"HOJA_CAPTURA!AJ169","v":0},{"$f":"HOJA_CAPTURA!AK169","v":0},{"$f":"HOJA_CAPTURA!AL169","v":0},{"$f":"HOJA_CAPTURA!AU169","v":0}]
[null,null,null,null,null,{"$f":"HOJA_CAPTURA!R169","v":"00:00:00"}]
[{"$f":"HOJA_CAPTURA!J170","v":0},{"$f":"HOJA_CAPTURA!K170","v":0},{"$f":"HOJA_CAPTURA!M170","v":0},{"$f":"HOJA_CAPTURA!N170","v":0},{"$f":"HOJA_CAPTURA!P170","v":0},{"$f":"HOJA_CAPTURA!Q170","v":"00:00:00"},{"$f":"HOJA_CAPTURA!V170","v":0},{"$f":"HOJA_CAPTURA!AF170","v":0},{"$f":"HOJA_CAPTURA!AG170","v":0},{"$f":"HOJA_CAPTURA!AH170","v":0},{"$f":"HOJA_CAPTURA!AI170","v":0},{"$f":"HOJA_CAPTURA!AJ170","v":0},{"$f":"HOJA_CAPTURA!AK170","v":0},{"$f":"HOJA_CAPTURA!AL170","v":0},{"$f":"HOJA_CAPTURA!AU170","v":0}]
[null,null,null,null,null,{"$f":"HOJA_CAPTURA!R170","v":"00:00:00"}]
[]
[null,"\"El presente inventario consta de __fojas y ampara la cantidad de __expedientes de los años de __al__, contenidos en__ cajas, con un peso aproximado de __kg.\""]
[null,null,{"$f":"HOJA_CAPTURA!F167","v":0},null,null,null,null,{"$f":"HOJA_CAPTURA!E167","v":0}]
["Nombre, firma, cargo y área de adscripción de la persona que formuló el inventario ",null,null,null,null,null,"Nombre, firma, cargo y área de adscripción de la persona que revisó el inventario"]
[null,{"$f":"HOJA_CAPTURA!D167","v":0}]
["Nombre y firma del titular de la unidad administrativa que autorizó el inventario",null,null,null,null,null,"Nombre y firma del responsable del archivo de concentración que recibe el inventario"]
[]
[]
[]
[]
[null,"           "]
["Fecha de transferencia:",null,null,{"$f":"TODAY()","v":"2024-08-13"},"Número de transferencia:",{"$f":"HOJA_CAPTURA!L171","v":0},null,null,null,null,null,null,null,"Hoja: 43 de ",{"$f":"O1030","v":0}]
["Unidad administrativa/Área productora: ",null,null,null,{"$f":"HOJA_CAPTURA!C171","v":0}]
[{"$f":"HOJA_CAPTURA!B171","v":"Fondo: INP"},null,"Sección:",{"$f":"HOJA_CAPTURA!G171","v":0},null,null,"Serie: ",{"$f":"HOJA_CAPTURA!H171","v":0}]
[null,null,null,null,null,null,"Subserie:",null,{"$f":"HOJA_CAPTURA!I171","v":0}]
["No. Consecutivo","No. de caja","No. de expediente","Clasificación archivística del expediente","Descripción o asunto ","                                                                                                                                                                                                                                                          Periodo de trámite","No.  de folios ","Valor documental",null,null,"Vigencia documental",null,null,"Condiciones de acceso (Reservada y confidencial)","Tradición documental "]
[null,null,null,null,null,null,null,"A","L","F/C","AT","AC","Total"]
[{"$f":"HOJA_CAPTURA!J171","v":0},{"$f":"HOJA_CAPTURA!K171","v":0},{"$f":"HOJA_CAPTURA!M171","v":0},{"$f":"HOJA_CAPTURA!N171","v":0},{"$f":"HOJA_CAPTURA!P171","v":0},{"$f":"HOJA_CAPTURA!Q171","v":"00:00:00"},{"$f":"HOJA_CAPTURA!V171","v":0},{"$f":"HOJA_CAPTURA!AF171","v":0},{"$f":"HOJA_CAPTURA!AG171","v":0},{"$f":"HOJA_CAPTURA!AH171","v":0},{"$f":"HOJA_CAPTURA!AI171","v":0},{"$f":"HOJA_CAPTURA!AJ171","v":0},{"$f":"HOJA_CAPTURA!AK171","v":0},{"$f":"HOJA_CAPTURA!AL171","v":0},{"$f":"HOJA_CAPTURA!AU171","v":0}]
[null,null,null,null,null,{"$f":"HOJA_CAPTURA!R171","v":"00:00:00"}]
[{"$f":"HOJA_CAPTURA!J172","v":0},{"$f":"HOJA_CAPTURA!K172","v":0},{"$f":"HOJA_CAPTURA!M172","v":0},{"$f":"HOJA_CAPTURA!N172","v":0},{"$f":"HOJA_CAPTURA!P172","v":0},{"$f":"HOJA_CAPTURA!Q172","v":"00:00:00"},{"$f":"HOJA_CAPTURA!V172","v":0},{"$f":"HOJA_CAPTURA!AF172","v":0},{"$f":"HOJA_CAPTURA!AG172","v":0},{"$f":"HOJA_CAPTURA!AH172","v":0},{"$f":"HOJA_CAPTURA!AI172","v":0},{"$f":"HOJA_CAPTURA!AJ172","v":0},{"$f":"HOJA_CAPTURA!AK172","v":0},{"$f":"HOJA_CAPTURA!AL172","v":0},{"$f":"HOJA_CAPTURA!AU172","v":0}]
[null,null,null,null,null,{"$f":"HOJA_CAPTURA!R172","v":"00:00:00"}]
[{"$f":"HOJA_CAPTURA!J173","v":0},{"$f":"HOJA_CAPTURA!K173","v":0},{"$f":"HOJA_CAPTURA!M173","v":0},{"$f":"HOJA_CAPTURA!N173","v":0},{"$f":"HOJA_CAPTURA!P173","v":0},{"$f":"HOJA_CAPTURA!Q173","v":"00:00:00"},{"$f":"HOJA_CAPTURA!V173","v":0},{"$f":"HOJA_CAPTURA!AF173","v":0},{"$f":"HOJA_CAPTURA!AG173","v":0},{"$f":"HOJA_CAPTURA!AH173","v":0},{"$f":"HOJA_CAPTURA!AI173","v":0},{"$f":"HOJA_CAPTURA!AJ173","v":0},{"$f":"HOJA_CAPTURA!AK173","v":0},{"$f":"HOJA_CAPTURA!AL173","v":0},{"$f":"HOJA_CAPTURA!AU173","v":0}]
[null,null,null,null,null,{"$f":"HOJA_CAPTURA!R173","v":"00:00:00"}]
[{"$f":"HOJA_CAPTURA!J174","v":0},{"$f":"HOJA_CAPTURA!K174","v":0},{"$f":"HOJA_CAPTURA!M174","v":0},{"$f":"HOJA_CAPTURA!N174","v":0},{"$f":"HOJA_CAPTURA!P174","v":0},{"$f":"HOJA_CAPTURA!Q174","v":"00:00:00"},{"$f":"HOJA_CAPTURA!V174","v":0},{"$f":"HOJA_CAPTURA!AF174","v":0},{"$f":"HOJA_CAPTURA!AG174","v":0},{"$f":"HOJA_CAPTURA!AH174","v":0},{"$f":"HOJA_CAPTURA!AI174","v":0},{"$f":"HOJA_CAPTURA!AJ174","v":0},{"$f":"HOJA_CAPTURA!AK174","v":0},{"$f":"HOJA_CAPTURA!AL174","v":0},{"$f":"HOJA_CAPTURA!AU174","v":0}]
[null,null,null,null,null,{"$f":"HOJA_CAPTURA!R174","v":"00:00:00"}]
[]
[null,"\"El presente inventario consta de __fojas y ampara la cantidad de __expedientes de los años de __al__, contenidos en__ cajas, con un peso aproximado de __kg.\""]
[null,null,{"$f":"HOJA_CAPTURA!F171","v":0},null,null,null,null,{"$f":"HOJA_CAPTURA!E171","v":0}]
["Nombre, firma, cargo y área de adscripción de la persona que formuló el inventario ",null,null,null,null,null,"Nombre, firma, cargo y área de adscripción de la persona que revisó el inventario"]
[null,{"$f":"HOJA_CAPTURA!D171","v":0}]
["Nombre y firma del titular de la unidad administrativa que autorizó el inventario",null,null,null,null,null,"Nombre y firma del responsable del archivo de concentración que recibe el inventario"]
[]
[]
[]
[]
[null,"           "]
["Fecha de transferencia:",null,null,{"$f":"TODAY()","v":"2024-08-13"},"Número de transferencia:",{"$f":"HOJA_CAPTURA!L175","v":0},null,null,null,null,null,null,null,"Hoja: 44 de ",{"$f":"O1055","v":0}]
["Unidad administrativa/Área productora: ",null,null,null,{"$f":"HOJA_CAPTURA!C175","v":0}]
[{"$f":"HOJA_CAPTURA!B175","v":"Fondo: INP"},null,"Sección:",{"$f":"HOJA_CAPTURA!G175","v":0},null,null,"Serie: ",{"$f":"HOJA_CAPTURA!H175","v":0}]
[null,null,null,null,null,null,"Subserie:",null,{"$f":"HOJA_CAPTURA!I175","v":0}]
["No. Consecutivo","No. de caja","No. de expediente","Clasificación archivística del expediente","Descripción o asunto ","                                                                                                                                                                                                                                                          Periodo de trámite","No.  de folios ","Valor documental",null,null,"Vigencia documental",null,null,"Condiciones de acceso (Reservada y confidencial)","Tradición documental "]
[null,null,null,null,null,null,null,"A","L","F/C","AT","AC","Total"]
[{"$f":"HOJA_CAPTURA!J175","v":0},{"$f":"HOJA_CAPTURA!K175","v":0},{"$f":"HOJA_CAPTURA!M175","v":0},{"$f":"HOJA_CAPTURA!N175","v":0},{"$f":"HOJA_CAPTURA!P175","v":0},{"$f":"HOJA_CAPTURA!Q175","v":"00:00:00"},{"$f":"HOJA_CAPTURA!V175","v":0},{"$f":"HOJA_CAPTURA!AF175","v":0},{"$f":"HOJA_CAPTURA!AG175","v":0},{"$f":"HOJA_CAPTURA!AH175","v":0},{"$f":"HOJA_CAPTURA!AI175","v":0},{"$f":"HOJA_CAPTURA!AJ175","v":0},{"$f":"HOJA_CAPTURA!AK175","v":0},{"$f":"HOJA_CAPTURA!AL175","v":0},{"$f":"HOJA_CAPTURA!AU175","v":0}]
[null,null,null,null,null,{"$f":"HOJA_CAPTURA!R175","v":"00:00:00"}]
[{"$f":"HOJA_CAPTURA!J176","v":0},{"$f":"HOJA_CAPTURA!K176","v":0},{"$f":"HOJA_CAPTURA!M176","v":0},{"$f":"HOJA_CAPTURA!N176","v":0},{"$f":"HOJA_CAPTURA!P176","v":0},{"$f":"HOJA_CAPTURA!Q176","v":"00:00:00"},{"$f":"HOJA_CAPTURA!V176","v":0},{"$f":"HOJA_CAPTURA!AF176","v":0},{"$f":"HOJA_CAPTURA!AG176","v":0},{"$f":"HOJA_CAPTURA!AH176","v":0},{"$f":"HOJA_CAPTURA!AI176","v":0},{"$f":"HOJA_CAPTURA!AJ176","v":0},{"$f":"HOJA_CAPTURA!AK176","v":0},{"$f":"HOJA_CAPTURA!AL176","v":0},{"$f":"HOJA_CAPTURA!AU176","v":0}]
[null,null,null,null,null,{"$f":"HOJA_CAPTURA!R176","v":"00:00:00"}]
[{"$f":"HOJA_CAPTURA!J177","v":0},{"$f":"HOJA_CAPTURA!K177","v":0},{"$f":"HOJA_CAPTURA!M177","v":0},{"$f":"HOJA_CAPTURA!N177","v":0},{"$f":"HOJA_CAPTURA!P177","v":0},{"$f":"HOJA_CAPTURA!Q177","v":"00:00:00"},{"$f":"HOJA_CAPTURA!V177","v":0},{"$f":"HOJA_CAPTURA!AF177","v":0},{"$f":"HOJA_CAPTURA!AG177","v":0},{"$f":"HOJA_CAPTURA!AH177","v":0},{"$f":"HOJA_CAPTURA!AI177","v":0},{"$f":"HOJA_CAPTURA!AJ177","v":0},{"$f":"HOJA_CAPTURA!AK177","v":0},{"$f":"HOJA_CAPTURA!AL177","v":0},{"$f":"HOJA_CAPTURA!AU177","v":0}]
[null,null,null,null,null,{"$f":"HOJA_CAPTURA!R177","v":"00:00:00"}]
[{"$f":"HOJA_CAPTURA!J178","v":0},{"$f":"HOJA_CAPTURA!K178","v":0},{"$f":"HOJA_CAPTURA!M178","v":0},{"$f":"HOJA_CAPTURA!N178","v":0},{"$f":"HOJA_CAPTURA!P178","v":0},{"$f":"HOJA_CAPTURA!Q178","v":"00:00:00"},{"$f":"HOJA_CAPTURA!V178","v":0},{"$f":"HOJA_CAPTURA!AF178","v":0},{"$f":"HOJA_CAPTURA!AG178","v":0},{"$f":"HOJA_CAPTURA!AH178","v":0},{"$f":"HOJA_CAPTURA!AI178","v":0},{"$f":"HOJA_CAPTURA!AJ178","v":0},{"$f":"HOJA_CAPTURA!AK178","v":0},{"$f":"HOJA_CAPTURA!AL178","v":0},{"$f":"HOJA_CAPTURA!AU178","v":0}]
[null,null,null,null,null,{"$f":"HOJA_CAPTURA!R178","v":"00:00:00"}]
[]
[null,"\"El presente inventario consta de __fojas y ampara la cantidad de __expedientes de los años de __al__, contenidos en__ cajas, con un peso aproximado de __kg.\""]
[null,null,{"$f":"HOJA_CAPTURA!F175","v":0},null,null,null,null,{"$f":"HOJA_CAPTURA!E175","v":0}]
["Nombre, firma, cargo y área de adscripción de la persona que formuló el inventario ",null,null,null,null,null,"Nombre, firma, cargo y área de adscripción de la persona que revisó el inventario"]
[null,{"$f":"HOJA_CAPTURA!D175","v":0}]
["Nombre y firma del titular de la unidad administrativa que autorizó el inventario",null,null,null,null,null,"Nombre y firma del responsable del archivo de concentración que recibe el inventario"]
[]
[]
[]
[]
[null,"           "]
["Fecha de transferencia:",null,null,{"$f":"TODAY()","v":"2024-08-13"},"Número de transferencia:",{"$f":"HOJA_CAPTURA!L179","v":0},null,null,null,null,null,null,null,"Hoja: 45 de ",{"$f":"O1080","v":0}]
["Unidad administrativa/Área productora: ",null,null,null,{"$f":"HOJA_CAPTURA!C179","v":0}]
[{"$f":"HOJA_CAPTURA!B179","v":"Fondo: INP"},null,"Sección:",{"$f":"HOJA_CAPTURA!G179","v":0},null,null,"Serie: ",{"$f":"HOJA_CAPTURA!H179","v":0}]
[null,null,null,null,null,null,"Subserie:",null,{"$f":"HOJA_CAPTURA!I179","v":0}]
["No. Consecutivo","No. de caja","No. de expediente","Clasificación archivística del expediente","Descripción o asunto ","                                                                                                                                                                                                                                                          Periodo de trámite","No.  de folios ","Valor documental",null,null,"Vigencia documental",null,null,"Condiciones de acceso (Reservada y confidencial)","Tradición documental "]
[null,null,null,null,null,null,null,"A","L","F/C","AT","AC","Total"]
[{"$f":"HOJA_CAPTURA!J179","v":0},{"$f":"HOJA_CAPTURA!K179","v":0},{"$f":"HOJA_CAPTURA!M179","v":0},{"$f":"HOJA_CAPTURA!N179","v":0},{"$f":"HOJA_CAPTURA!P179","v":0},{"$f":"HOJA_CAPTURA!Q179","v":"00:00:00"},{"$f":"HOJA_CAPTURA!V179","v":0},{"$f":"HOJA_CAPTURA!AF179","v":0},{"$f":"HOJA_CAPTURA!AG179","v":0},{"$f":"HOJA_CAPTURA!AH179","v":0},{"$f":"HOJA_CAPTURA!AI179","v":0},{"$f":"HOJA_CAPTURA!AJ179","v":0},{"$f":"HOJA_CAPTURA!AK179","v":0},{"$f":"HOJA_CAPTURA!AL179","v":0},{"$f":"HOJA_CAPTURA!AU179","v":0}]
[null,null,null,null,null,{"$f":"HOJA_CAPTURA!R179","v":"00:00:00"}]
[{"$f":"HOJA_CAPTURA!J180","v":0},{"$f":"HOJA_CAPTURA!K180","v":0},{"$f":"HOJA_CAPTURA!M180","v":0},{"$f":"HOJA_CAPTURA!N180","v":0},{"$f":"HOJA_CAPTURA!P180","v":0},{"$f":"HOJA_CAPTURA!Q180","v":"00:00:00"},{"$f":"HOJA_CAPTURA!V180","v":0},{"$f":"HOJA_CAPTURA!AF180","v":0},{"$f":"HOJA_CAPTURA!AG180","v":0},{"$f":"HOJA_CAPTURA!AH180","v":0},{"$f":"HOJA_CAPTURA!AI180","v":0},{"$f":"HOJA_CAPTURA!AJ180","v":0},{"$f":"HOJA_CAPTURA!AK180","v":0},{"$f":"HOJA_CAPTURA!AL180","v":0},{"$f":"HOJA_CAPTURA!AU180","v":0}]
[null,null,null,null,null,{"$f":"HOJA_CAPTURA!R180","v":"00:00:00"}]
[{"$f":"HOJA_CAPTURA!J181","v":0},{"$f":"HOJA_CAPTURA!K181","v":0},{"$f":"HOJA_CAPTURA!M181","v":0},{"$f":"HOJA_CAPTURA!N181","v":0},{"$f":"HOJA_CAPTURA!P181","v":0},{"$f":"HOJA_CAPTURA!Q181","v":"00:00:00"},{"$f":"HOJA_CAPTURA!V181","v":0},{"$f":"HOJA_CAPTURA!AF181","v":0},{"$f":"HOJA_CAPTURA!AG181","v":0},{"$f":"HOJA_CAPTURA!AH181","v":0},{"$f":"HOJA_CAPTURA!AI181","v":0},{"$f":"HOJA_CAPTURA!AJ181","v":0},{"$f":"HOJA_CAPTURA!AK181","v":0},{"$f":"HOJA_CAPTURA!AL181","v":0},{"$f":"HOJA_CAPTURA!AU181","v":0}]
[null,null,null,null,null,{"$f":"HOJA_CAPTURA!R181","v":"00:00:00"}]
[{"$f":"HOJA_CAPTURA!J182","v":0},{"$f":"HOJA_CAPTURA!K182","v":0},{"$f":"HOJA_CAPTURA!M182","v":0},{"$f":"HOJA_CAPTURA!N182","v":0},{"$f":"HOJA_CAPTURA!P182","v":0},{"$f":"HOJA_CAPTURA!Q182","v":"00:00:00"},{"$f":"HOJA_CAPTURA!V182","v":0},{"$f":"HOJA_CAPTURA!AF182","v":0},{"$f":"HOJA_CAPTURA!AG182","v":0},{"$f":"HOJA_CAPTURA!AH182","v":0},{"$f":"HOJA_CAPTURA!AI182","v":0},{"$f":"HOJA_CAPTURA!AJ182","v":0},{"$f":"HOJA_CAPTURA!AK182","v":0},{"$f":"HOJA_CAPTURA!AL182","v":0},{"$f":"HOJA_CAPTURA!AU182","v":0}]
[null,null,null,null,null,{"$f":"HOJA_CAPTURA!R182","v":"00:00:00"}]
[]
[null,"\"El presente inventario consta de __fojas y ampara la cantidad de __expedientes de los años de __al__, contenidos en__ cajas, con un peso aproximado de __kg.\""]
[null,null,{"$f":"HOJA_CAPTURA!F179","v":0},null,null,null,null,{"$f":"HOJA_CAPTURA!E179","v":0}]
["Nombre, firma, cargo y área de adscripción de la persona que formuló el inventario ",null,null,null,null,null,"Nombre, firma, cargo y área de adscripción de la persona que revisó el inventario"]
[null,{"$f":"HOJA_CAPTURA!D179","v":0}]
["Nombre y firma del titular de la unidad administrativa que autorizó el inventario",null,null,null,null,null,"Nombre y firma del responsable del archivo de concentración que recibe el inventario"]
[]
[]
[]
[]
[null,"           "]
["Fecha de transferencia:",null,null,{"$f":"TODAY()","v":"2024-08-13"},"Número de transferencia:",{"$f":"HOJA_CAPTURA!L183","v":0},null,null,null,null,null,null,null,"Hoja: 46 de ",{"$f":"O1105","v":0}]
["Unidad administrativa/Área productora: ",null,null,null,{"$f":"HOJA_CAPTURA!C183","v":0}]
[{"$f":"HOJA_CAPTURA!B183","v":"Fondo: INP"},null,"Sección:",{"$f":"HOJA_CAPTURA!G183","v":0},null,null,"Serie: ",{"$f":"HOJA_CAPTURA!H183","v":0}]
[null,null,null,null,null,null,"Subserie:",null,{"$f":"HOJA_CAPTURA!I183","v":0}]
["No. Consecutivo","No. de caja","No. de expediente","Clasificación archivística del expediente","Descripción o asunto ","                                                                                                                                                                                                                                                          Periodo de trámite","No.  de folios ","Valor documental",null,null,"Vigencia documental",null,null,"Condiciones de acceso (Reservada y confidencial)","Tradición documental "]
[null,null,null,null,null,null,null,"A","L","F/C","AT","AC","Total"]
[{"$f":"HOJA_CAPTURA!J183","v":0},{"$f":"HOJA_CAPTURA!K183","v":0},{"$f":"HOJA_CAPTURA!M183","v":0},{"$f":"HOJA_CAPTURA!N183","v":0},{"$f":"HOJA_CAPTURA!P183","v":0},{"$f":"HOJA_CAPTURA!Q183","v":"00:00:00"},{"$f":"HOJA_CAPTURA!V183","v":0},{"$f":"HOJA_CAPTURA!AF183","v":0},{"$f":"HOJA_CAPTURA!AG183","v":0},{"$f":"HOJA_CAPTURA!AH183","v":0},{"$f":"HOJA_CAPTURA!AI183","v":0},{"$f":"HOJA_CAPTURA!AJ183","v":0},{"$f":"HOJA_CAPTURA!AK183","v":0},{"$f":"HOJA_CAPTURA!AL183","v":0},{"$f":"HOJA_CAPTURA!AU183","v":0}]
[null,null,null,null,null,{"$f":"HOJA_CAPTURA!R183","v":"00:00:00"}]
[{"$f":"HOJA_CAPTURA!J184","v":0},{"$f":"HOJA_CAPTURA!K184","v":0},{"$f":"HOJA_CAPTURA!M184","v":0},{"$f":"HOJA_CAPTURA!N184","v":0},{"$f":"HOJA_CAPTURA!P184","v":0},{"$f":"HOJA_CAPTURA!Q184","v":"00:00:00"},{"$f":"HOJA_CAPTURA!V184","v":0},{"$f":"HOJA_CAPTURA!AF184","v":0},{"$f":"HOJA_CAPTURA!AG184","v":0},{"$f":"HOJA_CAPTURA!AH184","v":0},{"$f":"HOJA_CAPTURA!AI184","v":0},{"$f":"HOJA_CAPTURA!AJ184","v":0},{"$f":"HOJA_CAPTURA!AK184","v":0},{"$f":"HOJA_CAPTURA!AL184","v":0},{"$f":"HOJA_CAPTURA!AU184","v":0}]
[null,null,null,null,null,{"$f":"HOJA_CAPTURA!R184","v":"00:00:00"}]
[{"$f":"HOJA_CAPTURA!J185","v":0},{"$f":"HOJA_CAPTURA!K185","v":0},{"$f":"HOJA_CAPTURA!M185","v":0},{"$f":"HOJA_CAPTURA!N185","v":0},{"$f":"HOJA_CAPTURA!P185","v":0},{"$f":"HOJA_CAPTURA!Q185","v":"00:00:00"},{"$f":"HOJA_CAPTURA!V185","v":0},{"$f":"HOJA_CAPTURA!AF185","v":0},{"$f":"HOJA_CAPTURA!AG185","v":0},{"$f":"HOJA_CAPTURA!AH185","v":0},{"$f":"HOJA_CAPTURA!AI185","v":0},{"$f":"HOJA_CAPTURA!AJ185","v":0},{"$f":"HOJA_CAPTURA!AK185","v":0},{"$f":"HOJA_CAPTURA!AL185","v":0},{"$f":"HOJA_CAPTURA!AU185","v":0}]
[null,null,null,null,null,{"$f":"HOJA_CAPTURA!R185","v":"00:00:00"}]
[{"$f":"HOJA_CAPTURA!J186","v":0},{"$f":"HOJA_CAPTURA!K186","v":0},{"$f":"HOJA_CAPTURA!M186","v":0},{"$f":"HOJA_CAPTURA!N186","v":0},{"$f":"HOJA_CAPTURA!P186","v":0},{"$f":"HOJA_CAPTURA!Q186","v":"00:00:00"},{"$f":"HOJA_CAPTURA!V186","v":0},{"$f":"HOJA_CAPTURA!AF186","v":0},{"$f":"HOJA_CAPTURA!AG186","v":0},{"$f":"HOJA_CAPTURA!AH186","v":0},{"$f":"HOJA_CAPTURA!AI186","v":0},{"$f":"HOJA_CAPTURA!AJ186","v":0},{"$f":"HOJA_CAPTURA!AK186","v":0},{"$f":"HOJA_CAPTURA!AL186","v":0},{"$f":"HOJA_CAPTURA!AU186","v":0}]
[null,null,null,null,null,{"$f":"HOJA_CAPTURA!R186","v":"00:00:00"}]
[]
[null,"\"El presente inventario consta de __fojas y ampara la cantidad de __expedientes de los años de __al__, contenidos en__ cajas, con un peso aproximado de __kg.\""]
[null,null,{"$f":"HOJA_CAPTURA!F183","v":0},null,null,null,null,{"$f":"HOJA_CAPTURA!E183","v":0}]
["Nombre, firma, cargo y área de adscripción de la persona que formuló el inventario ",null,null,null,null,null,"Nombre, firma, cargo y área de adscripción de la persona que revisó el inventario"]
[null,{"$f":"HOJA_CAPTURA!D183","v":0}]
["Nombre y firma del titular de la unidad administrativa que autorizó el inventario",null,null,null,null,null,"Nombre y firma del responsable del archivo de concentración que recibe el inventario"]
[]
[]
[]
[]
[null,"           "]
["Fecha de transferencia:",null,null,{"$f":"TODAY()","v":"2024-08-13"},"Número de transferencia:",{"$f":"HOJA_CAPTURA!L187","v":0},null,null,null,null,null,null,null,"Hoja: 47 de ",{"$f":"O1130","v":0}]
["Unidad administrativa/Área productora: ",null,null,null,{"$f":"HOJA_CAPTURA!C187","v":0}]
[{"$f":"HOJA_CAPTURA!B187","v":"Fondo: INP"},null,"Sección:",{"$f":"HOJA_CAPTURA!G187","v":0},null,null,"Serie: ",{"$f":"HOJA_CAPTURA!H187","v":0}]
[null,null,null,null,null,null,"Subserie:",null,{"$f":"HOJA_CAPTURA!I187","v":0}]
["No. Consecutivo","No. de caja","No. de expediente","Clasificación archivística del expediente","Descripción o asunto ","                                                                                                                                                                                                                                                          Periodo de trámite","No.  de folios ","Valor documental",null,null,"Vigencia documental",null,null,"Condiciones de acceso (Reservada y confidencial)","Tradición documental "]
[null,null,null,null,null,null,null,"A","L","F/C","AT","AC","Total"]
[{"$f":"HOJA_CAPTURA!J187","v":0},{"$f":"HOJA_CAPTURA!K187","v":0},{"$f":"HOJA_CAPTURA!M187","v":0},{"$f":"HOJA_CAPTURA!N187","v":0},{"$f":"HOJA_CAPTURA!P187","v":0},{"$f":"HOJA_CAPTURA!Q187","v":"00:00:00"},{"$f":"HOJA_CAPTURA!V187","v":0},{"$f":"HOJA_CAPTURA!AF187","v":0},{"$f":"HOJA_CAPTURA!AG187","v":0},{"$f":"HOJA_CAPTURA!AH187","v":0},{"$f":"HOJA_CAPTURA!AI187","v":0},{"$f":"HOJA_CAPTURA!AJ187","v":0},{"$f":"HOJA_CAPTURA!AK187","v":0},{"$f":"HOJA_CAPTURA!AL187","v":0},{"$f":"HOJA_CAPTURA!AU187","v":0}]
[null,null,null,null,null,{"$f":"HOJA_CAPTURA!R187","v":"00:00:00"}]
[{"$f":"HOJA_CAPTURA!J188","v":0},{"$f":"HOJA_CAPTURA!K188","v":0},{"$f":"HOJA_CAPTURA!M188","v":0},{"$f":"HOJA_CAPTURA!N188","v":0},{"$f":"HOJA_CAPTURA!P188","v":0},{"$f":"HOJA_CAPTURA!Q188","v":"00:00:00"},{"$f":"HOJA_CAPTURA!V188","v":0},{"$f":"HOJA_CAPTURA!AF188","v":0},{"$f":"HOJA_CAPTURA!AG188","v":0},{"$f":"HOJA_CAPTURA!AH188","v":0},{"$f":"HOJA_CAPTURA!AI188","v":0},{"$f":"HOJA_CAPTURA!AJ188","v":0},{"$f":"HOJA_CAPTURA!AK188","v":0},{"$f":"HOJA_CAPTURA!AL188","v":0},{"$f":"HOJA_CAPTURA!AU188","v":0}]
[null,null,null,null,null,{"$f":"HOJA_CAPTURA!R188","v":"00:00:00"}]
[{"$f":"HOJA_CAPTURA!J189","v":0},{"$f":"HOJA_CAPTURA!K189","v":0},{"$f":"HOJA_CAPTURA!M189","v":0},{"$f":"HOJA_CAPTURA!N189","v":0},{"$f":"HOJA_CAPTURA!P189","v":0},{"$f":"HOJA_CAPTURA!Q189","v":"00:00:00"},{"$f":"HOJA_CAPTURA!V189","v":0},{"$f":"HOJA_CAPTURA!AF189","v":0},{"$f":"HOJA_CAPTURA!AG189","v":0},{"$f":"HOJA_CAPTURA!AH189","v":0},{"$f":"HOJA_CAPTURA!AI189","v":0},{"$f":"HOJA_CAPTURA!AJ189","v":0},{"$f":"HOJA_CAPTURA!AK189","v":0},{"$f":"HOJA_CAPTURA!AL189","v":0},{"$f":"HOJA_CAPTURA!AU189","v":0}]
[null,null,null,null,null,{"$f":"HOJA_CAPTURA!R189","v":"00:00:00"}]
[{"$f":"HOJA_CAPTURA!J190","v":0},{"$f":"HOJA_CAPTURA!K190","v":0},{"$f":"HOJA_CAPTURA!M190","v":0},{"$f":"HOJA_CAPTURA!N190","v":0},{"$f":"HOJA_CAPTURA!P190","v":0},{"$f":"HOJA_CAPTURA!Q190","v":"00:00:00"},{"$f":"HOJA_CAPTURA!V190","v":0},{"$f":"HOJA_CAPTURA!AF190","v":0},{"$f":"HOJA_CAPTURA!AG190","v":0},{"$f":"HOJA_CAPTURA!AH190","v":0},{"$f":"HOJA_CAPTURA!AI190","v":0},{"$f":"HOJA_CAPTURA!AJ190","v":0},{"$f":"HOJA_CAPTURA!AK190","v":0},{"$f":"HOJA_CAPTURA!AL190","v":0},{"$f":"HOJA_CAPTURA!AU190","v":0}]
[null,null,null,null,null,{"$f":"HOJA_CAPTURA!R190","v":"00:00:00"}]
[]
[null,"\"El presente inventario consta de __fojas y ampara la cantidad de __expedientes de los años de __al__, contenidos en__ cajas, con un peso aproximado de __kg.\""]
[null,null,{"$f":"HOJA_CAPTURA!F187","v":0},null,null,null,null,{"$f":"HOJA_CAPTURA!E187","v":0}]
["Nombre, firma, cargo y área de adscripción de la persona que formuló el inventario ",null,null,null,null,null,"Nombre, firma, cargo y área de adscripción de la persona que revisó el inventario"]
[null,{"$f":"HOJA_CAPTURA!D187","v":0}]
["Nombre y firma del titular de la unidad administrativa que autorizó el inventario",null,null,null,null,null,"Nombre y firma del responsable del archivo de concentración que recibe el inventario"]
[]
[]
[]
[]
[null,"           "]
["Fecha de transferencia:",null,null,{"$f":"TODAY()","v":"2024-08-13"},"Número de transferencia:",{"$f":"HOJA_CAPTURA!L191","v":0},null,null,null,null,null,null,null,"Hoja: 48 de ",{"$f":"O1155","v":0}]
["Unidad administrativa/Área productora: ",null,null,null,{"$f":"HOJA_CAPTURA!C191","v":0}]
[{"$f":"HOJA_CAPTURA!B191","v":"Fondo: INP"},null,"Sección:",{"$f":"HOJA_CAPTURA!G191","v":0},null,null,"Serie: ",{"$f":"HOJA_CAPTURA!H191","v":0}]
[null,null,null,null,null,null,"Subserie:",null,{"$f":"HOJA_CAPTURA!I191","v":0}]
["No. Consecutivo","No. de caja","No. de expediente","Clasificación archivística del expediente","Descripción o asunto ","                                                                                                                                                                                                                                                          Periodo de trámite","No.  de folios ","Valor documental",null,null,"Vigencia documental",null,null,"Condiciones de acceso (Reservada y confidencial)","Tradición documental "]
[null,null,null,null,null,null,null,"A","L","F/C","AT","AC","Total"]
[{"$f":"HOJA_CAPTURA!J191","v":0},{"$f":"HOJA_CAPTURA!K191","v":0},{"$f":"HOJA_CAPTURA!M191","v":0},{"$f":"HOJA_CAPTURA!N191","v":0},{"$f":"HOJA_CAPTURA!P191","v":0},{"$f":"HOJA_CAPTURA!Q191","v":"00:00:00"},{"$f":"HOJA_CAPTURA!V191","v":0},{"$f":"HOJA_CAPTURA!AF191","v":0},{"$f":"HOJA_CAPTURA!AG191","v":0},{"$f":"HOJA_CAPTURA!AH191","v":0},{"$f":"HOJA_CAPTURA!AI191","v":0},{"$f":"HOJA_CAPTURA!AJ191","v":0},{"$f":"HOJA_CAPTURA!AK191","v":0},{"$f":"HOJA_CAPTURA!AL191","v":0},{"$f":"HOJA_CAPTURA!AU191","v":0}]
[null,null,null,null,null,{"$f":"HOJA_CAPTURA!R191","v":"00:00:00"}]
[{"$f":"HOJA_CAPTURA!J192","v":0},{"$f":"HOJA_CAPTURA!K192","v":0},{"$f":"HOJA_CAPTURA!M192","v":0},{"$f":"HOJA_CAPTURA!N192","v":0},{"$f":"HOJA_CAPTURA!P192","v":0},{"$f":"HOJA_CAPTURA!Q192","v":"00:00:00"},{"$f":"HOJA_CAPTURA!V192","v":0},{"$f":"HOJA_CAPTURA!AF192","v":0},{"$f":"HOJA_CAPTURA!AG192","v":0},{"$f":"HOJA_CAPTURA!AH192","v":0},{"$f":"HOJA_CAPTURA!AI192","v":0},{"$f":"HOJA_CAPTURA!AJ192","v":0},{"$f":"HOJA_CAPTURA!AK192","v":0},{"$f":"HOJA_CAPTURA!AL192","v":0},{"$f":"HOJA_CAPTURA!AU192","v":0}]
[null,null,null,null,null,{"$f":"HOJA_CAPTURA!R192","v":"00:00:00"}]
[{"$f":"HOJA_CAPTURA!J193","v":0},{"$f":"HOJA_CAPTURA!K193","v":0},{"$f":"HOJA_CAPTURA!M193","v":0},{"$f":"HOJA_CAPTURA!N193","v":0},{"$f":"HOJA_CAPTURA!P193","v":0},{"$f":"HOJA_CAPTURA!Q193","v":"00:00:00"},{"$f":"HOJA_CAPTURA!V193","v":0},{"$f":"HOJA_CAPTURA!AF193","v":0},{"$f":"HOJA_CAPTURA!AG193","v":0},{"$f":"HOJA_CAPTURA!AH193","v":0},{"$f":"HOJA_CAPTURA!AI193","v":0},{"$f":"HOJA_CAPTURA!AJ193","v":0},{"$f":"HOJA_CAPTURA!AK193","v":0},{"$f":"HOJA_CAPTURA!AL193","v":0},{"$f":"HOJA_CAPTURA!AU193","v":0}]
[null,null,null,null,null,{"$f":"HOJA_CAPTURA!R193","v":"00:00:00"}]
[{"$f":"HOJA_CAPTURA!J194","v":0},{"$f":"HOJA_CAPTURA!K194","v":0},{"$f":"HOJA_CAPTURA!M194","v":0},{"$f":"HOJA_CAPTURA!N194","v":0},{"$f":"HOJA_CAPTURA!P194","v":0},{"$f":"HOJA_CAPTURA!Q194","v":"00:00:00"},{"$f":"HOJA_CAPTURA!V194","v":0},{"$f":"HOJA_CAPTURA!AF194","v":0},{"$f":"HOJA_CAPTURA!AG194","v":0},{"$f":"HOJA_CAPTURA!AH194","v":0},{"$f":"HOJA_CAPTURA!AI194","v":0},{"$f":"HOJA_CAPTURA!AJ194","v":0},{"$f":"HOJA_CAPTURA!AK194","v":0},{"$f":"HOJA_CAPTURA!AL194","v":0},{"$f":"HOJA_CAPTURA!AU194","v":0}]
[null,null,null,null,null,{"$f":"HOJA_CAPTURA!R194","v":"00:00:00"}]
[]
[null,"\"El presente inventario consta de __fojas y ampara la cantidad de __expedientes de los años de __al__, contenidos en__ cajas, con un peso aproximado de __kg.\""]
[null,null,{"$f":"HOJA_CAPTURA!F191","v":0},null,null,null,null,{"$f":"HOJA_CAPTURA!E191","v":0}]
["Nombre, firma, cargo y área de adscripción de la persona que formuló el inventario ",null,null,null,null,null,"Nombre, firma, cargo y área de adscripción de la persona que revisó el inventario"]
[null,{"$f":"HOJA_CAPTURA!D191","v":0}]
["Nombre y firma del titular de la unidad administrativa que autorizó el inventario",null,null,null,null,null,"Nombre y firma del responsable del archivo de concentración que recibe el inventario"]
[]
[]
[]
[]
[null,"           "]
["Fecha de transferencia:",null,null,{"$f":"TODAY()","v":"2024-08-13"},"Número de transferencia:",{"$f":"HOJA_CAPTURA!L195","v":0},null,null,null,null,null,null,null,"Hoja: 49 de ",{"$f":"O1180","v":0}]
["Unidad administrativa/Área productora: ",null,null,null,{"$f":"HOJA_CAPTURA!C195","v":0}]
[{"$f":"HOJA_CAPTURA!B195","v":"Fondo: INP"},null,"Sección:",{"$f":"HOJA_CAPTURA!G195","v":0},null,null,"Serie: ",{"$f":"HOJA_CAPTURA!H195","v":0}]
[null,null,null,null,null,null,"Subserie:",null,{"$f":"HOJA_CAPTURA!I195","v":0}]
["No. Consecutivo","No. de caja","No. de expediente","Clasificación archivística del expediente","Descripción o asunto ","                                                                                                                                                                                                                                                          Periodo de trámite","No.  de folios ","Valor documental",null,null,"Vigencia documental",null,null,"Condiciones de acceso (Reservada y confidencial)","Tradición documental "]
[null,null,null,null,null,null,null,"A","L","F/C","AT","AC","Total"]
[{"$f":"HOJA_CAPTURA!J195","v":0},{"$f":"HOJA_CAPTURA!K195","v":0},{"$f":"HOJA_CAPTURA!M195","v":0},{"$f":"HOJA_CAPTURA!N195","v":0},{"$f":"HOJA_CAPTURA!P195","v":0},{"$f":"HOJA_CAPTURA!Q195","v":"00:00:00"},{"$f":"HOJA_CAPTURA!V195","v":0},{"$f":"HOJA_CAPTURA!AF195","v":0},{"$f":"HOJA_CAPTURA!AG195","v":0},{"$f":"HOJA_CAPTURA!AH195","v":0},{"$f":"HOJA_CAPTURA!AI195","v":0},{"$f":"HOJA_CAPTURA!AJ195","v":0},{"$f":"HOJA_CAPTURA!AK195","v":0},{"$f":"HOJA_CAPTURA!AL195","v":0},{"$f":"HOJA_CAPTURA!AU195","v":0}]
[null,null,null,null,null,{"$f":"HOJA_CAPTURA!R195","v":"00:00:00"}]
[{"$f":"HOJA_CAPTURA!J196","v":0},{"$f":"HOJA_CAPTURA!K196","v":0},{"$f":"HOJA_CAPTURA!M196","v":0},{"$f":"HOJA_CAPTURA!N196","v":0},{"$f":"HOJA_CAPTURA!P196","v":0},{"$f":"HOJA_CAPTURA!Q196","v":"00:00:00"},{"$f":"HOJA_CAPTURA!V196","v":0},{"$f":"HOJA_CAPTURA!AF196","v":0},{"$f":"HOJA_CAPTURA!AG196","v":0},{"$f":"HOJA_CAPTURA!AH196","v":0},{"$f":"HOJA_CAPTURA!AI196","v":0},{"$f":"HOJA_CAPTURA!AJ196","v":0},{"$f":"HOJA_CAPTURA!AK196","v":0},{"$f":"HOJA_CAPTURA!AL196","v":0},{"$f":"HOJA_CAPTURA!AU196","v":0}]
[null,null,null,null,null,{"$f":"HOJA_CAPTURA!R196","v":"00:00:00"}]
[{"$f":"HOJA_CAPTURA!J197","v":0},{"$f":"HOJA_CAPTURA!K197","v":0},{"$f":"HOJA_CAPTURA!M197","v":0},{"$f":"HOJA_CAPTURA!N197","v":0},{"$f":"HOJA_CAPTURA!P197","v":0},{"$f":"HOJA_CAPTURA!Q197","v":"00:00:00"},{"$f":"HOJA_CAPTURA!V197","v":0},{"$f":"HOJA_CAPTURA!AF197","v":0},{"$f":"HOJA_CAPTURA!AG197","v":0},{"$f":"HOJA_CAPTURA!AH197","v":0},{"$f":"HOJA_CAPTURA!AI197","v":0},{"$f":"HOJA_CAPTURA!AJ197","v":0},{"$f":"HOJA_CAPTURA!AK197","v":0},{"$f":"HOJA_CAPTURA!AL197","v":0},{"$f":"HOJA_CAPTURA!AU197","v":0}]
[null,null,null,null,null,{"$f":"HOJA_CAPTURA!R197","v":"00:00:00"}]
[{"$f":"HOJA_CAPTURA!J198","v":0},{"$f":"HOJA_CAPTURA!K198","v":0},{"$f":"HOJA_CAPTURA!M198","v":0},{"$f":"HOJA_CAPTURA!N198","v":0},{"$f":"HOJA_CAPTURA!P198","v":0},{"$f":"HOJA_CAPTURA!Q198","v":"00:00:00"},{"$f":"HOJA_CAPTURA!V198","v":0},{"$f":"HOJA_CAPTURA!AF198","v":0},{"$f":"HOJA_CAPTURA!AG198","v":0},{"$f":"HOJA_CAPTURA!AH198","v":0},{"$f":"HOJA_CAPTURA!AI198","v":0},{"$f":"HOJA_CAPTURA!AJ198","v":0},{"$f":"HOJA_CAPTURA!AK198","v":0},{"$f":"HOJA_CAPTURA!AL198","v":0},{"$f":"HOJA_CAPTURA!AU198","v":0}]
[null,null,null,null,null,{"$f":"HOJA_CAPTURA!R198","v":"00:00:00"}]
[]
[null,"\"El presente inventario consta de __fojas y ampara la cantidad de __expedientes de los años de __al__, contenidos en__ cajas, con un peso aproximado de __kg.\""]
[null,null,{"$f":"HOJA_CAPTURA!F195","v":0},null,null,null,null,{"$f":"HOJA_CAPTURA!E195","v":0}]
["Nombre, firma, cargo y área de adscripción de la persona que formuló el inventario ",null,null,null,null,null,"Nombre, firma, cargo y área de adscripción de la persona que revisó el inventario"]
[null,{"$f":"HOJA_CAPTURA!D195","v":0}]
["Nombre y firma del titular de la unidad administrativa que autorizó el inventario",null,null,null,null,null,"Nombre y firma del responsable del archivo de concentración que recibe el inventario"]
[]
[]
[]
[]
[null,"           "]
["Fecha de transferencia:",null,null,{"$f":"TODAY()","v":"2024-08-13"},"Número de transferencia:",{"$f":"HOJA_CAPTURA!L199","v":0},null,null,null,null,null,null,null,"Hoja: 50 de ",{"$f":"O1205","v":0}]
["Unidad administrativa/Área productora: ",null,null,null,{"$f":"HOJA_CAPTURA!C199","v":0}]
[{"$f":"HOJA_CAPTURA!B199","v":"Fondo: INP"},null,"Sección:",{"$f":"HOJA_CAPTURA!G199","v":0},null,null,"Serie: ",{"$f":"HOJA_CAPTURA!H199","v":0}]
[null,null,null,null,null,null,"Subserie:",null,{"$f":"HOJA_CAPTURA!I199","v":0}]
["No. Consecutivo","No. de caja","No. de expediente","Clasificación archivística del expediente","Descripción o asunto ","                                                                                                                                                                                                                                                          Periodo de trámite","No.  de folios ","Valor documental",null,null,"Vigencia documental",null,null,"Condiciones de acceso (Reservada y confidencial)","Tradición documental "]
[null,null,null,null,null,null,null,"A","L","F/C","AT","AC","Total"]
[{"$f":"HOJA_CAPTURA!J199","v":0},{"$f":"HOJA_CAPTURA!K199","v":0},{"$f":"HOJA_CAPTURA!M199","v":0},{"$f":"HOJA_CAPTURA!N199","v":0},{"$f":"HOJA_CAPTURA!P199","v":0},{"$f":"HOJA_CAPTURA!Q199","v":"00:00:00"},{"$f":"HOJA_CAPTURA!V199","v":0},{"$f":"HOJA_CAPTURA!AF199","v":0},{"$f":"HOJA_CAPTURA!AG199","v":0},{"$f":"HOJA_CAPTURA!AH199","v":0},{"$f":"HOJA_CAPTURA!AI199","v":0},{"$f":"HOJA_CAPTURA!AJ199","v":0},{"$f":"HOJA_CAPTURA!AK199","v":0},{"$f":"HOJA_CAPTURA!AL199","v":0},{"$f":"HOJA_CAPTURA!AU199","v":0}]
[null,null,null,null,null,{"$f":"HOJA_CAPTURA!R199","v":"00:00:00"}]
[{"$f":"HOJA_CAPTURA!J200","v":0},{"$f":"HOJA_CAPTURA!K200","v":0},{"$f":"HOJA_CAPTURA!M200","v":0},{"$f":"HOJA_CAPTURA!N200","v":0},{"$f":"HOJA_CAPTURA!P200","v":0},{"$f":"HOJA_CAPTURA!Q200","v":"00:00:00"},{"$f":"HOJA_CAPTURA!V200","v":0},{"$f":"HOJA_CAPTURA!AF200","v":0},{"$f":"HOJA_CAPTURA!AG200","v":0},{"$f":"HOJA_CAPTURA!AH200","v":0},{"$f":"HOJA_CAPTURA!AI200","v":0},{"$f":"HOJA_CAPTURA!AJ200","v":0},{"$f":"HOJA_CAPTURA!AK200","v":0},{"$f":"HOJA_CAPTURA!AL200","v":0},{"$f":"HOJA_CAPTURA!AU200","v":0}]
[null,null,null,null,null,{"$f":"HOJA_CAPTURA!R200","v":"00:00:00"}]
[{"$f":"HOJA_CAPTURA!J201","v":0},{"$f":"HOJA_CAPTURA!K201","v":0},{"$f":"HOJA_CAPTURA!M201","v":0},{"$f":"HOJA_CAPTURA!N201","v":0},{"$f":"HOJA_CAPTURA!P201","v":0},{"$f":"HOJA_CAPTURA!Q201","v":"00:00:00"},{"$f":"HOJA_CAPTURA!V201","v":0},{"$f":"HOJA_CAPTURA!AF201","v":0},{"$f":"HOJA_CAPTURA!AG201","v":0},{"$f":"HOJA_CAPTURA!AH201","v":0},{"$f":"HOJA_CAPTURA!AI201","v":0},{"$f":"HOJA_CAPTURA!AJ201","v":0},{"$f":"HOJA_CAPTURA!AK201","v":0},{"$f":"HOJA_CAPTURA!AL201","v":0},{"$f":"HOJA_CAPTURA!AU201","v":0}]
[null,null,null,null,null,{"$f":"HOJA_CAPTURA!R201","v":"00:00:00"}]
[{"$f":"HOJA_CAPTURA!J202","v":0},{"$f":"HOJA_CAPTURA!K202","v":0},{"$f":"HOJA_CAPTURA!M202","v":0},{"$f":"HOJA_CAPTURA!N202","v":0},{"$f":"HOJA_CAPTURA!P202","v":0},{"$f":"HOJA_CAPTURA!Q202","v":"00:00:00"},{"$f":"HOJA_CAPTURA!V202","v":0},{"$f":"HOJA_CAPTURA!AF202","v":0},{"$f":"HOJA_CAPTURA!AG202","v":0},{"$f":"HOJA_CAPTURA!AH202","v":0},{"$f":"HOJA_CAPTURA!AI202","v":0},{"$f":"HOJA_CAPTURA!AJ202","v":0},{"$f":"HOJA_CAPTURA!AK202","v":0},{"$f":"HOJA_CAPTURA!AL202","v":0},{"$f":"HOJA_CAPTURA!AU202","v":0}]
[null,null,null,null,null,{"$f":"HOJA_CAPTURA!R202","v":"00:00:00"}]
[]
[null,"\"El presente inventario consta de __fojas y ampara la cantidad de __expedientes de los años de __al__, contenidos en__ cajas, con un peso aproximado de __kg.\""]
[null,null,{"$f":"HOJA_CAPTURA!F199","v":0},null,null,null,null,{"$f":"HOJA_CAPTURA!E199","v":0}]
["Nombre, firma, cargo y área de adscripción de la persona que formuló el inventario ",null,null,null,null,null,"Nombre, firma, cargo y área de adscripción de la persona que revisó el inventario"]
[null,{"$f":"HOJA_CAPTURA!D199","v":0}]
["Nombre y firma del titular de la unidad administrativa que autorizó el inventario",null,null,null,null,null,"Nombre y firma del responsable del archivo de concentración que recibe el inventario"]
[]
[]
[]
[]
[null,"           "]
["Fecha de transferencia:",null,null,{"$f":"TODAY()","v":"2024-08-13"},"Número de transferencia:",{"$f":"HOJA_CAPTURA!L203","v":0},null,null,null,null,null,null,null,"Hoja: 51 de ",{"$f":"O1230","v":0}]
["Unidad administrativa/Área productora: ",null,null,null,{"$f":"HOJA_CAPTURA!C203","v":0}]
[{"$f":"HOJA_CAPTURA!B203","v":"Fondo: INP"},null,"Sección:",{"$f":"HOJA_CAPTURA!G203","v":0},null,null,"Serie: ",{"$f":"HOJA_CAPTURA!H203","v":0}]
[null,null,null,null,null,null,"Subserie:",null,{"$f":"HOJA_CAPTURA!I203","v":0}]
["No. Consecutivo","No. de caja","No. de expediente","Clasificación archivística del expediente","Descripción o asunto ","                                                                                                                                                                                                                                                          Periodo de trámite","No.  de folios ","Valor documental",null,null,"Vigencia documental",null,null,"Condiciones de acceso (Reservada y confidencial)","Tradición documental "]
[null,null,null,null,null,null,null,"A","L","F/C","AT","AC","Total"]
[{"$f":"HOJA_CAPTURA!J203","v":0},{"$f":"HOJA_CAPTURA!K203","v":0},{"$f":"HOJA_CAPTURA!M203","v":0},{"$f":"HOJA_CAPTURA!N203","v":0},{"$f":"HOJA_CAPTURA!P203","v":0},{"$f":"HOJA_CAPTURA!Q203","v":"00:00:00"},{"$f":"HOJA_CAPTURA!V203","v":0},{"$f":"HOJA_CAPTURA!AF203","v":0},{"$f":"HOJA_CAPTURA!AG203","v":0},{"$f":"HOJA_CAPTURA!AH203","v":0},{"$f":"HOJA_CAPTURA!AI203","v":0},{"$f":"HOJA_CAPTURA!AJ203","v":0},{"$f":"HOJA_CAPTURA!AK203","v":0},{"$f":"HOJA_CAPTURA!AL203","v":0},{"$f":"HOJA_CAPTURA!AU203","v":0}]
[null,null,null,null,null,{"$f":"HOJA_CAPTURA!R203","v":"00:00:00"}]
[{"$f":"HOJA_CAPTURA!J204","v":0},{"$f":"HOJA_CAPTURA!K204","v":0},{"$f":"HOJA_CAPTURA!M204","v":0},{"$f":"HOJA_CAPTURA!N204","v":0},{"$f":"HOJA_CAPTURA!P204","v":0},{"$f":"HOJA_CAPTURA!Q204","v":"00:00:00"},{"$f":"HOJA_CAPTURA!V204","v":0},{"$f":"HOJA_CAPTURA!AF204","v":0},{"$f":"HOJA_CAPTURA!AG204","v":0},{"$f":"HOJA_CAPTURA!AH204","v":0},{"$f":"HOJA_CAPTURA!AI204","v":0},{"$f":"HOJA_CAPTURA!AJ204","v":0},{"$f":"HOJA_CAPTURA!AK204","v":0},{"$f":"HOJA_CAPTURA!AL204","v":0},{"$f":"HOJA_CAPTURA!AU204","v":0}]
[null,null,null,null,null,{"$f":"HOJA_CAPTURA!R204","v":"00:00:00"}]
[{"$f":"HOJA_CAPTURA!J205","v":0},{"$f":"HOJA_CAPTURA!K205","v":0},{"$f":"HOJA_CAPTURA!M205","v":0},{"$f":"HOJA_CAPTURA!N205","v":0},{"$f":"HOJA_CAPTURA!P205","v":0},{"$f":"HOJA_CAPTURA!Q205","v":"00:00:00"},{"$f":"HOJA_CAPTURA!V205","v":0},{"$f":"HOJA_CAPTURA!AF205","v":0},{"$f":"HOJA_CAPTURA!AG205","v":0},{"$f":"HOJA_CAPTURA!AH205","v":0},{"$f":"HOJA_CAPTURA!AI205","v":0},{"$f":"HOJA_CAPTURA!AJ205","v":0},{"$f":"HOJA_CAPTURA!AK205","v":0},{"$f":"HOJA_CAPTURA!AL205","v":0},{"$f":"HOJA_CAPTURA!AU205","v":0}]
[null,null,null,null,null,{"$f":"HOJA_CAPTURA!R205","v":"00:00:00"}]
[{"$f":"HOJA_CAPTURA!J206","v":0},{"$f":"HOJA_CAPTURA!K206","v":0},{"$f":"HOJA_CAPTURA!M206","v":0},{"$f":"HOJA_CAPTURA!N206","v":0},{"$f":"HOJA_CAPTURA!P206","v":0},{"$f":"HOJA_CAPTURA!Q206","v":"00:00:00"},{"$f":"HOJA_CAPTURA!V206","v":0},{"$f":"HOJA_CAPTURA!AF206","v":0},{"$f":"HOJA_CAPTURA!AG206","v":0},{"$f":"HOJA_CAPTURA!AH206","v":0},{"$f":"HOJA_CAPTURA!AI206","v":0},{"$f":"HOJA_CAPTURA!AJ206","v":0},{"$f":"HOJA_CAPTURA!AK206","v":0},{"$f":"HOJA_CAPTURA!AL206","v":0},{"$f":"HOJA_CAPTURA!AU206","v":0}]
[null,null,null,null,null,{"$f":"HOJA_CAPTURA!R206","v":"00:00:00"}]
[]
[null,"\"El presente inventario consta de __fojas y ampara la cantidad de __expedientes de los años de __al__, contenidos en__ cajas, con un peso aproximado de __kg.\""]
[null,null,{"$f":"HOJA_CAPTURA!F203","v":0},null,null,null,null,{"$f":"HOJA_CAPTURA!E203","v":0}]
["Nombre, firma, cargo y área de adscripción de la persona que formuló el inventario ",null,null,null,null,null,"Nombre, firma, cargo y área de adscripción de la persona que revisó el inventario"]
[null,{"$f":"HOJA_CAPTURA!D203","v":0}]
["Nombre y firma del titular de la unidad administrativa que autorizó el inventario",null,null,null,null,null,"Nombre y firma del responsable del archivo de concentración que recibe el inventario"]
[]
[]
[]
[]
[null,"           "]
["Fecha de transferencia:",null,null,{"$f":"TODAY()","v":"2024-08-13"},"Número de transferencia:",{"$f":"HOJA_CAPTURA!L207","v":0},null,null,null,null,null,null,null,"Hoja: 52 de ",{"$f":"O1255","v":0}]
["Unidad administrativa/Área productora: ",null,null,null,{"$f":"HOJA_CAPTURA!C207","v":0}]
[{"$f":"HOJA_CAPTURA!B207","v":"Fondo: INP"},null,"Sección:",{"$f":"HOJA_CAPTURA!G207","v":0},null,null,"Serie: ",{"$f":"HOJA_CAPTURA!H207","v":0}]
[null,null,null,null,null,null,"Subserie:",null,{"$f":"HOJA_CAPTURA!I207","v":0}]
["No. Consecutivo","No. de caja","No. de expediente","Clasificación archivística del expediente","Descripción o asunto ","                                                                                                                                                                                                                                                          Periodo de trámite","No.  de folios ","Valor documental",null,null,"Vigencia documental",null,null,"Condiciones de acceso (Reservada y confidencial)","Tradición documental "]
[null,null,null,null,null,null,null,"A","L","F/C","AT","AC","Total"]
[{"$f":"HOJA_CAPTURA!J207","v":0},{"$f":"HOJA_CAPTURA!K207","v":0},{"$f":"HOJA_CAPTURA!M207","v":0},{"$f":"HOJA_CAPTURA!N207","v":0},{"$f":"HOJA_CAPTURA!P207","v":0},{"$f":"HOJA_CAPTURA!Q207","v":"00:00:00"},{"$f":"HOJA_CAPTURA!V207","v":0},{"$f":"HOJA_CAPTURA!AF207","v":0},{"$f":"HOJA_CAPTURA!AG207","v":0},{"$f":"HOJA_CAPTURA!AH207","v":0},{"$f":"HOJA_CAPTURA!AI207","v":0},{"$f":"HOJA_CAPTURA!AJ207","v":0},{"$f":"HOJA_CAPTURA!AK207","v":0},{"$f":"HOJA_CAPTURA!AL207","v":0},{"$f":"HOJA_CAPTURA!AU207","v":0}]
[null,null,null,null,null,{"$f":"HOJA_CAPTURA!R207","v":"00:00:00"}]
[{"$f":"HOJA_CAPTURA!J208","v":0},{"$f":"HOJA_CAPTURA!K208","v":0},{"$f":"HOJA_CAPTURA!M208","v":0},{"$f":"HOJA_CAPTURA!N208","v":0},{"$f":"HOJA_CAPTURA!P208","v":0},{"$f":"HOJA_CAPTURA!Q208","v":"00:00:00"},{"$f":"HOJA_CAPTURA!V208","v":0},{"$f":"HOJA_CAPTURA!AF208","v":0},{"$f":"HOJA_CAPTURA!AG208","v":0},{"$f":"HOJA_CAPTURA!AH208","v":0},{"$f":"HOJA_CAPTURA!AI208","v":0},{"$f":"HOJA_CAPTURA!AJ208","v":0},{"$f":"HOJA_CAPTURA!AK208","v":0},{"$f":"HOJA_CAPTURA!AL208","v":0},{"$f":"HOJA_CAPTURA!AU208","v":0}]
[null,null,null,null,null,{"$f":"HOJA_CAPTURA!R208","v":"00:00:00"}]
[{"$f":"HOJA_CAPTURA!J209","v":0},{"$f":"HOJA_CAPTURA!K209","v":0},{"$f":"HOJA_CAPTURA!M209","v":0},{"$f":"HOJA_CAPTURA!N209","v":0},{"$f":"HOJA_CAPTURA!P209","v":0},{"$f":"HOJA_CAPTURA!Q209","v":"00:00:00"},{"$f":"HOJA_CAPTURA!V209","v":0},{"$f":"HOJA_CAPTURA!AF209","v":0},{"$f":"HOJA_CAPTURA!AG209","v":0},{"$f":"HOJA_CAPTURA!AH209","v":0},{"$f":"HOJA_CAPTURA!AI209","v":0},{"$f":"HOJA_CAPTURA!AJ209","v":0},{"$f":"HOJA_CAPTURA!AK209","v":0},{"$f":"HOJA_CAPTURA!AL209","v":0},{"$f":"HOJA_CAPTURA!AU209","v":0}]
[null,null,null,null,null,{"$f":"HOJA_CAPTURA!R209","v":"00:00:00"}]
[{"$f":"HOJA_CAPTURA!J210","v":0},{"$f":"HOJA_CAPTURA!K210","v":0},{"$f":"HOJA_CAPTURA!M210","v":0},{"$f":"HOJA_CAPTURA!N210","v":0},{"$f":"HOJA_CAPTURA!P210","v":0},{"$f":"HOJA_CAPTURA!Q210","v":"00:00:00"},{"$f":"HOJA_CAPTURA!V210","v":0},{"$f":"HOJA_CAPTURA!AF210","v":0},{"$f":"HOJA_CAPTURA!AG210","v":0},{"$f":"HOJA_CAPTURA!AH210","v":0},{"$f":"HOJA_CAPTURA!AI210","v":0},{"$f":"HOJA_CAPTURA!AJ210","v":0},{"$f":"HOJA_CAPTURA!AK210","v":0},{"$f":"HOJA_CAPTURA!AL210","v":0},{"$f":"HOJA_CAPTURA!AU210","v":0}]
[null,null,null,null,null,{"$f":"HOJA_CAPTURA!R210","v":"00:00:00"}]
[]
[null,"\"El presente inventario consta de __fojas y ampara la cantidad de __expedientes de los años de __al__, contenidos en__ cajas, con un peso aproximado de __kg.\""]
[null,null,{"$f":"HOJA_CAPTURA!F207","v":0},null,null,null,null,{"$f":"HOJA_CAPTURA!E207","v":0}]
["Nombre, firma, cargo y área de adscripción de la persona que formuló el inventario ",null,null,null,null,null,"Nombre, firma, cargo y área de adscripción de la persona que revisó el inventario"]
[null,{"$f":"HOJA_CAPTURA!D207","v":0}]
["Nombre y firma del titular de la unidad administrativa que autorizó el inventario",null,null,null,null,null,"Nombre y firma del responsable del archivo de concentración que recibe el inventario"]
[]
[]
[]
[]
[null,"           "]
["Fecha de transferencia:",null,null,{"$f":"TODAY()","v":"2024-08-13"},"Número de transferencia:",{"$f":"HOJA_CAPTURA!L211","v":0},null,null,null,null,null,null,null,"Hoja: 53 de ",{"$f":"O1280","v":0}]
["Unidad administrativa/Área productora: ",null,null,null,{"$f":"HOJA_CAPTURA!C211","v":0}]
[{"$f":"HOJA_CAPTURA!B211","v":"Fondo: INP"},null,"Sección:",{"$f":"HOJA_CAPTURA!G211","v":0},null,null,"Serie: ",{"$f":"HOJA_CAPTURA!H211","v":0}]
[null,null,null,null,null,null,"Subserie:",null,{"$f":"HOJA_CAPTURA!I211","v":0}]
["No. Consecutivo","No. de caja","No. de expediente","Clasificación archivística del expediente","Descripción o asunto ","                                                                                                                                                                                                                                                          Periodo de trámite","No.  de folios ","Valor documental",null,null,"Vigencia documental",null,null,"Condiciones de acceso (Reservada y confidencial)","Tradición documental "]
[null,null,null,null,null,null,null,"A","L","F/C","AT","AC","Total"]
[{"$f":"HOJA_CAPTURA!J211","v":0},{"$f":"HOJA_CAPTURA!K211","v":0},{"$f":"HOJA_CAPTURA!M211","v":0},{"$f":"HOJA_CAPTURA!N211","v":0},{"$f":"HOJA_CAPTURA!P211","v":0},{"$f":"HOJA_CAPTURA!Q211","v":"00:00:00"},{"$f":"HOJA_CAPTURA!V211","v":0},{"$f":"HOJA_CAPTURA!AF211","v":0},{"$f":"HOJA_CAPTURA!AG211","v":0},{"$f":"HOJA_CAPTURA!AH211","v":0},{"$f":"HOJA_CAPTURA!AI211","v":0},{"$f":"HOJA_CAPTURA!AJ211","v":0},{"$f":"HOJA_CAPTURA!AK211","v":0},{"$f":"HOJA_CAPTURA!AL211","v":0},{"$f":"HOJA_CAPTURA!AU211","v":0}]
[null,null,null,null,null,{"$f":"HOJA_CAPTURA!R211","v":"00:00:00"}]
[{"$f":"HOJA_CAPTURA!J212","v":0},{"$f":"HOJA_CAPTURA!K212","v":0},{"$f":"HOJA_CAPTURA!M212","v":0},{"$f":"HOJA_CAPTURA!N212","v":0},{"$f":"HOJA_CAPTURA!P212","v":0},{"$f":"HOJA_CAPTURA!Q212","v":"00:00:00"},{"$f":"HOJA_CAPTURA!V212","v":0},{"$f":"HOJA_CAPTURA!AF212","v":0},{"$f":"HOJA_CAPTURA!AG212","v":0},{"$f":"HOJA_CAPTURA!AH212","v":0},{"$f":"HOJA_CAPTURA!AI212","v":0},{"$f":"HOJA_CAPTURA!AJ212","v":0},{"$f":"HOJA_CAPTURA!AK212","v":0},{"$f":"HOJA_CAPTURA!AL212","v":0},{"$f":"HOJA_CAPTURA!AU212","v":0}]
[null,null,null,null,null,{"$f":"HOJA_CAPTURA!R212","v":"00:00:00"}]
[{"$f":"HOJA_CAPTURA!J213","v":0},{"$f":"HOJA_CAPTURA!K213","v":0},{"$f":"HOJA_CAPTURA!M213","v":0},{"$f":"HOJA_CAPTURA!N213","v":0},{"$f":"HOJA_CAPTURA!P213","v":0},{"$f":"HOJA_CAPTURA!Q213","v":"00:00:00"},{"$f":"HOJA_CAPTURA!V213","v":0},{"$f":"HOJA_CAPTURA!AF213","v":0},{"$f":"HOJA_CAPTURA!AG213","v":0},{"$f":"HOJA_CAPTURA!AH213","v":0},{"$f":"HOJA_CAPTURA!AI213","v":0},{"$f":"HOJA_CAPTURA!AJ213","v":0},{"$f":"HOJA_CAPTURA!AK213","v":0},{"$f":"HOJA_CAPTURA!AL213","v":0},{"$f":"HOJA_CAPTURA!AU213","v":0}]
[null,null,null,null,null,{"$f":"HOJA_CAPTURA!R213","v":"00:00:00"}]
[{"$f":"HOJA_CAPTURA!J214","v":0},{"$f":"HOJA_CAPTURA!K214","v":0},{"$f":"HOJA_CAPTURA!M214","v":0},{"$f":"HOJA_CAPTURA!N214","v":0},{"$f":"HOJA_CAPTURA!P214","v":0},{"$f":"HOJA_CAPTURA!Q214","v":"00:00:00"},{"$f":"HOJA_CAPTURA!V214","v":0},{"$f":"HOJA_CAPTURA!AF214","v":0},{"$f":"HOJA_CAPTURA!AG214","v":0},{"$f":"HOJA_CAPTURA!AH214","v":0},{"$f":"HOJA_CAPTURA!AI214","v":0},{"$f":"HOJA_CAPTURA!AJ214","v":0},{"$f":"HOJA_CAPTURA!AK214","v":0},{"$f":"HOJA_CAPTURA!AL214","v":0},{"$f":"HOJA_CAPTURA!AU214","v":0}]
[null,null,null,null,null,{"$f":"HOJA_CAPTURA!R214","v":"00:00:00"}]
[]
[null,"\"El presente inventario consta de __fojas y ampara la cantidad de __expedientes de los años de __al__, contenidos en__ cajas, con un peso aproximado de __kg.\""]
[null,null,{"$f":"HOJA_CAPTURA!F211","v":0},null,null,null,null,{"$f":"HOJA_CAPTURA!E211","v":0}]
["Nombre, firma, cargo y área de adscripción de la persona que formuló el inventario ",null,null,null,null,null,"Nombre, firma, cargo y área de adscripción de la persona que revisó el inventario"]
[null,{"$f":"HOJA_CAPTURA!D211","v":0}]
["Nombre y firma del titular de la unidad administrativa que autorizó el inventario",null,null,null,null,null,"Nombre y firma del responsable del archivo de concentración que recibe el inventario"]
[]
[]
[]
[]
[null,"           "]
["Fecha de transferencia:",null,null,{"$f":"TODAY()","v":"2024-08-13"},"Número de transferencia:",{"$f":"HOJA_CAPTURA!L215","v":0},null,null,null,null,null,null,null,"Hoja: 54 de ",{"$f":"O1305","v":0}]
["Unidad administrativa/Área productora: ",null,null,null,{"$f":"HOJA_CAPTURA!C215","v":0}]
[{"$f":"HOJA_CAPTURA!B215","v":"Fondo: INP"},null,"Sección:",{"$f":"HOJA_CAPTURA!G215","v":0},null,null,"Serie: ",{"$f":"HOJA_CAPTURA!H215","v":0}]
[null,null,null,null,null,null,"Subserie:",null,{"$f":"HOJA_CAPTURA!I215","v":0}]
["No. Consecutivo","No. de caja","No. de expediente","Clasificación archivística del expediente","Descripción o asunto ","                                                                                                                                                                                                                                                          Periodo de trámite","No.  de folios ","Valor documental",null,null,"Vigencia documental",null,null,"Condiciones de acceso (Reservada y confidencial)","Tradición documental "]
[null,null,null,null,null,null,null,"A","L","F/C","AT","AC","Total"]
[{"$f":"HOJA_CAPTURA!J215","v":0},{"$f":"HOJA_CAPTURA!K215","v":0},{"$f":"HOJA_CAPTURA!M215","v":0},{"$f":"HOJA_CAPTURA!N215","v":0},{"$f":"HOJA_CAPTURA!P215","v":0},{"$f":"HOJA_CAPTURA!Q215","v":"00:00:00"},{"$f":"HOJA_CAPTURA!V215","v":0},{"$f":"HOJA_CAPTURA!AF215","v":0},{"$f":"HOJA_CAPTURA!AG215","v":0},{"$f":"HOJA_CAPTURA!AH215","v":0},{"$f":"HOJA_CAPTURA!AI215","v":0},{"$f":"HOJA_CAPTURA!AJ215","v":0},{"$f":"HOJA_CAPTURA!AK215","v":0},{"$f":"HOJA_CAPTURA!AL215","v":0},{"$f":"HOJA_CAPTURA!AU215","v":0}]
[null,null,null,null,null,{"$f":"HOJA_CAPTURA!R215","v":"00:00:00"}]
[{"$f":"HOJA_CAPTURA!J216","v":0},{"$f":"HOJA_CAPTURA!K216","v":0},{"$f":"HOJA_CAPTURA!M216","v":0},{"$f":"HOJA_CAPTURA!N216","v":0},{"$f":"HOJA_CAPTURA!P216","v":0},{"$f":"HOJA_CAPTURA!Q216","v":"00:00:00"},{"$f":"HOJA_CAPTURA!V216","v":0},{"$f":"HOJA_CAPTURA!AF216","v":0},{"$f":"HOJA_CAPTURA!AG216","v":0},{"$f":"HOJA_CAPTURA!AH216","v":0},{"$f":"HOJA_CAPTURA!AI216","v":0},{"$f":"HOJA_CAPTURA!AJ216","v":0},{"$f":"HOJA_CAPTURA!AK216","v":0},{"$f":"HOJA_CAPTURA!AL216","v":0},{"$f":"HOJA_CAPTURA!AU216","v":0}]
[null,null,null,null,null,{"$f":"HOJA_CAPTURA!R216","v":"00:00:00"}]
[{"$f":"HOJA_CAPTURA!J217","v":0},{"$f":"HOJA_CAPTURA!K217","v":0},{"$f":"HOJA_CAPTURA!M217","v":0},{"$f":"HOJA_CAPTURA!N217","v":0},{"$f":"HOJA_CAPTURA!P217","v":0},{"$f":"HOJA_CAPTURA!Q217","v":"00:00:00"},{"$f":"HOJA_CAPTURA!V217","v":0},{"$f":"HOJA_CAPTURA!AF217","v":0},{"$f":"HOJA_CAPTURA!AG217","v":0},{"$f":"HOJA_CAPTURA!AH217","v":0},{"$f":"HOJA_CAPTURA!AI217","v":0},{"$f":"HOJA_CAPTURA!AJ217","v":0},{"$f":"HOJA_CAPTURA!AK217","v":0},{"$f":"HOJA_CAPTURA!AL217","v":0},{"$f":"HOJA_CAPTURA!AU217","v":0}]
[null,null,null,null,null,{"$f":"HOJA_CAPTURA!R217","v":"00:00:00"}]
[{"$f":"HOJA_CAPTURA!J218","v":0},{"$f":"HOJA_CAPTURA!K218","v":0},{"$f":"HOJA_CAPTURA!M218","v":0},{"$f":"HOJA_CAPTURA!N218","v":0},{"$f":"HOJA_CAPTURA!P218","v":0},{"$f":"HOJA_CAPTURA!Q218","v":"00:00:00"},{"$f":"HOJA_CAPTURA!V218","v":0},{"$f":"HOJA_CAPTURA!AF218","v":0},{"$f":"HOJA_CAPTURA!AG218","v":0},{"$f":"HOJA_CAPTURA!AH218","v":0},{"$f":"HOJA_CAPTURA!AI218","v":0},{"$f":"HOJA_CAPTURA!AJ218","v":0},{"$f":"HOJA_CAPTURA!AK218","v":0},{"$f":"HOJA_CAPTURA!AL218","v":0},{"$f":"HOJA_CAPTURA!AU218","v":0}]
[null,null,null,null,null,{"$f":"HOJA_CAPTURA!R218","v":"00:00:00"}]
[]
[null,"\"El presente inventario consta de __fojas y ampara la cantidad de __expedientes de los años de __al__, contenidos en__ cajas, con un peso aproximado de __kg.\""]
[null,null,{"$f":"HOJA_CAPTURA!F215","v":0},null,null,null,null,{"$f":"HOJA_CAPTURA!E215","v":0}]
["Nombre, firma, cargo y área de adscripción de la persona que formuló el inventario ",null,null,null,null,null,"Nombre, firma, cargo y área de adscripción de la persona que revisó el inventario"]
[null,{"$f":"HOJA_CAPTURA!D215","v":0}]
["Nombre y firma del titular de la unidad administrativa que autorizó el inventario",null,null,null,null,null,"Nombre y firma del responsable del archivo de concentración que recibe el inventario"]
[]
[]
[]
[]
[null,"           "]
["Fecha de transferencia:",null,null,{"$f":"TODAY()","v":"2024-08-13"},"Número de transferencia:",{"$f":"HOJA_CAPTURA!L219","v":0},null,null,null,null,null,null,null,"Hoja: 55 de ",{"$f":"O1330","v":0}]
["Unidad administrativa/Área productora: ",null,null,null,{"$f":"HOJA_CAPTURA!C219","v":0}]
[{"$f":"HOJA_CAPTURA!B219","v":"Fondo: INP"},null,"Sección:",{"$f":"HOJA_CAPTURA!G219","v":0},null,null,"Serie: ",{"$f":"HOJA_CAPTURA!H219","v":0}]
[null,null,null,null,null,null,"Subserie:",null,{"$f":"HOJA_CAPTURA!I219","v":0}]
["No. Consecutivo","No. de caja","No. de expediente","Clasificación archivística del expediente","Descripción o asunto ","                                                                                                                                                                                                                                                          Periodo de trámite","No.  de folios ","Valor documental",null,null,"Vigencia documental",null,null,"Condiciones de acceso (Reservada y confidencial)","Tradición documental "]
[null,null,null,null,null,null,null,"A","L","F/C","AT","AC","Total"]
[{"$f":"HOJA_CAPTURA!J219","v":0},{"$f":"HOJA_CAPTURA!K219","v":0},{"$f":"HOJA_CAPTURA!M219","v":0},{"$f":"HOJA_CAPTURA!N219","v":0},{"$f":"HOJA_CAPTURA!P219","v":0},{"$f":"HOJA_CAPTURA!Q219","v":"00:00:00"},{"$f":"HOJA_CAPTURA!V219","v":0},{"$f":"HOJA_CAPTURA!AF219","v":0},{"$f":"HOJA_CAPTURA!AG219","v":0},{"$f":"HOJA_CAPTURA!AH219","v":0},{"$f":"HOJA_CAPTURA!AI219","v":0},{"$f":"HOJA_CAPTURA!AJ219","v":0},{"$f":"HOJA_CAPTURA!AK219","v":0},{"$f":"HOJA_CAPTURA!AL219","v":0},{"$f":"HOJA_CAPTURA!AU219","v":0}]
[null,null,null,null,null,{"$f":"HOJA_CAPTURA!R219","v":"00:00:00"}]
[{"$f":"HOJA_CAPTURA!J220","v":0},{"$f":"HOJA_CAPTURA!K220","v":0},{"$f":"HOJA_CAPTURA!M220","v":0},{"$f":"HOJA_CAPTURA!N220","v":0},{"$f":"HOJA_CAPTURA!P220","v":0},{"$f":"HOJA_CAPTURA!Q220","v":"00:00:00"},{"$f":"HOJA_CAPTURA!V220","v":0},{"$f":"HOJA_CAPTURA!AF220","v":0},{"$f":"HOJA_CAPTURA!AG220","v":0},{"$f":"HOJA_CAPTURA!AH220","v":0},{"$f":"HOJA_CAPTURA!AI220","v":0},{"$f":"HOJA_CAPTURA!AJ220","v":0},{"$f":"HOJA_CAPTURA!AK220","v":0},{"$f":"HOJA_CAPTURA!AL220","v":0},{"$f":"HOJA_CAPTURA!AU220","v":0}]
[null,null,null,null,null,{"$f":"HOJA_CAPTURA!R220","v":"00:00:00"}]
[{"$f":"HOJA_CAPTURA!J221","v":0},{"$f":"HOJA_CAPTURA!K221","v":0},{"$f":"HOJA_CAPTURA!M221","v":0},{"$f":"HOJA_CAPTURA!N221","v":0},{"$f":"HOJA_CAPTURA!P221","v":0},{"$f":"HOJA_CAPTURA!Q221","v":"00:00:00"},{"$f":"HOJA_CAPTURA!V221","v":0},{"$f":"HOJA_CAPTURA!AF221","v":0},{"$f":"HOJA_CAPTURA!AG221","v":0},{"$f":"HOJA_CAPTURA!AH221","v":0},{"$f":"HOJA_CAPTURA!AI221","v":0},{"$f":"HOJA_CAPTURA!AJ221","v":0},{"$f":"HOJA_CAPTURA!AK221","v":0},{"$f":"HOJA_CAPTURA!AL221","v":0},{"$f":"HOJA_CAPTURA!AU221","v":0}]
[null,null,null,null,null,{"$f":"HOJA_CAPTURA!R221","v":"00:00:00"}]
[{"$f":"HOJA_CAPTURA!J222","v":0},{"$f":"HOJA_CAPTURA!K222","v":0},{"$f":"HOJA_CAPTURA!M222","v":0},{"$f":"HOJA_CAPTURA!N222","v":0},{"$f":"HOJA_CAPTURA!P222","v":0},{"$f":"HOJA_CAPTURA!Q222","v":"00:00:00"},{"$f":"HOJA_CAPTURA!V222","v":0},{"$f":"HOJA_CAPTURA!AF222","v":0},{"$f":"HOJA_CAPTURA!AG222","v":0},{"$f":"HOJA_CAPTURA!AH222","v":0},{"$f":"HOJA_CAPTURA!AI222","v":0},{"$f":"HOJA_CAPTURA!AJ222","v":0},{"$f":"HOJA_CAPTURA!AK222","v":0},{"$f":"HOJA_CAPTURA!AL222","v":0},{"$f":"HOJA_CAPTURA!AU222","v":0}]
[null,null,null,null,null,{"$f":"HOJA_CAPTURA!R222","v":"00:00:00"}]
[]
[null,"\"El presente inventario consta de __fojas y ampara la cantidad de __expedientes de los años de __al__, contenidos en__ cajas, con un peso aproximado de __kg.\""]
[null,null,{"$f":"HOJA_CAPTURA!F219","v":0},null,null,null,null,{"$f":"HOJA_CAPTURA!E219","v":0}]
["Nombre, firma, cargo y área de adscripción de la persona que formuló el inventario ",null,null,null,null,null,"Nombre, firma, cargo y área de adscripción de la persona que revisó el inventario"]
[null,{"$f":"HOJA_CAPTURA!D219","v":0}]
["Nombre y firma del titular de la unidad administrativa que autorizó el inventario",null,null,null,null,null,"Nombre y firma del responsable del archivo de concentración que recibe el inventario"]
[]
[]
[]
[]
[null,"           "]
["Fecha de transferencia:",null,null,{"$f":"TODAY()","v":"2024-08-13"},"Número de transferencia:",{"$f":"HOJA_CAPTURA!L223","v":0},null,null,null,null,null,null,null,"Hoja: 56 de ",{"$f":"O1355","v":0}]
["Unidad administrativa/Área productora: ",null,null,null,{"$f":"HOJA_CAPTURA!C223","v":0}]
[{"$f":"HOJA_CAPTURA!B223","v":"Fondo: INP"},null,"Sección:",{"$f":"HOJA_CAPTURA!G223","v":0},null,null,"Serie: ",{"$f":"HOJA_CAPTURA!H223","v":0}]
[null,null,null,null,null,null,"Subserie:",null,{"$f":"HOJA_CAPTURA!I223","v":0}]
["No. Consecutivo","No. de caja","No. de expediente","Clasificación archivística del expediente","Descripción o asunto ","                                                                                                                                                                                                                                                          Periodo de trámite","No.  de folios ","Valor documental",null,null,"Vigencia documental",null,null,"Condiciones de acceso (Reservada y confidencial)","Tradición documental "]
[null,null,null,null,null,null,null,"A","L","F/C","AT","AC","Total"]
[{"$f":"HOJA_CAPTURA!J223","v":0},{"$f":"HOJA_CAPTURA!K223","v":0},{"$f":"HOJA_CAPTURA!M223","v":0},{"$f":"HOJA_CAPTURA!N223","v":0},{"$f":"HOJA_CAPTURA!P223","v":0},{"$f":"HOJA_CAPTURA!Q223","v":"00:00:00"},{"$f":"HOJA_CAPTURA!V223","v":0},{"$f":"HOJA_CAPTURA!AF223","v":0},{"$f":"HOJA_CAPTURA!AG223","v":0},{"$f":"HOJA_CAPTURA!AH223","v":0},{"$f":"HOJA_CAPTURA!AI223","v":0},{"$f":"HOJA_CAPTURA!AJ223","v":0},{"$f":"HOJA_CAPTURA!AK223","v":0},{"$f":"HOJA_CAPTURA!AL223","v":0},{"$f":"HOJA_CAPTURA!AU223","v":0}]
[null,null,null,null,null,{"$f":"HOJA_CAPTURA!R223","v":"00:00:00"}]
[{"$f":"HOJA_CAPTURA!J224","v":0},{"$f":"HOJA_CAPTURA!K224","v":0},{"$f":"HOJA_CAPTURA!M224","v":0},{"$f":"HOJA_CAPTURA!N224","v":0},{"$f":"HOJA_CAPTURA!P224","v":0},{"$f":"HOJA_CAPTURA!Q224","v":"00:00:00"},{"$f":"HOJA_CAPTURA!V224","v":0},{"$f":"HOJA_CAPTURA!AF224","v":0},{"$f":"HOJA_CAPTURA!AG224","v":0},{"$f":"HOJA_CAPTURA!AH224","v":0},{"$f":"HOJA_CAPTURA!AI224","v":0},{"$f":"HOJA_CAPTURA!AJ224","v":0},{"$f":"HOJA_CAPTURA!AK224","v":0},{"$f":"HOJA_CAPTURA!AL224","v":0},{"$f":"HOJA_CAPTURA!AU224","v":0}]
[null,null,null,null,null,{"$f":"HOJA_CAPTURA!R224","v":"00:00:00"}]
[{"$f":"HOJA_CAPTURA!J225","v":0},{"$f":"HOJA_CAPTURA!K225","v":0},{"$f":"HOJA_CAPTURA!M225","v":0},{"$f":"HOJA_CAPTURA!N225","v":0},{"$f":"HOJA_CAPTURA!P225","v":0},{"$f":"HOJA_CAPTURA!Q225","v":"00:00:00"},{"$f":"HOJA_CAPTURA!V225","v":0},{"$f":"HOJA_CAPTURA!AF225","v":0},{"$f":"HOJA_CAPTURA!AG225","v":0},{"$f":"HOJA_CAPTURA!AH225","v":0},{"$f":"HOJA_CAPTURA!AI225","v":0},{"$f":"HOJA_CAPTURA!AJ225","v":0},{"$f":"HOJA_CAPTURA!AK225","v":0},{"$f":"HOJA_CAPTURA!AL225","v":0},{"$f":"HOJA_CAPTURA!AU225","v":0}]
[null,null,null,null,null,{"$f":"HOJA_CAPTURA!R225","v":"00:00:00"}]
[{"$f":"HOJA_CAPTURA!J226","v":0},{"$f":"HOJA_CAPTURA!K226","v":0},{"$f":"HOJA_CAPTURA!M226","v":0},{"$f":"HOJA_CAPTURA!N226","v":0},{"$f":"HOJA_CAPTURA!P226","v":0},{"$f":"HOJA_CAPTURA!Q226","v":"00:00:00"},{"$f":"HOJA_CAPTURA!V226","v":0},{"$f":"HOJA_CAPTURA!AF226","v":0},{"$f":"HOJA_CAPTURA!AG226","v":0},{"$f":"HOJA_CAPTURA!AH226","v":0},{"$f":"HOJA_CAPTURA!AI226","v":0},{"$f":"HOJA_CAPTURA!AJ226","v":0},{"$f":"HOJA_CAPTURA!AK226","v":0},{"$f":"HOJA_CAPTURA!AL226","v":0},{"$f":"HOJA_CAPTURA!AU226","v":0}]
[null,null,null,null,null,{"$f":"HOJA_CAPTURA!R226","v":"00:00:00"}]
[]
[null,"\"El presente inventario consta de __fojas y ampara la cantidad de __expedientes de los años de __al__, contenidos en__ cajas, con un peso aproximado de __kg.\""]
[null,null,{"$f":"HOJA_CAPTURA!F223","v":0},null,null,null,null,{"$f":"HOJA_CAPTURA!E223","v":0}]
["Nombre, firma, cargo y área de adscripción de la persona que formuló el inventario ",null,null,null,null,null,"Nombre, firma, cargo y área de adscripción de la persona que revisó el inventario"]
[null,{"$f":"HOJA_CAPTURA!D223","v":0}]
["Nombre y firma del titular de la unidad administrativa que autorizó el inventario",null,null,null,null,null,"Nombre y firma del responsable del archivo de concentración que recibe el inventario"]
[]
[]
[]
[]
[null,"           "]
["Fecha de transferencia:",null,null,{"$f":"TODAY()","v":"2024-08-13"},"Número de transferencia:",{"$f":"HOJA_CAPTURA!L227","v":0},null,null,null,null,null,null,null,"Hoja: 57 de ",{"$f":"O1380","v":0}]
["Unidad administrativa/Área productora: ",null,null,null,{"$f":"HOJA_CAPTURA!C227","v":0}]
[{"$f":"HOJA_CAPTURA!B227","v":"Fondo: INP"},null,"Sección:",{"$f":"HOJA_CAPTURA!G227","v":0},null,null,"Serie: ",{"$f":"HOJA_CAPTURA!H227","v":0}]
[null,null,null,null,null,null,"Subserie:",null,{"$f":"HOJA_CAPTURA!I227","v":0}]
["No. Consecutivo","No. de caja","No. de expediente","Clasificación archivística del expediente","Descripción o asunto ","                                                                                                                                                                                                                                                          Periodo de trámite","No.  de folios ","Valor documental",null,null,"Vigencia documental",null,null,"Condiciones de acceso (Reservada y confidencial)","Tradición documental "]
[null,null,null,null,null,null,null,"A","L","F/C","AT","AC","Total"]
[{"$f":"HOJA_CAPTURA!J227","v":0},{"$f":"HOJA_CAPTURA!K227","v":0},{"$f":"HOJA_CAPTURA!M227","v":0},{"$f":"HOJA_CAPTURA!N227","v":0},{"$f":"HOJA_CAPTURA!P227","v":0},{"$f":"HOJA_CAPTURA!Q227","v":"00:00:00"},{"$f":"HOJA_CAPTURA!V227","v":0},{"$f":"HOJA_CAPTURA!AF227","v":0},{"$f":"HOJA_CAPTURA!AG227","v":0},{"$f":"HOJA_CAPTURA!AH227","v":0},{"$f":"HOJA_CAPTURA!AI227","v":0},{"$f":"HOJA_CAPTURA!AJ227","v":0},{"$f":"HOJA_CAPTURA!AK227","v":0},{"$f":"HOJA_CAPTURA!AL227","v":0},{"$f":"HOJA_CAPTURA!AU227","v":0}]
[null,null,null,null,null,{"$f":"HOJA_CAPTURA!R227","v":"00:00:00"}]
[{"$f":"HOJA_CAPTURA!J228","v":0},{"$f":"HOJA_CAPTURA!K228","v":0},{"$f":"HOJA_CAPTURA!M228","v":0},{"$f":"HOJA_CAPTURA!N228","v":0},{"$f":"HOJA_CAPTURA!P228","v":0},{"$f":"HOJA_CAPTURA!Q228","v":"00:00:00"},{"$f":"HOJA_CAPTURA!V228","v":0},{"$f":"HOJA_CAPTURA!AF228","v":0},{"$f":"HOJA_CAPTURA!AG228","v":0},{"$f":"HOJA_CAPTURA!AH228","v":0},{"$f":"HOJA_CAPTURA!AI228","v":0},{"$f":"HOJA_CAPTURA!AJ228","v":0},{"$f":"HOJA_CAPTURA!AK228","v":0},{"$f":"HOJA_CAPTURA!AL228","v":0},{"$f":"HOJA_CAPTURA!AU228","v":0}]
[null,null,null,null,null,{"$f":"HOJA_CAPTURA!R228","v":"00:00:00"}]
[{"$f":"HOJA_CAPTURA!J229","v":0},{"$f":"HOJA_CAPTURA!K229","v":0},{"$f":"HOJA_CAPTURA!M229","v":0},{"$f":"HOJA_CAPTURA!N229","v":0},{"$f":"HOJA_CAPTURA!P229","v":0},{"$f":"HOJA_CAPTURA!Q229","v":"00:00:00"},{"$f":"HOJA_CAPTURA!V229","v":0},{"$f":"HOJA_CAPTURA!AF229","v":0},{"$f":"HOJA_CAPTURA!AG229","v":0},{"$f":"HOJA_CAPTURA!AH229","v":0},{"$f":"HOJA_CAPTURA!AI229","v":0},{"$f":"HOJA_CAPTURA!AJ229","v":0},{"$f":"HOJA_CAPTURA!AK229","v":0},{"$f":"HOJA_CAPTURA!AL229","v":0},{"$f":"HOJA_CAPTURA!AU229","v":0}]
[null,null,null,null,null,{"$f":"HOJA_CAPTURA!R229","v":"00:00:00"}]
[{"$f":"HOJA_CAPTURA!J230","v":0},{"$f":"HOJA_CAPTURA!K230","v":0},{"$f":"HOJA_CAPTURA!M230","v":0},{"$f":"HOJA_CAPTURA!N230","v":0},{"$f":"HOJA_CAPTURA!P230","v":0},{"$f":"HOJA_CAPTURA!Q230","v":"00:00:00"},{"$f":"HOJA_CAPTURA!V230","v":0},{"$f":"HOJA_CAPTURA!AF230","v":0},{"$f":"HOJA_CAPTURA!AG230","v":0},{"$f":"HOJA_CAPTURA!AH230","v":0},{"$f":"HOJA_CAPTURA!AI230","v":0},{"$f":"HOJA_CAPTURA!AJ230","v":0},{"$f":"HOJA_CAPTURA!AK230","v":0},{"$f":"HOJA_CAPTURA!AL230","v":0},{"$f":"HOJA_CAPTURA!AU230","v":0}]
[null,null,null,null,null,{"$f":"HOJA_CAPTURA!R230","v":"00:00:00"}]
[]
[null,"\"El presente inventario consta de __fojas y ampara la cantidad de __expedientes de los años de __al__, contenidos en__ cajas, con un peso aproximado de __kg.\""]
[null,null,{"$f":"HOJA_CAPTURA!F227","v":0},null,null,null,null,{"$f":"HOJA_CAPTURA!E227","v":0}]
["Nombre, firma, cargo y área de adscripción de la persona que formuló el inventario ",null,null,null,null,null,"Nombre, firma, cargo y área de adscripción de la persona que revisó el inventario"]
[null,{"$f":"HOJA_CAPTURA!D227","v":0}]
["Nombre y firma del titular de la unidad administrativa que autorizó el inventario",null,null,null,null,null,"Nombre y firma del responsable del archivo de concentración que recibe el inventario"]
[]
[]
[]
[]
[null,"           "]
["Fecha de transferencia:",null,null,{"$f":"TODAY()","v":"2024-08-13"},"Número de transferencia:",{"$f":"HOJA_CAPTURA!L231","v":0},null,null,null,null,null,null,null,"Hoja: 58 de ",{"$f":"O1405","v":0}]
["Unidad administrativa/Área productora: ",null,null,null,{"$f":"HOJA_CAPTURA!C231","v":0}]
[{"$f":"HOJA_CAPTURA!B231","v":"Fondo: INP"},null,"Sección:",{"$f":"HOJA_CAPTURA!G231","v":0},null,null,"Serie: ",{"$f":"HOJA_CAPTURA!H231","v":0}]
[null,null,null,null,null,null,"Subserie:",null,{"$f":"HOJA_CAPTURA!I231","v":0}]
["No. Consecutivo","No. de caja","No. de expediente","Clasificación archivística del expediente","Descripción o asunto ","                                                                                                                                                                                                                                                          Periodo de trámite","No.  de folios ","Valor documental",null,null,"Vigencia documental",null,null,"Condiciones de acceso (Reservada y confidencial)","Tradición documental "]
[null,null,null,null,null,null,null,"A","L","F/C","AT","AC","Total"]
[{"$f":"HOJA_CAPTURA!J231","v":0},{"$f":"HOJA_CAPTURA!K231","v":0},{"$f":"HOJA_CAPTURA!M231","v":0},{"$f":"HOJA_CAPTURA!N231","v":0},{"$f":"HOJA_CAPTURA!P231","v":0},{"$f":"HOJA_CAPTURA!Q231","v":"00:00:00"},{"$f":"HOJA_CAPTURA!V231","v":0},{"$f":"HOJA_CAPTURA!AF231","v":0},{"$f":"HOJA_CAPTURA!AG231","v":0},{"$f":"HOJA_CAPTURA!AH231","v":0},{"$f":"HOJA_CAPTURA!AI231","v":0},{"$f":"HOJA_CAPTURA!AJ231","v":0},{"$f":"HOJA_CAPTURA!AK231","v":0},{"$f":"HOJA_CAPTURA!AL231","v":0},{"$f":"HOJA_CAPTURA!AU231","v":0}]
[null,null,null,null,null,{"$f":"HOJA_CAPTURA!R231","v":"00:00:00"}]
[{"$f":"HOJA_CAPTURA!J232","v":0},{"$f":"HOJA_CAPTURA!K232","v":0},{"$f":"HOJA_CAPTURA!M232","v":0},{"$f":"HOJA_CAPTURA!N232","v":0},{"$f":"HOJA_CAPTURA!P232","v":0},{"$f":"HOJA_CAPTURA!Q232","v":"00:00:00"},{"$f":"HOJA_CAPTURA!V232","v":0},{"$f":"HOJA_CAPTURA!AF232","v":0},{"$f":"HOJA_CAPTURA!AG232","v":0},{"$f":"HOJA_CAPTURA!AH232","v":0},{"$f":"HOJA_CAPTURA!AI232","v":0},{"$f":"HOJA_CAPTURA!AJ232","v":0},{"$f":"HOJA_CAPTURA!AK232","v":0},{"$f":"HOJA_CAPTURA!AL232","v":0},{"$f":"HOJA_CAPTURA!AU232","v":0}]
[null,null,null,null,null,{"$f":"HOJA_CAPTURA!R232","v":"00:00:00"}]
[{"$f":"HOJA_CAPTURA!J233","v":0},{"$f":"HOJA_CAPTURA!K233","v":0},{"$f":"HOJA_CAPTURA!M233","v":0},{"$f":"HOJA_CAPTURA!N233","v":0},{"$f":"HOJA_CAPTURA!P233","v":0},{"$f":"HOJA_CAPTURA!Q233","v":"00:00:00"},{"$f":"HOJA_CAPTURA!V233","v":0},{"$f":"HOJA_CAPTURA!AF233","v":0},{"$f":"HOJA_CAPTURA!AG233","v":0},{"$f":"HOJA_CAPTURA!AH233","v":0},{"$f":"HOJA_CAPTURA!AI233","v":0},{"$f":"HOJA_CAPTURA!AJ233","v":0},{"$f":"HOJA_CAPTURA!AK233","v":0},{"$f":"HOJA_CAPTURA!AL233","v":0},{"$f":"HOJA_CAPTURA!AU233","v":0}]
[null,null,null,null,null,{"$f":"HOJA_CAPTURA!R233","v":"00:00:00"}]
[{"$f":"HOJA_CAPTURA!J234","v":0},{"$f":"HOJA_CAPTURA!K234","v":0},{"$f":"HOJA_CAPTURA!M234","v":0},{"$f":"HOJA_CAPTURA!N234","v":0},{"$f":"HOJA_CAPTURA!P234","v":0},{"$f":"HOJA_CAPTURA!Q234","v":"00:00:00"},{"$f":"HOJA_CAPTURA!V234","v":0},{"$f":"HOJA_CAPTURA!AF234","v":0},{"$f":"HOJA_CAPTURA!AG234","v":0},{"$f":"HOJA_CAPTURA!AH234","v":0},{"$f":"HOJA_CAPTURA!AI234","v":0},{"$f":"HOJA_CAPTURA!AJ234","v":0},{"$f":"HOJA_CAPTURA!AK234","v":0},{"$f":"HOJA_CAPTURA!AL234","v":0},{"$f":"HOJA_CAPTURA!AU234","v":0}]
[null,null,null,null,null,{"$f":"HOJA_CAPTURA!R234","v":"00:00:00"}]
[]
[null,"\"El presente inventario consta de __fojas y ampara la cantidad de __expedientes de los años de __al__, contenidos en__ cajas, con un peso aproximado de __kg.\""]
[null,null,{"$f":"HOJA_CAPTURA!F231","v":0},null,null,null,null,{"$f":"HOJA_CAPTURA!E231","v":0}]
["Nombre, firma, cargo y área de adscripción de la persona que formuló el inventario ",null,null,null,null,null,"Nombre, firma, cargo y área de adscripción de la persona que revisó el inventario"]
[null,{"$f":"HOJA_CAPTURA!D231","v":0}]
["Nombre y firma del titular de la unidad administrativa que autorizó el inventario",null,null,null,null,null,"Nombre y firma del responsable del archivo de concentración que recibe el inventario"]
[]
[]
[]
[]
[null,"           "]
["Fecha de transferencia:",null,null,{"$f":"TODAY()","v":"2024-08-13"},"Número de transferencia:",{"$f":"HOJA_CAPTURA!L235","v":0},null,null,null,null,null,null,null,"Hoja: 59 de ",{"$f":"O1430","v":0}]
["Unidad administrativa/Área productora: ",null,null,null,{"$f":"HOJA_CAPTURA!C235","v":0}]
[{"$f":"HOJA_CAPTURA!B235","v":"Fondo: INP"},null,"Sección:",{"$f":"HOJA_CAPTURA!G235","v":0},null,null,"Serie: ",{"$f":"HOJA_CAPTURA!H235","v":0}]
[null,null,null,null,null,null,"Subserie:",null,{"$f":"HOJA_CAPTURA!I235","v":0}]
["No. Consecutivo","No. de caja","No. de expediente","Clasificación archivística del expediente","Descripción o asunto ","                                                                                                                                                                                                                                                          Periodo de trámite","No.  de folios ","Valor documental",null,null,"Vigencia documental",null,null,"Condiciones de acceso (Reservada y confidencial)","Tradición documental "]
[null,null,null,null,null,null,null,"A","L","F/C","AT","AC","Total"]
[{"$f":"HOJA_CAPTURA!J235","v":0},{"$f":"HOJA_CAPTURA!K235","v":0},{"$f":"HOJA_CAPTURA!M235","v":0},{"$f":"HOJA_CAPTURA!N235","v":0},{"$f":"HOJA_CAPTURA!P235","v":0},{"$f":"HOJA_CAPTURA!Q235","v":"00:00:00"},{"$f":"HOJA_CAPTURA!V235","v":0},{"$f":"HOJA_CAPTURA!AF235","v":0},{"$f":"HOJA_CAPTURA!AG235","v":0},{"$f":"HOJA_CAPTURA!AH235","v":0},{"$f":"HOJA_CAPTURA!AI235","v":0},{"$f":"HOJA_CAPTURA!AJ235","v":0},{"$f":"HOJA_CAPTURA!AK235","v":0},{"$f":"HOJA_CAPTURA!AL235","v":0},{"$f":"HOJA_CAPTURA!AU235","v":0}]
[null,null,null,null,null,{"$f":"HOJA_CAPTURA!R235","v":"00:00:00"}]
[{"$f":"HOJA_CAPTURA!J236","v":0},{"$f":"HOJA_CAPTURA!K236","v":0},{"$f":"HOJA_CAPTURA!M236","v":0},{"$f":"HOJA_CAPTURA!N236","v":0},{"$f":"HOJA_CAPTURA!P236","v":0},{"$f":"HOJA_CAPTURA!Q236","v":"00:00:00"},{"$f":"HOJA_CAPTURA!V236","v":0},{"$f":"HOJA_CAPTURA!AF236","v":0},{"$f":"HOJA_CAPTURA!AG236","v":0},{"$f":"HOJA_CAPTURA!AH236","v":0},{"$f":"HOJA_CAPTURA!AI236","v":0},{"$f":"HOJA_CAPTURA!AJ236","v":0},{"$f":"HOJA_CAPTURA!AK236","v":0},{"$f":"HOJA_CAPTURA!AL236","v":0},{"$f":"HOJA_CAPTURA!AU236","v":0}]
[null,null,null,null,null,{"$f":"HOJA_CAPTURA!R236","v":"00:00:00"}]
[{"$f":"HOJA_CAPTURA!J237","v":0},{"$f":"HOJA_CAPTURA!K237","v":0},{"$f":"HOJA_CAPTURA!M237","v":0},{"$f":"HOJA_CAPTURA!N237","v":0},{"$f":"HOJA_CAPTURA!P237","v":0},{"$f":"HOJA_CAPTURA!Q237","v":"00:00:00"},{"$f":"HOJA_CAPTURA!V237","v":0},{"$f":"HOJA_CAPTURA!AF237","v":0},{"$f":"HOJA_CAPTURA!AG237","v":0},{"$f":"HOJA_CAPTURA!AH237","v":0},{"$f":"HOJA_CAPTURA!AI237","v":0},{"$f":"HOJA_CAPTURA!AJ237","v":0},{"$f":"HOJA_CAPTURA!AK237","v":0},{"$f":"HOJA_CAPTURA!AL237","v":0},{"$f":"HOJA_CAPTURA!AU237","v":0}]
[null,null,null,null,null,{"$f":"HOJA_CAPTURA!R237","v":"00:00:00"}]
[{"$f":"HOJA_CAPTURA!J238","v":0},{"$f":"HOJA_CAPTURA!K238","v":0},{"$f":"HOJA_CAPTURA!M238","v":0},{"$f":"HOJA_CAPTURA!N238","v":0},{"$f":"HOJA_CAPTURA!P238","v":0},{"$f":"HOJA_CAPTURA!Q238","v":"00:00:00"},{"$f":"HOJA_CAPTURA!V238","v":0},{"$f":"HOJA_CAPTURA!AF238","v":0},{"$f":"HOJA_CAPTURA!AG238","v":0},{"$f":"HOJA_CAPTURA!AH238","v":0},{"$f":"HOJA_CAPTURA!AI238","v":0},{"$f":"HOJA_CAPTURA!AJ238","v":0},{"$f":"HOJA_CAPTURA!AK238","v":0},{"$f":"HOJA_CAPTURA!AL238","v":0},{"$f":"HOJA_CAPTURA!AU238","v":0}]
[null,null,null,null,null,{"$f":"HOJA_CAPTURA!R238","v":"00:00:00"}]
[]
[null,"\"El presente inventario consta de __fojas y ampara la cantidad de __expedientes de los años de __al__, contenidos en__ cajas, con un peso aproximado de __kg.\""]
[null,null,{"$f":"HOJA_CAPTURA!F235","v":0},null,null,null,null,{"$f":"HOJA_CAPTURA!E235","v":0}]
["Nombre, firma, cargo y área de adscripción de la persona que formuló el inventario ",null,null,null,null,null,"Nombre, firma, cargo y área de adscripción de la persona que revisó el inventario"]
[null,{"$f":"HOJA_CAPTURA!D235","v":0}]
["Nombre y firma del titular de la unidad administrativa que autorizó el inventario",null,null,null,null,null,"Nombre y firma del responsable del archivo de concentración que recibe el inventario"]
[]
[]
[]
[]
[null,"           "]
["Fecha de transferencia:",null,null,{"$f":"TODAY()","v":"2024-08-13"},"Número de transferencia:",{"$f":"HOJA_CAPTURA!L239","v":0},null,null,null,null,null,null,null,"Hoja: 60 de ",{"$f":"O1455","v":0}]
["Unidad administrativa/Área productora: ",null,null,null,{"$f":"HOJA_CAPTURA!C239","v":0}]
[{"$f":"HOJA_CAPTURA!B239","v":"Fondo: INP"},null,"Sección:",{"$f":"HOJA_CAPTURA!G239","v":0},null,null,"Serie: ",{"$f":"HOJA_CAPTURA!H239","v":0}]
[null,null,null,null,null,null,"Subserie:",null,{"$f":"HOJA_CAPTURA!I239","v":0}]
["No. Consecutivo","No. de caja","No. de expediente","Clasificación archivística del expediente","Descripción o asunto ","                                                                                                                                                                                                                                                          Periodo de trámite","No.  de folios ","Valor documental",null,null,"Vigencia documental",null,null,"Condiciones de acceso (Reservada y confidencial)","Tradición documental "]
[null,null,null,null,null,null,null,"A","L","F/C","AT","AC","Total"]
[{"$f":"HOJA_CAPTURA!J239","v":0},{"$f":"HOJA_CAPTURA!K239","v":0},{"$f":"HOJA_CAPTURA!M239","v":0},{"$f":"HOJA_CAPTURA!N239","v":0},{"$f":"HOJA_CAPTURA!P239","v":0},{"$f":"HOJA_CAPTURA!Q239","v":"00:00:00"},{"$f":"HOJA_CAPTURA!V239","v":0},{"$f":"HOJA_CAPTURA!AF239","v":0},{"$f":"HOJA_CAPTURA!AG239","v":0},{"$f":"HOJA_CAPTURA!AH239","v":0},{"$f":"HOJA_CAPTURA!AI239","v":0},{"$f":"HOJA_CAPTURA!AJ239","v":0},{"$f":"HOJA_CAPTURA!AK239","v":0},{"$f":"HOJA_CAPTURA!AL239","v":0},{"$f":"HOJA_CAPTURA!AU239","v":0}]
[null,null,null,null,null,{"$f":"HOJA_CAPTURA!R239","v":"00:00:00"}]
[{"$f":"HOJA_CAPTURA!J240","v":0},{"$f":"HOJA_CAPTURA!K240","v":0},{"$f":"HOJA_CAPTURA!M240","v":0},{"$f":"HOJA_CAPTURA!N240","v":0},{"$f":"HOJA_CAPTURA!P240","v":0},{"$f":"HOJA_CAPTURA!Q240","v":"00:00:00"},{"$f":"HOJA_CAPTURA!V240","v":0},{"$f":"HOJA_CAPTURA!AF240","v":0},{"$f":"HOJA_CAPTURA!AG240","v":0},{"$f":"HOJA_CAPTURA!AH240","v":0},{"$f":"HOJA_CAPTURA!AI240","v":0},{"$f":"HOJA_CAPTURA!AJ240","v":0},{"$f":"HOJA_CAPTURA!AK240","v":0},{"$f":"HOJA_CAPTURA!AL240","v":0},{"$f":"HOJA_CAPTURA!AU240","v":0}]
[null,null,null,null,null,{"$f":"HOJA_CAPTURA!R240","v":"00:00:00"}]
[{"$f":"HOJA_CAPTURA!J241","v":0},{"$f":"HOJA_CAPTURA!K241","v":0},{"$f":"HOJA_CAPTURA!M241","v":0},{"$f":"HOJA_CAPTURA!N241","v":0},{"$f":"HOJA_CAPTURA!P241","v":0},{"$f":"HOJA_CAPTURA!Q241","v":"00:00:00"},{"$f":"HOJA_CAPTURA!V241","v":0},{"$f":"HOJA_CAPTURA!AF241","v":0},{"$f":"HOJA_CAPTURA!AG241","v":0},{"$f":"HOJA_CAPTURA!AH241","v":0},{"$f":"HOJA_CAPTURA!AI241","v":0},{"$f":"HOJA_CAPTURA!AJ241","v":0},{"$f":"HOJA_CAPTURA!AK241","v":0},{"$f":"HOJA_CAPTURA!AL241","v":0},{"$f":"HOJA_CAPTURA!AU241","v":0}]
[null,null,null,null,null,{"$f":"HOJA_CAPTURA!R241","v":"00:00:00"}]
[{"$f":"HOJA_CAPTURA!J242","v":0},{"$f":"HOJA_CAPTURA!K242","v":0},{"$f":"HOJA_CAPTURA!M242","v":0},{"$f":"HOJA_CAPTURA!N242","v":0},{"$f":"HOJA_CAPTURA!P242","v":0},{"$f":"HOJA_CAPTURA!Q242","v":"00:00:00"},{"$f":"HOJA_CAPTURA!V242","v":0},{"$f":"HOJA_CAPTURA!AF242","v":0},{"$f":"HOJA_CAPTURA!AG242","v":0},{"$f":"HOJA_CAPTURA!AH242","v":0},{"$f":"HOJA_CAPTURA!AI242","v":0},{"$f":"HOJA_CAPTURA!AJ242","v":0},{"$f":"HOJA_CAPTURA!AK242","v":0},{"$f":"HOJA_CAPTURA!AL242","v":0},{"$f":"HOJA_CAPTURA!AU242","v":0}]
[null,null,null,null,null,{"$f":"HOJA_CAPTURA!R242","v":"00:00:00"}]
[]
[null,"\"El presente inventario consta de __fojas y ampara la cantidad de __expedientes de los años de __al__, contenidos en__ cajas, con un peso aproximado de __kg.\""]
[null,null,{"$f":"HOJA_CAPTURA!F239","v":0},null,null,null,null,{"$f":"HOJA_CAPTURA!E239","v":0}]
["Nombre, firma, cargo y área de adscripción de la persona que formuló el inventario ",null,null,null,null,null,"Nombre, firma, cargo y área de adscripción de la persona que revisó el inventario"]
[null,{"$f":"HOJA_CAPTURA!D239","v":0}]
["Nombre y firma del titular de la unidad administrativa que autorizó el inventario",null,null,null,null,null,"Nombre y firma del responsable del archivo de concentración que recibe el inventario"]
[]
[]
[]
[]
[null,"           "]
["Fecha de transferencia:",null,null,{"$f":"TODAY()","v":"2024-08-13"},"Número de transferencia:",{"$f":"HOJA_CAPTURA!L243","v":0},null,null,null,null,null,null,null,"Hoja: 61 de ",{"$f":"O1480","v":0}]
["Unidad administrativa/Área productora: ",null,null,null,{"$f":"HOJA_CAPTURA!C243","v":0}]
[{"$f":"HOJA_CAPTURA!B243","v":"Fondo: INP"},null,"Sección:",{"$f":"HOJA_CAPTURA!G243","v":0},null,null,"Serie: ",{"$f":"HOJA_CAPTURA!H243","v":0}]
[null,null,null,null,null,null,"Subserie:",null,{"$f":"HOJA_CAPTURA!I243","v":0}]
["No. Consecutivo","No. de caja","No. de expediente","Clasificación archivística del expediente","Descripción o asunto ","                                                                                                                                                                                                                                                          Periodo de trámite","No.  de folios ","Valor documental",null,null,"Vigencia documental",null,null,"Condiciones de acceso (Reservada y confidencial)","Tradición documental "]
[null,null,null,null,null,null,null,"A","L","F/C","AT","AC","Total"]
[{"$f":"HOJA_CAPTURA!J243","v":0},{"$f":"HOJA_CAPTURA!K243","v":0},{"$f":"HOJA_CAPTURA!M243","v":0},{"$f":"HOJA_CAPTURA!N243","v":0},{"$f":"HOJA_CAPTURA!P243","v":0},{"$f":"HOJA_CAPTURA!Q243","v":"00:00:00"},{"$f":"HOJA_CAPTURA!V243","v":0},{"$f":"HOJA_CAPTURA!AF243","v":0},{"$f":"HOJA_CAPTURA!AG243","v":0},{"$f":"HOJA_CAPTURA!AH243","v":0},{"$f":"HOJA_CAPTURA!AI243","v":0},{"$f":"HOJA_CAPTURA!AJ243","v":0},{"$f":"HOJA_CAPTURA!AK243","v":0},{"$f":"HOJA_CAPTURA!AL243","v":0},{"$f":"HOJA_CAPTURA!AU243","v":0}]
[null,null,null,null,null,{"$f":"HOJA_CAPTURA!R243","v":"00:00:00"}]
[{"$f":"HOJA_CAPTURA!J244","v":0},{"$f":"HOJA_CAPTURA!K244","v":0},{"$f":"HOJA_CAPTURA!M244","v":0},{"$f":"HOJA_CAPTURA!N244","v":0},{"$f":"HOJA_CAPTURA!P244","v":0},{"$f":"HOJA_CAPTURA!Q244","v":"00:00:00"},{"$f":"HOJA_CAPTURA!V244","v":0},{"$f":"HOJA_CAPTURA!AF244","v":0},{"$f":"HOJA_CAPTURA!AG244","v":0},{"$f":"HOJA_CAPTURA!AH244","v":0},{"$f":"HOJA_CAPTURA!AI244","v":0},{"$f":"HOJA_CAPTURA!AJ244","v":0},{"$f":"HOJA_CAPTURA!AK244","v":0},{"$f":"HOJA_CAPTURA!AL244","v":0},{"$f":"HOJA_CAPTURA!AU244","v":0}]
[null,null,null,null,null,{"$f":"HOJA_CAPTURA!R244","v":"00:00:00"}]
[{"$f":"HOJA_CAPTURA!J245","v":0},{"$f":"HOJA_CAPTURA!K245","v":0},{"$f":"HOJA_CAPTURA!M245","v":0},{"$f":"HOJA_CAPTURA!N245","v":0},{"$f":"HOJA_CAPTURA!P245","v":0},{"$f":"HOJA_CAPTURA!Q245","v":"00:00:00"},{"$f":"HOJA_CAPTURA!V245","v":0},{"$f":"HOJA_CAPTURA!AF245","v":0},{"$f":"HOJA_CAPTURA!AG245","v":0},{"$f":"HOJA_CAPTURA!AH245","v":0},{"$f":"HOJA_CAPTURA!AI245","v":0},{"$f":"HOJA_CAPTURA!AJ245","v":0},{"$f":"HOJA_CAPTURA!AK245","v":0},{"$f":"HOJA_CAPTURA!AL245","v":0},{"$f":"HOJA_CAPTURA!AU245","v":0}]
[null,null,null,null,null,{"$f":"HOJA_CAPTURA!R245","v":"00:00:00"}]
[{"$f":"HOJA_CAPTURA!J246","v":0},{"$f":"HOJA_CAPTURA!K246","v":0},{"$f":"HOJA_CAPTURA!M246","v":0},{"$f":"HOJA_CAPTURA!N246","v":0},{"$f":"HOJA_CAPTURA!P246","v":0},{"$f":"HOJA_CAPTURA!Q246","v":"00:00:00"},{"$f":"HOJA_CAPTURA!V246","v":0},{"$f":"HOJA_CAPTURA!AF246","v":0},{"$f":"HOJA_CAPTURA!AG246","v":0},{"$f":"HOJA_CAPTURA!AH246","v":0},{"$f":"HOJA_CAPTURA!AI246","v":0},{"$f":"HOJA_CAPTURA!AJ246","v":0},{"$f":"HOJA_CAPTURA!AK246","v":0},{"$f":"HOJA_CAPTURA!AL246","v":0},{"$f":"HOJA_CAPTURA!AU246","v":0}]
[null,null,null,null,null,{"$f":"HOJA_CAPTURA!R246","v":"00:00:00"}]
[]
[null,"\"El presente inventario consta de __fojas y ampara la cantidad de __expedientes de los años de __al__, contenidos en__ cajas, con un peso aproximado de __kg.\""]
[null,null,{"$f":"HOJA_CAPTURA!F243","v":0},null,null,null,null,{"$f":"HOJA_CAPTURA!E243","v":0}]
["Nombre, firma, cargo y área de adscripción de la persona que formuló el inventario ",null,null,null,null,null,"Nombre, firma, cargo y área de adscripción de la persona que revisó el inventario"]
[null,{"$f":"HOJA_CAPTURA!D243","v":0}]
["Nombre y firma del titular de la unidad administrativa que autorizó el inventario",null,null,null,null,null,"Nombre y firma del responsable del archivo de concentración que recibe el inventario"]
[]
[]
[]
[]
[null,"           "]
["Fecha de transferencia:",null,null,{"$f":"TODAY()","v":"2024-08-13"},"Número de transferencia:",{"$f":"HOJA_CAPTURA!L247","v":0},null,null,null,null,null,null,null,"Hoja: 62 de ",{"$f":"O1505","v":0}]
["Unidad administrativa/Área productora: ",null,null,null,{"$f":"HOJA_CAPTURA!C247","v":0}]
[{"$f":"HOJA_CAPTURA!B247","v":"Fondo: INP"},null,"Sección:",{"$f":"HOJA_CAPTURA!G247","v":0},null,null,"Serie: ",{"$f":"HOJA_CAPTURA!H247","v":0}]
[null,null,null,null,null,null,"Subserie:",null,{"$f":"HOJA_CAPTURA!I247","v":0}]
["No. Consecutivo","No. de caja","No. de expediente","Clasificación archivística del expediente","Descripción o asunto ","                                                                                                                                                                                                                                                          Periodo de trámite","No.  de folios ","Valor documental",null,null,"Vigencia documental",null,null,"Condiciones de acceso (Reservada y confidencial)","Tradición documental "]
[null,null,null,null,null,null,null,"A","L","F/C","AT","AC","Total"]
[{"$f":"HOJA_CAPTURA!J247","v":0},{"$f":"HOJA_CAPTURA!K247","v":0},{"$f":"HOJA_CAPTURA!M247","v":0},{"$f":"HOJA_CAPTURA!N247","v":0},{"$f":"HOJA_CAPTURA!P247","v":0},{"$f":"HOJA_CAPTURA!Q247","v":"00:00:00"},{"$f":"HOJA_CAPTURA!V247","v":0},{"$f":"HOJA_CAPTURA!AF247","v":0},{"$f":"HOJA_CAPTURA!AG247","v":0},{"$f":"HOJA_CAPTURA!AH247","v":0},{"$f":"HOJA_CAPTURA!AI247","v":0},{"$f":"HOJA_CAPTURA!AJ247","v":0},{"$f":"HOJA_CAPTURA!AK247","v":0},{"$f":"HOJA_CAPTURA!AL247","v":0},{"$f":"HOJA_CAPTURA!AU247","v":0}]
[null,null,null,null,null,{"$f":"HOJA_CAPTURA!R247","v":"00:00:00"}]
[{"$f":"HOJA_CAPTURA!J248","v":0},{"$f":"HOJA_CAPTURA!K248","v":0},{"$f":"HOJA_CAPTURA!M248","v":0},{"$f":"HOJA_CAPTURA!N248","v":0},{"$f":"HOJA_CAPTURA!P248","v":0},{"$f":"HOJA_CAPTURA!Q248","v":"00:00:00"},{"$f":"HOJA_CAPTURA!V248","v":0},{"$f":"HOJA_CAPTURA!AF248","v":0},{"$f":"HOJA_CAPTURA!AG248","v":0},{"$f":"HOJA_CAPTURA!AH248","v":0},{"$f":"HOJA_CAPTURA!AI248","v":0},{"$f":"HOJA_CAPTURA!AJ248","v":0},{"$f":"HOJA_CAPTURA!AK248","v":0},{"$f":"HOJA_CAPTURA!AL248","v":0},{"$f":"HOJA_CAPTURA!AU248","v":0}]
[null,null,null,null,null,{"$f":"HOJA_CAPTURA!R248","v":"00:00:00"}]
[{"$f":"HOJA_CAPTURA!J249","v":0},{"$f":"HOJA_CAPTURA!K249","v":0},{"$f":"HOJA_CAPTURA!M249","v":0},{"$f":"HOJA_CAPTURA!N249","v":0},{"$f":"HOJA_CAPTURA!P249","v":0},{"$f":"HOJA_CAPTURA!Q249","v":"00:00:00"},{"$f":"HOJA_CAPTURA!V249","v":0},{"$f":"HOJA_CAPTURA!AF249","v":0},{"$f":"HOJA_CAPTURA!AG249","v":0},{"$f":"HOJA_CAPTURA!AH249","v":0},{"$f":"HOJA_CAPTURA!AI249","v":0},{"$f":"HOJA_CAPTURA!AJ249","v":0},{"$f":"HOJA_CAPTURA!AK249","v":0},{"$f":"HOJA_CAPTURA!AL249","v":0},{"$f":"HOJA_CAPTURA!AU249","v":0}]
[null,null,null,null,null,{"$f":"HOJA_CAPTURA!R249","v":"00:00:00"}]
[{"$f":"HOJA_CAPTURA!J250","v":0},{"$f":"HOJA_CAPTURA!K250","v":0},{"$f":"HOJA_CAPTURA!M250","v":0},{"$f":"HOJA_CAPTURA!N250","v":0},{"$f":"HOJA_CAPTURA!P250","v":0},{"$f":"HOJA_CAPTURA!Q250","v":"00:00:00"},{"$f":"HOJA_CAPTURA!V250","v":0},{"$f":"HOJA_CAPTURA!AF250","v":0},{"$f":"HOJA_CAPTURA!AG250","v":0},{"$f":"HOJA_CAPTURA!AH250","v":0},{"$f":"HOJA_CAPTURA!AI250","v":0},{"$f":"HOJA_CAPTURA!AJ250","v":0},{"$f":"HOJA_CAPTURA!AK250","v":0},{"$f":"HOJA_CAPTURA!AL250","v":0},{"$f":"HOJA_CAPTURA!AU250","v":0}]
[null,null,null,null,null,{"$f":"HOJA_CAPTURA!R250","v":"00:00:00"}]
[]
[null,"\"El presente inventario consta de __fojas y ampara la cantidad de __expedientes de los años de __al__, contenidos en__ cajas, con un peso aproximado de __kg.\""]
[null,null,{"$f":"HOJA_CAPTURA!F247","v":0},null,null,null,null,{"$f":"HOJA_CAPTURA!E247","v":0}]
["Nombre, firma, cargo y área de adscripción de la persona que formuló el inventario ",null,null,null,null,null,"Nombre, firma, cargo y área de adscripción de la persona que revisó el inventario"]
[null,{"$f":"HOJA_CAPTURA!D247","v":0}]
["Nombre y firma del titular de la unidad administrativa que autorizó el inventario",null,null,null,null,null,"Nombre y firma del responsable del archivo de concentración que recibe el inventario"]
[]
[]
[]
[]
[null,"           "]
["Fecha de transferencia:",null,null,{"$f":"TODAY()","v":"2024-08-13"},"Número de transferencia:",{"$f":"HOJA_CAPTURA!L251","v":0},null,null,null,null,null,null,null,"Hoja: 63 de ",{"$f":"O1530","v":0}]
["Unidad administrativa/Área productora: ",null,null,null,{"$f":"HOJA_CAPTURA!C251","v":0}]
[{"$f":"HOJA_CAPTURA!B251","v":"Fondo: INP"},null,"Sección:",{"$f":"HOJA_CAPTURA!G251","v":0},null,null,"Serie: ",{"$f":"HOJA_CAPTURA!H251","v":0}]
[null,null,null,null,null,null,"Subserie:",null,{"$f":"HOJA_CAPTURA!I251","v":0}]
["No. Consecutivo","No. de caja","No. de expediente","Clasificación archivística del expediente","Descripción o asunto ","                                                                                                                                                                                                                                                          Periodo de trámite","No.  de folios ","Valor documental",null,null,"Vigencia documental",null,null,"Condiciones de acceso (Reservada y confidencial)","Tradición documental "]
[null,null,null,null,null,null,null,"A","L","F/C","AT","AC","Total"]
[{"$f":"HOJA_CAPTURA!J251","v":0},{"$f":"HOJA_CAPTURA!K251","v":0},{"$f":"HOJA_CAPTURA!M251","v":0},{"$f":"HOJA_CAPTURA!N251","v":0},{"$f":"HOJA_CAPTURA!P251","v":0},{"$f":"HOJA_CAPTURA!Q251","v":"00:00:00"},{"$f":"HOJA_CAPTURA!V251","v":0},{"$f":"HOJA_CAPTURA!AF251","v":0},{"$f":"HOJA_CAPTURA!AG251","v":0},{"$f":"HOJA_CAPTURA!AH251","v":0},{"$f":"HOJA_CAPTURA!AI251","v":0},{"$f":"HOJA_CAPTURA!AJ251","v":0},{"$f":"HOJA_CAPTURA!AK251","v":0},{"$f":"HOJA_CAPTURA!AL251","v":0},{"$f":"HOJA_CAPTURA!AU251","v":0}]
[null,null,null,null,null,{"$f":"HOJA_CAPTURA!R251","v":"00:00:00"}]
[{"$f":"HOJA_CAPTURA!J252","v":0},{"$f":"HOJA_CAPTURA!K252","v":0},{"$f":"HOJA_CAPTURA!M252","v":0},{"$f":"HOJA_CAPTURA!N252","v":0},{"$f":"HOJA_CAPTURA!P252","v":0},{"$f":"HOJA_CAPTURA!Q252","v":"00:00:00"},{"$f":"HOJA_CAPTURA!V252","v":0},{"$f":"HOJA_CAPTURA!AF252","v":0},{"$f":"HOJA_CAPTURA!AG252","v":0},{"$f":"HOJA_CAPTURA!AH252","v":0},{"$f":"HOJA_CAPTURA!AI252","v":0},{"$f":"HOJA_CAPTURA!AJ252","v":0},{"$f":"HOJA_CAPTURA!AK252","v":0},{"$f":"HOJA_CAPTURA!AL252","v":0},{"$f":"HOJA_CAPTURA!AU252","v":0}]
[null,null,null,null,null,{"$f":"HOJA_CAPTURA!R252","v":"00:00:00"}]
[{"$f":"HOJA_CAPTURA!J253","v":0},{"$f":"HOJA_CAPTURA!K253","v":0},{"$f":"HOJA_CAPTURA!M253","v":0},{"$f":"HOJA_CAPTURA!N253","v":0},{"$f":"HOJA_CAPTURA!P253","v":0},{"$f":"HOJA_CAPTURA!Q253","v":"00:00:00"},{"$f":"HOJA_CAPTURA!V253","v":0},{"$f":"HOJA_CAPTURA!AF253","v":0},{"$f":"HOJA_CAPTURA!AG253","v":0},{"$f":"HOJA_CAPTURA!AH253","v":0},{"$f":"HOJA_CAPTURA!AI253","v":0},{"$f":"HOJA_CAPTURA!AJ253","v":0},{"$f":"HOJA_CAPTURA!AK253","v":0},{"$f":"HOJA_CAPTURA!AL253","v":0},{"$f":"HOJA_CAPTURA!AU253","v":0}]
[null,null,null,null,null,{"$f":"HOJA_CAPTURA!R253","v":"00:00:00"}]
[{"$f":"HOJA_CAPTURA!J254","v":0},{"$f":"HOJA_CAPTURA!K254","v":0},{"$f":"HOJA_CAPTURA!M254","v":0},{"$f":"HOJA_CAPTURA!N254","v":0},{"$f":"HOJA_CAPTURA!P254","v":0},{"$f":"HOJA_CAPTURA!Q254","v":"00:00:00"},{"$f":"HOJA_CAPTURA!V254","v":0},{"$f":"HOJA_CAPTURA!AF254","v":0},{"$f":"HOJA_CAPTURA!AG254","v":0},{"$f":"HOJA_CAPTURA!AH254","v":0},{"$f":"HOJA_CAPTURA!AI254","v":0},{"$f":"HOJA_CAPTURA!AJ254","v":0},{"$f":"HOJA_CAPTURA!AK254","v":0},{"$f":"HOJA_CAPTURA!AL254","v":0},{"$f":"HOJA_CAPTURA!AU254","v":0}]
[null,null,null,null,null,{"$f":"HOJA_CAPTURA!R254","v":"00:00:00"}]
[]
[null,"\"El presente inventario consta de __fojas y ampara la cantidad de __expedientes de los años de __al__, contenidos en__ cajas, con un peso aproximado de __kg.\""]
[null,null,{"$f":"HOJA_CAPTURA!F251","v":0},null,null,null,null,{"$f":"HOJA_CAPTURA!E251","v":0}]
["Nombre, firma, cargo y área de adscripción de la persona que formuló el inventario ",null,null,null,null,null,"Nombre, firma, cargo y área de adscripción de la persona que revisó el inventario"]
[null,{"$f":"HOJA_CAPTURA!D251","v":0}]
["Nombre y firma del titular de la unidad administrativa que autorizó el inventario",null,null,null,null,null,"Nombre y firma del responsable del archivo de concentración que recibe el inventario"]
[]
[]
[]
[]
[null,"           "]
["Fecha de transferencia:",null,null,{"$f":"TODAY()","v":"2024-08-13"},"Número de transferencia:",{"$f":"HOJA_CAPTURA!L255","v":0},null,null,null,null,null,null,null,"Hoja: 64 de ",{"$f":"O1555","v":0}]
["Unidad administrativa/Área productora: ",null,null,null,{"$f":"HOJA_CAPTURA!C255","v":0}]
[{"$f":"HOJA_CAPTURA!B255","v":"Fondo: INP"},null,"Sección:",{"$f":"HOJA_CAPTURA!G255","v":0},null,null,"Serie: ",{"$f":"HOJA_CAPTURA!H255","v":0}]
[null,null,null,null,null,null,"Subserie:",null,{"$f":"HOJA_CAPTURA!I255","v":0}]
["No. Consecutivo","No. de caja","No. de expediente","Clasificación archivística del expediente","Descripción o asunto ","                                                                                                                                                                                                                                                          Periodo de trámite","No.  de folios ","Valor documental",null,null,"Vigencia documental",null,null,"Condiciones de acceso (Reservada y confidencial)","Tradición documental "]
[null,null,null,null,null,null,null,"A","L","F/C","AT","AC","Total"]
[{"$f":"HOJA_CAPTURA!J255","v":0},{"$f":"HOJA_CAPTURA!K255","v":0},{"$f":"HOJA_CAPTURA!M255","v":0},{"$f":"HOJA_CAPTURA!N255","v":0},{"$f":"HOJA_CAPTURA!P255","v":0},{"$f":"HOJA_CAPTURA!Q255","v":"00:00:00"},{"$f":"HOJA_CAPTURA!V255","v":0},{"$f":"HOJA_CAPTURA!AF255","v":0},{"$f":"HOJA_CAPTURA!AG255","v":0},{"$f":"HOJA_CAPTURA!AH255","v":0},{"$f":"HOJA_CAPTURA!AI255","v":0},{"$f":"HOJA_CAPTURA!AJ255","v":0},{"$f":"HOJA_CAPTURA!AK255","v":0},{"$f":"HOJA_CAPTURA!AL255","v":0},{"$f":"HOJA_CAPTURA!AU255","v":0}]
[null,null,null,null,null,{"$f":"HOJA_CAPTURA!R255","v":"00:00:00"}]
[{"$f":"HOJA_CAPTURA!J256","v":0},{"$f":"HOJA_CAPTURA!K256","v":0},{"$f":"HOJA_CAPTURA!M256","v":0},{"$f":"HOJA_CAPTURA!N256","v":0},{"$f":"HOJA_CAPTURA!P256","v":0},{"$f":"HOJA_CAPTURA!Q256","v":"00:00:00"},{"$f":"HOJA_CAPTURA!V256","v":0},{"$f":"HOJA_CAPTURA!AF256","v":0},{"$f":"HOJA_CAPTURA!AG256","v":0},{"$f":"HOJA_CAPTURA!AH256","v":0},{"$f":"HOJA_CAPTURA!AI256","v":0},{"$f":"HOJA_CAPTURA!AJ256","v":0},{"$f":"HOJA_CAPTURA!AK256","v":0},{"$f":"HOJA_CAPTURA!AL256","v":0},{"$f":"HOJA_CAPTURA!AU256","v":0}]
[null,null,null,null,null,{"$f":"HOJA_CAPTURA!R256","v":"00:00:00"}]
[{"$f":"HOJA_CAPTURA!J257","v":0},{"$f":"HOJA_CAPTURA!K257","v":0},{"$f":"HOJA_CAPTURA!M257","v":0},{"$f":"HOJA_CAPTURA!N257","v":0},{"$f":"HOJA_CAPTURA!P257","v":0},{"$f":"HOJA_CAPTURA!Q257","v":"00:00:00"},{"$f":"HOJA_CAPTURA!V257","v":0},{"$f":"HOJA_CAPTURA!AF257","v":0},{"$f":"HOJA_CAPTURA!AG257","v":0},{"$f":"HOJA_CAPTURA!AH257","v":0},{"$f":"HOJA_CAPTURA!AI257","v":0},{"$f":"HOJA_CAPTURA!AJ257","v":0},{"$f":"HOJA_CAPTURA!AK257","v":0},{"$f":"HOJA_CAPTURA!AL257","v":0},{"$f":"HOJA_CAPTURA!AU257","v":0}]
[null,null,null,null,null,{"$f":"HOJA_CAPTURA!R257","v":"00:00:00"}]
[{"$f":"HOJA_CAPTURA!J258","v":0},{"$f":"HOJA_CAPTURA!K258","v":0},{"$f":"HOJA_CAPTURA!M258","v":0},{"$f":"HOJA_CAPTURA!N258","v":0},{"$f":"HOJA_CAPTURA!P258","v":0},{"$f":"HOJA_CAPTURA!Q258","v":"00:00:00"},{"$f":"HOJA_CAPTURA!V258","v":0},{"$f":"HOJA_CAPTURA!AF258","v":0},{"$f":"HOJA_CAPTURA!AG258","v":0},{"$f":"HOJA_CAPTURA!AH258","v":0},{"$f":"HOJA_CAPTURA!AI258","v":0},{"$f":"HOJA_CAPTURA!AJ258","v":0},{"$f":"HOJA_CAPTURA!AK258","v":0},{"$f":"HOJA_CAPTURA!AL258","v":0},{"$f":"HOJA_CAPTURA!AU258","v":0}]
[null,null,null,null,null,{"$f":"HOJA_CAPTURA!R258","v":"00:00:00"}]
[]
[null,"\"El presente inventario consta de __fojas y ampara la cantidad de __expedientes de los años de __al__, contenidos en__ cajas, con un peso aproximado de __kg.\""]
[null,null,{"$f":"HOJA_CAPTURA!F255","v":0},null,null,null,null,{"$f":"HOJA_CAPTURA!E255","v":0}]
["Nombre, firma, cargo y área de adscripción de la persona que formuló el inventario ",null,null,null,null,null,"Nombre, firma, cargo y área de adscripción de la persona que revisó el inventario"]
[null,{"$f":"HOJA_CAPTURA!D255","v":0}]
["Nombre y firma del titular de la unidad administrativa que autorizó el inventario",null,null,null,null,null,"Nombre y firma del responsable del archivo de concentración que recibe el inventario"]
[]
[]
[]
[]
[null,"           "]
["Fecha de transferencia:",null,null,{"$f":"TODAY()","v":"2024-08-13"},"Número de transferencia:",{"$f":"HOJA_CAPTURA!L259","v":0},null,null,null,null,null,null,null,"Hoja: 65 de ",{"$f":"O1580","v":0}]
["Unidad administrativa/Área productora: ",null,null,null,{"$f":"HOJA_CAPTURA!C259","v":0}]
[{"$f":"HOJA_CAPTURA!B259","v":"Fondo: INP"},null,"Sección:",{"$f":"HOJA_CAPTURA!G259","v":0},null,null,"Serie: ",{"$f":"HOJA_CAPTURA!H259","v":0}]
[null,null,null,null,null,null,"Subserie:",null,{"$f":"HOJA_CAPTURA!I259","v":0}]
["No. Consecutivo","No. de caja","No. de expediente","Clasificación archivística del expediente","Descripción o asunto ","                                                                                                                                                                                                                                                          Periodo de trámite","No.  de folios ","Valor documental",null,null,"Vigencia documental",null,null,"Condiciones de acceso (Reservada y confidencial)","Tradición documental "]
[null,null,null,null,null,null,null,"A","L","F/C","AT","AC","Total"]
[{"$f":"HOJA_CAPTURA!J259","v":0},{"$f":"HOJA_CAPTURA!K259","v":0},{"$f":"HOJA_CAPTURA!M259","v":0},{"$f":"HOJA_CAPTURA!N259","v":0},{"$f":"HOJA_CAPTURA!P259","v":0},{"$f":"HOJA_CAPTURA!Q259","v":"00:00:00"},{"$f":"HOJA_CAPTURA!V259","v":0},{"$f":"HOJA_CAPTURA!AF259","v":0},{"$f":"HOJA_CAPTURA!AG259","v":0},{"$f":"HOJA_CAPTURA!AH259","v":0},{"$f":"HOJA_CAPTURA!AI259","v":0},{"$f":"HOJA_CAPTURA!AJ259","v":0},{"$f":"HOJA_CAPTURA!AK259","v":0},{"$f":"HOJA_CAPTURA!AL259","v":0},{"$f":"HOJA_CAPTURA!AU259","v":0}]
[null,null,null,null,null,{"$f":"HOJA_CAPTURA!R259","v":"00:00:00"}]
[{"$f":"HOJA_CAPTURA!J260","v":0},{"$f":"HOJA_CAPTURA!K260","v":0},{"$f":"HOJA_CAPTURA!M260","v":0},{"$f":"HOJA_CAPTURA!N260","v":0},{"$f":"HOJA_CAPTURA!P260","v":0},{"$f":"HOJA_CAPTURA!Q260","v":"00:00:00"},{"$f":"HOJA_CAPTURA!V260","v":0},{"$f":"HOJA_CAPTURA!AF260","v":0},{"$f":"HOJA_CAPTURA!AG260","v":0},{"$f":"HOJA_CAPTURA!AH260","v":0},{"$f":"HOJA_CAPTURA!AI260","v":0},{"$f":"HOJA_CAPTURA!AJ260","v":0},{"$f":"HOJA_CAPTURA!AK260","v":0},{"$f":"HOJA_CAPTURA!AL260","v":0},{"$f":"HOJA_CAPTURA!AU260","v":0}]
[null,null,null,null,null,{"$f":"HOJA_CAPTURA!R260","v":"00:00:00"}]
[{"$f":"HOJA_CAPTURA!J261","v":0},{"$f":"HOJA_CAPTURA!K261","v":0},{"$f":"HOJA_CAPTURA!M261","v":0},{"$f":"HOJA_CAPTURA!N261","v":0},{"$f":"HOJA_CAPTURA!P261","v":0},{"$f":"HOJA_CAPTURA!Q261","v":"00:00:00"},{"$f":"HOJA_CAPTURA!V261","v":0},{"$f":"HOJA_CAPTURA!AF261","v":0},{"$f":"HOJA_CAPTURA!AG261","v":0},{"$f":"HOJA_CAPTURA!AH261","v":0},{"$f":"HOJA_CAPTURA!AI261","v":0},{"$f":"HOJA_CAPTURA!AJ261","v":0},{"$f":"HOJA_CAPTURA!AK261","v":0},{"$f":"HOJA_CAPTURA!AL261","v":0},{"$f":"HOJA_CAPTURA!AU261","v":0}]
[null,null,null,null,null,{"$f":"HOJA_CAPTURA!R261","v":"00:00:00"}]
[{"$f":"HOJA_CAPTURA!J262","v":0},{"$f":"HOJA_CAPTURA!K262","v":0},{"$f":"HOJA_CAPTURA!M262","v":0},{"$f":"HOJA_CAPTURA!N262","v":0},{"$f":"HOJA_CAPTURA!P262","v":0},{"$f":"HOJA_CAPTURA!Q262","v":"00:00:00"},{"$f":"HOJA_CAPTURA!V262","v":0},{"$f":"HOJA_CAPTURA!AF262","v":0},{"$f":"HOJA_CAPTURA!AG262","v":0},{"$f":"HOJA_CAPTURA!AH262","v":0},{"$f":"HOJA_CAPTURA!AI262","v":0},{"$f":"HOJA_CAPTURA!AJ262","v":0},{"$f":"HOJA_CAPTURA!AK262","v":0},{"$f":"HOJA_CAPTURA!AL262","v":0},{"$f":"HOJA_CAPTURA!AU262","v":0}]
[null,null,null,null,null,{"$f":"HOJA_CAPTURA!R262","v":"00:00:00"}]
[]
[null,"\"El presente inventario consta de __fojas y ampara la cantidad de __expedientes de los años de __al__, contenidos en__ cajas, con un peso aproximado de __kg.\""]
[null,null,{"$f":"HOJA_CAPTURA!F259","v":0},null,null,null,null,{"$f":"HOJA_CAPTURA!E259","v":0}]
["Nombre, firma, cargo y área de adscripción de la persona que formuló el inventario ",null,null,null,null,null,"Nombre, firma, cargo y área de adscripción de la persona que revisó el inventario"]
[null,{"$f":"HOJA_CAPTURA!D259","v":0}]
["Nombre y firma del titular de la unidad administrativa que autorizó el inventario",null,null,null,null,null,"Nombre y firma del responsable del archivo de concentración que recibe el inventario"]
[]
[]
[]
[]
[null,"           "]
["Fecha de transferencia:",null,null,{"$f":"TODAY()","v":"2024-08-13"},"Número de transferencia:",{"$f":"HOJA_CAPTURA!L263","v":0},null,null,null,null,null,null,null,"Hoja: 66 de ",{"$f":"O1605","v":0}]
["Unidad administrativa/Área productora: ",null,null,null,{"$f":"HOJA_CAPTURA!C263","v":0}]
[{"$f":"HOJA_CAPTURA!B263","v":"Fondo: INP"},null,"Sección:",{"$f":"HOJA_CAPTURA!G263","v":0},null,null,"Serie: ",{"$f":"HOJA_CAPTURA!H263","v":0}]
[null,null,null,null,null,null,"Subserie:",null,{"$f":"HOJA_CAPTURA!I263","v":0}]
["No. Consecutivo","No. de caja","No. de expediente","Clasificación archivística del expediente","Descripción o asunto ","                                                                                                                                                                                                                                                          Periodo de trámite","No.  de folios ","Valor documental",null,null,"Vigencia documental",null,null,"Condiciones de acceso (Reservada y confidencial)","Tradición documental "]
[null,null,null,null,null,null,null,"A","L","F/C","AT","AC","Total"]
[{"$f":"HOJA_CAPTURA!J263","v":0},{"$f":"HOJA_CAPTURA!K263","v":0},{"$f":"HOJA_CAPTURA!M263","v":0},{"$f":"HOJA_CAPTURA!N263","v":0},{"$f":"HOJA_CAPTURA!P263","v":0},{"$f":"HOJA_CAPTURA!Q263","v":"00:00:00"},{"$f":"HOJA_CAPTURA!V263","v":0},{"$f":"HOJA_CAPTURA!AF263","v":0},{"$f":"HOJA_CAPTURA!AG263","v":0},{"$f":"HOJA_CAPTURA!AH263","v":0},{"$f":"HOJA_CAPTURA!AI263","v":0},{"$f":"HOJA_CAPTURA!AJ263","v":0},{"$f":"HOJA_CAPTURA!AK263","v":0},{"$f":"HOJA_CAPTURA!AL263","v":0},{"$f":"HOJA_CAPTURA!AU263","v":0}]
[null,null,null,null,null,{"$f":"HOJA_CAPTURA!R263","v":"00:00:00"}]
[{"$f":"HOJA_CAPTURA!J264","v":0},{"$f":"HOJA_CAPTURA!K264","v":0},{"$f":"HOJA_CAPTURA!M264","v":0},{"$f":"HOJA_CAPTURA!N264","v":0},{"$f":"HOJA_CAPTURA!P264","v":0},{"$f":"HOJA_CAPTURA!Q264","v":"00:00:00"},{"$f":"HOJA_CAPTURA!V264","v":0},{"$f":"HOJA_CAPTURA!AF264","v":0},{"$f":"HOJA_CAPTURA!AG264","v":0},{"$f":"HOJA_CAPTURA!AH264","v":0},{"$f":"HOJA_CAPTURA!AI264","v":0},{"$f":"HOJA_CAPTURA!AJ264","v":0},{"$f":"HOJA_CAPTURA!AK264","v":0},{"$f":"HOJA_CAPTURA!AL264","v":0},{"$f":"HOJA_CAPTURA!AU264","v":0}]
[null,null,null,null,null,{"$f":"HOJA_CAPTURA!R264","v":"00:00:00"}]
[{"$f":"HOJA_CAPTURA!J265","v":0},{"$f":"HOJA_CAPTURA!K265","v":0},{"$f":"HOJA_CAPTURA!M265","v":0},{"$f":"HOJA_CAPTURA!N265","v":0},{"$f":"HOJA_CAPTURA!P265","v":0},{"$f":"HOJA_CAPTURA!Q265","v":"00:00:00"},{"$f":"HOJA_CAPTURA!V265","v":0},{"$f":"HOJA_CAPTURA!AF265","v":0},{"$f":"HOJA_CAPTURA!AG265","v":0},{"$f":"HOJA_CAPTURA!AH265","v":0},{"$f":"HOJA_CAPTURA!AI265","v":0},{"$f":"HOJA_CAPTURA!AJ265","v":0},{"$f":"HOJA_CAPTURA!AK265","v":0},{"$f":"HOJA_CAPTURA!AL265","v":0},{"$f":"HOJA_CAPTURA!AU265","v":0}]
[null,null,null,null,null,{"$f":"HOJA_CAPTURA!R265","v":"00:00:00"}]
[{"$f":"HOJA_CAPTURA!J266","v":0},{"$f":"HOJA_CAPTURA!K266","v":0},{"$f":"HOJA_CAPTURA!M266","v":0},{"$f":"HOJA_CAPTURA!N266","v":0},{"$f":"HOJA_CAPTURA!P266","v":0},{"$f":"HOJA_CAPTURA!Q266","v":"00:00:00"},{"$f":"HOJA_CAPTURA!V266","v":0},{"$f":"HOJA_CAPTURA!AF266","v":0},{"$f":"HOJA_CAPTURA!AG266","v":0},{"$f":"HOJA_CAPTURA!AH266","v":0},{"$f":"HOJA_CAPTURA!AI266","v":0},{"$f":"HOJA_CAPTURA!AJ266","v":0},{"$f":"HOJA_CAPTURA!AK266","v":0},{"$f":"HOJA_CAPTURA!AL266","v":0},{"$f":"HOJA_CAPTURA!AU266","v":0}]
[null,null,null,null,null,{"$f":"HOJA_CAPTURA!R266","v":"00:00:00"}]
[]
[null,"\"El presente inventario consta de __fojas y ampara la cantidad de __expedientes de los años de __al__, contenidos en__ cajas, con un peso aproximado de __kg.\""]
[null,null,{"$f":"HOJA_CAPTURA!F263","v":0},null,null,null,null,{"$f":"HOJA_CAPTURA!E263","v":0}]
["Nombre, firma, cargo y área de adscripción de la persona que formuló el inventario ",null,null,null,null,null,"Nombre, firma, cargo y área de adscripción de la persona que revisó el inventario"]
[null,{"$f":"HOJA_CAPTURA!D263","v":0}]
["Nombre y firma del titular de la unidad administrativa que autorizó el inventario",null,null,null,null,null,"Nombre y firma del responsable del archivo de concentración que recibe el inventario"]
[]
[]
[]
[]
[null,"           "]
["Fecha de transferencia:",null,null,{"$f":"TODAY()","v":"2024-08-13"},"Número de transferencia:",{"$f":"HOJA_CAPTURA!L267","v":0},null,null,null,null,null,null,null,"Hoja: 67 de ",{"$f":"O1630","v":0}]
["Unidad administrativa/Área productora: ",null,null,null,{"$f":"HOJA_CAPTURA!C267","v":0}]
[{"$f":"HOJA_CAPTURA!B267","v":"Fondo: INP"},null,"Sección:",{"$f":"HOJA_CAPTURA!G267","v":0},null,null,"Serie: ",{"$f":"HOJA_CAPTURA!H267","v":0}]
[null,null,null,null,null,null,"Subserie:",null,{"$f":"HOJA_CAPTURA!I267","v":0}]
["No. Consecutivo","No. de caja","No. de expediente","Clasificación archivística del expediente","Descripción o asunto ","                                                                                                                                                                                                                                                          Periodo de trámite","No.  de folios ","Valor documental",null,null,"Vigencia documental",null,null,"Condiciones de acceso (Reservada y confidencial)","Tradición documental "]
[null,null,null,null,null,null,null,"A","L","F/C","AT","AC","Total"]
[{"$f":"HOJA_CAPTURA!J267","v":0},{"$f":"HOJA_CAPTURA!K267","v":0},{"$f":"HOJA_CAPTURA!M267","v":0},{"$f":"HOJA_CAPTURA!N267","v":0},{"$f":"HOJA_CAPTURA!P267","v":0},{"$f":"HOJA_CAPTURA!Q267","v":"00:00:00"},{"$f":"HOJA_CAPTURA!V267","v":0},{"$f":"HOJA_CAPTURA!AF267","v":0},{"$f":"HOJA_CAPTURA!AG267","v":0},{"$f":"HOJA_CAPTURA!AH267","v":0},{"$f":"HOJA_CAPTURA!AI267","v":0},{"$f":"HOJA_CAPTURA!AJ267","v":0},{"$f":"HOJA_CAPTURA!AK267","v":0},{"$f":"HOJA_CAPTURA!AL267","v":0},{"$f":"HOJA_CAPTURA!AU267","v":0}]
[null,null,null,null,null,{"$f":"HOJA_CAPTURA!R267","v":"00:00:00"}]
[{"$f":"HOJA_CAPTURA!J268","v":0},{"$f":"HOJA_CAPTURA!K268","v":0},{"$f":"HOJA_CAPTURA!M268","v":0},{"$f":"HOJA_CAPTURA!N268","v":0},{"$f":"HOJA_CAPTURA!P268","v":0},{"$f":"HOJA_CAPTURA!Q268","v":"00:00:00"},{"$f":"HOJA_CAPTURA!V268","v":0},{"$f":"HOJA_CAPTURA!AF268","v":0},{"$f":"HOJA_CAPTURA!AG268","v":0},{"$f":"HOJA_CAPTURA!AH268","v":0},{"$f":"HOJA_CAPTURA!AI268","v":0},{"$f":"HOJA_CAPTURA!AJ268","v":0},{"$f":"HOJA_CAPTURA!AK268","v":0},{"$f":"HOJA_CAPTURA!AL268","v":0},{"$f":"HOJA_CAPTURA!AU268","v":0}]
[null,null,null,null,null,{"$f":"HOJA_CAPTURA!R268","v":"00:00:00"}]
[{"$f":"HOJA_CAPTURA!J269","v":0},{"$f":"HOJA_CAPTURA!K269","v":0},{"$f":"HOJA_CAPTURA!M269","v":0},{"$f":"HOJA_CAPTURA!N269","v":0},{"$f":"HOJA_CAPTURA!P269","v":0},{"$f":"HOJA_CAPTURA!Q269","v":"00:00:00"},{"$f":"HOJA_CAPTURA!V269","v":0},{"$f":"HOJA_CAPTURA!AF269","v":0},{"$f":"HOJA_CAPTURA!AG269","v":0},{"$f":"HOJA_CAPTURA!AH269","v":0},{"$f":"HOJA_CAPTURA!AI269","v":0},{"$f":"HOJA_CAPTURA!AJ269","v":0},{"$f":"HOJA_CAPTURA!AK269","v":0},{"$f":"HOJA_CAPTURA!AL269","v":0},{"$f":"HOJA_CAPTURA!AU269","v":0}]
[null,null,null,null,null,{"$f":"HOJA_CAPTURA!R269","v":"00:00:00"}]
[{"$f":"HOJA_CAPTURA!J270","v":0},{"$f":"HOJA_CAPTURA!K270","v":0},{"$f":"HOJA_CAPTURA!M270","v":0},{"$f":"HOJA_CAPTURA!N270","v":0},{"$f":"HOJA_CAPTURA!P270","v":0},{"$f":"HOJA_CAPTURA!Q270","v":"00:00:00"},{"$f":"HOJA_CAPTURA!V270","v":0},{"$f":"HOJA_CAPTURA!AF270","v":0},{"$f":"HOJA_CAPTURA!AG270","v":0},{"$f":"HOJA_CAPTURA!AH270","v":0},{"$f":"HOJA_CAPTURA!AI270","v":0},{"$f":"HOJA_CAPTURA!AJ270","v":0},{"$f":"HOJA_CAPTURA!AK270","v":0},{"$f":"HOJA_CAPTURA!AL270","v":0},{"$f":"HOJA_CAPTURA!AU270","v":0}]
[null,null,null,null,null,{"$f":"HOJA_CAPTURA!R270","v":"00:00:00"}]
[]
[null,"\"El presente inventario consta de __fojas y ampara la cantidad de __expedientes de los años de __al__, contenidos en__ cajas, con un peso aproximado de __kg.\""]
[null,null,{"$f":"HOJA_CAPTURA!F267","v":0},null,null,null,null,{"$f":"HOJA_CAPTURA!E267","v":0}]
["Nombre, firma, cargo y área de adscripción de la persona que formuló el inventario ",null,null,null,null,null,"Nombre, firma, cargo y área de adscripción de la persona que revisó el inventario"]
[null,{"$f":"HOJA_CAPTURA!D267","v":0}]
["Nombre y firma del titular de la unidad administrativa que autorizó el inventario",null,null,null,null,null,"Nombre y firma del responsable del archivo de concentración que recibe el inventario"]
[]
[]
[]
[]
[null,"           "]
["Fecha de transferencia:",null,null,{"$f":"TODAY()","v":"2024-08-13"},"Número de transferencia:",{"$f":"HOJA_CAPTURA!L271","v":0},null,null,null,null,null,null,null,"Hoja: 59 de ",{"$f":"O1655","v":0}]
["Unidad administrativa/Área productora: ",null,null,null,{"$f":"HOJA_CAPTURA!C271","v":0}]
[{"$f":"HOJA_CAPTURA!B271","v":"Fondo: INP"},null,"Sección:",{"$f":"HOJA_CAPTURA!G271","v":0},null,null,"Serie: ",{"$f":"HOJA_CAPTURA!H271","v":0}]
[null,null,null,null,null,null,"Subserie:",null,{"$f":"HOJA_CAPTURA!I271","v":0}]
["No. Consecutivo","No. de caja","No. de expediente","Clasificación archivística del expediente","Descripción o asunto ","                                                                                                                                                                                                                                                          Periodo de trámite","No.  de folios ","Valor documental",null,null,"Vigencia documental",null,null,"Condiciones de acceso (Reservada y confidencial)","Tradición documental "]
[null,null,null,null,null,null,null,"A","L","F/C","AT","AC","Total"]
[{"$f":"HOJA_CAPTURA!J271","v":0},{"$f":"HOJA_CAPTURA!K271","v":0},{"$f":"HOJA_CAPTURA!M271","v":0},{"$f":"HOJA_CAPTURA!N271","v":0},{"$f":"HOJA_CAPTURA!P271","v":0},{"$f":"HOJA_CAPTURA!Q271","v":"00:00:00"},{"$f":"HOJA_CAPTURA!V271","v":0},{"$f":"HOJA_CAPTURA!AF271","v":0},{"$f":"HOJA_CAPTURA!AG271","v":0},{"$f":"HOJA_CAPTURA!AH271","v":0},{"$f":"HOJA_CAPTURA!AI271","v":0},{"$f":"HOJA_CAPTURA!AJ271","v":0},{"$f":"HOJA_CAPTURA!AK271","v":0},{"$f":"HOJA_CAPTURA!AL271","v":0},{"$f":"HOJA_CAPTURA!AU271","v":0}]
[null,null,null,null,null,{"$f":"HOJA_CAPTURA!R271","v":"00:00:00"}]
[{"$f":"HOJA_CAPTURA!J272","v":0},{"$f":"HOJA_CAPTURA!K272","v":0},{"$f":"HOJA_CAPTURA!M272","v":0},{"$f":"HOJA_CAPTURA!N272","v":0},{"$f":"HOJA_CAPTURA!P272","v":0},{"$f":"HOJA_CAPTURA!Q272","v":"00:00:00"},{"$f":"HOJA_CAPTURA!V272","v":0},{"$f":"HOJA_CAPTURA!AF272","v":0},{"$f":"HOJA_CAPTURA!AG272","v":0},{"$f":"HOJA_CAPTURA!AH272","v":0},{"$f":"HOJA_CAPTURA!AI272","v":0},{"$f":"HOJA_CAPTURA!AJ272","v":0},{"$f":"HOJA_CAPTURA!AK272","v":0},{"$f":"HOJA_CAPTURA!AL272","v":0},{"$f":"HOJA_CAPTURA!AU272","v":0}]
[null,null,null,null,null,{"$f":"HOJA_CAPTURA!R272","v":"00:00:00"}]
[{"$f":"HOJA_CAPTURA!J273","v":0},{"$f":"HOJA_CAPTURA!K273","v":0},{"$f":"HOJA_CAPTURA!M273","v":0},{"$f":"HOJA_CAPTURA!N273","v":0},{"$f":"HOJA_CAPTURA!P273","v":0},{"$f":"HOJA_CAPTURA!Q273","v":"00:00:00"},{"$f":"HOJA_CAPTURA!V273","v":0},{"$f":"HOJA_CAPTURA!AF273","v":0},{"$f":"HOJA_CAPTURA!AG273","v":0},{"$f":"HOJA_CAPTURA!AH273","v":0},{"$f":"HOJA_CAPTURA!AI273","v":0},{"$f":"HOJA_CAPTURA!AJ273","v":0},{"$f":"HOJA_CAPTURA!AK273","v":0},{"$f":"HOJA_CAPTURA!AL273","v":0},{"$f":"HOJA_CAPTURA!AU273","v":0}]
[null,null,null,null,null,{"$f":"HOJA_CAPTURA!R273","v":"00:00:00"}]
[{"$f":"HOJA_CAPTURA!J274","v":0},{"$f":"HOJA_CAPTURA!K274","v":0},{"$f":"HOJA_CAPTURA!M274","v":0},{"$f":"HOJA_CAPTURA!N274","v":0},{"$f":"HOJA_CAPTURA!P274","v":0},{"$f":"HOJA_CAPTURA!Q274","v":"00:00:00"},{"$f":"HOJA_CAPTURA!V274","v":0},{"$f":"HOJA_CAPTURA!AF274","v":0},{"$f":"HOJA_CAPTURA!AG274","v":0},{"$f":"HOJA_CAPTURA!AH274","v":0},{"$f":"HOJA_CAPTURA!AI274","v":0},{"$f":"HOJA_CAPTURA!AJ274","v":0},{"$f":"HOJA_CAPTURA!AK274","v":0},{"$f":"HOJA_CAPTURA!AL274","v":0},{"$f":"HOJA_CAPTURA!AU274","v":0}]
[null,null,null,null,null,{"$f":"HOJA_CAPTURA!R274","v":"00:00:00"}]
[]
[null,"\"El presente inventario consta de __fojas y ampara la cantidad de __expedientes de los años de __al__, contenidos en__ cajas, con un peso aproximado de __kg.\""]
[null,null,{"$f":"HOJA_CAPTURA!F271","v":0},null,null,null,null,{"$f":"HOJA_CAPTURA!E271","v":0}]
["Nombre, firma, cargo y área de adscripción de la persona que formuló el inventario ",null,null,null,null,null,"Nombre, firma, cargo y área de adscripción de la persona que revisó el inventario"]
[null,{"$f":"HOJA_CAPTURA!D271","v":0}]
["Nombre y firma del titular de la unidad administrativa que autorizó el inventario",null,null,null,null,null,"Nombre y firma del responsable del archivo de concentración que recibe el inventario"]
[]
[]
[]
[]
[null,"           "]
["Fecha de transferencia:",null,null,{"$f":"TODAY()","v":"2024-08-13"},"Número de transferencia:",{"$f":"HOJA_CAPTURA!L275","v":0},null,null,null,null,null,null,null,"Hoja: 69 de ",{"$f":"O1680","v":0}]
["Unidad administrativa/Área productora: ",null,null,null,{"$f":"HOJA_CAPTURA!C275","v":0}]
[{"$f":"HOJA_CAPTURA!B275","v":"Fondo: INP"},null,"Sección:",{"$f":"HOJA_CAPTURA!G275","v":0},null,null,"Serie: ",{"$f":"HOJA_CAPTURA!H275","v":0}]
[null,null,null,null,null,null,"Subserie:",null,{"$f":"HOJA_CAPTURA!I275","v":0}]
["No. Consecutivo","No. de caja","No. de expediente","Clasificación archivística del expediente","Descripción o asunto ","                                                                                                                                                                                                                                                          Periodo de trámite","No.  de folios ","Valor documental",null,null,"Vigencia documental",null,null,"Condiciones de acceso (Reservada y confidencial)","Tradición documental "]
[null,null,null,null,null,null,null,"A","L","F/C","AT","AC","Total"]
[{"$f":"HOJA_CAPTURA!J275","v":0},{"$f":"HOJA_CAPTURA!K275","v":0},{"$f":"HOJA_CAPTURA!M275","v":0},{"$f":"HOJA_CAPTURA!N275","v":0},{"$f":"HOJA_CAPTURA!P275","v":0},{"$f":"HOJA_CAPTURA!Q275","v":"00:00:00"},{"$f":"HOJA_CAPTURA!V275","v":0},{"$f":"HOJA_CAPTURA!AF275","v":0},{"$f":"HOJA_CAPTURA!AG275","v":0},{"$f":"HOJA_CAPTURA!AH275","v":0},{"$f":"HOJA_CAPTURA!AI275","v":0},{"$f":"HOJA_CAPTURA!AJ275","v":0},{"$f":"HOJA_CAPTURA!AK275","v":0},{"$f":"HOJA_CAPTURA!AL275","v":0},{"$f":"HOJA_CAPTURA!AU275","v":0}]
[null,null,null,null,null,{"$f":"HOJA_CAPTURA!R275","v":"00:00:00"}]
[{"$f":"HOJA_CAPTURA!J276","v":0},{"$f":"HOJA_CAPTURA!K276","v":0},{"$f":"HOJA_CAPTURA!M276","v":0},{"$f":"HOJA_CAPTURA!N276","v":0},{"$f":"HOJA_CAPTURA!P276","v":0},{"$f":"HOJA_CAPTURA!Q276","v":"00:00:00"},{"$f":"HOJA_CAPTURA!V276","v":0},{"$f":"HOJA_CAPTURA!AF276","v":0},{"$f":"HOJA_CAPTURA!AG276","v":0},{"$f":"HOJA_CAPTURA!AH276","v":0},{"$f":"HOJA_CAPTURA!AI276","v":0},{"$f":"HOJA_CAPTURA!AJ276","v":0},{"$f":"HOJA_CAPTURA!AK276","v":0},{"$f":"HOJA_CAPTURA!AL276","v":0},{"$f":"HOJA_CAPTURA!AU276","v":0}]
[null,null,null,null,null,{"$f":"HOJA_CAPTURA!R276","v":"00:00:00"}]
[{"$f":"HOJA_CAPTURA!J277","v":0},{"$f":"HOJA_CAPTURA!K277","v":0},{"$f":"HOJA_CAPTURA!M277","v":0},{"$f":"HOJA_CAPTURA!N277","v":0},{"$f":"HOJA_CAPTURA!P277","v":0},{"$f":"HOJA_CAPTURA!Q277","v":"00:00:00"},{"$f":"HOJA_CAPTURA!V277","v":0},{"$f":"HOJA_CAPTURA!AF277","v":0},{"$f":"HOJA_CAPTURA!AG277","v":0},{"$f":"HOJA_CAPTURA!AH277","v":0},{"$f":"HOJA_CAPTURA!AI277","v":0},{"$f":"HOJA_CAPTURA!AJ277","v":0},{"$f":"HOJA_CAPTURA!AK277","v":0},{"$f":"HOJA_CAPTURA!AL277","v":0},{"$f":"HOJA_CAPTURA!AU277","v":0}]
[null,null,null,null,null,{"$f":"HOJA_CAPTURA!R277","v":"00:00:00"}]
[{"$f":"HOJA_CAPTURA!J278","v":0},{"$f":"HOJA_CAPTURA!K278","v":0},{"$f":"HOJA_CAPTURA!M278","v":0},{"$f":"HOJA_CAPTURA!N278","v":0},{"$f":"HOJA_CAPTURA!P278","v":0},{"$f":"HOJA_CAPTURA!Q278","v":"00:00:00"},{"$f":"HOJA_CAPTURA!V278","v":0},{"$f":"HOJA_CAPTURA!AF278","v":0},{"$f":"HOJA_CAPTURA!AG278","v":0},{"$f":"HOJA_CAPTURA!AH278","v":0},{"$f":"HOJA_CAPTURA!AI278","v":0},{"$f":"HOJA_CAPTURA!AJ278","v":0},{"$f":"HOJA_CAPTURA!AK278","v":0},{"$f":"HOJA_CAPTURA!AL278","v":0},{"$f":"HOJA_CAPTURA!AU278","v":0}]
[null,null,null,null,null,{"$f":"HOJA_CAPTURA!R278","v":"00:00:00"}]
[]
[null,"\"El presente inventario consta de __fojas y ampara la cantidad de __expedientes de los años de __al__, contenidos en__ cajas, con un peso aproximado de __kg.\""]
[null,null,{"$f":"HOJA_CAPTURA!F275","v":0},null,null,null,null,{"$f":"HOJA_CAPTURA!E275","v":0}]
["Nombre, firma, cargo y área de adscripción de la persona que formuló el inventario ",null,null,null,null,null,"Nombre, firma, cargo y área de adscripción de la persona que revisó el inventario"]
[null,{"$f":"HOJA_CAPTURA!D275","v":0}]
["Nombre y firma del titular de la unidad administrativa que autorizó el inventario",null,null,null,null,null,"Nombre y firma del responsable del archivo de concentración que recibe el inventario"]
[]
[]
[]
[]
[null,"           "]
["Fecha de transferencia:",null,null,{"$f":"TODAY()","v":"2024-08-13"},"Número de transferencia:",{"$f":"HOJA_CAPTURA!L279","v":0},null,null,null,null,null,null,null,"Hoja: 70 de ",{"$f":"O1705","v":0}]
["Unidad administrativa/Área productora: ",null,null,null,{"$f":"HOJA_CAPTURA!C279","v":0}]
[{"$f":"HOJA_CAPTURA!B279","v":"Fondo: INP"},null,"Sección:",{"$f":"HOJA_CAPTURA!G279","v":0},null,null,"Serie: ",{"$f":"HOJA_CAPTURA!H279","v":0}]
[null,null,null,null,null,null,"Subserie:",null,{"$f":"HOJA_CAPTURA!I279","v":0}]
["No. Consecutivo","No. de caja","No. de expediente","Clasificación archivística del expediente","Descripción o asunto ","                                                                                                                                                                                                                                                          Periodo de trámite","No.  de folios ","Valor documental",null,null,"Vigencia documental",null,null,"Condiciones de acceso (Reservada y confidencial)","Tradición documental "]
[null,null,null,null,null,null,null,"A","L","F/C","AT","AC","Total"]
[{"$f":"HOJA_CAPTURA!J279","v":0},{"$f":"HOJA_CAPTURA!K279","v":0},{"$f":"HOJA_CAPTURA!M279","v":0},{"$f":"HOJA_CAPTURA!N279","v":0},{"$f":"HOJA_CAPTURA!P279","v":0},{"$f":"HOJA_CAPTURA!Q279","v":"00:00:00"},{"$f":"HOJA_CAPTURA!V279","v":0},{"$f":"HOJA_CAPTURA!AF279","v":0},{"$f":"HOJA_CAPTURA!AG279","v":0},{"$f":"HOJA_CAPTURA!AH279","v":0},{"$f":"HOJA_CAPTURA!AI279","v":0},{"$f":"HOJA_CAPTURA!AJ279","v":0},{"$f":"HOJA_CAPTURA!AK279","v":0},{"$f":"HOJA_CAPTURA!AL279","v":0},{"$f":"HOJA_CAPTURA!AU279","v":0}]
[null,null,null,null,null,{"$f":"HOJA_CAPTURA!R279","v":"00:00:00"}]
[{"$f":"HOJA_CAPTURA!J280","v":0},{"$f":"HOJA_CAPTURA!K280","v":0},{"$f":"HOJA_CAPTURA!M280","v":0},{"$f":"HOJA_CAPTURA!N280","v":0},{"$f":"HOJA_CAPTURA!P280","v":0},{"$f":"HOJA_CAPTURA!Q280","v":"00:00:00"},{"$f":"HOJA_CAPTURA!V280","v":0},{"$f":"HOJA_CAPTURA!AF280","v":0},{"$f":"HOJA_CAPTURA!AG280","v":0},{"$f":"HOJA_CAPTURA!AH280","v":0},{"$f":"HOJA_CAPTURA!AI280","v":0},{"$f":"HOJA_CAPTURA!AJ280","v":0},{"$f":"HOJA_CAPTURA!AK280","v":0},{"$f":"HOJA_CAPTURA!AL280","v":0},{"$f":"HOJA_CAPTURA!AU280","v":0}]
[null,null,null,null,null,{"$f":"HOJA_CAPTURA!R280","v":"00:00:00"}]
[{"$f":"HOJA_CAPTURA!J281","v":0},{"$f":"HOJA_CAPTURA!K281","v":0},{"$f":"HOJA_CAPTURA!M281","v":0},{"$f":"HOJA_CAPTURA!N281","v":0},{"$f":"HOJA_CAPTURA!P281","v":0},{"$f":"HOJA_CAPTURA!Q281","v":"00:00:00"},{"$f":"HOJA_CAPTURA!V281","v":0},{"$f":"HOJA_CAPTURA!AF281","v":0},{"$f":"HOJA_CAPTURA!AG281","v":0},{"$f":"HOJA_CAPTURA!AH281","v":0},{"$f":"HOJA_CAPTURA!AI281","v":0},{"$f":"HOJA_CAPTURA!AJ281","v":0},{"$f":"HOJA_CAPTURA!AK281","v":0},{"$f":"HOJA_CAPTURA!AL281","v":0},{"$f":"HOJA_CAPTURA!AU281","v":0}]
[null,null,null,null,null,{"$f":"HOJA_CAPTURA!R281","v":"00:00:00"}]
[{"$f":"HOJA_CAPTURA!J282","v":0},{"$f":"HOJA_CAPTURA!K282","v":0},{"$f":"HOJA_CAPTURA!M282","v":0},{"$f":"HOJA_CAPTURA!N282","v":0},{"$f":"HOJA_CAPTURA!P282","v":0},{"$f":"HOJA_CAPTURA!Q282","v":"00:00:00"},{"$f":"HOJA_CAPTURA!V282","v":0},{"$f":"HOJA_CAPTURA!AF282","v":0},{"$f":"HOJA_CAPTURA!AG282","v":0},{"$f":"HOJA_CAPTURA!AH282","v":0},{"$f":"HOJA_CAPTURA!AI282","v":0},{"$f":"HOJA_CAPTURA!AJ282","v":0},{"$f":"HOJA_CAPTURA!AK282","v":0},{"$f":"HOJA_CAPTURA!AL282","v":0},{"$f":"HOJA_CAPTURA!AU282","v":0}]
[null,null,null,null,null,{"$f":"HOJA_CAPTURA!R282","v":"00:00:00"}]
[]
[null,"\"El presente inventario consta de __fojas y ampara la cantidad de __expedientes de los años de __al__, contenidos en__ cajas, con un peso aproximado de __kg.\""]
[null,null,{"$f":"HOJA_CAPTURA!F279","v":0},null,null,null,null,{"$f":"HOJA_CAPTURA!E279","v":0}]
["Nombre, firma, cargo y área de adscripción de la persona que formuló el inventario ",null,null,null,null,null,"Nombre, firma, cargo y área de adscripción de la persona que revisó el inventario"]
[null,{"$f":"HOJA_CAPTURA!D279","v":0}]
["Nombre y firma del titular de la unidad administrativa que autorizó el inventario",null,null,null,null,null,"Nombre y firma del responsable del archivo de concentración que recibe el inventario"]
[]
[]
[]
[]
[null,"           "]
["Fecha de transferencia:",null,null,{"$f":"TODAY()","v":"2024-08-13"},"Número de transferencia:",{"$f":"HOJA_CAPTURA!L283","v":0},null,null,null,null,null,null,null,"Hoja: 71 de ",{"$f":"O1730","v":0}]
["Unidad administrativa/Área productora: ",null,null,null,{"$f":"HOJA_CAPTURA!C283","v":0}]
[{"$f":"HOJA_CAPTURA!B283","v":"Fondo: INP"},null,"Sección:",{"$f":"HOJA_CAPTURA!G283","v":0},null,null,"Serie: ",{"$f":"HOJA_CAPTURA!H283","v":0}]
[null,null,null,null,null,null,"Subserie:",null,{"$f":"HOJA_CAPTURA!I283","v":0}]
["No. Consecutivo","No. de caja","No. de expediente","Clasificación archivística del expediente","Descripción o asunto ","                                                                                                                                                                                                                                                          Periodo de trámite","No.  de folios ","Valor documental",null,null,"Vigencia documental",null,null,"Condiciones de acceso (Reservada y confidencial)","Tradición documental "]
[null,null,null,null,null,null,null,"A","L","F/C","AT","AC","Total"]
[{"$f":"HOJA_CAPTURA!J283","v":0},{"$f":"HOJA_CAPTURA!K283","v":0},{"$f":"HOJA_CAPTURA!M283","v":0},{"$f":"HOJA_CAPTURA!N283","v":0},{"$f":"HOJA_CAPTURA!P283","v":0},{"$f":"HOJA_CAPTURA!Q283","v":"00:00:00"},{"$f":"HOJA_CAPTURA!V283","v":0},{"$f":"HOJA_CAPTURA!AF283","v":0},{"$f":"HOJA_CAPTURA!AG283","v":0},{"$f":"HOJA_CAPTURA!AH283","v":0},{"$f":"HOJA_CAPTURA!AI283","v":0},{"$f":"HOJA_CAPTURA!AJ283","v":0},{"$f":"HOJA_CAPTURA!AK283","v":0},{"$f":"HOJA_CAPTURA!AL283","v":0},{"$f":"HOJA_CAPTURA!AU283","v":0}]
[null,null,null,null,null,{"$f":"HOJA_CAPTURA!R283","v":"00:00:00"}]
[{"$f":"HOJA_CAPTURA!J284","v":0},{"$f":"HOJA_CAPTURA!K284","v":0},{"$f":"HOJA_CAPTURA!M284","v":0},{"$f":"HOJA_CAPTURA!N284","v":0},{"$f":"HOJA_CAPTURA!P284","v":0},{"$f":"HOJA_CAPTURA!Q284","v":"00:00:00"},{"$f":"HOJA_CAPTURA!V284","v":0},{"$f":"HOJA_CAPTURA!AF284","v":0},{"$f":"HOJA_CAPTURA!AG284","v":0},{"$f":"HOJA_CAPTURA!AH284","v":0},{"$f":"HOJA_CAPTURA!AI284","v":0},{"$f":"HOJA_CAPTURA!AJ284","v":0},{"$f":"HOJA_CAPTURA!AK284","v":0},{"$f":"HOJA_CAPTURA!AL284","v":0},{"$f":"HOJA_CAPTURA!AU284","v":0}]
[null,null,null,null,null,{"$f":"HOJA_CAPTURA!R284","v":"00:00:00"}]
[{"$f":"HOJA_CAPTURA!J285","v":0},{"$f":"HOJA_CAPTURA!K285","v":0},{"$f":"HOJA_CAPTURA!M285","v":0},{"$f":"HOJA_CAPTURA!N285","v":0},{"$f":"HOJA_CAPTURA!P285","v":0},{"$f":"HOJA_CAPTURA!Q285","v":"00:00:00"},{"$f":"HOJA_CAPTURA!V285","v":0},{"$f":"HOJA_CAPTURA!AF285","v":0},{"$f":"HOJA_CAPTURA!AG285","v":0},{"$f":"HOJA_CAPTURA!AH285","v":0},{"$f":"HOJA_CAPTURA!AI285","v":0},{"$f":"HOJA_CAPTURA!AJ285","v":0},{"$f":"HOJA_CAPTURA!AK285","v":0},{"$f":"HOJA_CAPTURA!AL285","v":0},{"$f":"HOJA_CAPTURA!AU285","v":0}]
[null,null,null,null,null,{"$f":"HOJA_CAPTURA!R285","v":"00:00:00"}]
[{"$f":"HOJA_CAPTURA!J286","v":0},{"$f":"HOJA_CAPTURA!K286","v":0},{"$f":"HOJA_CAPTURA!M286","v":0},{"$f":"HOJA_CAPTURA!N286","v":0},{"$f":"HOJA_CAPTURA!P286","v":0},{"$f":"HOJA_CAPTURA!Q286","v":"00:00:00"},{"$f":"HOJA_CAPTURA!V286","v":0},{"$f":"HOJA_CAPTURA!AF286","v":0},{"$f":"HOJA_CAPTURA!AG286","v":0},{"$f":"HOJA_CAPTURA!AH286","v":0},{"$f":"HOJA_CAPTURA!AI286","v":0},{"$f":"HOJA_CAPTURA!AJ286","v":0},{"$f":"HOJA_CAPTURA!AK286","v":0},{"$f":"HOJA_CAPTURA!AL286","v":0},{"$f":"HOJA_CAPTURA!AU286","v":0}]
[null,null,null,null,null,{"$f":"HOJA_CAPTURA!R286","v":"00:00:00"}]
[]
[null,"\"El presente inventario consta de __fojas y ampara la cantidad de __expedientes de los años de __al__, contenidos en__ cajas, con un peso aproximado de __kg.\""]
[null,null,{"$f":"HOJA_CAPTURA!F283","v":0},null,null,null,null,{"$f":"HOJA_CAPTURA!E283","v":0}]
["Nombre, firma, cargo y área de adscripción de la persona que formuló el inventario ",null,null,null,null,null,"Nombre, firma, cargo y área de adscripción de la persona que revisó el inventario"]
[null,{"$f":"HOJA_CAPTURA!D283","v":0}]
["Nombre y firma del titular de la unidad administrativa que autorizó el inventario",null,null,null,null,null,"Nombre y firma del responsable del archivo de concentración que recibe el inventario"]
[]
[]
[]
[]
[null,"           "]
["Fecha de transferencia:",null,null,{"$f":"TODAY()","v":"2024-08-13"},"Número de transferencia:",{"$f":"HOJA_CAPTURA!L287","v":0},null,null,null,null,null,null,null,"Hoja: 72 de ",{"$f":"O1755","v":0}]
["Unidad administrativa/Área productora: ",null,null,null,{"$f":"HOJA_CAPTURA!C287","v":0}]
[{"$f":"HOJA_CAPTURA!B287","v":"Fondo: INP"},null,"Sección:",{"$f":"HOJA_CAPTURA!G287","v":0},null,null,"Serie: ",{"$f":"HOJA_CAPTURA!H287","v":0}]
[null,null,null,null,null,null,"Subserie:",null,{"$f":"HOJA_CAPTURA!I287","v":0}]
["No. Consecutivo","No. de caja","No. de expediente","Clasificación archivística del expediente","Descripción o asunto ","                                                                                                                                                                                                                                                          Periodo de trámite","No.  de folios ","Valor documental",null,null,"Vigencia documental",null,null,"Condiciones de acceso (Reservada y confidencial)","Tradición documental "]
[null,null,null,null,null,null,null,"A","L","F/C","AT","AC","Total"]
[{"$f":"HOJA_CAPTURA!J287","v":0},{"$f":"HOJA_CAPTURA!K287","v":0},{"$f":"HOJA_CAPTURA!M287","v":0},{"$f":"HOJA_CAPTURA!N287","v":0},{"$f":"HOJA_CAPTURA!P287","v":0},{"$f":"HOJA_CAPTURA!Q287","v":"00:00:00"},{"$f":"HOJA_CAPTURA!V287","v":0},{"$f":"HOJA_CAPTURA!AF287","v":0},{"$f":"HOJA_CAPTURA!AG287","v":0},{"$f":"HOJA_CAPTURA!AH287","v":0},{"$f":"HOJA_CAPTURA!AI287","v":0},{"$f":"HOJA_CAPTURA!AJ287","v":0},{"$f":"HOJA_CAPTURA!AK287","v":0},{"$f":"HOJA_CAPTURA!AL287","v":0},{"$f":"HOJA_CAPTURA!AU287","v":0}]
[null,null,null,null,null,{"$f":"HOJA_CAPTURA!R287","v":"00:00:00"}]
[{"$f":"HOJA_CAPTURA!J288","v":0},{"$f":"HOJA_CAPTURA!K288","v":0},{"$f":"HOJA_CAPTURA!M288","v":0},{"$f":"HOJA_CAPTURA!N288","v":0},{"$f":"HOJA_CAPTURA!P288","v":0},{"$f":"HOJA_CAPTURA!Q288","v":"00:00:00"},{"$f":"HOJA_CAPTURA!V288","v":0},{"$f":"HOJA_CAPTURA!AF288","v":0},{"$f":"HOJA_CAPTURA!AG288","v":0},{"$f":"HOJA_CAPTURA!AH288","v":0},{"$f":"HOJA_CAPTURA!AI288","v":0},{"$f":"HOJA_CAPTURA!AJ288","v":0},{"$f":"HOJA_CAPTURA!AK288","v":0},{"$f":"HOJA_CAPTURA!AL288","v":0},{"$f":"HOJA_CAPTURA!AU288","v":0}]
[null,null,null,null,null,{"$f":"HOJA_CAPTURA!R288","v":"00:00:00"}]
[{"$f":"HOJA_CAPTURA!J289","v":0},{"$f":"HOJA_CAPTURA!K289","v":0},{"$f":"HOJA_CAPTURA!M289","v":0},{"$f":"HOJA_CAPTURA!N289","v":0},{"$f":"HOJA_CAPTURA!P289","v":0},{"$f":"HOJA_CAPTURA!Q289","v":"00:00:00"},{"$f":"HOJA_CAPTURA!V289","v":0},{"$f":"HOJA_CAPTURA!AF289","v":0},{"$f":"HOJA_CAPTURA!AG289","v":0},{"$f":"HOJA_CAPTURA!AH289","v":0},{"$f":"HOJA_CAPTURA!AI289","v":0},{"$f":"HOJA_CAPTURA!AJ289","v":0},{"$f":"HOJA_CAPTURA!AK289","v":0},{"$f":"HOJA_CAPTURA!AL289","v":0},{"$f":"HOJA_CAPTURA!AU289","v":0}]
[null,null,null,null,null,{"$f":"HOJA_CAPTURA!R289","v":"00:00:00"}]
[{"$f":"HOJA_CAPTURA!J290","v":0},{"$f":"HOJA_CAPTURA!K290","v":0},{"$f":"HOJA_CAPTURA!M290","v":0},{"$f":"HOJA_CAPTURA!N290","v":0},{"$f":"HOJA_CAPTURA!P290","v":0},{"$f":"HOJA_CAPTURA!Q290","v":"00:00:00"},{"$f":"HOJA_CAPTURA!V290","v":0},{"$f":"HOJA_CAPTURA!AF290","v":0},{"$f":"HOJA_CAPTURA!AG290","v":0},{"$f":"HOJA_CAPTURA!AH290","v":0},{"$f":"HOJA_CAPTURA!AI290","v":0},{"$f":"HOJA_CAPTURA!AJ290","v":0},{"$f":"HOJA_CAPTURA!AK290","v":0},{"$f":"HOJA_CAPTURA!AL290","v":0},{"$f":"HOJA_CAPTURA!AU290","v":0}]
[null,null,null,null,null,{"$f":"HOJA_CAPTURA!R290","v":"00:00:00"}]
[]
[null,"\"El presente inventario consta de __fojas y ampara la cantidad de __expedientes de los años de __al__, contenidos en__ cajas, con un peso aproximado de __kg.\""]
[null,null,{"$f":"HOJA_CAPTURA!F287","v":0},null,null,null,null,{"$f":"HOJA_CAPTURA!E287","v":0}]
["Nombre, firma, cargo y área de adscripción de la persona que formuló el inventario ",null,null,null,null,null,"Nombre, firma, cargo y área de adscripción de la persona que revisó el inventario"]
[null,{"$f":"HOJA_CAPTURA!D287","v":0}]
["Nombre y firma del titular de la unidad administrativa que autorizó el inventario",null,null,null,null,null,"Nombre y firma del responsable del archivo de concentración que recibe el inventario"]
[]
[]
[]
[]
[null,"           "]
["Fecha de transferencia:",null,null,{"$f":"TODAY()","v":"2024-08-13"},"Número de transferencia:",{"$f":"HOJA_CAPTURA!L291","v":0},null,null,null,null,null,null,null,"Hoja: 73 de ",{"$f":"O1780","v":0}]
["Unidad administrativa/Área productora: ",null,null,null,{"$f":"HOJA_CAPTURA!C291","v":0}]
[{"$f":"HOJA_CAPTURA!B291","v":"Fondo: INP"},null,"Sección:",{"$f":"HOJA_CAPTURA!G291","v":0},null,null,"Serie: ",{"$f":"HOJA_CAPTURA!H291","v":0}]
[null,null,null,null,null,null,"Subserie:",null,{"$f":"HOJA_CAPTURA!I291","v":0}]
["No. Consecutivo","No. de caja","No. de expediente","Clasificación archivística del expediente","Descripción o asunto ","                                                                                                                                                                                                                                                          Periodo de trámite","No.  de folios ","Valor documental",null,null,"Vigencia documental",null,null,"Condiciones de acceso (Reservada y confidencial)","Tradición documental "]
[null,null,null,null,null,null,null,"A","L","F/C","AT","AC","Total"]
[{"$f":"HOJA_CAPTURA!J291","v":0},{"$f":"HOJA_CAPTURA!K291","v":0},{"$f":"HOJA_CAPTURA!M291","v":0},{"$f":"HOJA_CAPTURA!N291","v":0},{"$f":"HOJA_CAPTURA!P291","v":0},{"$f":"HOJA_CAPTURA!Q291","v":"00:00:00"},{"$f":"HOJA_CAPTURA!V291","v":0},{"$f":"HOJA_CAPTURA!AF291","v":0},{"$f":"HOJA_CAPTURA!AG291","v":0},{"$f":"HOJA_CAPTURA!AH291","v":0},{"$f":"HOJA_CAPTURA!AI291","v":0},{"$f":"HOJA_CAPTURA!AJ291","v":0},{"$f":"HOJA_CAPTURA!AK291","v":0},{"$f":"HOJA_CAPTURA!AL291","v":0},{"$f":"HOJA_CAPTURA!AU291","v":0}]
[null,null,null,null,null,{"$f":"HOJA_CAPTURA!R291","v":"00:00:00"}]
[{"$f":"HOJA_CAPTURA!J292","v":0},{"$f":"HOJA_CAPTURA!K292","v":0},{"$f":"HOJA_CAPTURA!M292","v":0},{"$f":"HOJA_CAPTURA!N292","v":0},{"$f":"HOJA_CAPTURA!P292","v":0},{"$f":"HOJA_CAPTURA!Q292","v":"00:00:00"},{"$f":"HOJA_CAPTURA!V292","v":0},{"$f":"HOJA_CAPTURA!AF292","v":0},{"$f":"HOJA_CAPTURA!AG292","v":0},{"$f":"HOJA_CAPTURA!AH292","v":0},{"$f":"HOJA_CAPTURA!AI292","v":0},{"$f":"HOJA_CAPTURA!AJ292","v":0},{"$f":"HOJA_CAPTURA!AK292","v":0},{"$f":"HOJA_CAPTURA!AL292","v":0},{"$f":"HOJA_CAPTURA!AU292","v":0}]
[null,null,null,null,null,{"$f":"HOJA_CAPTURA!R292","v":"00:00:00"}]
[{"$f":"HOJA_CAPTURA!J293","v":0},{"$f":"HOJA_CAPTURA!K293","v":0},{"$f":"HOJA_CAPTURA!M293","v":0},{"$f":"HOJA_CAPTURA!N293","v":0},{"$f":"HOJA_CAPTURA!P293","v":0},{"$f":"HOJA_CAPTURA!Q293","v":"00:00:00"},{"$f":"HOJA_CAPTURA!V293","v":0},{"$f":"HOJA_CAPTURA!AF293","v":0},{"$f":"HOJA_CAPTURA!AG293","v":0},{"$f":"HOJA_CAPTURA!AH293","v":0},{"$f":"HOJA_CAPTURA!AI293","v":0},{"$f":"HOJA_CAPTURA!AJ293","v":0},{"$f":"HOJA_CAPTURA!AK293","v":0},{"$f":"HOJA_CAPTURA!AL293","v":0},{"$f":"HOJA_CAPTURA!AU293","v":0}]
[null,null,null,null,null,{"$f":"HOJA_CAPTURA!R293","v":"00:00:00"}]
[{"$f":"HOJA_CAPTURA!J294","v":0},{"$f":"HOJA_CAPTURA!K294","v":0},{"$f":"HOJA_CAPTURA!M294","v":0},{"$f":"HOJA_CAPTURA!N294","v":0},{"$f":"HOJA_CAPTURA!P294","v":0},{"$f":"HOJA_CAPTURA!Q294","v":"00:00:00"},{"$f":"HOJA_CAPTURA!V294","v":0},{"$f":"HOJA_CAPTURA!AF294","v":0},{"$f":"HOJA_CAPTURA!AG294","v":0},{"$f":"HOJA_CAPTURA!AH294","v":0},{"$f":"HOJA_CAPTURA!AI294","v":0},{"$f":"HOJA_CAPTURA!AJ294","v":0},{"$f":"HOJA_CAPTURA!AK294","v":0},{"$f":"HOJA_CAPTURA!AL294","v":0},{"$f":"HOJA_CAPTURA!AU294","v":0}]
[null,null,null,null,null,{"$f":"HOJA_CAPTURA!R294","v":"00:00:00"}]
[]
[null,"\"El presente inventario consta de __fojas y ampara la cantidad de __expedientes de los años de __al__, contenidos en__ cajas, con un peso aproximado de __kg.\""]
[null,null,{"$f":"HOJA_CAPTURA!F291","v":0},null,null,null,null,{"$f":"HOJA_CAPTURA!E291","v":0}]
["Nombre, firma, cargo y área de adscripción de la persona que formuló el inventario ",null,null,null,null,null,"Nombre, firma, cargo y área de adscripción de la persona que revisó el inventario"]
[null,{"$f":"HOJA_CAPTURA!D291","v":0}]
["Nombre y firma del titular de la unidad administrativa que autorizó el inventario",null,null,null,null,null,"Nombre y firma del responsable del archivo de concentración que recibe el inventario"]
[]
[]
[]
[]
[null,"           "]
["Fecha de transferencia:",null,null,{"$f":"TODAY()","v":"2024-08-13"},"Número de transferencia:",{"$f":"HOJA_CAPTURA!L295","v":0},null,null,null,null,null,null,null,"Hoja: 74 de ",{"$f":"O1805","v":0}]
["Unidad administrativa/Área productora: ",null,null,null,{"$f":"HOJA_CAPTURA!C295","v":0}]
[{"$f":"HOJA_CAPTURA!B295","v":"Fondo: INP"},null,"Sección:",{"$f":"HOJA_CAPTURA!G295","v":0},null,null,"Serie: ",{"$f":"HOJA_CAPTURA!H295","v":0}]
[null,null,null,null,null,null,"Subserie:",null,{"$f":"HOJA_CAPTURA!I295","v":0}]
["No. Consecutivo","No. de caja","No. de expediente","Clasificación archivística del expediente","Descripción o asunto ","                                                                                                                                                                                                                                                          Periodo de trámite","No.  de folios ","Valor documental",null,null,"Vigencia documental",null,null,"Condiciones de acceso (Reservada y confidencial)","Tradición documental "]
[null,null,null,null,null,null,null,"A","L","F/C","AT","AC","Total"]
[{"$f":"HOJA_CAPTURA!J295","v":0},{"$f":"HOJA_CAPTURA!K295","v":0},{"$f":"HOJA_CAPTURA!M295","v":0},{"$f":"HOJA_CAPTURA!N295","v":0},{"$f":"HOJA_CAPTURA!P295","v":0},{"$f":"HOJA_CAPTURA!Q295","v":"00:00:00"},{"$f":"HOJA_CAPTURA!V295","v":0},{"$f":"HOJA_CAPTURA!AF295","v":0},{"$f":"HOJA_CAPTURA!AG295","v":0},{"$f":"HOJA_CAPTURA!AH295","v":0},{"$f":"HOJA_CAPTURA!AI295","v":0},{"$f":"HOJA_CAPTURA!AJ295","v":0},{"$f":"HOJA_CAPTURA!AK295","v":0},{"$f":"HOJA_CAPTURA!AL295","v":0},{"$f":"HOJA_CAPTURA!AU295","v":0}]
[null,null,null,null,null,{"$f":"HOJA_CAPTURA!R295","v":"00:00:00"}]
[{"$f":"HOJA_CAPTURA!J296","v":0},{"$f":"HOJA_CAPTURA!K296","v":0},{"$f":"HOJA_CAPTURA!M296","v":0},{"$f":"HOJA_CAPTURA!N296","v":0},{"$f":"HOJA_CAPTURA!P296","v":0},{"$f":"HOJA_CAPTURA!Q296","v":"00:00:00"},{"$f":"HOJA_CAPTURA!V296","v":0},{"$f":"HOJA_CAPTURA!AF296","v":0},{"$f":"HOJA_CAPTURA!AG296","v":0},{"$f":"HOJA_CAPTURA!AH296","v":0},{"$f":"HOJA_CAPTURA!AI296","v":0},{"$f":"HOJA_CAPTURA!AJ296","v":0},{"$f":"HOJA_CAPTURA!AK296","v":0},{"$f":"HOJA_CAPTURA!AL296","v":0},{"$f":"HOJA_CAPTURA!AU296","v":0}]
[null,null,null,null,null,{"$f":"HOJA_CAPTURA!R296","v":"00:00:00"}]
[{"$f":"HOJA_CAPTURA!J297","v":0},{"$f":"HOJA_CAPTURA!K297","v":0},{"$f":"HOJA_CAPTURA!M297","v":0},{"$f":"HOJA_CAPTURA!N297","v":0},{"$f":"HOJA_CAPTURA!P297","v":0},{"$f":"HOJA_CAPTURA!Q297","v":"00:00:00"},{"$f":"HOJA_CAPTURA!V297","v":0},{"$f":"HOJA_CAPTURA!AF297","v":0},{"$f":"HOJA_CAPTURA!AG297","v":0},{"$f":"HOJA_CAPTURA!AH297","v":0},{"$f":"HOJA_CAPTURA!AI297","v":0},{"$f":"HOJA_CAPTURA!AJ297","v":0},{"$f":"HOJA_CAPTURA!AK297","v":0},{"$f":"HOJA_CAPTURA!AL297","v":0},{"$f":"HOJA_CAPTURA!AU297","v":0}]
[null,null,null,null,null,{"$f":"HOJA_CAPTURA!R297","v":"00:00:00"}]
[{"$f":"HOJA_CAPTURA!J298","v":0},{"$f":"HOJA_CAPTURA!K298","v":0},{"$f":"HOJA_CAPTURA!M298","v":0},{"$f":"HOJA_CAPTURA!N298","v":0},{"$f":"HOJA_CAPTURA!P298","v":0},{"$f":"HOJA_CAPTURA!Q298","v":"00:00:00"},{"$f":"HOJA_CAPTURA!V298","v":0},{"$f":"HOJA_CAPTURA!AF298","v":0},{"$f":"HOJA_CAPTURA!AG298","v":0},{"$f":"HOJA_CAPTURA!AH298","v":0},{"$f":"HOJA_CAPTURA!AI298","v":0},{"$f":"HOJA_CAPTURA!AJ298","v":0},{"$f":"HOJA_CAPTURA!AK298","v":0},{"$f":"HOJA_CAPTURA!AL298","v":0},{"$f":"HOJA_CAPTURA!AU298","v":0}]
[null,null,null,null,null,{"$f":"HOJA_CAPTURA!R298","v":"00:00:00"}]
[]
[null,"\"El presente inventario consta de __fojas y ampara la cantidad de __expedientes de los años de __al__, contenidos en__ cajas, con un peso aproximado de __kg.\""]
[null,null,{"$f":"HOJA_CAPTURA!F295","v":0},null,null,null,null,{"$f":"HOJA_CAPTURA!E295","v":0}]
["Nombre, firma, cargo y área de adscripción de la persona que formuló el inventario ",null,null,null,null,null,"Nombre, firma, cargo y área de adscripción de la persona que revisó el inventario"]
[null,{"$f":"HOJA_CAPTURA!D295","v":0}]
["Nombre y firma del titular de la unidad administrativa que autorizó el inventario",null,null,null,null,null,"Nombre y firma del responsable del archivo de concentración que recibe el inventario"]
[]
[]
[]
[]
[null,"           "]
["Fecha de transferencia:",null,null,{"$f":"TODAY()","v":"2024-08-13"},"Número de transferencia:",{"$f":"HOJA_CAPTURA!L299","v":0},null,null,null,null,null,null,null,"Hoja: 75 de ",{"$f":"O1830","v":0}]
["Unidad administrativa/Área productora: ",null,null,null,{"$f":"HOJA_CAPTURA!C299","v":0}]
[{"$f":"HOJA_CAPTURA!B299","v":"Fondo: INP"},null,"Sección:",{"$f":"HOJA_CAPTURA!G299","v":0},null,null,"Serie: ",{"$f":"HOJA_CAPTURA!H299","v":0}]
[null,null,null,null,null,null,"Subserie:",null,{"$f":"HOJA_CAPTURA!I299","v":0}]
["No. Consecutivo","No. de caja","No. de expediente","Clasificación archivística del expediente","Descripción o asunto ","                                                                                                                                                                                                                                                          Periodo de trámite","No.  de folios ","Valor documental",null,null,"Vigencia documental",null,null,"Condiciones de acceso (Reservada y confidencial)","Tradición documental "]
[null,null,null,null,null,null,null,"A","L","F/C","AT","AC","Total"]
[{"$f":"HOJA_CAPTURA!J299","v":0},{"$f":"HOJA_CAPTURA!K299","v":0},{"$f":"HOJA_CAPTURA!M299","v":0},{"$f":"HOJA_CAPTURA!N299","v":0},{"$f":"HOJA_CAPTURA!P299","v":0},{"$f":"HOJA_CAPTURA!Q299","v":"00:00:00"},{"$f":"HOJA_CAPTURA!V299","v":0},{"$f":"HOJA_CAPTURA!AF299","v":0},{"$f":"HOJA_CAPTURA!AG299","v":0},{"$f":"HOJA_CAPTURA!AH299","v":0},{"$f":"HOJA_CAPTURA!AI299","v":0},{"$f":"HOJA_CAPTURA!AJ299","v":0},{"$f":"HOJA_CAPTURA!AK299","v":0},{"$f":"HOJA_CAPTURA!AL299","v":0},{"$f":"HOJA_CAPTURA!AU299","v":0}]
[null,null,null,null,null,{"$f":"HOJA_CAPTURA!R299","v":"00:00:00"}]
[{"$f":"HOJA_CAPTURA!J300","v":0},{"$f":"HOJA_CAPTURA!K300","v":0},{"$f":"HOJA_CAPTURA!M300","v":0},{"$f":"HOJA_CAPTURA!N300","v":0},{"$f":"HOJA_CAPTURA!P300","v":0},{"$f":"HOJA_CAPTURA!Q300","v":"00:00:00"},{"$f":"HOJA_CAPTURA!V300","v":0},{"$f":"HOJA_CAPTURA!AF300","v":0},{"$f":"HOJA_CAPTURA!AG300","v":0},{"$f":"HOJA_CAPTURA!AH300","v":0},{"$f":"HOJA_CAPTURA!AI300","v":0},{"$f":"HOJA_CAPTURA!AJ300","v":0},{"$f":"HOJA_CAPTURA!AK300","v":0},{"$f":"HOJA_CAPTURA!AL300","v":0},{"$f":"HOJA_CAPTURA!AU300","v":0}]
[null,null,null,null,null,{"$f":"HOJA_CAPTURA!R300","v":"00:00:00"}]
[{"$f":"HOJA_CAPTURA!J301","v":0},{"$f":"HOJA_CAPTURA!K301","v":0},{"$f":"HOJA_CAPTURA!M301","v":0},{"$f":"HOJA_CAPTURA!N301","v":0},{"$f":"HOJA_CAPTURA!P301","v":0},{"$f":"HOJA_CAPTURA!Q301","v":"00:00:00"},{"$f":"HOJA_CAPTURA!V301","v":0},{"$f":"HOJA_CAPTURA!AF301","v":0},{"$f":"HOJA_CAPTURA!AG301","v":0},{"$f":"HOJA_CAPTURA!AH301","v":0},{"$f":"HOJA_CAPTURA!AI301","v":0},{"$f":"HOJA_CAPTURA!AJ301","v":0},{"$f":"HOJA_CAPTURA!AK301","v":0},{"$f":"HOJA_CAPTURA!AL301","v":0},{"$f":"HOJA_CAPTURA!AU301","v":0}]
[null,null,null,null,null,{"$f":"HOJA_CAPTURA!R301","v":"00:00:00"}]
[{"$f":"HOJA_CAPTURA!J302","v":0},{"$f":"HOJA_CAPTURA!K302","v":0},{"$f":"HOJA_CAPTURA!M302","v":0},{"$f":"HOJA_CAPTURA!N302","v":0},{"$f":"HOJA_CAPTURA!P302","v":0},{"$f":"HOJA_CAPTURA!Q302","v":"00:00:00"},{"$f":"HOJA_CAPTURA!V302","v":0},{"$f":"HOJA_CAPTURA!AF302","v":0},{"$f":"HOJA_CAPTURA!AG302","v":0},{"$f":"HOJA_CAPTURA!AH302","v":0},{"$f":"HOJA_CAPTURA!AI302","v":0},{"$f":"HOJA_CAPTURA!AJ302","v":0},{"$f":"HOJA_CAPTURA!AK302","v":0},{"$f":"HOJA_CAPTURA!AL302","v":0},{"$f":"HOJA_CAPTURA!AU302","v":0}]
[null,null,null,null,null,{"$f":"HOJA_CAPTURA!R302","v":"00:00:00"}]
[]
[null,"\"El presente inventario consta de __fojas y ampara la cantidad de __expedientes de los años de __al__, contenidos en__ cajas, con un peso aproximado de __kg.\""]
[null,null,{"$f":"HOJA_CAPTURA!F299","v":0},null,null,null,null,{"$f":"HOJA_CAPTURA!E299","v":0}]
["Nombre, firma, cargo y área de adscripción de la persona que formuló el inventario ",null,null,null,null,null,"Nombre, firma, cargo y área de adscripción de la persona que revisó el inventario"]
[null,{"$f":"HOJA_CAPTURA!D299","v":0}]
["Nombre y firma del titular de la unidad administrativa que autorizó el inventario",null,null,null,null,null,"Nombre y firma del responsable del archivo de concentración que recibe el inventario"]
[]
[]
[]
[]
[null,"           "]
["Fecha de transferencia:",null,null,{"$f":"TODAY()","v":"2024-08-13"},"Número de transferencia:",{"$f":"HOJA_CAPTURA!L303","v":0},null,null,null,null,null,null,null,"Hoja: 76 de ",{"$f":"O1855","v":0}]
["Unidad administrativa/Área productora: ",null,null,null,{"$f":"HOJA_CAPTURA!C303","v":0}]
[{"$f":"HOJA_CAPTURA!B303","v":"Fondo: INP"},null,"Sección:",{"$f":"HOJA_CAPTURA!G303","v":0},null,null,"Serie: ",{"$f":"HOJA_CAPTURA!H303","v":0}]
[null,null,null,null,null,null,"Subserie:",null,{"$f":"HOJA_CAPTURA!I303","v":0}]
["No. Consecutivo","No. de caja","No. de expediente","Clasificación archivística del expediente","Descripción o asunto ","                                                                                                                                                                                                                                                          Periodo de trámite","No.  de folios ","Valor documental",null,null,"Vigencia documental",null,null,"Condiciones de acceso (Reservada y confidencial)","Tradición documental "]
[null,null,null,null,null,null,null,"A","L","F/C","AT","AC","Total"]
[{"$f":"HOJA_CAPTURA!J303","v":0},{"$f":"HOJA_CAPTURA!K303","v":0},{"$f":"HOJA_CAPTURA!M303","v":0},{"$f":"HOJA_CAPTURA!N303","v":0},{"$f":"HOJA_CAPTURA!P303","v":0},{"$f":"HOJA_CAPTURA!Q303","v":"00:00:00"},{"$f":"HOJA_CAPTURA!V303","v":0},{"$f":"HOJA_CAPTURA!AF303","v":0},{"$f":"HOJA_CAPTURA!AG303","v":0},{"$f":"HOJA_CAPTURA!AH303","v":0},{"$f":"HOJA_CAPTURA!AI303","v":0},{"$f":"HOJA_CAPTURA!AJ303","v":0},{"$f":"HOJA_CAPTURA!AK303","v":0},{"$f":"HOJA_CAPTURA!AL303","v":0},{"$f":"HOJA_CAPTURA!AU303","v":0}]
[null,null,null,null,null,{"$f":"HOJA_CAPTURA!R303","v":"00:00:00"}]
[{"$f":"HOJA_CAPTURA!J304","v":0},{"$f":"HOJA_CAPTURA!K304","v":0},{"$f":"HOJA_CAPTURA!M304","v":0},{"$f":"HOJA_CAPTURA!N304","v":0},{"$f":"HOJA_CAPTURA!P304","v":0},{"$f":"HOJA_CAPTURA!Q304","v":"00:00:00"},{"$f":"HOJA_CAPTURA!V304","v":0},{"$f":"HOJA_CAPTURA!AF304","v":0},{"$f":"HOJA_CAPTURA!AG304","v":0},{"$f":"HOJA_CAPTURA!AH304","v":0},{"$f":"HOJA_CAPTURA!AI304","v":0},{"$f":"HOJA_CAPTURA!AJ304","v":0},{"$f":"HOJA_CAPTURA!AK304","v":0},{"$f":"HOJA_CAPTURA!AL304","v":0},{"$f":"HOJA_CAPTURA!AU304","v":0}]
[null,null,null,null,null,{"$f":"HOJA_CAPTURA!R304","v":"00:00:00"}]
[{"$f":"HOJA_CAPTURA!J305","v":0},{"$f":"HOJA_CAPTURA!K305","v":0},{"$f":"HOJA_CAPTURA!M305","v":0},{"$f":"HOJA_CAPTURA!N305","v":0},{"$f":"HOJA_CAPTURA!P305","v":0},{"$f":"HOJA_CAPTURA!Q305","v":"00:00:00"},{"$f":"HOJA_CAPTURA!V305","v":0},{"$f":"HOJA_CAPTURA!AF305","v":0},{"$f":"HOJA_CAPTURA!AG305","v":0},{"$f":"HOJA_CAPTURA!AH305","v":0},{"$f":"HOJA_CAPTURA!AI305","v":0},{"$f":"HOJA_CAPTURA!AJ305","v":0},{"$f":"HOJA_CAPTURA!AK305","v":0},{"$f":"HOJA_CAPTURA!AL305","v":0},{"$f":"HOJA_CAPTURA!AU305","v":0}]
[null,null,null,null,null,{"$f":"HOJA_CAPTURA!R305","v":"00:00:00"}]
[{"$f":"HOJA_CAPTURA!J306","v":0},{"$f":"HOJA_CAPTURA!K306","v":0},{"$f":"HOJA_CAPTURA!M306","v":0},{"$f":"HOJA_CAPTURA!N306","v":0},{"$f":"HOJA_CAPTURA!P306","v":0},{"$f":"HOJA_CAPTURA!Q306","v":"00:00:00"},{"$f":"HOJA_CAPTURA!V306","v":0},{"$f":"HOJA_CAPTURA!AF306","v":0},{"$f":"HOJA_CAPTURA!AG306","v":0},{"$f":"HOJA_CAPTURA!AH306","v":0},{"$f":"HOJA_CAPTURA!AI306","v":0},{"$f":"HOJA_CAPTURA!AJ306","v":0},{"$f":"HOJA_CAPTURA!AK306","v":0},{"$f":"HOJA_CAPTURA!AL306","v":0},{"$f":"HOJA_CAPTURA!AU306","v":0}]
[null,null,null,null,null,{"$f":"HOJA_CAPTURA!R306","v":"00:00:00"}]
[]
[null,"\"El presente inventario consta de __fojas y ampara la cantidad de __expedientes de los años de __al__, contenidos en__ cajas, con un peso aproximado de __kg.\""]
[null,null,{"$f":"HOJA_CAPTURA!F303","v":0},null,null,null,null,{"$f":"HOJA_CAPTURA!E303","v":0}]
["Nombre, firma, cargo y área de adscripción de la persona que formuló el inventario ",null,null,null,null,null,"Nombre, firma, cargo y área de adscripción de la persona que revisó el inventario"]
[null,{"$f":"HOJA_CAPTURA!D303","v":0}]
["Nombre y firma del titular de la unidad administrativa que autorizó el inventario",null,null,null,null,null,"Nombre y firma del responsable del archivo de concentración que recibe el inventario"]
[]
[]
[]
[]
[null,"           "]
["Fecha de transferencia:",null,null,{"$f":"TODAY()","v":"2024-08-13"},"Número de transferencia:",{"$f":"HOJA_CAPTURA!L307","v":0},null,null,null,null,null,null,null,"Hoja: 77 de ",{"$f":"O1880","v":0}]
["Unidad administrativa/Área productora: ",null,null,null,{"$f":"HOJA_CAPTURA!C307","v":0}]
[{"$f":"HOJA_CAPTURA!B307","v":"Fondo: INP"},null,"Sección:",{"$f":"HOJA_CAPTURA!G307","v":0},null,null,"Serie: ",{"$f":"HOJA_CAPTURA!H307","v":0}]
[null,null,null,null,null,null,"Subserie:",null,{"$f":"HOJA_CAPTURA!I307","v":0}]
["No. Consecutivo","No. de caja","No. de expediente","Clasificación archivística del expediente","Descripción o asunto ","                                                                                                                                                                                                                                                          Periodo de trámite","No.  de folios ","Valor documental",null,null,"Vigencia documental",null,null,"Condiciones de acceso (Reservada y confidencial)","Tradición documental "]
[null,null,null,null,null,null,null,"A","L","F/C","AT","AC","Total"]
[{"$f":"HOJA_CAPTURA!J307","v":0},{"$f":"HOJA_CAPTURA!K307","v":0},{"$f":"HOJA_CAPTURA!M307","v":0},{"$f":"HOJA_CAPTURA!N307","v":0},{"$f":"HOJA_CAPTURA!P307","v":0},{"$f":"HOJA_CAPTURA!Q307","v":"00:00:00"},{"$f":"HOJA_CAPTURA!V307","v":0},{"$f":"HOJA_CAPTURA!AF307","v":0},{"$f":"HOJA_CAPTURA!AG307","v":0},{"$f":"HOJA_CAPTURA!AH307","v":0},{"$f":"HOJA_CAPTURA!AI307","v":0},{"$f":"HOJA_CAPTURA!AJ307","v":0},{"$f":"HOJA_CAPTURA!AK307","v":0},{"$f":"HOJA_CAPTURA!AL307","v":0},{"$f":"HOJA_CAPTURA!AU307","v":0}]
[null,null,null,null,null,{"$f":"HOJA_CAPTURA!R307","v":"00:00:00"}]
[{"$f":"HOJA_CAPTURA!J308","v":0},{"$f":"HOJA_CAPTURA!K308","v":0},{"$f":"HOJA_CAPTURA!M308","v":0},{"$f":"HOJA_CAPTURA!N308","v":0},{"$f":"HOJA_CAPTURA!P308","v":0},{"$f":"HOJA_CAPTURA!Q308","v":"00:00:00"},{"$f":"HOJA_CAPTURA!V308","v":0},{"$f":"HOJA_CAPTURA!AF308","v":0},{"$f":"HOJA_CAPTURA!AG308","v":0},{"$f":"HOJA_CAPTURA!AH308","v":0},{"$f":"HOJA_CAPTURA!AI308","v":0},{"$f":"HOJA_CAPTURA!AJ308","v":0},{"$f":"HOJA_CAPTURA!AK308","v":0},{"$f":"HOJA_CAPTURA!AL308","v":0},{"$f":"HOJA_CAPTURA!AU308","v":0}]
[null,null,null,null,null,{"$f":"HOJA_CAPTURA!R308","v":"00:00:00"}]
[{"$f":"HOJA_CAPTURA!J309","v":0},{"$f":"HOJA_CAPTURA!K309","v":0},{"$f":"HOJA_CAPTURA!M309","v":0},{"$f":"HOJA_CAPTURA!N309","v":0},{"$f":"HOJA_CAPTURA!P309","v":0},{"$f":"HOJA_CAPTURA!Q309","v":"00:00:00"},{"$f":"HOJA_CAPTURA!V309","v":0},{"$f":"HOJA_CAPTURA!AF309","v":0},{"$f":"HOJA_CAPTURA!AG309","v":0},{"$f":"HOJA_CAPTURA!AH309","v":0},{"$f":"HOJA_CAPTURA!AI309","v":0},{"$f":"HOJA_CAPTURA!AJ309","v":0},{"$f":"HOJA_CAPTURA!AK309","v":0},{"$f":"HOJA_CAPTURA!AL309","v":0},{"$f":"HOJA_CAPTURA!AU309","v":0}]
[null,null,null,null,null,{"$f":"HOJA_CAPTURA!R309","v":"00:00:00"}]
[{"$f":"HOJA_CAPTURA!J310","v":0},{"$f":"HOJA_CAPTURA!K310","v":0},{"$f":"HOJA_CAPTURA!M310","v":0},{"$f":"HOJA_CAPTURA!N310","v":0},{"$f":"HOJA_CAPTURA!P310","v":0},{"$f":"HOJA_CAPTURA!Q310","v":"00:00:00"},{"$f":"HOJA_CAPTURA!V310","v":0},{"$f":"HOJA_CAPTURA!AF310","v":0},{"$f":"HOJA_CAPTURA!AG310","v":0},{"$f":"HOJA_CAPTURA!AH310","v":0},{"$f":"HOJA_CAPTURA!AI310","v":0},{"$f":"HOJA_CAPTURA!AJ310","v":0},{"$f":"HOJA_CAPTURA!AK310","v":0},{"$f":"HOJA_CAPTURA!AL310","v":0},{"$f":"HOJA_CAPTURA!AU310","v":0}]
[null,null,null,null,null,{"$f":"HOJA_CAPTURA!R310","v":"00:00:00"}]
[]
[null,"\"El presente inventario consta de __fojas y ampara la cantidad de __expedientes de los años de __al__, contenidos en__ cajas, con un peso aproximado de __kg.\""]
[null,null,{"$f":"HOJA_CAPTURA!F307","v":0},null,null,null,null,{"$f":"HOJA_CAPTURA!E307","v":0}]
["Nombre, firma, cargo y área de adscripción de la persona que formuló el inventario ",null,null,null,null,null,"Nombre, firma, cargo y área de adscripción de la persona que revisó el inventario"]
[null,{"$f":"HOJA_CAPTURA!D307","v":0}]
["Nombre y firma del titular de la unidad administrativa que autorizó el inventario",null,null,null,null,null,"Nombre y firma del responsable del archivo de concentración que recibe el inventario"]
[]
[]
[]
[]
[null,"           "]
["Fecha de transferencia:",null,null,{"$f":"TODAY()","v":"2024-08-13"},"Número de transferencia:",{"$f":"HOJA_CAPTURA!L311","v":0},null,null,null,null,null,null,null,"Hoja: 78 de ",{"$f":"O1905","v":0}]
["Unidad administrativa/Área productora: ",null,null,null,{"$f":"HOJA_CAPTURA!C311","v":0}]
[{"$f":"HOJA_CAPTURA!B311","v":"Fondo: INP"},null,"Sección:",{"$f":"HOJA_CAPTURA!G311","v":0},null,null,"Serie: ",{"$f":"HOJA_CAPTURA!H311","v":0}]
[null,null,null,null,null,null,"Subserie:",null,{"$f":"HOJA_CAPTURA!I311","v":0}]
["No. Consecutivo","No. de caja","No. de expediente","Clasificación archivística del expediente","Descripción o asunto ","                                                                                                                                                                                                                                                          Periodo de trámite","No.  de folios ","Valor documental",null,null,"Vigencia documental",null,null,"Condiciones de acceso (Reservada y confidencial)","Tradición documental "]
[null,null,null,null,null,null,null,"A","L","F/C","AT","AC","Total"]
[{"$f":"HOJA_CAPTURA!J311","v":0},{"$f":"HOJA_CAPTURA!K311","v":0},{"$f":"HOJA_CAPTURA!M311","v":0},{"$f":"HOJA_CAPTURA!N311","v":0},{"$f":"HOJA_CAPTURA!P311","v":0},{"$f":"HOJA_CAPTURA!Q311","v":"00:00:00"},{"$f":"HOJA_CAPTURA!V311","v":0},{"$f":"HOJA_CAPTURA!AF311","v":0},{"$f":"HOJA_CAPTURA!AG311","v":0},{"$f":"HOJA_CAPTURA!AH311","v":0},{"$f":"HOJA_CAPTURA!AI311","v":0},{"$f":"HOJA_CAPTURA!AJ311","v":0},{"$f":"HOJA_CAPTURA!AK311","v":0},{"$f":"HOJA_CAPTURA!AL311","v":0},{"$f":"HOJA_CAPTURA!AU311","v":0}]
[null,null,null,null,null,{"$f":"HOJA_CAPTURA!R311","v":"00:00:00"}]
[{"$f":"HOJA_CAPTURA!J312","v":0},{"$f":"HOJA_CAPTURA!K312","v":0},{"$f":"HOJA_CAPTURA!M312","v":0},{"$f":"HOJA_CAPTURA!N312","v":0},{"$f":"HOJA_CAPTURA!P312","v":0},{"$f":"HOJA_CAPTURA!Q312","v":"00:00:00"},{"$f":"HOJA_CAPTURA!V312","v":0},{"$f":"HOJA_CAPTURA!AF312","v":0},{"$f":"HOJA_CAPTURA!AG312","v":0},{"$f":"HOJA_CAPTURA!AH312","v":0},{"$f":"HOJA_CAPTURA!AI312","v":0},{"$f":"HOJA_CAPTURA!AJ312","v":0},{"$f":"HOJA_CAPTURA!AK312","v":0},{"$f":"HOJA_CAPTURA!AL312","v":0},{"$f":"HOJA_CAPTURA!AU312","v":0}]
[null,null,null,null,null,{"$f":"HOJA_CAPTURA!R312","v":"00:00:00"}]
[{"$f":"HOJA_CAPTURA!J313","v":0},{"$f":"HOJA_CAPTURA!K313","v":0},{"$f":"HOJA_CAPTURA!M313","v":0},{"$f":"HOJA_CAPTURA!N313","v":0},{"$f":"HOJA_CAPTURA!P313","v":0},{"$f":"HOJA_CAPTURA!Q313","v":"00:00:00"},{"$f":"HOJA_CAPTURA!V313","v":0},{"$f":"HOJA_CAPTURA!AF313","v":0},{"$f":"HOJA_CAPTURA!AG313","v":0},{"$f":"HOJA_CAPTURA!AH313","v":0},{"$f":"HOJA_CAPTURA!AI313","v":0},{"$f":"HOJA_CAPTURA!AJ313","v":0},{"$f":"HOJA_CAPTURA!AK313","v":0},{"$f":"HOJA_CAPTURA!AL313","v":0},{"$f":"HOJA_CAPTURA!AU313","v":0}]
[null,null,null,null,null,{"$f":"HOJA_CAPTURA!R313","v":"00:00:00"}]
[{"$f":"HOJA_CAPTURA!J314","v":0},{"$f":"HOJA_CAPTURA!K314","v":0},{"$f":"HOJA_CAPTURA!M314","v":0},{"$f":"HOJA_CAPTURA!N314","v":0},{"$f":"HOJA_CAPTURA!P314","v":0},{"$f":"HOJA_CAPTURA!Q314","v":"00:00:00"},{"$f":"HOJA_CAPTURA!V314","v":0},{"$f":"HOJA_CAPTURA!AF314","v":0},{"$f":"HOJA_CAPTURA!AG314","v":0},{"$f":"HOJA_CAPTURA!AH314","v":0},{"$f":"HOJA_CAPTURA!AI314","v":0},{"$f":"HOJA_CAPTURA!AJ314","v":0},{"$f":"HOJA_CAPTURA!AK314","v":0},{"$f":"HOJA_CAPTURA!AL314","v":0},{"$f":"HOJA_CAPTURA!AU314","v":0}]
[null,null,null,null,null,{"$f":"HOJA_CAPTURA!R314","v":"00:00:00"}]
[]
[null,"\"El presente inventario consta de __fojas y ampara la cantidad de __expedientes de los años de __al__, contenidos en__ cajas, con un peso aproximado de __kg.\""]
[null,null,{"$f":"HOJA_CAPTURA!F311","v":0},null,null,null,null,{"$f":"HOJA_CAPTURA!E311","v":0}]
["Nombre, firma, cargo y área de adscripción de la persona que formuló el inventario ",null,null,null,null,null,"Nombre, firma, cargo y área de adscripción de la persona que revisó el inventario"]
[null,{"$f":"HOJA_CAPTURA!D311","v":0}]
["Nombre y firma del titular de la unidad administrativa que autorizó el inventario",null,null,null,null,null,"Nombre y firma del responsable del archivo de concentración que recibe el inventario"]
[]
[]
[]
[]
[null,"           "]
["Fecha de transferencia:",null,null,{"$f":"TODAY()","v":"2024-08-13"},"Número de transferencia:",{"$f":"HOJA_CAPTURA!L315","v":0},null,null,null,null,null,null,null,"Hoja: 79 de ",{"$f":"O1930","v":0}]
["Unidad administrativa/Área productora: ",null,null,null,{"$f":"HOJA_CAPTURA!C315","v":0}]
[{"$f":"HOJA_CAPTURA!B315","v":"Fondo: INP"},null,"Sección:",{"$f":"HOJA_CAPTURA!G315","v":0},null,null,"Serie: ",{"$f":"HOJA_CAPTURA!H315","v":0}]
[null,null,null,null,null,null,"Subserie:",null,{"$f":"HOJA_CAPTURA!I315","v":0}]
["No. Consecutivo","No. de caja","No. de expediente","Clasificación archivística del expediente","Descripción o asunto ","                                                                                                                                                                                                                                                          Periodo de trámite","No.  de folios ","Valor documental",null,null,"Vigencia documental",null,null,"Condiciones de acceso (Reservada y confidencial)","Tradición documental "]
[null,null,null,null,null,null,null,"A","L","F/C","AT","AC","Total"]
[{"$f":"HOJA_CAPTURA!J315","v":0},{"$f":"HOJA_CAPTURA!K315","v":0},{"$f":"HOJA_CAPTURA!M315","v":0},{"$f":"HOJA_CAPTURA!N315","v":0},{"$f":"HOJA_CAPTURA!P315","v":0},{"$f":"HOJA_CAPTURA!Q315","v":"00:00:00"},{"$f":"HOJA_CAPTURA!V315","v":0},{"$f":"HOJA_CAPTURA!AF315","v":0},{"$f":"HOJA_CAPTURA!AG315","v":0},{"$f":"HOJA_CAPTURA!AH315","v":0},{"$f":"HOJA_CAPTURA!AI315","v":0},{"$f":"HOJA_CAPTURA!AJ315","v":0},{"$f":"HOJA_CAPTURA!AK315","v":0},{"$f":"HOJA_CAPTURA!AL315","v":0},{"$f":"HOJA_CAPTURA!AU315","v":0}]
[null,null,null,null,null,{"$f":"HOJA_CAPTURA!R315","v":"00:00:00"}]
[{"$f":"HOJA_CAPTURA!J316","v":0},{"$f":"HOJA_CAPTURA!K316","v":0},{"$f":"HOJA_CAPTURA!M316","v":0},{"$f":"HOJA_CAPTURA!N316","v":0},{"$f":"HOJA_CAPTURA!P316","v":0},{"$f":"HOJA_CAPTURA!Q316","v":"00:00:00"},{"$f":"HOJA_CAPTURA!V316","v":0},{"$f":"HOJA_CAPTURA!AF316","v":0},{"$f":"HOJA_CAPTURA!AG316","v":0},{"$f":"HOJA_CAPTURA!AH316","v":0},{"$f":"HOJA_CAPTURA!AI316","v":0},{"$f":"HOJA_CAPTURA!AJ316","v":0},{"$f":"HOJA_CAPTURA!AK316","v":0},{"$f":"HOJA_CAPTURA!AL316","v":0},{"$f":"HOJA_CAPTURA!AU316","v":0}]
[null,null,null,null,null,{"$f":"HOJA_CAPTURA!R316","v":"00:00:00"}]
[{"$f":"HOJA_CAPTURA!J317","v":0},{"$f":"HOJA_CAPTURA!K317","v":0},{"$f":"HOJA_CAPTURA!M317","v":0},{"$f":"HOJA_CAPTURA!N317","v":0},{"$f":"HOJA_CAPTURA!P317","v":0},{"$f":"HOJA_CAPTURA!Q317","v":"00:00:00"},{"$f":"HOJA_CAPTURA!V317","v":0},{"$f":"HOJA_CAPTURA!AF317","v":0},{"$f":"HOJA_CAPTURA!AG317","v":0},{"$f":"HOJA_CAPTURA!AH317","v":0},{"$f":"HOJA_CAPTURA!AI317","v":0},{"$f":"HOJA_CAPTURA!AJ317","v":0},{"$f":"HOJA_CAPTURA!AK317","v":0},{"$f":"HOJA_CAPTURA!AL317","v":0},{"$f":"HOJA_CAPTURA!AU317","v":0}]
[null,null,null,null,null,{"$f":"HOJA_CAPTURA!R317","v":"00:00:00"}]
[{"$f":"HOJA_CAPTURA!J318","v":0},{"$f":"HOJA_CAPTURA!K318","v":0},{"$f":"HOJA_CAPTURA!M318","v":0},{"$f":"HOJA_CAPTURA!N318","v":0},{"$f":"HOJA_CAPTURA!P318","v":0},{"$f":"HOJA_CAPTURA!Q318","v":"00:00:00"},{"$f":"HOJA_CAPTURA!V318","v":0},{"$f":"HOJA_CAPTURA!AF318","v":0},{"$f":"HOJA_CAPTURA!AG318","v":0},{"$f":"HOJA_CAPTURA!AH318","v":0},{"$f":"HOJA_CAPTURA!AI318","v":0},{"$f":"HOJA_CAPTURA!AJ318","v":0},{"$f":"HOJA_CAPTURA!AK318","v":0},{"$f":"HOJA_CAPTURA!AL318","v":0},{"$f":"HOJA_CAPTURA!AU318","v":0}]
[null,null,null,null,null,{"$f":"HOJA_CAPTURA!R318","v":"00:00:00"}]
[]
[null,"\"El presente inventario consta de __fojas y ampara la cantidad de __expedientes de los años de __al__, contenidos en__ cajas, con un peso aproximado de __kg.\""]
[null,null,{"$f":"HOJA_CAPTURA!F315","v":0},null,null,null,null,{"$f":"HOJA_CAPTURA!E315","v":0}]
["Nombre, firma, cargo y área de adscripción de la persona que formuló el inventario ",null,null,null,null,null,"Nombre, firma, cargo y área de adscripción de la persona que revisó el inventario"]
[null,{"$f":"HOJA_CAPTURA!D315","v":0}]
["Nombre y firma del titular de la unidad administrativa que autorizó el inventario",null,null,null,null,null,"Nombre y firma del responsable del archivo de concentración que recibe el inventario"]
[]
[]
[]
[]
[null,"           "]
["Fecha de transferencia:",null,null,{"$f":"TODAY()","v":"2024-08-13"},"Número de transferencia:",{"$f":"HOJA_CAPTURA!L319","v":0},null,null,null,null,null,null,null,"Hoja: 80 de ",{"$f":"O1955","v":0}]
["Unidad administrativa/Área productora: ",null,null,null,{"$f":"HOJA_CAPTURA!C319","v":0}]
[{"$f":"HOJA_CAPTURA!B319","v":"Fondo: INP"},null,"Sección:",{"$f":"HOJA_CAPTURA!G319","v":0},null,null,"Serie: ",{"$f":"HOJA_CAPTURA!H319","v":0}]
[null,null,null,null,null,null,"Subserie:",null,{"$f":"HOJA_CAPTURA!I319","v":0}]
["No. Consecutivo","No. de caja","No. de expediente","Clasificación archivística del expediente","Descripción o asunto ","                                                                                                                                                                                                                                                          Periodo de trámite","No.  de folios ","Valor documental",null,null,"Vigencia documental",null,null,"Condiciones de acceso (Reservada y confidencial)","Tradición documental "]
[null,null,null,null,null,null,null,"A","L","F/C","AT","AC","Total"]
[{"$f":"HOJA_CAPTURA!J319","v":0},{"$f":"HOJA_CAPTURA!K319","v":0},{"$f":"HOJA_CAPTURA!M319","v":0},{"$f":"HOJA_CAPTURA!N319","v":0},{"$f":"HOJA_CAPTURA!P319","v":0},{"$f":"HOJA_CAPTURA!Q319","v":"00:00:00"},{"$f":"HOJA_CAPTURA!V319","v":0},{"$f":"HOJA_CAPTURA!AF319","v":0},{"$f":"HOJA_CAPTURA!AG319","v":0},{"$f":"HOJA_CAPTURA!AH319","v":0},{"$f":"HOJA_CAPTURA!AI319","v":0},{"$f":"HOJA_CAPTURA!AJ319","v":0},{"$f":"HOJA_CAPTURA!AK319","v":0},{"$f":"HOJA_CAPTURA!AL319","v":0},{"$f":"HOJA_CAPTURA!AU319","v":0}]
[null,null,null,null,null,{"$f":"HOJA_CAPTURA!R319","v":"00:00:00"}]
[{"$f":"HOJA_CAPTURA!J320","v":0},{"$f":"HOJA_CAPTURA!K320","v":0},{"$f":"HOJA_CAPTURA!M320","v":0},{"$f":"HOJA_CAPTURA!N320","v":0},{"$f":"HOJA_CAPTURA!P320","v":0},{"$f":"HOJA_CAPTURA!Q320","v":"00:00:00"},{"$f":"HOJA_CAPTURA!V320","v":0},{"$f":"HOJA_CAPTURA!AF320","v":0},{"$f":"HOJA_CAPTURA!AG320","v":0},{"$f":"HOJA_CAPTURA!AH320","v":0},{"$f":"HOJA_CAPTURA!AI320","v":0},{"$f":"HOJA_CAPTURA!AJ320","v":0},{"$f":"HOJA_CAPTURA!AK320","v":0},{"$f":"HOJA_CAPTURA!AL320","v":0},{"$f":"HOJA_CAPTURA!AU320","v":0}]
[null,null,null,null,null,{"$f":"HOJA_CAPTURA!R320","v":"00:00:00"}]
[{"$f":"HOJA_CAPTURA!J321","v":0},{"$f":"HOJA_CAPTURA!K321","v":0},{"$f":"HOJA_CAPTURA!M321","v":0},{"$f":"HOJA_CAPTURA!N321","v":0},{"$f":"HOJA_CAPTURA!P321","v":0},{"$f":"HOJA_CAPTURA!Q321","v":"00:00:00"},{"$f":"HOJA_CAPTURA!V321","v":0},{"$f":"HOJA_CAPTURA!AF321","v":0},{"$f":"HOJA_CAPTURA!AG321","v":0},{"$f":"HOJA_CAPTURA!AH321","v":0},{"$f":"HOJA_CAPTURA!AI321","v":0},{"$f":"HOJA_CAPTURA!AJ321","v":0},{"$f":"HOJA_CAPTURA!AK321","v":0},{"$f":"HOJA_CAPTURA!AL321","v":0},{"$f":"HOJA_CAPTURA!AU321","v":0}]
[null,null,null,null,null,{"$f":"HOJA_CAPTURA!R321","v":"00:00:00"}]
[{"$f":"HOJA_CAPTURA!J322","v":0},{"$f":"HOJA_CAPTURA!K322","v":0},{"$f":"HOJA_CAPTURA!M322","v":0},{"$f":"HOJA_CAPTURA!N322","v":0},{"$f":"HOJA_CAPTURA!P322","v":0},{"$f":"HOJA_CAPTURA!Q322","v":"00:00:00"},{"$f":"HOJA_CAPTURA!V322","v":0},{"$f":"HOJA_CAPTURA!AF322","v":0},{"$f":"HOJA_CAPTURA!AG322","v":0},{"$f":"HOJA_CAPTURA!AH322","v":0},{"$f":"HOJA_CAPTURA!AI322","v":0},{"$f":"HOJA_CAPTURA!AJ322","v":0},{"$f":"HOJA_CAPTURA!AK322","v":0},{"$f":"HOJA_CAPTURA!AL322","v":0},{"$f":"HOJA_CAPTURA!AU322","v":0}]
[null,null,null,null,null,{"$f":"HOJA_CAPTURA!R322","v":"00:00:00"}]
[]
[null,"\"El presente inventario consta de __fojas y ampara la cantidad de __expedientes de los años de __al__, contenidos en__ cajas, con un peso aproximado de __kg.\""]
[null,null,{"$f":"HOJA_CAPTURA!F319","v":0},null,null,null,null,{"$f":"HOJA_CAPTURA!E319","v":0}]
["Nombre, firma, cargo y área de adscripción de la persona que formuló el inventario ",null,null,null,null,null,"Nombre, firma, cargo y área de adscripción de la persona que revisó el inventario"]
[null,{"$f":"HOJA_CAPTURA!D319","v":0}]
["Nombre y firma del titular de la unidad administrativa que autorizó el inventario",null,null,null,null,null,"Nombre y firma del responsable del archivo de concentración que recibe el inventario"]
[]
[]
[]
[]
[null,"           "]
["Fecha de transferencia:",null,null,{"$f":"TODAY()","v":"2024-08-13"},"Número de transferencia:",{"$f":"HOJA_CAPTURA!L323","v":0},null,null,null,null,null,null,null,"Hoja: 81 de ",{"$f":"O1980","v":0}]
["Unidad administrativa/Área productora: ",null,null,null,{"$f":"HOJA_CAPTURA!C323","v":0}]
[{"$f":"HOJA_CAPTURA!B323","v":"Fondo: INP"},null,"Sección:",{"$f":"HOJA_CAPTURA!G323","v":0},null,null,"Serie: ",{"$f":"HOJA_CAPTURA!H323","v":0}]
[null,null,null,null,null,null,"Subserie:",null,{"$f":"HOJA_CAPTURA!I323","v":0}]
["No. Consecutivo","No. de caja","No. de expediente","Clasificación archivística del expediente","Descripción o asunto ","                                                                                                                                                                                                                                                          Periodo de trámite","No.  de folios ","Valor documental",null,null,"Vigencia documental",null,null,"Condiciones de acceso (Reservada y confidencial)","Tradición documental "]
[null,null,null,null,null,null,null,"A","L","F/C","AT","AC","Total"]
[{"$f":"HOJA_CAPTURA!J323","v":0},{"$f":"HOJA_CAPTURA!K323","v":0},{"$f":"HOJA_CAPTURA!M323","v":0},{"$f":"HOJA_CAPTURA!N323","v":0},{"$f":"HOJA_CAPTURA!P323","v":0},{"$f":"HOJA_CAPTURA!Q323","v":"00:00:00"},{"$f":"HOJA_CAPTURA!V323","v":0},{"$f":"HOJA_CAPTURA!AF323","v":0},{"$f":"HOJA_CAPTURA!AG323","v":0},{"$f":"HOJA_CAPTURA!AH323","v":0},{"$f":"HOJA_CAPTURA!AI323","v":0},{"$f":"HOJA_CAPTURA!AJ323","v":0},{"$f":"HOJA_CAPTURA!AK323","v":0},{"$f":"HOJA_CAPTURA!AL323","v":0},{"$f":"HOJA_CAPTURA!AU323","v":0}]
[null,null,null,null,null,{"$f":"HOJA_CAPTURA!R323","v":"00:00:00"}]
[{"$f":"HOJA_CAPTURA!J324","v":0},{"$f":"HOJA_CAPTURA!K324","v":0},{"$f":"HOJA_CAPTURA!M324","v":0},{"$f":"HOJA_CAPTURA!N324","v":0},{"$f":"HOJA_CAPTURA!P324","v":0},{"$f":"HOJA_CAPTURA!Q324","v":"00:00:00"},{"$f":"HOJA_CAPTURA!V324","v":0},{"$f":"HOJA_CAPTURA!AF324","v":0},{"$f":"HOJA_CAPTURA!AG324","v":0},{"$f":"HOJA_CAPTURA!AH324","v":0},{"$f":"HOJA_CAPTURA!AI324","v":0},{"$f":"HOJA_CAPTURA!AJ324","v":0},{"$f":"HOJA_CAPTURA!AK324","v":0},{"$f":"HOJA_CAPTURA!AL324","v":0},{"$f":"HOJA_CAPTURA!AU324","v":0}]
[null,null,null,null,null,{"$f":"HOJA_CAPTURA!R324","v":"00:00:00"}]
[{"$f":"HOJA_CAPTURA!J325","v":0},{"$f":"HOJA_CAPTURA!K325","v":0},{"$f":"HOJA_CAPTURA!M325","v":0},{"$f":"HOJA_CAPTURA!N325","v":0},{"$f":"HOJA_CAPTURA!P325","v":0},{"$f":"HOJA_CAPTURA!Q325","v":"00:00:00"},{"$f":"HOJA_CAPTURA!V325","v":0},{"$f":"HOJA_CAPTURA!AF325","v":0},{"$f":"HOJA_CAPTURA!AG325","v":0},{"$f":"HOJA_CAPTURA!AH325","v":0},{"$f":"HOJA_CAPTURA!AI325","v":0},{"$f":"HOJA_CAPTURA!AJ325","v":0},{"$f":"HOJA_CAPTURA!AK325","v":0},{"$f":"HOJA_CAPTURA!AL325","v":0},{"$f":"HOJA_CAPTURA!AU325","v":0}]
[null,null,null,null,null,{"$f":"HOJA_CAPTURA!R325","v":"00:00:00"}]
[{"$f":"HOJA_CAPTURA!J326","v":0},{"$f":"HOJA_CAPTURA!K326","v":0},{"$f":"HOJA_CAPTURA!M326","v":0},{"$f":"HOJA_CAPTURA!N326","v":0},{"$f":"HOJA_CAPTURA!P326","v":0},{"$f":"HOJA_CAPTURA!Q326","v":"00:00:00"},{"$f":"HOJA_CAPTURA!V326","v":0},{"$f":"HOJA_CAPTURA!AF326","v":0},{"$f":"HOJA_CAPTURA!AG326","v":0},{"$f":"HOJA_CAPTURA!AH326","v":0},{"$f":"HOJA_CAPTURA!AI326","v":0},{"$f":"HOJA_CAPTURA!AJ326","v":0},{"$f":"HOJA_CAPTURA!AK326","v":0},{"$f":"HOJA_CAPTURA!AL326","v":0},{"$f":"HOJA_CAPTURA!AU326","v":0}]
[null,null,null,null,null,{"$f":"HOJA_CAPTURA!R326","v":"00:00:00"}]
[]
[null,"\"El presente inventario consta de __fojas y ampara la cantidad de __expedientes de los años de __al__, contenidos en__ cajas, con un peso aproximado de __kg.\""]
[null,null,{"$f":"HOJA_CAPTURA!F323","v":0},null,null,null,null,{"$f":"HOJA_CAPTURA!E323","v":0}]
["Nombre, firma, cargo y área de adscripción de la persona que formuló el inventario ",null,null,null,null,null,"Nombre, firma, cargo y área de adscripción de la persona que revisó el inventario"]
[null,{"$f":"HOJA_CAPTURA!D323","v":0}]
["Nombre y firma del titular de la unidad administrativa que autorizó el inventario",null,null,null,null,null,"Nombre y firma del responsable del archivo de concentración que recibe el inventario"]
[]
[]
[]
[]
[null,"           "]
["Fecha de transferencia:",null,null,{"$f":"TODAY()","v":"2024-08-13"},"Número de transferencia:",{"$f":"HOJA_CAPTURA!L327","v":0},null,null,null,null,null,null,null,"Hoja: 82 de ",{"$f":"O2005","v":0}]
["Unidad administrativa/Área productora: ",null,null,null,{"$f":"HOJA_CAPTURA!C327","v":0}]
[{"$f":"HOJA_CAPTURA!B327","v":"Fondo: INP"},null,"Sección:",{"$f":"HOJA_CAPTURA!G327","v":0},null,null,"Serie: ",{"$f":"HOJA_CAPTURA!H327","v":0}]
[null,null,null,null,null,null,"Subserie:",null,{"$f":"HOJA_CAPTURA!I327","v":0}]
["No. Consecutivo","No. de caja","No. de expediente","Clasificación archivística del expediente","Descripción o asunto ","                                                                                                                                                                                                                                                          Periodo de trámite","No.  de folios ","Valor documental",null,null,"Vigencia documental",null,null,"Condiciones de acceso (Reservada y confidencial)","Tradición documental "]
[null,null,null,null,null,null,null,"A","L","F/C","AT","AC","Total"]
[{"$f":"HOJA_CAPTURA!J327","v":0},{"$f":"HOJA_CAPTURA!K327","v":0},{"$f":"HOJA_CAPTURA!M327","v":0},{"$f":"HOJA_CAPTURA!N327","v":0},{"$f":"HOJA_CAPTURA!P327","v":0},{"$f":"HOJA_CAPTURA!Q327","v":"00:00:00"},{"$f":"HOJA_CAPTURA!V327","v":0},{"$f":"HOJA_CAPTURA!AF327","v":0},{"$f":"HOJA_CAPTURA!AG327","v":0},{"$f":"HOJA_CAPTURA!AH327","v":0},{"$f":"HOJA_CAPTURA!AI327","v":0},{"$f":"HOJA_CAPTURA!AJ327","v":0},{"$f":"HOJA_CAPTURA!AK327","v":0},{"$f":"HOJA_CAPTURA!AL327","v":0},{"$f":"HOJA_CAPTURA!AU327","v":0}]
[null,null,null,null,null,{"$f":"HOJA_CAPTURA!R327","v":"00:00:00"}]
[{"$f":"HOJA_CAPTURA!J328","v":0},{"$f":"HOJA_CAPTURA!K328","v":0},{"$f":"HOJA_CAPTURA!M328","v":0},{"$f":"HOJA_CAPTURA!N328","v":0},{"$f":"HOJA_CAPTURA!P328","v":0},{"$f":"HOJA_CAPTURA!Q328","v":"00:00:00"},{"$f":"HOJA_CAPTURA!V328","v":0},{"$f":"HOJA_CAPTURA!AF328","v":0},{"$f":"HOJA_CAPTURA!AG328","v":0},{"$f":"HOJA_CAPTURA!AH328","v":0},{"$f":"HOJA_CAPTURA!AI328","v":0},{"$f":"HOJA_CAPTURA!AJ328","v":0},{"$f":"HOJA_CAPTURA!AK328","v":0},{"$f":"HOJA_CAPTURA!AL328","v":0},{"$f":"HOJA_CAPTURA!AU328","v":0}]
[null,null,null,null,null,{"$f":"HOJA_CAPTURA!R328","v":"00:00:00"}]
[{"$f":"HOJA_CAPTURA!J329","v":0},{"$f":"HOJA_CAPTURA!K329","v":0},{"$f":"HOJA_CAPTURA!M329","v":0},{"$f":"HOJA_CAPTURA!N329","v":0},{"$f":"HOJA_CAPTURA!P329","v":0},{"$f":"HOJA_CAPTURA!Q329","v":"00:00:00"},{"$f":"HOJA_CAPTURA!V329","v":0},{"$f":"HOJA_CAPTURA!AF329","v":0},{"$f":"HOJA_CAPTURA!AG329","v":0},{"$f":"HOJA_CAPTURA!AH329","v":0},{"$f":"HOJA_CAPTURA!AI329","v":0},{"$f":"HOJA_CAPTURA!AJ329","v":0},{"$f":"HOJA_CAPTURA!AK329","v":0},{"$f":"HOJA_CAPTURA!AL329","v":0},{"$f":"HOJA_CAPTURA!AU329","v":0}]
[null,null,null,null,null,{"$f":"HOJA_CAPTURA!R329","v":"00:00:00"}]
[{"$f":"HOJA_CAPTURA!J330","v":0},{"$f":"HOJA_CAPTURA!K330","v":0},{"$f":"HOJA_CAPTURA!M330","v":0},{"$f":"HOJA_CAPTURA!N330","v":0},{"$f":"HOJA_CAPTURA!P330","v":0},{"$f":"HOJA_CAPTURA!Q330","v":"00:00:00"},{"$f":"HOJA_CAPTURA!V330","v":0},{"$f":"HOJA_CAPTURA!AF330","v":0},{"$f":"HOJA_CAPTURA!AG330","v":0},{"$f":"HOJA_CAPTURA!AH330","v":0},{"$f":"HOJA_CAPTURA!AI330","v":0},{"$f":"HOJA_CAPTURA!AJ330","v":0},{"$f":"HOJA_CAPTURA!AK330","v":0},{"$f":"HOJA_CAPTURA!AL330","v":0},{"$f":"HOJA_CAPTURA!AU330","v":0}]
[null,null,null,null,null,{"$f":"HOJA_CAPTURA!R330","v":"00:00:00"}]
[]
[null,"\"El presente inventario consta de __fojas y ampara la cantidad de __expedientes de los años de __al__, contenidos en__ cajas, con un peso aproximado de __kg.\""]
[null,null,{"$f":"HOJA_CAPTURA!F327","v":0},null,null,null,null,{"$f":"HOJA_CAPTURA!E327","v":0}]
["Nombre, firma, cargo y área de adscripción de la persona que formuló el inventario ",null,null,null,null,null,"Nombre, firma, cargo y área de adscripción de la persona que revisó el inventario"]
[null,{"$f":"HOJA_CAPTURA!D327","v":0}]
["Nombre y firma del titular de la unidad administrativa que autorizó el inventario",null,null,null,null,null,"Nombre y firma del responsable del archivo de concentración que recibe el inventario"]
[]
[]
[]
[]
[null,"           "]
["Fecha de transferencia:",null,null,{"$f":"TODAY()","v":"2024-08-13"},"Número de transferencia:",{"$f":"HOJA_CAPTURA!L331","v":0},null,null,null,null,null,null,null,"Hoja: 83 de ",{"$f":"O2030","v":0}]
["Unidad administrativa/Área productora: ",null,null,null,{"$f":"HOJA_CAPTURA!C331","v":0}]
[{"$f":"HOJA_CAPTURA!B331","v":"Fondo: INP"},null,"Sección:",{"$f":"HOJA_CAPTURA!G331","v":0},null,null,"Serie: ",{"$f":"HOJA_CAPTURA!H331","v":0}]
[null,null,null,null,null,null,"Subserie:",null,{"$f":"HOJA_CAPTURA!I331","v":0}]
["No. Consecutivo","No. de caja","No. de expediente","Clasificación archivística del expediente","Descripción o asunto ","                                                                                                                                                                                                                                                          Periodo de trámite","No.  de folios ","Valor documental",null,null,"Vigencia documental",null,null,"Condiciones de acceso (Reservada y confidencial)","Tradición documental "]
[null,null,null,null,null,null,null,"A","L","F/C","AT","AC","Total"]
[{"$f":"HOJA_CAPTURA!J331","v":0},{"$f":"HOJA_CAPTURA!K331","v":0},{"$f":"HOJA_CAPTURA!M331","v":0},{"$f":"HOJA_CAPTURA!N331","v":0},{"$f":"HOJA_CAPTURA!P331","v":0},{"$f":"HOJA_CAPTURA!Q331","v":"00:00:00"},{"$f":"HOJA_CAPTURA!V331","v":0},{"$f":"HOJA_CAPTURA!AF331","v":0},{"$f":"HOJA_CAPTURA!AG331","v":0},{"$f":"HOJA_CAPTURA!AH331","v":0},{"$f":"HOJA_CAPTURA!AI331","v":0},{"$f":"HOJA_CAPTURA!AJ331","v":0},{"$f":"HOJA_CAPTURA!AK331","v":0},{"$f":"HOJA_CAPTURA!AL331","v":0},{"$f":"HOJA_CAPTURA!AU331","v":0}]
[null,null,null,null,null,{"$f":"HOJA_CAPTURA!R331","v":"00:00:00"}]
[{"$f":"HOJA_CAPTURA!J332","v":0},{"$f":"HOJA_CAPTURA!K332","v":0},{"$f":"HOJA_CAPTURA!M332","v":0},{"$f":"HOJA_CAPTURA!N332","v":0},{"$f":"HOJA_CAPTURA!P332","v":0},{"$f":"HOJA_CAPTURA!Q332","v":"00:00:00"},{"$f":"HOJA_CAPTURA!V332","v":0},{"$f":"HOJA_CAPTURA!AF332","v":0},{"$f":"HOJA_CAPTURA!AG332","v":0},{"$f":"HOJA_CAPTURA!AH332","v":0},{"$f":"HOJA_CAPTURA!AI332","v":0},{"$f":"HOJA_CAPTURA!AJ332","v":0},{"$f":"HOJA_CAPTURA!AK332","v":0},{"$f":"HOJA_CAPTURA!AL332","v":0},{"$f":"HOJA_CAPTURA!AU332","v":0}]
[null,null,null,null,null,{"$f":"HOJA_CAPTURA!R332","v":"00:00:00"}]
[{"$f":"HOJA_CAPTURA!J333","v":0},{"$f":"HOJA_CAPTURA!K333","v":0},{"$f":"HOJA_CAPTURA!M333","v":0},{"$f":"HOJA_CAPTURA!N333","v":0},{"$f":"HOJA_CAPTURA!P333","v":0},{"$f":"HOJA_CAPTURA!Q333","v":"00:00:00"},{"$f":"HOJA_CAPTURA!V333","v":0},{"$f":"HOJA_CAPTURA!AF333","v":0},{"$f":"HOJA_CAPTURA!AG333","v":0},{"$f":"HOJA_CAPTURA!AH333","v":0},{"$f":"HOJA_CAPTURA!AI333","v":0},{"$f":"HOJA_CAPTURA!AJ333","v":0},{"$f":"HOJA_CAPTURA!AK333","v":0},{"$f":"HOJA_CAPTURA!AL333","v":0},{"$f":"HOJA_CAPTURA!AU333","v":0}]
[null,null,null,null,null,{"$f":"HOJA_CAPTURA!R333","v":"00:00:00"}]
[{"$f":"HOJA_CAPTURA!J334","v":0},{"$f":"HOJA_CAPTURA!K334","v":0},{"$f":"HOJA_CAPTURA!M334","v":0},{"$f":"HOJA_CAPTURA!N334","v":0},{"$f":"HOJA_CAPTURA!P334","v":0},{"$f":"HOJA_CAPTURA!Q334","v":"00:00:00"},{"$f":"HOJA_CAPTURA!V334","v":0},{"$f":"HOJA_CAPTURA!AF334","v":0},{"$f":"HOJA_CAPTURA!AG334","v":0},{"$f":"HOJA_CAPTURA!AH334","v":0},{"$f":"HOJA_CAPTURA!AI334","v":0},{"$f":"HOJA_CAPTURA!AJ334","v":0},{"$f":"HOJA_CAPTURA!AK334","v":0},{"$f":"HOJA_CAPTURA!AL334","v":0},{"$f":"HOJA_CAPTURA!AU334","v":0}]
[null,null,null,null,null,{"$f":"HOJA_CAPTURA!R334","v":"00:00:00"}]
[]
[null,"\"El presente inventario consta de __fojas y ampara la cantidad de __expedientes de los años de __al__, contenidos en__ cajas, con un peso aproximado de __kg.\""]
[null,null,{"$f":"HOJA_CAPTURA!F331","v":0},null,null,null,null,{"$f":"HOJA_CAPTURA!E331","v":0}]
["Nombre, firma, cargo y área de adscripción de la persona que formuló el inventario ",null,null,null,null,null,"Nombre, firma, cargo y área de adscripción de la persona que revisó el inventario"]
[null,{"$f":"HOJA_CAPTURA!D331","v":0}]
["Nombre y firma del titular de la unidad administrativa que autorizó el inventario",null,null,null,null,null,"Nombre y firma del responsable del archivo de concentración que recibe el inventario"]
[]
[]
[]
[]
[null,"           "]
["Fecha de transferencia:",null,null,{"$f":"TODAY()","v":"2024-08-13"},"Número de transferencia:",{"$f":"HOJA_CAPTURA!L335","v":0},null,null,null,null,null,null,null,"Hoja: 84 de ",{"$f":"O2055","v":0}]
["Unidad administrativa/Área productora: ",null,null,null,{"$f":"HOJA_CAPTURA!C335","v":0}]
[{"$f":"HOJA_CAPTURA!B335","v":"Fondo: INP"},null,"Sección:",{"$f":"HOJA_CAPTURA!G335","v":0},null,null,"Serie: ",{"$f":"HOJA_CAPTURA!H335","v":0}]
[null,null,null,null,null,null,"Subserie:",null,{"$f":"HOJA_CAPTURA!I335","v":0}]
["No. Consecutivo","No. de caja","No. de expediente","Clasificación archivística del expediente","Descripción o asunto ","                                                                                                                                                                                                                                                          Periodo de trámite","No.  de folios ","Valor documental",null,null,"Vigencia documental",null,null,"Condiciones de acceso (Reservada y confidencial)","Tradición documental "]
[null,null,null,null,null,null,null,"A","L","F/C","AT","AC","Total"]
[{"$f":"HOJA_CAPTURA!J335","v":0},{"$f":"HOJA_CAPTURA!K335","v":0},{"$f":"HOJA_CAPTURA!M335","v":0},{"$f":"HOJA_CAPTURA!N335","v":0},{"$f":"HOJA_CAPTURA!P335","v":0},{"$f":"HOJA_CAPTURA!Q335","v":"00:00:00"},{"$f":"HOJA_CAPTURA!V335","v":0},{"$f":"HOJA_CAPTURA!AF335","v":0},{"$f":"HOJA_CAPTURA!AG335","v":0},{"$f":"HOJA_CAPTURA!AH335","v":0},{"$f":"HOJA_CAPTURA!AI335","v":0},{"$f":"HOJA_CAPTURA!AJ335","v":0},{"$f":"HOJA_CAPTURA!AK335","v":0},{"$f":"HOJA_CAPTURA!AL335","v":0},{"$f":"HOJA_CAPTURA!AU335","v":0}]
[null,null,null,null,null,{"$f":"HOJA_CAPTURA!R335","v":"00:00:00"}]
[{"$f":"HOJA_CAPTURA!J336","v":0},{"$f":"HOJA_CAPTURA!K336","v":0},{"$f":"HOJA_CAPTURA!M336","v":0},{"$f":"HOJA_CAPTURA!N336","v":0},{"$f":"HOJA_CAPTURA!P336","v":0},{"$f":"HOJA_CAPTURA!Q336","v":"00:00:00"},{"$f":"HOJA_CAPTURA!V336","v":0},{"$f":"HOJA_CAPTURA!AF336","v":0},{"$f":"HOJA_CAPTURA!AG336","v":0},{"$f":"HOJA_CAPTURA!AH336","v":0},{"$f":"HOJA_CAPTURA!AI336","v":0},{"$f":"HOJA_CAPTURA!AJ336","v":0},{"$f":"HOJA_CAPTURA!AK336","v":0},{"$f":"HOJA_CAPTURA!AL336","v":0},{"$f":"HOJA_CAPTURA!AU336","v":0}]
[null,null,null,null,null,{"$f":"HOJA_CAPTURA!R336","v":"00:00:00"}]
[{"$f":"HOJA_CAPTURA!J337","v":0},{"$f":"HOJA_CAPTURA!K337","v":0},{"$f":"HOJA_CAPTURA!M337","v":0},{"$f":"HOJA_CAPTURA!N337","v":0},{"$f":"HOJA_CAPTURA!P337","v":0},{"$f":"HOJA_CAPTURA!Q337","v":"00:00:00"},{"$f":"HOJA_CAPTURA!V337","v":0},{"$f":"HOJA_CAPTURA!AF337","v":0},{"$f":"HOJA_CAPTURA!AG337","v":0},{"$f":"HOJA_CAPTURA!AH337","v":0},{"$f":"HOJA_CAPTURA!AI337","v":0},{"$f":"HOJA_CAPTURA!AJ337","v":0},{"$f":"HOJA_CAPTURA!AK337","v":0},{"$f":"HOJA_CAPTURA!AL337","v":0},{"$f":"HOJA_CAPTURA!AU337","v":0}]
[null,null,null,null,null,{"$f":"HOJA_CAPTURA!R337","v":"00:00:00"}]
[{"$f":"HOJA_CAPTURA!J338","v":0},{"$f":"HOJA_CAPTURA!K338","v":0},{"$f":"HOJA_CAPTURA!M338","v":0},{"$f":"HOJA_CAPTURA!N338","v":0},{"$f":"HOJA_CAPTURA!P338","v":0},{"$f":"HOJA_CAPTURA!Q338","v":"00:00:00"},{"$f":"HOJA_CAPTURA!V338","v":0},{"$f":"HOJA_CAPTURA!AF338","v":0},{"$f":"HOJA_CAPTURA!AG338","v":0},{"$f":"HOJA_CAPTURA!AH338","v":0},{"$f":"HOJA_CAPTURA!AI338","v":0},{"$f":"HOJA_CAPTURA!AJ338","v":0},{"$f":"HOJA_CAPTURA!AK338","v":0},{"$f":"HOJA_CAPTURA!AL338","v":0},{"$f":"HOJA_CAPTURA!AU338","v":0}]
[null,null,null,null,null,{"$f":"HOJA_CAPTURA!R338","v":"00:00:00"}]
[]
[null,"\"El presente inventario consta de __fojas y ampara la cantidad de __expedientes de los años de __al__, contenidos en__ cajas, con un peso aproximado de __kg.\""]
[null,null,{"$f":"HOJA_CAPTURA!F335","v":0},null,null,null,null,{"$f":"HOJA_CAPTURA!E335","v":0}]
["Nombre, firma, cargo y área de adscripción de la persona que formuló el inventario ",null,null,null,null,null,"Nombre, firma, cargo y área de adscripción de la persona que revisó el inventario"]
[null,{"$f":"HOJA_CAPTURA!D335","v":0}]
["Nombre y firma del titular de la unidad administrativa que autorizó el inventario",null,null,null,null,null,"Nombre y firma del responsable del archivo de concentración que recibe el inventario"]
[]
[]
[]
[]
[null,"           "]
["Fecha de transferencia:",null,null,{"$f":"TODAY()","v":"2024-08-13"},"Número de transferencia:",{"$f":"HOJA_CAPTURA!L339","v":0},null,null,null,null,null,null,null,"Hoja: 85 de ",{"$f":"O2080","v":0}]
["Unidad administrativa/Área productora: ",null,null,null,{"$f":"HOJA_CAPTURA!C339","v":0}]
[{"$f":"HOJA_CAPTURA!B339","v":"Fondo: INP"},null,"Sección:",{"$f":"HOJA_CAPTURA!G339","v":0},null,null,"Serie: ",{"$f":"HOJA_CAPTURA!H339","v":0}]
[null,null,null,null,null,null,"Subserie:",null,{"$f":"HOJA_CAPTURA!I339","v":0}]
["No. Consecutivo","No. de caja","No. de expediente","Clasificación archivística del expediente","Descripción o asunto ","                                                                                                                                                                                                                                                          Periodo de trámite","No.  de folios ","Valor documental",null,null,"Vigencia documental",null,null,"Condiciones de acceso (Reservada y confidencial)","Tradición documental "]
[null,null,null,null,null,null,null,"A","L","F/C","AT","AC","Total"]
[{"$f":"HOJA_CAPTURA!J339","v":0},{"$f":"HOJA_CAPTURA!K339","v":0},{"$f":"HOJA_CAPTURA!M339","v":0},{"$f":"HOJA_CAPTURA!N339","v":0},{"$f":"HOJA_CAPTURA!P339","v":0},{"$f":"HOJA_CAPTURA!Q339","v":"00:00:00"},{"$f":"HOJA_CAPTURA!V339","v":0},{"$f":"HOJA_CAPTURA!AF339","v":0},{"$f":"HOJA_CAPTURA!AG339","v":0},{"$f":"HOJA_CAPTURA!AH339","v":0},{"$f":"HOJA_CAPTURA!AI339","v":0},{"$f":"HOJA_CAPTURA!AJ339","v":0},{"$f":"HOJA_CAPTURA!AK339","v":0},{"$f":"HOJA_CAPTURA!AL339","v":0},{"$f":"HOJA_CAPTURA!AU339","v":0}]
[null,null,null,null,null,{"$f":"HOJA_CAPTURA!R339","v":"00:00:00"}]
[{"$f":"HOJA_CAPTURA!J340","v":0},{"$f":"HOJA_CAPTURA!K340","v":0},{"$f":"HOJA_CAPTURA!M340","v":0},{"$f":"HOJA_CAPTURA!N340","v":0},{"$f":"HOJA_CAPTURA!P340","v":0},{"$f":"HOJA_CAPTURA!Q340","v":"00:00:00"},{"$f":"HOJA_CAPTURA!V340","v":0},{"$f":"HOJA_CAPTURA!AF340","v":0},{"$f":"HOJA_CAPTURA!AG340","v":0},{"$f":"HOJA_CAPTURA!AH340","v":0},{"$f":"HOJA_CAPTURA!AI340","v":0},{"$f":"HOJA_CAPTURA!AJ340","v":0},{"$f":"HOJA_CAPTURA!AK340","v":0},{"$f":"HOJA_CAPTURA!AL340","v":0},{"$f":"HOJA_CAPTURA!AU340","v":0}]
[null,null,null,null,null,{"$f":"HOJA_CAPTURA!R340","v":"00:00:00"}]
[{"$f":"HOJA_CAPTURA!J341","v":0},{"$f":"HOJA_CAPTURA!K341","v":0},{"$f":"HOJA_CAPTURA!M341","v":0},{"$f":"HOJA_CAPTURA!N341","v":0},{"$f":"HOJA_CAPTURA!P341","v":0},{"$f":"HOJA_CAPTURA!Q341","v":"00:00:00"},{"$f":"HOJA_CAPTURA!V341","v":0},{"$f":"HOJA_CAPTURA!AF341","v":0},{"$f":"HOJA_CAPTURA!AG341","v":0},{"$f":"HOJA_CAPTURA!AH341","v":0},{"$f":"HOJA_CAPTURA!AI341","v":0},{"$f":"HOJA_CAPTURA!AJ341","v":0},{"$f":"HOJA_CAPTURA!AK341","v":0},{"$f":"HOJA_CAPTURA!AL341","v":0},{"$f":"HOJA_CAPTURA!AU341","v":0}]
[null,null,null,null,null,{"$f":"HOJA_CAPTURA!R341","v":"00:00:00"}]
[{"$f":"HOJA_CAPTURA!J342","v":0},{"$f":"HOJA_CAPTURA!K342","v":0},{"$f":"HOJA_CAPTURA!M342","v":0},{"$f":"HOJA_CAPTURA!N342","v":0},{"$f":"HOJA_CAPTURA!P342","v":0},{"$f":"HOJA_CAPTURA!Q342","v":"00:00:00"},{"$f":"HOJA_CAPTURA!V342","v":0},{"$f":"HOJA_CAPTURA!AF342","v":0},{"$f":"HOJA_CAPTURA!AG342","v":0},{"$f":"HOJA_CAPTURA!AH342","v":0},{"$f":"HOJA_CAPTURA!AI342","v":0},{"$f":"HOJA_CAPTURA!AJ342","v":0},{"$f":"HOJA_CAPTURA!AK342","v":0},{"$f":"HOJA_CAPTURA!AL342","v":0},{"$f":"HOJA_CAPTURA!AU342","v":0}]
[null,null,null,null,null,{"$f":"HOJA_CAPTURA!R342","v":"00:00:00"}]
[]
[null,"\"El presente inventario consta de __fojas y ampara la cantidad de __expedientes de los años de __al__, contenidos en__ cajas, con un peso aproximado de __kg.\""]
[null,null,{"$f":"HOJA_CAPTURA!F339","v":0},null,null,null,null,{"$f":"HOJA_CAPTURA!E339","v":0}]
["Nombre, firma, cargo y área de adscripción de la persona que formuló el inventario ",null,null,null,null,null,"Nombre, firma, cargo y área de adscripción de la persona que revisó el inventario"]
[null,{"$f":"HOJA_CAPTURA!D339","v":0}]
["Nombre y firma del titular de la unidad administrativa que autorizó el inventario",null,null,null,null,null,"Nombre y firma del responsable del archivo de concentración que recibe el inventario"]
[]
[]
[]
[]
[null,"           "]
["Fecha de transferencia:",null,null,{"$f":"TODAY()","v":"2024-08-13"},"Número de transferencia:",{"$f":"HOJA_CAPTURA!L343","v":0},null,null,null,null,null,null,null,"Hoja: 86 de ",{"$f":"O2105","v":0}]
["Unidad administrativa/Área productora: ",null,null,null,{"$f":"HOJA_CAPTURA!C343","v":0}]
[{"$f":"HOJA_CAPTURA!B343","v":"Fondo: INP"},null,"Sección:",{"$f":"HOJA_CAPTURA!G343","v":0},null,null,"Serie: ",{"$f":"HOJA_CAPTURA!H343","v":0}]
[null,null,null,null,null,null,"Subserie:",null,{"$f":"HOJA_CAPTURA!I343","v":0}]
["No. Consecutivo","No. de caja","No. de expediente","Clasificación archivística del expediente","Descripción o asunto ","                                                                                                                                                                                                                                                          Periodo de trámite","No.  de folios ","Valor documental",null,null,"Vigencia documental",null,null,"Condiciones de acceso (Reservada y confidencial)","Tradición documental "]
[null,null,null,null,null,null,null,"A","L","F/C","AT","AC","Total"]
[{"$f":"HOJA_CAPTURA!J343","v":0},{"$f":"HOJA_CAPTURA!K343","v":0},{"$f":"HOJA_CAPTURA!M343","v":0},{"$f":"HOJA_CAPTURA!N343","v":0},{"$f":"HOJA_CAPTURA!P343","v":0},{"$f":"HOJA_CAPTURA!Q343","v":"00:00:00"},{"$f":"HOJA_CAPTURA!V343","v":0},{"$f":"HOJA_CAPTURA!AF343","v":0},{"$f":"HOJA_CAPTURA!AG343","v":0},{"$f":"HOJA_CAPTURA!AH343","v":0},{"$f":"HOJA_CAPTURA!AI343","v":0},{"$f":"HOJA_CAPTURA!AJ343","v":0},{"$f":"HOJA_CAPTURA!AK343","v":0},{"$f":"HOJA_CAPTURA!AL343","v":0},{"$f":"HOJA_CAPTURA!AU343","v":0}]
[null,null,null,null,null,{"$f":"HOJA_CAPTURA!R343","v":"00:00:00"}]
[{"$f":"HOJA_CAPTURA!J344","v":0},{"$f":"HOJA_CAPTURA!K344","v":0},{"$f":"HOJA_CAPTURA!M344","v":0},{"$f":"HOJA_CAPTURA!N344","v":0},{"$f":"HOJA_CAPTURA!P344","v":0},{"$f":"HOJA_CAPTURA!Q344","v":"00:00:00"},{"$f":"HOJA_CAPTURA!V344","v":0},{"$f":"HOJA_CAPTURA!AF344","v":0},{"$f":"HOJA_CAPTURA!AG344","v":0},{"$f":"HOJA_CAPTURA!AH344","v":0},{"$f":"HOJA_CAPTURA!AI344","v":0},{"$f":"HOJA_CAPTURA!AJ344","v":0},{"$f":"HOJA_CAPTURA!AK344","v":0},{"$f":"HOJA_CAPTURA!AL344","v":0},{"$f":"HOJA_CAPTURA!AU344","v":0}]
[null,null,null,null,null,{"$f":"HOJA_CAPTURA!R344","v":"00:00:00"}]
[{"$f":"HOJA_CAPTURA!J345","v":0},{"$f":"HOJA_CAPTURA!K345","v":0},{"$f":"HOJA_CAPTURA!M345","v":0},{"$f":"HOJA_CAPTURA!N345","v":0},{"$f":"HOJA_CAPTURA!P345","v":0},{"$f":"HOJA_CAPTURA!Q345","v":"00:00:00"},{"$f":"HOJA_CAPTURA!V345","v":0},{"$f":"HOJA_CAPTURA!AF345","v":0},{"$f":"HOJA_CAPTURA!AG345","v":0},{"$f":"HOJA_CAPTURA!AH345","v":0},{"$f":"HOJA_CAPTURA!AI345","v":0},{"$f":"HOJA_CAPTURA!AJ345","v":0},{"$f":"HOJA_CAPTURA!AK345","v":0},{"$f":"HOJA_CAPTURA!AL345","v":0},{"$f":"HOJA_CAPTURA!AU345","v":0}]
[null,null,null,null,null,{"$f":"HOJA_CAPTURA!R345","v":"00:00:00"}]
[{"$f":"HOJA_CAPTURA!J346","v":0},{"$f":"HOJA_CAPTURA!K346","v":0},{"$f":"HOJA_CAPTURA!M346","v":0},{"$f":"HOJA_CAPTURA!N346","v":0},{"$f":"HOJA_CAPTURA!P346","v":0},{"$f":"HOJA_CAPTURA!Q346","v":"00:00:00"},{"$f":"HOJA_CAPTURA!V346","v":0},{"$f":"HOJA_CAPTURA!AF346","v":0},{"$f":"HOJA_CAPTURA!AG346","v":0},{"$f":"HOJA_CAPTURA!AH346","v":0},{"$f":"HOJA_CAPTURA!AI346","v":0},{"$f":"HOJA_CAPTURA!AJ346","v":0},{"$f":"HOJA_CAPTURA!AK346","v":0},{"$f":"HOJA_CAPTURA!AL346","v":0},{"$f":"HOJA_CAPTURA!AU346","v":0}]
[null,null,null,null,null,{"$f":"HOJA_CAPTURA!R346","v":"00:00:00"}]
[]
[null,"\"El presente inventario consta de __fojas y ampara la cantidad de __expedientes de los años de __al__, contenidos en__ cajas, con un peso aproximado de __kg.\""]
[null,null,{"$f":"HOJA_CAPTURA!F343","v":0},null,null,null,null,{"$f":"HOJA_CAPTURA!E343","v":0}]
["Nombre, firma, cargo y área de adscripción de la persona que formuló el inventario ",null,null,null,null,null,"Nombre, firma, cargo y área de adscripción de la persona que revisó el inventario"]
[null,{"$f":"HOJA_CAPTURA!D343","v":0}]
["Nombre y firma del titular de la unidad administrativa que autorizó el inventario",null,null,null,null,null,"Nombre y firma del responsable del archivo de concentración que recibe el inventario"]
[]
[]
[]
[]
[null,"           "]
["Fecha de transferencia:",null,null,{"$f":"TODAY()","v":"2024-08-13"},"Número de transferencia:",{"$f":"HOJA_CAPTURA!L347","v":0},null,null,null,null,null,null,null,"Hoja: 87 de ",{"$f":"O2130","v":0}]
["Unidad administrativa/Área productora: ",null,null,null,{"$f":"HOJA_CAPTURA!C347","v":0}]
[{"$f":"HOJA_CAPTURA!B347","v":"Fondo: INP"},null,"Sección:",{"$f":"HOJA_CAPTURA!G347","v":0},null,null,"Serie: ",{"$f":"HOJA_CAPTURA!H347","v":0}]
[null,null,null,null,null,null,"Subserie:",null,{"$f":"HOJA_CAPTURA!I347","v":0}]
["No. Consecutivo","No. de caja","No. de expediente","Clasificación archivística del expediente","Descripción o asunto ","                                                                                                                                                                                                                                                          Periodo de trámite","No.  de folios ","Valor documental",null,null,"Vigencia documental",null,null,"Condiciones de acceso (Reservada y confidencial)","Tradición documental "]
[null,null,null,null,null,null,null,"A","L","F/C","AT","AC","Total"]
[{"$f":"HOJA_CAPTURA!J347","v":0},{"$f":"HOJA_CAPTURA!K347","v":0},{"$f":"HOJA_CAPTURA!M347","v":0},{"$f":"HOJA_CAPTURA!N347","v":0},{"$f":"HOJA_CAPTURA!P347","v":0},{"$f":"HOJA_CAPTURA!Q347","v":"00:00:00"},{"$f":"HOJA_CAPTURA!V347","v":0},{"$f":"HOJA_CAPTURA!AF347","v":0},{"$f":"HOJA_CAPTURA!AG347","v":0},{"$f":"HOJA_CAPTURA!AH347","v":0},{"$f":"HOJA_CAPTURA!AI347","v":0},{"$f":"HOJA_CAPTURA!AJ347","v":0},{"$f":"HOJA_CAPTURA!AK347","v":0},{"$f":"HOJA_CAPTURA!AL347","v":0},{"$f":"HOJA_CAPTURA!AU347","v":0}]
[null,null,null,null,null,{"$f":"HOJA_CAPTURA!R347","v":"00:00:00"}]
[{"$f":"HOJA_CAPTURA!J348","v":0},{"$f":"HOJA_CAPTURA!K348","v":0},{"$f":"HOJA_CAPTURA!M348","v":0},{"$f":"HOJA_CAPTURA!N348","v":0},{"$f":"HOJA_CAPTURA!P348","v":0},{"$f":"HOJA_CAPTURA!Q348","v":"00:00:00"},{"$f":"HOJA_CAPTURA!V348","v":0},{"$f":"HOJA_CAPTURA!AF348","v":0},{"$f":"HOJA_CAPTURA!AG348","v":0},{"$f":"HOJA_CAPTURA!AH348","v":0},{"$f":"HOJA_CAPTURA!AI348","v":0},{"$f":"HOJA_CAPTURA!AJ348","v":0},{"$f":"HOJA_CAPTURA!AK348","v":0},{"$f":"HOJA_CAPTURA!AL348","v":0},{"$f":"HOJA_CAPTURA!AU348","v":0}]
[null,null,null,null,null,{"$f":"HOJA_CAPTURA!R348","v":"00:00:00"}]
[{"$f":"HOJA_CAPTURA!J349","v":0},{"$f":"HOJA_CAPTURA!K349","v":0},{"$f":"HOJA_CAPTURA!M349","v":0},{"$f":"HOJA_CAPTURA!N349","v":0},{"$f":"HOJA_CAPTURA!P349","v":0},{"$f":"HOJA_CAPTURA!Q349","v":"00:00:00"},{"$f":"HOJA_CAPTURA!V349","v":0},{"$f":"HOJA_CAPTURA!AF349","v":0},{"$f":"HOJA_CAPTURA!AG349","v":0},{"$f":"HOJA_CAPTURA!AH349","v":0},{"$f":"HOJA_CAPTURA!AI349","v":0},{"$f":"HOJA_CAPTURA!AJ349","v":0},{"$f":"HOJA_CAPTURA!AK349","v":0},{"$f":"HOJA_CAPTURA!AL349","v":0},{"$f":"HOJA_CAPTURA!AU349","v":0}]
[null,null,null,null,null,{"$f":"HOJA_CAPTURA!R349","v":"00:00:00"}]
[{"$f":"HOJA_CAPTURA!J350","v":0},{"$f":"HOJA_CAPTURA!K350","v":0},{"$f":"HOJA_CAPTURA!M350","v":0},{"$f":"HOJA_CAPTURA!N350","v":0},{"$f":"HOJA_CAPTURA!P350","v":0},{"$f":"HOJA_CAPTURA!Q350","v":"00:00:00"},{"$f":"HOJA_CAPTURA!V350","v":0},{"$f":"HOJA_CAPTURA!AF350","v":0},{"$f":"HOJA_CAPTURA!AG350","v":0},{"$f":"HOJA_CAPTURA!AH350","v":0},{"$f":"HOJA_CAPTURA!AI350","v":0},{"$f":"HOJA_CAPTURA!AJ350","v":0},{"$f":"HOJA_CAPTURA!AK350","v":0},{"$f":"HOJA_CAPTURA!AL350","v":0},{"$f":"HOJA_CAPTURA!AU350","v":0}]
[null,null,null,null,null,{"$f":"HOJA_CAPTURA!R350","v":"00:00:00"}]
[]
[null,"\"El presente inventario consta de __fojas y ampara la cantidad de __expedientes de los años de __al__, contenidos en__ cajas, con un peso aproximado de __kg.\""]
[null,null,{"$f":"HOJA_CAPTURA!F347","v":0},null,null,null,null,{"$f":"HOJA_CAPTURA!E347","v":0}]
["Nombre, firma, cargo y área de adscripción de la persona que formuló el inventario ",null,null,null,null,null,"Nombre, firma, cargo y área de adscripción de la persona que revisó el inventario"]
[null,{"$f":"HOJA_CAPTURA!D347","v":0}]
["Nombre y firma del titular de la unidad administrativa que autorizó el inventario",null,null,null,null,null,"Nombre y firma del responsable del archivo de concentración que recibe el inventario"]
[]
[]
[]
[]
[null,"           "]
["Fecha de transferencia:",null,null,{"$f":"TODAY()","v":"2024-08-13"},"Número de transferencia:",{"$f":"HOJA_CAPTURA!L351","v":0},null,null,null,null,null,null,null,"Hoja: 88 de ",{"$f":"O2155","v":0}]
["Unidad administrativa/Área productora: ",null,null,null,{"$f":"HOJA_CAPTURA!C351","v":0}]
[{"$f":"HOJA_CAPTURA!B351","v":"Fondo: INP"},null,"Sección:",{"$f":"HOJA_CAPTURA!G351","v":0},null,null,"Serie: ",{"$f":"HOJA_CAPTURA!H351","v":0}]
[null,null,null,null,null,null,"Subserie:",null,{"$f":"HOJA_CAPTURA!I351","v":0}]
["No. Consecutivo","No. de caja","No. de expediente","Clasificación archivística del expediente","Descripción o asunto ","                                                                                                                                                                                                                                                          Periodo de trámite","No.  de folios ","Valor documental",null,null,"Vigencia documental",null,null,"Condiciones de acceso (Reservada y confidencial)","Tradición documental "]
[null,null,null,null,null,null,null,"A","L","F/C","AT","AC","Total"]
[{"$f":"HOJA_CAPTURA!J351","v":0},{"$f":"HOJA_CAPTURA!K351","v":0},{"$f":"HOJA_CAPTURA!M351","v":0},{"$f":"HOJA_CAPTURA!N351","v":0},{"$f":"HOJA_CAPTURA!P351","v":0},{"$f":"HOJA_CAPTURA!Q351","v":"00:00:00"},{"$f":"HOJA_CAPTURA!V351","v":0},{"$f":"HOJA_CAPTURA!AF351","v":0},{"$f":"HOJA_CAPTURA!AG351","v":0},{"$f":"HOJA_CAPTURA!AH351","v":0},{"$f":"HOJA_CAPTURA!AI351","v":0},{"$f":"HOJA_CAPTURA!AJ351","v":0},{"$f":"HOJA_CAPTURA!AK351","v":0},{"$f":"HOJA_CAPTURA!AL351","v":0},{"$f":"HOJA_CAPTURA!AU351","v":0}]
[null,null,null,null,null,{"$f":"HOJA_CAPTURA!R351","v":"00:00:00"}]
[{"$f":"HOJA_CAPTURA!J352","v":0},{"$f":"HOJA_CAPTURA!K352","v":0},{"$f":"HOJA_CAPTURA!M352","v":0},{"$f":"HOJA_CAPTURA!N352","v":0},{"$f":"HOJA_CAPTURA!P352","v":0},{"$f":"HOJA_CAPTURA!Q352","v":"00:00:00"},{"$f":"HOJA_CAPTURA!V352","v":0},{"$f":"HOJA_CAPTURA!AF352","v":0},{"$f":"HOJA_CAPTURA!AG352","v":0},{"$f":"HOJA_CAPTURA!AH352","v":0},{"$f":"HOJA_CAPTURA!AI352","v":0},{"$f":"HOJA_CAPTURA!AJ352","v":0},{"$f":"HOJA_CAPTURA!AK352","v":0},{"$f":"HOJA_CAPTURA!AL352","v":0},{"$f":"HOJA_CAPTURA!AU352","v":0}]
[null,null,null,null,null,{"$f":"HOJA_CAPTURA!R352","v":"00:00:00"}]
[{"$f":"HOJA_CAPTURA!J353","v":0},{"$f":"HOJA_CAPTURA!K353","v":0},{"$f":"HOJA_CAPTURA!M353","v":0},{"$f":"HOJA_CAPTURA!N353","v":0},{"$f":"HOJA_CAPTURA!P353","v":0},{"$f":"HOJA_CAPTURA!Q353","v":"00:00:00"},{"$f":"HOJA_CAPTURA!V353","v":0},{"$f":"HOJA_CAPTURA!AF353","v":0},{"$f":"HOJA_CAPTURA!AG353","v":0},{"$f":"HOJA_CAPTURA!AH353","v":0},{"$f":"HOJA_CAPTURA!AI353","v":0},{"$f":"HOJA_CAPTURA!AJ353","v":0},{"$f":"HOJA_CAPTURA!AK353","v":0},{"$f":"HOJA_CAPTURA!AL353","v":0},{"$f":"HOJA_CAPTURA!AU353","v":0}]
[null,null,null,null,null,{"$f":"HOJA_CAPTURA!R353","v":"00:00:00"}]
[{"$f":"HOJA_CAPTURA!J354","v":0},{"$f":"HOJA_CAPTURA!K354","v":0},{"$f":"HOJA_CAPTURA!M354","v":0},{"$f":"HOJA_CAPTURA!N354","v":0},{"$f":"HOJA_CAPTURA!P354","v":0},{"$f":"HOJA_CAPTURA!Q354","v":"00:00:00"},{"$f":"HOJA_CAPTURA!V354","v":0},{"$f":"HOJA_CAPTURA!AF354","v":0},{"$f":"HOJA_CAPTURA!AG354","v":0},{"$f":"HOJA_CAPTURA!AH354","v":0},{"$f":"HOJA_CAPTURA!AI354","v":0},{"$f":"HOJA_CAPTURA!AJ354","v":0},{"$f":"HOJA_CAPTURA!AK354","v":0},{"$f":"HOJA_CAPTURA!AL354","v":0},{"$f":"HOJA_CAPTURA!AU354","v":0}]
[null,null,null,null,null,{"$f":"HOJA_CAPTURA!R354","v":"00:00:00"}]
[]
[null,"\"El presente inventario consta de __fojas y ampara la cantidad de __expedientes de los años de __al__, contenidos en__ cajas, con un peso aproximado de __kg.\""]
[null,null,{"$f":"HOJA_CAPTURA!F351","v":0},null,null,null,null,{"$f":"HOJA_CAPTURA!E351","v":0}]
["Nombre, firma, cargo y área de adscripción de la persona que formuló el inventario ",null,null,null,null,null,"Nombre, firma, cargo y área de adscripción de la persona que revisó el inventario"]
[null,{"$f":"HOJA_CAPTURA!D351","v":0}]
["Nombre y firma del titular de la unidad administrativa que autorizó el inventario",null,null,null,null,null,"Nombre y firma del responsable del archivo de concentración que recibe el inventario"]
[]
[]
[]
[]
[null,"           "]
["Fecha de transferencia:",null,null,{"$f":"TODAY()","v":"2024-08-13"},"Número de transferencia:",{"$f":"HOJA_CAPTURA!L355","v":0},null,null,null,null,null,null,null,"Hoja: 89 de ",{"$f":"O2180","v":0}]
["Unidad administrativa/Área productora: ",null,null,null,{"$f":"HOJA_CAPTURA!C355","v":0}]
[{"$f":"HOJA_CAPTURA!B355","v":"Fondo: INP"},null,"Sección:",{"$f":"HOJA_CAPTURA!G355","v":0},null,null,"Serie: ",{"$f":"HOJA_CAPTURA!H355","v":0}]
[null,null,null,null,null,null,"Subserie:",null,{"$f":"HOJA_CAPTURA!I355","v":0}]
["No. Consecutivo","No. de caja","No. de expediente","Clasificación archivística del expediente","Descripción o asunto ","                                                                                                                                                                                                                                                          Periodo de trámite","No.  de folios ","Valor documental",null,null,"Vigencia documental",null,null,"Condiciones de acceso (Reservada y confidencial)","Tradición documental "]
[null,null,null,null,null,null,null,"A","L","F/C","AT","AC","Total"]
[{"$f":"HOJA_CAPTURA!J355","v":0},{"$f":"HOJA_CAPTURA!K355","v":0},{"$f":"HOJA_CAPTURA!M355","v":0},{"$f":"HOJA_CAPTURA!N355","v":0},{"$f":"HOJA_CAPTURA!P355","v":0},{"$f":"HOJA_CAPTURA!Q355","v":"00:00:00"},{"$f":"HOJA_CAPTURA!V355","v":0},{"$f":"HOJA_CAPTURA!AF355","v":0},{"$f":"HOJA_CAPTURA!AG355","v":0},{"$f":"HOJA_CAPTURA!AH355","v":0},{"$f":"HOJA_CAPTURA!AI355","v":0},{"$f":"HOJA_CAPTURA!AJ355","v":0},{"$f":"HOJA_CAPTURA!AK355","v":0},{"$f":"HOJA_CAPTURA!AL355","v":0},{"$f":"HOJA_CAPTURA!AU355","v":0}]
[null,null,null,null,null,{"$f":"HOJA_CAPTURA!R355","v":"00:00:00"}]
[{"$f":"HOJA_CAPTURA!J356","v":0},{"$f":"HOJA_CAPTURA!K356","v":0},{"$f":"HOJA_CAPTURA!M356","v":0},{"$f":"HOJA_CAPTURA!N356","v":0},{"$f":"HOJA_CAPTURA!P356","v":0},{"$f":"HOJA_CAPTURA!Q356","v":"00:00:00"},{"$f":"HOJA_CAPTURA!V356","v":0},{"$f":"HOJA_CAPTURA!AF356","v":0},{"$f":"HOJA_CAPTURA!AG356","v":0},{"$f":"HOJA_CAPTURA!AH356","v":0},{"$f":"HOJA_CAPTURA!AI356","v":0},{"$f":"HOJA_CAPTURA!AJ356","v":0},{"$f":"HOJA_CAPTURA!AK356","v":0},{"$f":"HOJA_CAPTURA!AL356","v":0},{"$f":"HOJA_CAPTURA!AU356","v":0}]
[null,null,null,null,null,{"$f":"HOJA_CAPTURA!R356","v":"00:00:00"}]
[{"$f":"HOJA_CAPTURA!J357","v":0},{"$f":"HOJA_CAPTURA!K357","v":0},{"$f":"HOJA_CAPTURA!M357","v":0},{"$f":"HOJA_CAPTURA!N357","v":0},{"$f":"HOJA_CAPTURA!P357","v":0},{"$f":"HOJA_CAPTURA!Q357","v":"00:00:00"},{"$f":"HOJA_CAPTURA!V357","v":0},{"$f":"HOJA_CAPTURA!AF357","v":0},{"$f":"HOJA_CAPTURA!AG357","v":0},{"$f":"HOJA_CAPTURA!AH357","v":0},{"$f":"HOJA_CAPTURA!AI357","v":0},{"$f":"HOJA_CAPTURA!AJ357","v":0},{"$f":"HOJA_CAPTURA!AK357","v":0},{"$f":"HOJA_CAPTURA!AL357","v":0},{"$f":"HOJA_CAPTURA!AU357","v":0}]
[null,null,null,null,null,{"$f":"HOJA_CAPTURA!R357","v":"00:00:00"}]
[{"$f":"HOJA_CAPTURA!J358","v":0},{"$f":"HOJA_CAPTURA!K358","v":0},{"$f":"HOJA_CAPTURA!M358","v":0},{"$f":"HOJA_CAPTURA!N358","v":0},{"$f":"HOJA_CAPTURA!P358","v":0},{"$f":"HOJA_CAPTURA!Q358","v":"00:00:00"},{"$f":"HOJA_CAPTURA!V358","v":0},{"$f":"HOJA_CAPTURA!AF358","v":0},{"$f":"HOJA_CAPTURA!AG358","v":0},{"$f":"HOJA_CAPTURA!AH358","v":0},{"$f":"HOJA_CAPTURA!AI358","v":0},{"$f":"HOJA_CAPTURA!AJ358","v":0},{"$f":"HOJA_CAPTURA!AK358","v":0},{"$f":"HOJA_CAPTURA!AL358","v":0},{"$f":"HOJA_CAPTURA!AU358","v":0}]
[null,null,null,null,null,{"$f":"HOJA_CAPTURA!R358","v":"00:00:00"}]
[]
[null,"\"El presente inventario consta de __fojas y ampara la cantidad de __expedientes de los años de __al__, contenidos en__ cajas, con un peso aproximado de __kg.\""]
[null,null,{"$f":"HOJA_CAPTURA!F355","v":0},null,null,null,null,{"$f":"HOJA_CAPTURA!E355","v":0}]
["Nombre, firma, cargo y área de adscripción de la persona que formuló el inventario ",null,null,null,null,null,"Nombre, firma, cargo y área de adscripción de la persona que revisó el inventario"]
[null,{"$f":"HOJA_CAPTURA!D355","v":0}]
["Nombre y firma del titular de la unidad administrativa que autorizó el inventario",null,null,null,null,null,"Nombre y firma del responsable del archivo de concentración que recibe el inventario"]
[]
[]
[]
[]
[null,"           "]
["Fecha de transferencia:",null,null,{"$f":"TODAY()","v":"2024-08-13"},"Número de transferencia:",{"$f":"HOJA_CAPTURA!L359","v":0},null,null,null,null,null,null,null,"Hoja: 90 de ",{"$f":"O2205","v":0}]
["Unidad administrativa/Área productora: ",null,null,null,{"$f":"HOJA_CAPTURA!C359","v":0}]
[{"$f":"HOJA_CAPTURA!B359","v":"Fondo: INP"},null,"Sección:",{"$f":"HOJA_CAPTURA!G359","v":0},null,null,"Serie: ",{"$f":"HOJA_CAPTURA!H359","v":0}]
[null,null,null,null,null,null,"Subserie:",null,{"$f":"HOJA_CAPTURA!I359","v":0}]
["No. Consecutivo","No. de caja","No. de expediente","Clasificación archivística del expediente","Descripción o asunto ","                                                                                                                                                                                                                                                          Periodo de trámite","No.  de folios ","Valor documental",null,null,"Vigencia documental",null,null,"Condiciones de acceso (Reservada y confidencial)","Tradición documental "]
[null,null,null,null,null,null,null,"A","L","F/C","AT","AC","Total"]
[{"$f":"HOJA_CAPTURA!J359","v":0},{"$f":"HOJA_CAPTURA!K359","v":0},{"$f":"HOJA_CAPTURA!M359","v":0},{"$f":"HOJA_CAPTURA!N359","v":0},{"$f":"HOJA_CAPTURA!P359","v":0},{"$f":"HOJA_CAPTURA!Q359","v":"00:00:00"},{"$f":"HOJA_CAPTURA!V359","v":0},{"$f":"HOJA_CAPTURA!AF359","v":0},{"$f":"HOJA_CAPTURA!AG359","v":0},{"$f":"HOJA_CAPTURA!AH359","v":0},{"$f":"HOJA_CAPTURA!AI359","v":0},{"$f":"HOJA_CAPTURA!AJ359","v":0},{"$f":"HOJA_CAPTURA!AK359","v":0},{"$f":"HOJA_CAPTURA!AL359","v":0},{"$f":"HOJA_CAPTURA!AU359","v":0}]
[null,null,null,null,null,{"$f":"HOJA_CAPTURA!R359","v":"00:00:00"}]
[{"$f":"HOJA_CAPTURA!J360","v":0},{"$f":"HOJA_CAPTURA!K360","v":0},{"$f":"HOJA_CAPTURA!M360","v":0},{"$f":"HOJA_CAPTURA!N360","v":0},{"$f":"HOJA_CAPTURA!P360","v":0},{"$f":"HOJA_CAPTURA!Q360","v":"00:00:00"},{"$f":"HOJA_CAPTURA!V360","v":0},{"$f":"HOJA_CAPTURA!AF360","v":0},{"$f":"HOJA_CAPTURA!AG360","v":0},{"$f":"HOJA_CAPTURA!AH360","v":0},{"$f":"HOJA_CAPTURA!AI360","v":0},{"$f":"HOJA_CAPTURA!AJ360","v":0},{"$f":"HOJA_CAPTURA!AK360","v":0},{"$f":"HOJA_CAPTURA!AL360","v":0},{"$f":"HOJA_CAPTURA!AU360","v":0}]
[null,null,null,null,null,{"$f":"HOJA_CAPTURA!R360","v":"00:00:00"}]
[{"$f":"HOJA_CAPTURA!J361","v":0},{"$f":"HOJA_CAPTURA!K361","v":0},{"$f":"HOJA_CAPTURA!M361","v":0},{"$f":"HOJA_CAPTURA!N361","v":0},{"$f":"HOJA_CAPTURA!P361","v":0},{"$f":"HOJA_CAPTURA!Q361","v":"00:00:00"},{"$f":"HOJA_CAPTURA!V361","v":0},{"$f":"HOJA_CAPTURA!AF361","v":0},{"$f":"HOJA_CAPTURA!AG361","v":0},{"$f":"HOJA_CAPTURA!AH361","v":0},{"$f":"HOJA_CAPTURA!AI361","v":0},{"$f":"HOJA_CAPTURA!AJ361","v":0},{"$f":"HOJA_CAPTURA!AK361","v":0},{"$f":"HOJA_CAPTURA!AL361","v":0},{"$f":"HOJA_CAPTURA!AU361","v":0}]
[null,null,null,null,null,{"$f":"HOJA_CAPTURA!R361","v":"00:00:00"}]
[{"$f":"HOJA_CAPTURA!J362","v":0},{"$f":"HOJA_CAPTURA!K362","v":0},{"$f":"HOJA_CAPTURA!M362","v":0},{"$f":"HOJA_CAPTURA!N362","v":0},{"$f":"HOJA_CAPTURA!P362","v":0},{"$f":"HOJA_CAPTURA!Q362","v":"00:00:00"},{"$f":"HOJA_CAPTURA!V362","v":0},{"$f":"HOJA_CAPTURA!AF362","v":0},{"$f":"HOJA_CAPTURA!AG362","v":0},{"$f":"HOJA_CAPTURA!AH362","v":0},{"$f":"HOJA_CAPTURA!AI362","v":0},{"$f":"HOJA_CAPTURA!AJ362","v":0},{"$f":"HOJA_CAPTURA!AK362","v":0},{"$f":"HOJA_CAPTURA!AL362","v":0},{"$f":"HOJA_CAPTURA!AU362","v":0}]
[null,null,null,null,null,{"$f":"HOJA_CAPTURA!R362","v":"00:00:00"}]
[]
[null,"\"El presente inventario consta de __fojas y ampara la cantidad de __expedientes de los años de __al__, contenidos en__ cajas, con un peso aproximado de __kg.\""]
[null,null,{"$f":"HOJA_CAPTURA!F359","v":0},null,null,null,null,{"$f":"HOJA_CAPTURA!E359","v":0}]
["Nombre, firma, cargo y área de adscripción de la persona que formuló el inventario ",null,null,null,null,null,"Nombre, firma, cargo y área de adscripción de la persona que revisó el inventario"]
[null,{"$f":"HOJA_CAPTURA!D359","v":0}]
["Nombre y firma del titular de la unidad administrativa que autorizó el inventario",null,null,null,null,null,"Nombre y firma del responsable del archivo de concentración que recibe el inventario"]
[]
[]
[]
[]
[null,"           "]
["Fecha de transferencia:",null,null,{"$f":"TODAY()","v":"2024-08-13"},"Número de transferencia:",{"$f":"HOJA_CAPTURA!L363","v":0},null,null,null,null,null,null,null,"Hoja: 91 de ",{"$f":"O2230","v":0}]
["Unidad administrativa/Área productora: ",null,null,null,{"$f":"HOJA_CAPTURA!C363","v":0}]
[{"$f":"HOJA_CAPTURA!B363","v":"Fondo: INP"},null,"Sección:",{"$f":"HOJA_CAPTURA!G363","v":0},null,null,"Serie: ",{"$f":"HOJA_CAPTURA!H363","v":0}]
[null,null,null,null,null,null,"Subserie:",null,{"$f":"HOJA_CAPTURA!I363","v":0}]
["No. Consecutivo","No. de caja","No. de expediente","Clasificación archivística del expediente","Descripción o asunto ","                                                                                                                                                                                                                                                          Periodo de trámite","No.  de folios ","Valor documental",null,null,"Vigencia documental",null,null,"Condiciones de acceso (Reservada y confidencial)","Tradición documental "]
[null,null,null,null,null,null,null,"A","L","F/C","AT","AC","Total"]
[{"$f":"HOJA_CAPTURA!J363","v":0},{"$f":"HOJA_CAPTURA!K363","v":0},{"$f":"HOJA_CAPTURA!M363","v":0},{"$f":"HOJA_CAPTURA!N363","v":0},{"$f":"HOJA_CAPTURA!P363","v":0},{"$f":"HOJA_CAPTURA!Q363","v":"00:00:00"},{"$f":"HOJA_CAPTURA!V363","v":0},{"$f":"HOJA_CAPTURA!AF363","v":0},{"$f":"HOJA_CAPTURA!AG363","v":0},{"$f":"HOJA_CAPTURA!AH363","v":0},{"$f":"HOJA_CAPTURA!AI363","v":0},{"$f":"HOJA_CAPTURA!AJ363","v":0},{"$f":"HOJA_CAPTURA!AK363","v":0},{"$f":"HOJA_CAPTURA!AL363","v":0},{"$f":"HOJA_CAPTURA!AU363","v":0}]
[null,null,null,null,null,{"$f":"HOJA_CAPTURA!R363","v":"00:00:00"}]
[{"$f":"HOJA_CAPTURA!J364","v":0},{"$f":"HOJA_CAPTURA!K364","v":0},{"$f":"HOJA_CAPTURA!M364","v":0},{"$f":"HOJA_CAPTURA!N364","v":0},{"$f":"HOJA_CAPTURA!P364","v":0},{"$f":"HOJA_CAPTURA!Q364","v":"00:00:00"},{"$f":"HOJA_CAPTURA!V364","v":0},{"$f":"HOJA_CAPTURA!AF364","v":0},{"$f":"HOJA_CAPTURA!AG364","v":0},{"$f":"HOJA_CAPTURA!AH364","v":0},{"$f":"HOJA_CAPTURA!AI364","v":0},{"$f":"HOJA_CAPTURA!AJ364","v":0},{"$f":"HOJA_CAPTURA!AK364","v":0},{"$f":"HOJA_CAPTURA!AL364","v":0},{"$f":"HOJA_CAPTURA!AU364","v":0}]
[null,null,null,null,null,{"$f":"HOJA_CAPTURA!R364","v":"00:00:00"}]
[{"$f":"HOJA_CAPTURA!J365","v":0},{"$f":"HOJA_CAPTURA!K365","v":0},{"$f":"HOJA_CAPTURA!M365","v":0},{"$f":"HOJA_CAPTURA!N365","v":0},{"$f":"HOJA_CAPTURA!P365","v":0},{"$f":"HOJA_CAPTURA!Q365","v":"00:00:00"},{"$f":"HOJA_CAPTURA!V365","v":0},{"$f":"HOJA_CAPTURA!AF365","v":0},{"$f":"HOJA_CAPTURA!AG365","v":0},{"$f":"HOJA_CAPTURA!AH365","v":0},{"$f":"HOJA_CAPTURA!AI365","v":0},{"$f":"HOJA_CAPTURA!AJ365","v":0},{"$f":"HOJA_CAPTURA!AK365","v":0},{"$f":"HOJA_CAPTURA!AL365","v":0},{"$f":"HOJA_CAPTURA!AU365","v":0}]
[null,null,null,null,null,{"$f":"HOJA_CAPTURA!R365","v":"00:00:00"}]
[{"$f":"HOJA_CAPTURA!J366","v":0},{"$f":"HOJA_CAPTURA!K366","v":0},{"$f":"HOJA_CAPTURA!M366","v":0},{"$f":"HOJA_CAPTURA!N366","v":0},{"$f":"HOJA_CAPTURA!P366","v":0},{"$f":"HOJA_CAPTURA!Q366","v":"00:00:00"},{"$f":"HOJA_CAPTURA!V366","v":0},{"$f":"HOJA_CAPTURA!AF366","v":0},{"$f":"HOJA_CAPTURA!AG366","v":0},{"$f":"HOJA_CAPTURA!AH366","v":0},{"$f":"HOJA_CAPTURA!AI366","v":0},{"$f":"HOJA_CAPTURA!AJ366","v":0},{"$f":"HOJA_CAPTURA!AK366","v":0},{"$f":"HOJA_CAPTURA!AL366","v":0},{"$f":"HOJA_CAPTURA!AU366","v":0}]
[null,null,null,null,null,{"$f":"HOJA_CAPTURA!R366","v":"00:00:00"}]
[]
[null,"\"El presente inventario consta de __fojas y ampara la cantidad de __expedientes de los años de __al__, contenidos en__ cajas, con un peso aproximado de __kg.\""]
[null,null,{"$f":"HOJA_CAPTURA!F363","v":0},null,null,null,null,{"$f":"HOJA_CAPTURA!E363","v":0}]
["Nombre, firma, cargo y área de adscripción de la persona que formuló el inventario ",null,null,null,null,null,"Nombre, firma, cargo y área de adscripción de la persona que revisó el inventario"]
[null,{"$f":"HOJA_CAPTURA!D363","v":0}]
["Nombre y firma del titular de la unidad administrativa que autorizó el inventario",null,null,null,null,null,"Nombre y firma del responsable del archivo de concentración que recibe el inventario"]
[]
[]
[]
[]
[null,"           "]
["Fecha de transferencia:",null,null,{"$f":"TODAY()","v":"2024-08-13"},"Número de transferencia:",{"$f":"HOJA_CAPTURA!L367","v":0},null,null,null,null,null,null,null,"Hoja: 92 de ",{"$f":"O2255","v":0}]
["Unidad administrativa/Área productora: ",null,null,null,{"$f":"HOJA_CAPTURA!C367","v":0}]
[{"$f":"HOJA_CAPTURA!B367","v":"Fondo: INP"},null,"Sección:",{"$f":"HOJA_CAPTURA!G367","v":0},null,null,"Serie: ",{"$f":"HOJA_CAPTURA!H367","v":0}]
[null,null,null,null,null,null,"Subserie:",null,{"$f":"HOJA_CAPTURA!I367","v":0}]
["No. Consecutivo","No. de caja","No. de expediente","Clasificación archivística del expediente","Descripción o asunto ","                                                                                                                                                                                                                                                          Periodo de trámite","No.  de folios ","Valor documental",null,null,"Vigencia documental",null,null,"Condiciones de acceso (Reservada y confidencial)","Tradición documental "]
[null,null,null,null,null,null,null,"A","L","F/C","AT","AC","Total"]
[{"$f":"HOJA_CAPTURA!J367","v":0},{"$f":"HOJA_CAPTURA!K367","v":0},{"$f":"HOJA_CAPTURA!M367","v":0},{"$f":"HOJA_CAPTURA!N367","v":0},{"$f":"HOJA_CAPTURA!P367","v":0},{"$f":"HOJA_CAPTURA!Q367","v":"00:00:00"},{"$f":"HOJA_CAPTURA!V367","v":0},{"$f":"HOJA_CAPTURA!AF367","v":0},{"$f":"HOJA_CAPTURA!AG367","v":0},{"$f":"HOJA_CAPTURA!AH367","v":0},{"$f":"HOJA_CAPTURA!AI367","v":0},{"$f":"HOJA_CAPTURA!AJ367","v":0},{"$f":"HOJA_CAPTURA!AK367","v":0},{"$f":"HOJA_CAPTURA!AL367","v":0},{"$f":"HOJA_CAPTURA!AU367","v":0}]
[null,null,null,null,null,{"$f":"HOJA_CAPTURA!R367","v":"00:00:00"}]
[{"$f":"HOJA_CAPTURA!J368","v":0},{"$f":"HOJA_CAPTURA!K368","v":0},{"$f":"HOJA_CAPTURA!M368","v":0},{"$f":"HOJA_CAPTURA!N368","v":0},{"$f":"HOJA_CAPTURA!P368","v":0},{"$f":"HOJA_CAPTURA!Q368","v":"00:00:00"},{"$f":"HOJA_CAPTURA!V368","v":0},{"$f":"HOJA_CAPTURA!AF368","v":0},{"$f":"HOJA_CAPTURA!AG368","v":0},{"$f":"HOJA_CAPTURA!AH368","v":0},{"$f":"HOJA_CAPTURA!AI368","v":0},{"$f":"HOJA_CAPTURA!AJ368","v":0},{"$f":"HOJA_CAPTURA!AK368","v":0},{"$f":"HOJA_CAPTURA!AL368","v":0},{"$f":"HOJA_CAPTURA!AU368","v":0}]
[null,null,null,null,null,{"$f":"HOJA_CAPTURA!R368","v":"00:00:00"}]
[{"$f":"HOJA_CAPTURA!J369","v":0},{"$f":"HOJA_CAPTURA!K369","v":0},{"$f":"HOJA_CAPTURA!M369","v":0},{"$f":"HOJA_CAPTURA!N369","v":0},{"$f":"HOJA_CAPTURA!P369","v":0},{"$f":"HOJA_CAPTURA!Q369","v":"00:00:00"},{"$f":"HOJA_CAPTURA!V369","v":0},{"$f":"HOJA_CAPTURA!AF369","v":0},{"$f":"HOJA_CAPTURA!AG369","v":0},{"$f":"HOJA_CAPTURA!AH369","v":0},{"$f":"HOJA_CAPTURA!AI369","v":0},{"$f":"HOJA_CAPTURA!AJ369","v":0},{"$f":"HOJA_CAPTURA!AK369","v":0},{"$f":"HOJA_CAPTURA!AL369","v":0},{"$f":"HOJA_CAPTURA!AU369","v":0}]
[null,null,null,null,null,{"$f":"HOJA_CAPTURA!R369","v":"00:00:00"}]
[{"$f":"HOJA_CAPTURA!J370","v":0},{"$f":"HOJA_CAPTURA!K370","v":0},{"$f":"HOJA_CAPTURA!M370","v":0},{"$f":"HOJA_CAPTURA!N370","v":0},{"$f":"HOJA_CAPTURA!P370","v":0},{"$f":"HOJA_CAPTURA!Q370","v":"00:00:00"},{"$f":"HOJA_CAPTURA!V370","v":0},{"$f":"HOJA_CAPTURA!AF370","v":0},{"$f":"HOJA_CAPTURA!AG370","v":0},{"$f":"HOJA_CAPTURA!AH370","v":0},{"$f":"HOJA_CAPTURA!AI370","v":0},{"$f":"HOJA_CAPTURA!AJ370","v":0},{"$f":"HOJA_CAPTURA!AK370","v":0},{"$f":"HOJA_CAPTURA!AL370","v":0},{"$f":"HOJA_CAPTURA!AU370","v":0}]
[null,null,null,null,null,{"$f":"HOJA_CAPTURA!R370","v":"00:00:00"}]
[]
[null,"\"El presente inventario consta de __fojas y ampara la cantidad de __expedientes de los años de __al__, contenidos en__ cajas, con un peso aproximado de __kg.\""]
[null,null,{"$f":"HOJA_CAPTURA!F367","v":0},null,null,null,null,{"$f":"HOJA_CAPTURA!E367","v":0}]
["Nombre, firma, cargo y área de adscripción de la persona que formuló el inventario ",null,null,null,null,null,"Nombre, firma, cargo y área de adscripción de la persona que revisó el inventario"]
[null,{"$f":"HOJA_CAPTURA!D367","v":0}]
["Nombre y firma del titular de la unidad administrativa que autorizó el inventario",null,null,null,null,null,"Nombre y firma del responsable del archivo de concentración que recibe el inventario"]
[]
[]
[]
[]
[null,"           "]
["Fecha de transferencia:",null,null,{"$f":"TODAY()","v":"2024-08-13"},"Número de transferencia:",{"$f":"HOJA_CAPTURA!L371","v":0},null,null,null,null,null,null,null,"Hoja: 93 de ",{"$f":"O2280","v":0}]
["Unidad administrativa/Área productora: ",null,null,null,{"$f":"HOJA_CAPTURA!C371","v":0}]
[{"$f":"HOJA_CAPTURA!B371","v":"Fondo: INP"},null,"Sección:",{"$f":"HOJA_CAPTURA!G371","v":0},null,null,"Serie: ",{"$f":"HOJA_CAPTURA!H371","v":0}]
[null,null,null,null,null,null,"Subserie:",null,{"$f":"HOJA_CAPTURA!I371","v":0}]
["No. Consecutivo","No. de caja","No. de expediente","Clasificación archivística del expediente","Descripción o asunto ","                                                                                                                                                                                                                                                          Periodo de trámite","No.  de folios ","Valor documental",null,null,"Vigencia documental",null,null,"Condiciones de acceso (Reservada y confidencial)","Tradición documental "]
[null,null,null,null,null,null,null,"A","L","F/C","AT","AC","Total"]
[{"$f":"HOJA_CAPTURA!J371","v":0},{"$f":"HOJA_CAPTURA!K371","v":0},{"$f":"HOJA_CAPTURA!M371","v":0},{"$f":"HOJA_CAPTURA!N371","v":0},{"$f":"HOJA_CAPTURA!P371","v":0},{"$f":"HOJA_CAPTURA!Q371","v":"00:00:00"},{"$f":"HOJA_CAPTURA!V371","v":0},{"$f":"HOJA_CAPTURA!AF371","v":0},{"$f":"HOJA_CAPTURA!AG371","v":0},{"$f":"HOJA_CAPTURA!AH371","v":0},{"$f":"HOJA_CAPTURA!AI371","v":0},{"$f":"HOJA_CAPTURA!AJ371","v":0},{"$f":"HOJA_CAPTURA!AK371","v":0},{"$f":"HOJA_CAPTURA!AL371","v":0},{"$f":"HOJA_CAPTURA!AU371","v":0}]
[null,null,null,null,null,{"$f":"HOJA_CAPTURA!R371","v":"00:00:00"}]
[{"$f":"HOJA_CAPTURA!J372","v":0},{"$f":"HOJA_CAPTURA!K372","v":0},{"$f":"HOJA_CAPTURA!M372","v":0},{"$f":"HOJA_CAPTURA!N372","v":0},{"$f":"HOJA_CAPTURA!P372","v":0},{"$f":"HOJA_CAPTURA!Q372","v":"00:00:00"},{"$f":"HOJA_CAPTURA!V372","v":0},{"$f":"HOJA_CAPTURA!AF372","v":0},{"$f":"HOJA_CAPTURA!AG372","v":0},{"$f":"HOJA_CAPTURA!AH372","v":0},{"$f":"HOJA_CAPTURA!AI372","v":0},{"$f":"HOJA_CAPTURA!AJ372","v":0},{"$f":"HOJA_CAPTURA!AK372","v":0},{"$f":"HOJA_CAPTURA!AL372","v":0},{"$f":"HOJA_CAPTURA!AU372","v":0}]
[null,null,null,null,null,{"$f":"HOJA_CAPTURA!R372","v":"00:00:00"}]
[{"$f":"HOJA_CAPTURA!J373","v":0},{"$f":"HOJA_CAPTURA!K373","v":0},{"$f":"HOJA_CAPTURA!M373","v":0},{"$f":"HOJA_CAPTURA!N373","v":0},{"$f":"HOJA_CAPTURA!P373","v":0},{"$f":"HOJA_CAPTURA!Q373","v":"00:00:00"},{"$f":"HOJA_CAPTURA!V373","v":0},{"$f":"HOJA_CAPTURA!AF373","v":0},{"$f":"HOJA_CAPTURA!AG373","v":0},{"$f":"HOJA_CAPTURA!AH373","v":0},{"$f":"HOJA_CAPTURA!AI373","v":0},{"$f":"HOJA_CAPTURA!AJ373","v":0},{"$f":"HOJA_CAPTURA!AK373","v":0},{"$f":"HOJA_CAPTURA!AL373","v":0},{"$f":"HOJA_CAPTURA!AU373","v":0}]
[null,null,null,null,null,{"$f":"HOJA_CAPTURA!R373","v":"00:00:00"}]
[{"$f":"HOJA_CAPTURA!J374","v":0},{"$f":"HOJA_CAPTURA!K374","v":0},{"$f":"HOJA_CAPTURA!M374","v":0},{"$f":"HOJA_CAPTURA!N374","v":0},{"$f":"HOJA_CAPTURA!P374","v":0},{"$f":"HOJA_CAPTURA!Q374","v":"00:00:00"},{"$f":"HOJA_CAPTURA!V374","v":0},{"$f":"HOJA_CAPTURA!AF374","v":0},{"$f":"HOJA_CAPTURA!AG374","v":0},{"$f":"HOJA_CAPTURA!AH374","v":0},{"$f":"HOJA_CAPTURA!AI374","v":0},{"$f":"HOJA_CAPTURA!AJ374","v":0},{"$f":"HOJA_CAPTURA!AK374","v":0},{"$f":"HOJA_CAPTURA!AL374","v":0},{"$f":"HOJA_CAPTURA!AU374","v":0}]
[null,null,null,null,null,{"$f":"HOJA_CAPTURA!R374","v":"00:00:00"}]
[]
[null,"\"El presente inventario consta de __fojas y ampara la cantidad de __expedientes de los años de __al__, contenidos en__ cajas, con un peso aproximado de __kg.\""]
[null,null,{"$f":"HOJA_CAPTURA!F371","v":0},null,null,null,null,{"$f":"HOJA_CAPTURA!E371","v":0}]
["Nombre, firma, cargo y área de adscripción de la persona que formuló el inventario ",null,null,null,null,null,"Nombre, firma, cargo y área de adscripción de la persona que revisó el inventario"]
[null,{"$f":"HOJA_CAPTURA!D371","v":0}]
["Nombre y firma del titular de la unidad administrativa que autorizó el inventario",null,null,null,null,null,"Nombre y firma del responsable del archivo de concentración que recibe el inventario"]
[]
[]
[]
[]
[null,"           "]
["Fecha de transferencia:",null,null,{"$f":"TODAY()","v":"2024-08-13"},"Número de transferencia:",{"$f":"HOJA_CAPTURA!L375","v":0},null,null,null,null,null,null,null,"Hoja: 94 de ",{"$f":"O2305","v":0}]
["Unidad administrativa/Área productora: ",null,null,null,{"$f":"HOJA_CAPTURA!C375","v":0}]
[{"$f":"HOJA_CAPTURA!B375","v":"Fondo: INP"},null,"Sección:",{"$f":"HOJA_CAPTURA!G375","v":0},null,null,"Serie: ",{"$f":"HOJA_CAPTURA!H375","v":0}]
[null,null,null,null,null,null,"Subserie:",null,{"$f":"HOJA_CAPTURA!I375","v":0}]
["No. Consecutivo","No. de caja","No. de expediente","Clasificación archivística del expediente","Descripción o asunto ","                                                                                                                                                                                                                                                          Periodo de trámite","No.  de folios ","Valor documental",null,null,"Vigencia documental",null,null,"Condiciones de acceso (Reservada y confidencial)","Tradición documental "]
[null,null,null,null,null,null,null,"A","L","F/C","AT","AC","Total"]
[{"$f":"HOJA_CAPTURA!J375","v":0},{"$f":"HOJA_CAPTURA!K375","v":0},{"$f":"HOJA_CAPTURA!M375","v":0},{"$f":"HOJA_CAPTURA!N375","v":0},{"$f":"HOJA_CAPTURA!P375","v":0},{"$f":"HOJA_CAPTURA!Q375","v":"00:00:00"},{"$f":"HOJA_CAPTURA!V375","v":0},{"$f":"HOJA_CAPTURA!AF375","v":0},{"$f":"HOJA_CAPTURA!AG375","v":0},{"$f":"HOJA_CAPTURA!AH375","v":0},{"$f":"HOJA_CAPTURA!AI375","v":0},{"$f":"HOJA_CAPTURA!AJ375","v":0},{"$f":"HOJA_CAPTURA!AK375","v":0},{"$f":"HOJA_CAPTURA!AL375","v":0},{"$f":"HOJA_CAPTURA!AU375","v":0}]
[null,null,null,null,null,{"$f":"HOJA_CAPTURA!R375","v":"00:00:00"}]
[{"$f":"HOJA_CAPTURA!J376","v":0},{"$f":"HOJA_CAPTURA!K376","v":0},{"$f":"HOJA_CAPTURA!M376","v":0},{"$f":"HOJA_CAPTURA!N376","v":0},{"$f":"HOJA_CAPTURA!P376","v":0},{"$f":"HOJA_CAPTURA!Q376","v":"00:00:00"},{"$f":"HOJA_CAPTURA!V376","v":0},{"$f":"HOJA_CAPTURA!AF376","v":0},{"$f":"HOJA_CAPTURA!AG376","v":0},{"$f":"HOJA_CAPTURA!AH376","v":0},{"$f":"HOJA_CAPTURA!AI376","v":0},{"$f":"HOJA_CAPTURA!AJ376","v":0},{"$f":"HOJA_CAPTURA!AK376","v":0},{"$f":"HOJA_CAPTURA!AL376","v":0},{"$f":"HOJA_CAPTURA!AU376","v":0}]
[null,null,null,null,null,{"$f":"HOJA_CAPTURA!R376","v":"00:00:00"}]
[{"$f":"HOJA_CAPTURA!J377","v":0},{"$f":"HOJA_CAPTURA!K377","v":0},{"$f":"HOJA_CAPTURA!M377","v":0},{"$f":"HOJA_CAPTURA!N377","v":0},{"$f":"HOJA_CAPTURA!P377","v":0},{"$f":"HOJA_CAPTURA!Q377","v":"00:00:00"},{"$f":"HOJA_CAPTURA!V377","v":0},{"$f":"HOJA_CAPTURA!AF377","v":0},{"$f":"HOJA_CAPTURA!AG377","v":0},{"$f":"HOJA_CAPTURA!AH377","v":0},{"$f":"HOJA_CAPTURA!AI377","v":0},{"$f":"HOJA_CAPTURA!AJ377","v":0},{"$f":"HOJA_CAPTURA!AK377","v":0},{"$f":"HOJA_CAPTURA!AL377","v":0},{"$f":"HOJA_CAPTURA!AU377","v":0}]
[null,null,null,null,null,{"$f":"HOJA_CAPTURA!R377","v":"00:00:00"}]
[{"$f":"HOJA_CAPTURA!J378","v":0},{"$f":"HOJA_CAPTURA!K378","v":0},{"$f":"HOJA_CAPTURA!M378","v":0},{"$f":"HOJA_CAPTURA!N378","v":0},{"$f":"HOJA_CAPTURA!P378","v":0},{"$f":"HOJA_CAPTURA!Q378","v":"00:00:00"},{"$f":"HOJA_CAPTURA!V378","v":0},{"$f":"HOJA_CAPTURA!AF378","v":0},{"$f":"HOJA_CAPTURA!AG378","v":0},{"$f":"HOJA_CAPTURA!AH378","v":0},{"$f":"HOJA_CAPTURA!AI378","v":0},{"$f":"HOJA_CAPTURA!AJ378","v":0},{"$f":"HOJA_CAPTURA!AK378","v":0},{"$f":"HOJA_CAPTURA!AL378","v":0},{"$f":"HOJA_CAPTURA!AU378","v":0}]
[null,null,null,null,null,{"$f":"HOJA_CAPTURA!R378","v":"00:00:00"}]
[]
[null,"\"El presente inventario consta de __fojas y ampara la cantidad de __expedientes de los años de __al__, contenidos en__ cajas, con un peso aproximado de __kg.\""]
[null,null,{"$f":"HOJA_CAPTURA!F375","v":0},null,null,null,null,{"$f":"HOJA_CAPTURA!E375","v":0}]
["Nombre, firma, cargo y área de adscripción de la persona que formuló el inventario ",null,null,null,null,null,"Nombre, firma, cargo y área de adscripción de la persona que revisó el inventario"]
[null,{"$f":"HOJA_CAPTURA!D375","v":0}]
["Nombre y firma del titular de la unidad administrativa que autorizó el inventario",null,null,null,null,null,"Nombre y firma del responsable del archivo de concentración que recibe el inventario"]
[]
[]
[]
[]
[null,"           "]
["Fecha de transferencia:",null,null,{"$f":"TODAY()","v":"2024-08-13"},"Número de transferencia:",{"$f":"HOJA_CAPTURA!L379","v":0},null,null,null,null,null,null,null,"Hoja: 95 de ",{"$f":"O2330","v":0}]
["Unidad administrativa/Área productora: ",null,null,null,{"$f":"HOJA_CAPTURA!C379","v":0}]
[{"$f":"HOJA_CAPTURA!B379","v":"Fondo: INP"},null,"Sección:",{"$f":"HOJA_CAPTURA!G379","v":0},null,null,"Serie: ",{"$f":"HOJA_CAPTURA!H379","v":0}]
[null,null,null,null,null,null,"Subserie:",null,{"$f":"HOJA_CAPTURA!I379","v":0}]
["No. Consecutivo","No. de caja","No. de expediente","Clasificación archivística del expediente","Descripción o asunto ","                                                                                                                                                                                                                                                          Periodo de trámite","No.  de folios ","Valor documental",null,null,"Vigencia documental",null,null,"Condiciones de acceso (Reservada y confidencial)","Tradición documental "]
[null,null,null,null,null,null,null,"A","L","F/C","AT","AC","Total"]
[{"$f":"HOJA_CAPTURA!J379","v":0},{"$f":"HOJA_CAPTURA!K379","v":0},{"$f":"HOJA_CAPTURA!M379","v":0},{"$f":"HOJA_CAPTURA!N379","v":0},{"$f":"HOJA_CAPTURA!P379","v":0},{"$f":"HOJA_CAPTURA!Q379","v":"00:00:00"},{"$f":"HOJA_CAPTURA!V379","v":0},{"$f":"HOJA_CAPTURA!AF379","v":0},{"$f":"HOJA_CAPTURA!AG379","v":0},{"$f":"HOJA_CAPTURA!AH379","v":0},{"$f":"HOJA_CAPTURA!AI379","v":0},{"$f":"HOJA_CAPTURA!AJ379","v":0},{"$f":"HOJA_CAPTURA!AK379","v":0},{"$f":"HOJA_CAPTURA!AL379","v":0},{"$f":"HOJA_CAPTURA!AU379","v":0}]
[null,null,null,null,null,{"$f":"HOJA_CAPTURA!R379","v":"00:00:00"}]
[{"$f":"HOJA_CAPTURA!J380","v":0},{"$f":"HOJA_CAPTURA!K380","v":0},{"$f":"HOJA_CAPTURA!M380","v":0},{"$f":"HOJA_CAPTURA!N380","v":0},{"$f":"HOJA_CAPTURA!P380","v":0},{"$f":"HOJA_CAPTURA!Q380","v":"00:00:00"},{"$f":"HOJA_CAPTURA!V380","v":0},{"$f":"HOJA_CAPTURA!AF380","v":0},{"$f":"HOJA_CAPTURA!AG380","v":0},{"$f":"HOJA_CAPTURA!AH380","v":0},{"$f":"HOJA_CAPTURA!AI380","v":0},{"$f":"HOJA_CAPTURA!AJ380","v":0},{"$f":"HOJA_CAPTURA!AK380","v":0},{"$f":"HOJA_CAPTURA!AL380","v":0},{"$f":"HOJA_CAPTURA!AU380","v":0}]
[null,null,null,null,null,{"$f":"HOJA_CAPTURA!R380","v":"00:00:00"}]
[{"$f":"HOJA_CAPTURA!J381","v":0},{"$f":"HOJA_CAPTURA!K381","v":0},{"$f":"HOJA_CAPTURA!M381","v":0},{"$f":"HOJA_CAPTURA!N381","v":0},{"$f":"HOJA_CAPTURA!P381","v":0},{"$f":"HOJA_CAPTURA!Q381","v":"00:00:00"},{"$f":"HOJA_CAPTURA!V381","v":0},{"$f":"HOJA_CAPTURA!AF381","v":0},{"$f":"HOJA_CAPTURA!AG381","v":0},{"$f":"HOJA_CAPTURA!AH381","v":0},{"$f":"HOJA_CAPTURA!AI381","v":0},{"$f":"HOJA_CAPTURA!AJ381","v":0},{"$f":"HOJA_CAPTURA!AK381","v":0},{"$f":"HOJA_CAPTURA!AL381","v":0},{"$f":"HOJA_CAPTURA!AU381","v":0}]
[null,null,null,null,null,{"$f":"HOJA_CAPTURA!R381","v":"00:00:00"}]
[{"$f":"HOJA_CAPTURA!J382","v":0},{"$f":"HOJA_CAPTURA!K382","v":0},{"$f":"HOJA_CAPTURA!M382","v":0},{"$f":"HOJA_CAPTURA!N382","v":0},{"$f":"HOJA_CAPTURA!P382","v":0},{"$f":"HOJA_CAPTURA!Q382","v":"00:00:00"},{"$f":"HOJA_CAPTURA!V382","v":0},{"$f":"HOJA_CAPTURA!AF382","v":0},{"$f":"HOJA_CAPTURA!AG382","v":0},{"$f":"HOJA_CAPTURA!AH382","v":0},{"$f":"HOJA_CAPTURA!AI382","v":0},{"$f":"HOJA_CAPTURA!AJ382","v":0},{"$f":"HOJA_CAPTURA!AK382","v":0},{"$f":"HOJA_CAPTURA!AL382","v":0},{"$f":"HOJA_CAPTURA!AU382","v":0}]
[null,null,null,null,null,{"$f":"HOJA_CAPTURA!R382","v":"00:00:00"}]
[]
[null,"\"El presente inventario consta de __fojas y ampara la cantidad de __expedientes de los años de __al__, contenidos en__ cajas, con un peso aproximado de __kg.\""]
[null,null,{"$f":"HOJA_CAPTURA!F379","v":0},null,null,null,null,{"$f":"HOJA_CAPTURA!E379","v":0}]
["Nombre, firma, cargo y área de adscripción de la persona que formuló el inventario ",null,null,null,null,null,"Nombre, firma, cargo y área de adscripción de la persona que revisó el inventario"]
[null,{"$f":"HOJA_CAPTURA!D379","v":0}]
["Nombre y firma del titular de la unidad administrativa que autorizó el inventario",null,null,null,null,null,"Nombre y firma del responsable del archivo de concentración que recibe el inventario"]
[]
[]
[]
[]
[null,"           "]
["Fecha de transferencia:",null,null,{"$f":"TODAY()","v":"2024-08-13"},"Número de transferencia:",{"$f":"HOJA_CAPTURA!L383","v":0},null,null,null,null,null,null,null,"Hoja: 96 de ",{"$f":"O2355","v":0}]
["Unidad administrativa/Área productora: ",null,null,null,{"$f":"HOJA_CAPTURA!C383","v":0}]
[{"$f":"HOJA_CAPTURA!B383","v":"Fondo: INP"},null,"Sección:",{"$f":"HOJA_CAPTURA!G383","v":0},null,null,"Serie: ",{"$f":"HOJA_CAPTURA!H383","v":0}]
[null,null,null,null,null,null,"Subserie:",null,{"$f":"HOJA_CAPTURA!I383","v":0}]
["No. Consecutivo","No. de caja","No. de expediente","Clasificación archivística del expediente","Descripción o asunto ","                                                                                                                                                                                                                                                          Periodo de trámite","No.  de folios ","Valor documental",null,null,"Vigencia documental",null,null,"Condiciones de acceso (Reservada y confidencial)","Tradición documental "]
[null,null,null,null,null,null,null,"A","L","F/C","AT","AC","Total"]
[{"$f":"HOJA_CAPTURA!J383","v":0},{"$f":"HOJA_CAPTURA!K383","v":0},{"$f":"HOJA_CAPTURA!M383","v":0},{"$f":"HOJA_CAPTURA!N383","v":0},{"$f":"HOJA_CAPTURA!P383","v":0},{"$f":"HOJA_CAPTURA!Q383","v":"00:00:00"},{"$f":"HOJA_CAPTURA!V383","v":0},{"$f":"HOJA_CAPTURA!AF383","v":0},{"$f":"HOJA_CAPTURA!AG383","v":0},{"$f":"HOJA_CAPTURA!AH383","v":0},{"$f":"HOJA_CAPTURA!AI383","v":0},{"$f":"HOJA_CAPTURA!AJ383","v":0},{"$f":"HOJA_CAPTURA!AK383","v":0},{"$f":"HOJA_CAPTURA!AL383","v":0},{"$f":"HOJA_CAPTURA!AU383","v":0}]
[null,null,null,null,null,{"$f":"HOJA_CAPTURA!R383","v":"00:00:00"}]
[{"$f":"HOJA_CAPTURA!J384","v":0},{"$f":"HOJA_CAPTURA!K384","v":0},{"$f":"HOJA_CAPTURA!M384","v":0},{"$f":"HOJA_CAPTURA!N384","v":0},{"$f":"HOJA_CAPTURA!P384","v":0},{"$f":"HOJA_CAPTURA!Q384","v":"00:00:00"},{"$f":"HOJA_CAPTURA!V384","v":0},{"$f":"HOJA_CAPTURA!AF384","v":0},{"$f":"HOJA_CAPTURA!AG384","v":0},{"$f":"HOJA_CAPTURA!AH384","v":0},{"$f":"HOJA_CAPTURA!AI384","v":0},{"$f":"HOJA_CAPTURA!AJ384","v":0},{"$f":"HOJA_CAPTURA!AK384","v":0},{"$f":"HOJA_CAPTURA!AL384","v":0},{"$f":"HOJA_CAPTURA!AU384","v":0}]
[null,null,null,null,null,{"$f":"HOJA_CAPTURA!R384","v":"00:00:00"}]
[{"$f":"HOJA_CAPTURA!J385","v":0},{"$f":"HOJA_CAPTURA!K385","v":0},{"$f":"HOJA_CAPTURA!M385","v":0},{"$f":"HOJA_CAPTURA!N385","v":0},{"$f":"HOJA_CAPTURA!P385","v":0},{"$f":"HOJA_CAPTURA!Q385","v":"00:00:00"},{"$f":"HOJA_CAPTURA!V385","v":0},{"$f":"HOJA_CAPTURA!AF385","v":0},{"$f":"HOJA_CAPTURA!AG385","v":0},{"$f":"HOJA_CAPTURA!AH385","v":0},{"$f":"HOJA_CAPTURA!AI385","v":0},{"$f":"HOJA_CAPTURA!AJ385","v":0},{"$f":"HOJA_CAPTURA!AK385","v":0},{"$f":"HOJA_CAPTURA!AL385","v":0},{"$f":"HOJA_CAPTURA!AU385","v":0}]
[null,null,null,null,null,{"$f":"HOJA_CAPTURA!R385","v":"00:00:00"}]
[{"$f":"HOJA_CAPTURA!J386","v":0},{"$f":"HOJA_CAPTURA!K386","v":0},{"$f":"HOJA_CAPTURA!M386","v":0},{"$f":"HOJA_CAPTURA!N386","v":0},{"$f":"HOJA_CAPTURA!P386","v":0},{"$f":"HOJA_CAPTURA!Q386","v":"00:00:00"},{"$f":"HOJA_CAPTURA!V386","v":0},{"$f":"HOJA_CAPTURA!AF386","v":0},{"$f":"HOJA_CAPTURA!AG386","v":0},{"$f":"HOJA_CAPTURA!AH386","v":0},{"$f":"HOJA_CAPTURA!AI386","v":0},{"$f":"HOJA_CAPTURA!AJ386","v":0},{"$f":"HOJA_CAPTURA!AK386","v":0},{"$f":"HOJA_CAPTURA!AL386","v":0},{"$f":"HOJA_CAPTURA!AU386","v":0}]
[null,null,null,null,null,{"$f":"HOJA_CAPTURA!R386","v":"00:00:00"}]
[]
[null,"\"El presente inventario consta de __fojas y ampara la cantidad de __expedientes de los años de __al__, contenidos en__ cajas, con un peso aproximado de __kg.\""]
[null,null,{"$f":"HOJA_CAPTURA!F383","v":0},null,null,null,null,{"$f":"HOJA_CAPTURA!E383","v":0}]
["Nombre, firma, cargo y área de adscripción de la persona que formuló el inventario ",null,null,null,null,null,"Nombre, firma, cargo y área de adscripción de la persona que revisó el inventario"]
[null,{"$f":"HOJA_CAPTURA!D383","v":0}]
["Nombre y firma del titular de la unidad administrativa que autorizó el inventario",null,null,null,null,null,"Nombre y firma del responsable del archivo de concentración que recibe el inventario"]
[]
[]
[]
[]
[null,"           "]
["Fecha de transferencia:",null,null,{"$f":"TODAY()","v":"2024-08-13"},"Número de transferencia:",{"$f":"HOJA_CAPTURA!L387","v":0},null,null,null,null,null,null,null,"Hoja: 97 de ",{"$f":"O2380","v":0}]
["Unidad administrativa/Área productora: ",null,null,null,{"$f":"HOJA_CAPTURA!C387","v":0}]
[{"$f":"HOJA_CAPTURA!B387","v":"Fondo: INP"},null,"Sección:",{"$f":"HOJA_CAPTURA!G387","v":0},null,null,"Serie: ",{"$f":"HOJA_CAPTURA!H387","v":0}]
[null,null,null,null,null,null,"Subserie:",null,{"$f":"HOJA_CAPTURA!I387","v":0}]
["No. Consecutivo","No. de caja","No. de expediente","Clasificación archivística del expediente","Descripción o asunto ","                                                                                                                                                                                                                                                          Periodo de trámite","No.  de folios ","Valor documental",null,null,"Vigencia documental",null,null,"Condiciones de acceso (Reservada y confidencial)","Tradición documental "]
[null,null,null,null,null,null,null,"A","L","F/C","AT","AC","Total"]
[{"$f":"HOJA_CAPTURA!J387","v":0},{"$f":"HOJA_CAPTURA!K387","v":0},{"$f":"HOJA_CAPTURA!M387","v":0},{"$f":"HOJA_CAPTURA!N387","v":0},{"$f":"HOJA_CAPTURA!P387","v":0},{"$f":"HOJA_CAPTURA!Q387","v":"00:00:00"},{"$f":"HOJA_CAPTURA!V387","v":0},{"$f":"HOJA_CAPTURA!AF387","v":0},{"$f":"HOJA_CAPTURA!AG387","v":0},{"$f":"HOJA_CAPTURA!AH387","v":0},{"$f":"HOJA_CAPTURA!AI387","v":0},{"$f":"HOJA_CAPTURA!AJ387","v":0},{"$f":"HOJA_CAPTURA!AK387","v":0},{"$f":"HOJA_CAPTURA!AL387","v":0},{"$f":"HOJA_CAPTURA!AU387","v":0}]
[null,null,null,null,null,{"$f":"HOJA_CAPTURA!R387","v":"00:00:00"}]
[{"$f":"HOJA_CAPTURA!J388","v":0},{"$f":"HOJA_CAPTURA!K388","v":0},{"$f":"HOJA_CAPTURA!M388","v":0},{"$f":"HOJA_CAPTURA!N388","v":0},{"$f":"HOJA_CAPTURA!P388","v":0},{"$f":"HOJA_CAPTURA!Q388","v":"00:00:00"},{"$f":"HOJA_CAPTURA!V388","v":0},{"$f":"HOJA_CAPTURA!AF388","v":0},{"$f":"HOJA_CAPTURA!AG388","v":0},{"$f":"HOJA_CAPTURA!AH388","v":0},{"$f":"HOJA_CAPTURA!AI388","v":0},{"$f":"HOJA_CAPTURA!AJ388","v":0},{"$f":"HOJA_CAPTURA!AK388","v":0},{"$f":"HOJA_CAPTURA!AL388","v":0},{"$f":"HOJA_CAPTURA!AU388","v":0}]
[null,null,null,null,null,{"$f":"HOJA_CAPTURA!R388","v":"00:00:00"}]
[{"$f":"HOJA_CAPTURA!J389","v":0},{"$f":"HOJA_CAPTURA!K389","v":0},{"$f":"HOJA_CAPTURA!M389","v":0},{"$f":"HOJA_CAPTURA!N389","v":0},{"$f":"HOJA_CAPTURA!P389","v":0},{"$f":"HOJA_CAPTURA!Q389","v":"00:00:00"},{"$f":"HOJA_CAPTURA!V389","v":0},{"$f":"HOJA_CAPTURA!AF389","v":0},{"$f":"HOJA_CAPTURA!AG389","v":0},{"$f":"HOJA_CAPTURA!AH389","v":0},{"$f":"HOJA_CAPTURA!AI389","v":0},{"$f":"HOJA_CAPTURA!AJ389","v":0},{"$f":"HOJA_CAPTURA!AK389","v":0},{"$f":"HOJA_CAPTURA!AL389","v":0},{"$f":"HOJA_CAPTURA!AU389","v":0}]
[null,null,null,null,null,{"$f":"HOJA_CAPTURA!R389","v":"00:00:00"}]
[{"$f":"HOJA_CAPTURA!J390","v":0},{"$f":"HOJA_CAPTURA!K390","v":0},{"$f":"HOJA_CAPTURA!M390","v":0},{"$f":"HOJA_CAPTURA!N390","v":0},{"$f":"HOJA_CAPTURA!P390","v":0},{"$f":"HOJA_CAPTURA!Q390","v":"00:00:00"},{"$f":"HOJA_CAPTURA!V390","v":0},{"$f":"HOJA_CAPTURA!AF390","v":0},{"$f":"HOJA_CAPTURA!AG390","v":0},{"$f":"HOJA_CAPTURA!AH390","v":0},{"$f":"HOJA_CAPTURA!AI390","v":0},{"$f":"HOJA_CAPTURA!AJ390","v":0},{"$f":"HOJA_CAPTURA!AK390","v":0},{"$f":"HOJA_CAPTURA!AL390","v":0},{"$f":"HOJA_CAPTURA!AU390","v":0}]
[null,null,null,null,null,{"$f":"HOJA_CAPTURA!R390","v":"00:00:00"}]
[]
[null,"\"El presente inventario consta de __fojas y ampara la cantidad de __expedientes de los años de __al__, contenidos en__ cajas, con un peso aproximado de __kg.\""]
[null,null,{"$f":"HOJA_CAPTURA!F387","v":0},null,null,null,null,{"$f":"HOJA_CAPTURA!E387","v":0}]
["Nombre, firma, cargo y área de adscripción de la persona que formuló el inventario ",null,null,null,null,null,"Nombre, firma, cargo y área de adscripción de la persona que revisó el inventario"]
[null,{"$f":"HOJA_CAPTURA!D387","v":0}]
["Nombre y firma del titular de la unidad administrativa que autorizó el inventario",null,null,null,null,null,"Nombre y firma del responsable del archivo de concentración que recibe el inventario"]
[]
[]
[]
[]
[null,"           "]
["Fecha de transferencia:",null,null,{"$f":"TODAY()","v":"2024-08-13"},"Número de transferencia:",{"$f":"HOJA_CAPTURA!L391","v":0},null,null,null,null,null,null,null,"Hoja: 98 de ",{"$f":"O2405","v":0}]
["Unidad administrativa/Área productora: ",null,null,null,{"$f":"HOJA_CAPTURA!C391","v":0}]
[{"$f":"HOJA_CAPTURA!B391","v":"Fondo: INP"},null,"Sección:",{"$f":"HOJA_CAPTURA!G391","v":0},null,null,"Serie: ",{"$f":"HOJA_CAPTURA!H391","v":0}]
[null,null,null,null,null,null,"Subserie:",null,{"$f":"HOJA_CAPTURA!I391","v":0}]
["No. Consecutivo","No. de caja","No. de expediente","Clasificación archivística del expediente","Descripción o asunto ","                                                                                                                                                                                                                                                          Periodo de trámite","No.  de folios ","Valor documental",null,null,"Vigencia documental",null,null,"Condiciones de acceso (Reservada y confidencial)","Tradición documental "]
[null,null,null,null,null,null,null,"A","L","F/C","AT","AC","Total"]
[{"$f":"HOJA_CAPTURA!J391","v":0},{"$f":"HOJA_CAPTURA!K391","v":0},{"$f":"HOJA_CAPTURA!M391","v":0},{"$f":"HOJA_CAPTURA!N391","v":0},{"$f":"HOJA_CAPTURA!P391","v":0},{"$f":"HOJA_CAPTURA!Q391","v":"00:00:00"},{"$f":"HOJA_CAPTURA!V391","v":0},{"$f":"HOJA_CAPTURA!AF391","v":0},{"$f":"HOJA_CAPTURA!AG391","v":0},{"$f":"HOJA_CAPTURA!AH391","v":0},{"$f":"HOJA_CAPTURA!AI391","v":0},{"$f":"HOJA_CAPTURA!AJ391","v":0},{"$f":"HOJA_CAPTURA!AK391","v":0},{"$f":"HOJA_CAPTURA!AL391","v":0},{"$f":"HOJA_CAPTURA!AU391","v":0}]
[null,null,null,null,null,{"$f":"HOJA_CAPTURA!R391","v":"00:00:00"}]
[{"$f":"HOJA_CAPTURA!J392","v":0},{"$f":"HOJA_CAPTURA!K392","v":0},{"$f":"HOJA_CAPTURA!M392","v":0},{"$f":"HOJA_CAPTURA!N392","v":0},{"$f":"HOJA_CAPTURA!P392","v":0},{"$f":"HOJA_CAPTURA!Q392","v":"00:00:00"},{"$f":"HOJA_CAPTURA!V392","v":0},{"$f":"HOJA_CAPTURA!AF392","v":0},{"$f":"HOJA_CAPTURA!AG392","v":0},{"$f":"HOJA_CAPTURA!AH392","v":0},{"$f":"HOJA_CAPTURA!AI392","v":0},{"$f":"HOJA_CAPTURA!AJ392","v":0},{"$f":"HOJA_CAPTURA!AK392","v":0},{"$f":"HOJA_CAPTURA!AL392","v":0},{"$f":"HOJA_CAPTURA!AU392","v":0}]
[null,null,null,null,null,{"$f":"HOJA_CAPTURA!R392","v":"00:00:00"}]
[{"$f":"HOJA_CAPTURA!J393","v":0},{"$f":"HOJA_CAPTURA!K393","v":0},{"$f":"HOJA_CAPTURA!M393","v":0},{"$f":"HOJA_CAPTURA!N393","v":0},{"$f":"HOJA_CAPTURA!P393","v":0},{"$f":"HOJA_CAPTURA!Q393","v":"00:00:00"},{"$f":"HOJA_CAPTURA!V393","v":0},{"$f":"HOJA_CAPTURA!AF393","v":0},{"$f":"HOJA_CAPTURA!AG393","v":0},{"$f":"HOJA_CAPTURA!AH393","v":0},{"$f":"HOJA_CAPTURA!AI393","v":0},{"$f":"HOJA_CAPTURA!AJ393","v":0},{"$f":"HOJA_CAPTURA!AK393","v":0},{"$f":"HOJA_CAPTURA!AL393","v":0},{"$f":"HOJA_CAPTURA!AU393","v":0}]
[null,null,null,null,null,{"$f":"HOJA_CAPTURA!R393","v":"00:00:00"}]
[{"$f":"HOJA_CAPTURA!J394","v":0},{"$f":"HOJA_CAPTURA!K394","v":0},{"$f":"HOJA_CAPTURA!M394","v":0},{"$f":"HOJA_CAPTURA!N394","v":0},{"$f":"HOJA_CAPTURA!P394","v":0},{"$f":"HOJA_CAPTURA!Q394","v":"00:00:00"},{"$f":"HOJA_CAPTURA!V394","v":0},{"$f":"HOJA_CAPTURA!AF394","v":0},{"$f":"HOJA_CAPTURA!AG394","v":0},{"$f":"HOJA_CAPTURA!AH394","v":0},{"$f":"HOJA_CAPTURA!AI394","v":0},{"$f":"HOJA_CAPTURA!AJ394","v":0},{"$f":"HOJA_CAPTURA!AK394","v":0},{"$f":"HOJA_CAPTURA!AL394","v":0},{"$f":"HOJA_CAPTURA!AU394","v":0}]
[null,null,null,null,null,{"$f":"HOJA_CAPTURA!R394","v":"00:00:00"}]
[]
[null,"\"El presente inventario consta de __fojas y ampara la cantidad de __expedientes de los años de __al__, contenidos en__ cajas, con un peso aproximado de __kg.\""]
[null,null,{"$f":"HOJA_CAPTURA!F391","v":0},null,null,null,null,{"$f":"HOJA_CAPTURA!E391","v":0}]
["Nombre, firma, cargo y área de adscripción de la persona que formuló el inventario ",null,null,null,null,null,"Nombre, firma, cargo y área de adscripción de la persona que revisó el inventario"]
[null,{"$f":"HOJA_CAPTURA!D391","v":0}]
["Nombre y firma del titular de la unidad administrativa que autorizó el inventario",null,null,null,null,null,"Nombre y firma del responsable del archivo de concentración que recibe el inventario"]
[]
[]
[]
[]
[null,"           "]
["Fecha de transferencia:",null,null,{"$f":"TODAY()","v":"2024-08-13"},"Número de transferencia:",{"$f":"HOJA_CAPTURA!L395","v":0},null,null,null,null,null,null,null,"Hoja: 99 de ",{"$f":"O2430","v":0}]
["Unidad administrativa/Área productora: ",null,null,null,{"$f":"HOJA_CAPTURA!C395","v":0}]
[{"$f":"HOJA_CAPTURA!B395","v":"Fondo: INP"},null,"Sección:",{"$f":"HOJA_CAPTURA!G395","v":0},null,null,"Serie: ",{"$f":"HOJA_CAPTURA!H395","v":0}]
[null,null,null,null,null,null,"Subserie:",null,{"$f":"HOJA_CAPTURA!I395","v":0}]
["No. Consecutivo","No. de caja","No. de expediente","Clasificación archivística del expediente","Descripción o asunto ","                                                                                                                                                                                                                                                          Periodo de trámite","No.  de folios ","Valor documental",null,null,"Vigencia documental",null,null,"Condiciones de acceso (Reservada y confidencial)","Tradición documental "]
[null,null,null,null,null,null,null,"A","L","F/C","AT","AC","Total"]
[{"$f":"HOJA_CAPTURA!J395","v":0},{"$f":"HOJA_CAPTURA!K395","v":0},{"$f":"HOJA_CAPTURA!M395","v":0},{"$f":"HOJA_CAPTURA!N395","v":0},{"$f":"HOJA_CAPTURA!P395","v":0},{"$f":"HOJA_CAPTURA!Q395","v":"00:00:00"},{"$f":"HOJA_CAPTURA!V395","v":0},{"$f":"HOJA_CAPTURA!AF395","v":0},{"$f":"HOJA_CAPTURA!AG395","v":0},{"$f":"HOJA_CAPTURA!AH395","v":0},{"$f":"HOJA_CAPTURA!AI395","v":0},{"$f":"HOJA_CAPTURA!AJ395","v":0},{"$f":"HOJA_CAPTURA!AK395","v":0},{"$f":"HOJA_CAPTURA!AL395","v":0},{"$f":"HOJA_CAPTURA!AU395","v":0}]
[null,null,null,null,null,{"$f":"HOJA_CAPTURA!R395","v":"00:00:00"}]
[{"$f":"HOJA_CAPTURA!J396","v":0},{"$f":"HOJA_CAPTURA!K396","v":0},{"$f":"HOJA_CAPTURA!M396","v":0},{"$f":"HOJA_CAPTURA!N396","v":0},{"$f":"HOJA_CAPTURA!P396","v":0},{"$f":"HOJA_CAPTURA!Q396","v":"00:00:00"},{"$f":"HOJA_CAPTURA!V396","v":0},{"$f":"HOJA_CAPTURA!AF396","v":0},{"$f":"HOJA_CAPTURA!AG396","v":0},{"$f":"HOJA_CAPTURA!AH396","v":0},{"$f":"HOJA_CAPTURA!AI396","v":0},{"$f":"HOJA_CAPTURA!AJ396","v":0},{"$f":"HOJA_CAPTURA!AK396","v":0},{"$f":"HOJA_CAPTURA!AL396","v":0},{"$f":"HOJA_CAPTURA!AU396","v":0}]
[null,null,null,null,null,{"$f":"HOJA_CAPTURA!R396","v":"00:00:00"}]
[{"$f":"HOJA_CAPTURA!J397","v":0},{"$f":"HOJA_CAPTURA!K397","v":0},{"$f":"HOJA_CAPTURA!M397","v":0},{"$f":"HOJA_CAPTURA!N397","v":0},{"$f":"HOJA_CAPTURA!P397","v":0},{"$f":"HOJA_CAPTURA!Q397","v":"00:00:00"},{"$f":"HOJA_CAPTURA!V397","v":0},{"$f":"HOJA_CAPTURA!AF397","v":0},{"$f":"HOJA_CAPTURA!AG397","v":0},{"$f":"HOJA_CAPTURA!AH397","v":0},{"$f":"HOJA_CAPTURA!AI397","v":0},{"$f":"HOJA_CAPTURA!AJ397","v":0},{"$f":"HOJA_CAPTURA!AK397","v":0},{"$f":"HOJA_CAPTURA!AL397","v":0},{"$f":"HOJA_CAPTURA!AU397","v":0}]
[null,null,null,null,null,{"$f":"HOJA_CAPTURA!R397","v":"00:00:00"}]
[{"$f":"HOJA_CAPTURA!J398","v":0},{"$f":"HOJA_CAPTURA!K398","v":0},{"$f":"HOJA_CAPTURA!M398","v":0},{"$f":"HOJA_CAPTURA!N398","v":0},{"$f":"HOJA_CAPTURA!P398","v":0},{"$f":"HOJA_CAPTURA!Q398","v":"00:00:00"},{"$f":"HOJA_CAPTURA!V398","v":0},{"$f":"HOJA_CAPTURA!AF398","v":0},{"$f":"HOJA_CAPTURA!AG398","v":0},{"$f":"HOJA_CAPTURA!AH398","v":0},{"$f":"HOJA_CAPTURA!AI398","v":0},{"$f":"HOJA_CAPTURA!AJ398","v":0},{"$f":"HOJA_CAPTURA!AK398","v":0},{"$f":"HOJA_CAPTURA!AL398","v":0},{"$f":"HOJA_CAPTURA!AU398","v":0}]
[null,null,null,null,null,{"$f":"HOJA_CAPTURA!R398","v":"00:00:00"}]
[]
[null,"\"El presente inventario consta de __fojas y ampara la cantidad de __expedientes de los años de __al__, contenidos en__ cajas, con un peso aproximado de __kg.\""]
[null,null,{"$f":"HOJA_CAPTURA!F395","v":0},null,null,null,null,{"$f":"HOJA_CAPTURA!E395","v":0}]
["Nombre, firma, cargo y área de adscripción de la persona que formuló el inventario ",null,null,null,null,null,"Nombre, firma, cargo y área de adscripción de la persona que revisó el inventario"]
[null,{"$f":"HOJA_CAPTURA!D395","v":0}]
["Nombre y firma del titular de la unidad administrativa que autorizó el inventario",null,null,null,null,null,"Nombre y firma del responsable del archivo de concentración que recibe el inventario"]
[]
[]
[]
[]
[null,"           "]
["Fecha de transferencia:",null,null,{"$f":"TODAY()","v":"2024-08-13"},"Número de transferencia:",{"$f":"HOJA_CAPTURA!L399","v":0},null,null,null,null,null,null,null,"Hoja: 100 de ",{"$f":"O2455","v":0}]
["Unidad administrativa/Área productora: ",null,null,null,{"$f":"HOJA_CAPTURA!C399","v":0}]
[{"$f":"HOJA_CAPTURA!B399","v":"Fondo: INP"},null,"Sección:",{"$f":"HOJA_CAPTURA!G399","v":0},null,null,"Serie: ",{"$f":"HOJA_CAPTURA!H399","v":0}]
[null,null,null,null,null,null,"Subserie:",null,{"$f":"HOJA_CAPTURA!I399","v":0}]
["No. Consecutivo","No. de caja","No. de expediente","Clasificación archivística del expediente","Descripción o asunto ","                                                                                                                                                                                                                                                          Periodo de trámite","No.  de folios ","Valor documental",null,null,"Vigencia documental",null,null,"Condiciones de acceso (Reservada y confidencial)","Tradición documental "]
[null,null,null,null,null,null,null,"A","L","F/C","AT","AC","Total"]
[{"$f":"HOJA_CAPTURA!J399","v":0},{"$f":"HOJA_CAPTURA!K399","v":0},{"$f":"HOJA_CAPTURA!M399","v":0},{"$f":"HOJA_CAPTURA!N399","v":0},{"$f":"HOJA_CAPTURA!P399","v":0},{"$f":"HOJA_CAPTURA!Q399","v":"00:00:00"},{"$f":"HOJA_CAPTURA!V399","v":0},{"$f":"HOJA_CAPTURA!AF399","v":0},{"$f":"HOJA_CAPTURA!AG399","v":0},{"$f":"HOJA_CAPTURA!AH399","v":0},{"$f":"HOJA_CAPTURA!AI399","v":0},{"$f":"HOJA_CAPTURA!AJ399","v":0},{"$f":"HOJA_CAPTURA!AK399","v":0},{"$f":"HOJA_CAPTURA!AL399","v":0},{"$f":"HOJA_CAPTURA!AU399","v":0}]
[null,null,null,null,null,{"$f":"HOJA_CAPTURA!R399","v":"00:00:00"}]
[{"$f":"HOJA_CAPTURA!J400","v":0},{"$f":"HOJA_CAPTURA!K400","v":0},{"$f":"HOJA_CAPTURA!M400","v":0},{"$f":"HOJA_CAPTURA!N400","v":0},{"$f":"HOJA_CAPTURA!P400","v":0},{"$f":"HOJA_CAPTURA!Q400","v":"00:00:00"},{"$f":"HOJA_CAPTURA!V400","v":0},{"$f":"HOJA_CAPTURA!AF400","v":0},{"$f":"HOJA_CAPTURA!AG400","v":0},{"$f":"HOJA_CAPTURA!AH400","v":0},{"$f":"HOJA_CAPTURA!AI400","v":0},{"$f":"HOJA_CAPTURA!AJ400","v":0},{"$f":"HOJA_CAPTURA!AK400","v":0},{"$f":"HOJA_CAPTURA!AL400","v":0},{"$f":"HOJA_CAPTURA!AU400","v":0}]
[null,null,null,null,null,{"$f":"HOJA_CAPTURA!R400","v":"00:00:00"}]
[{"$f":"HOJA_CAPTURA!J401","v":0},{"$f":"HOJA_CAPTURA!K401","v":0},{"$f":"HOJA_CAPTURA!M401","v":0},{"$f":"HOJA_CAPTURA!N401","v":0},{"$f":"HOJA_CAPTURA!P401","v":0},{"$f":"HOJA_CAPTURA!Q401","v":"00:00:00"},{"$f":"HOJA_CAPTURA!V401","v":0},{"$f":"HOJA_CAPTURA!AF401","v":0},{"$f":"HOJA_CAPTURA!AG401","v":0},{"$f":"HOJA_CAPTURA!AH401","v":0},{"$f":"HOJA_CAPTURA!AI401","v":0},{"$f":"HOJA_CAPTURA!AJ401","v":0},{"$f":"HOJA_CAPTURA!AK401","v":0},{"$f":"HOJA_CAPTURA!AL401","v":0},{"$f":"HOJA_CAPTURA!AU401","v":0}]
[null,null,null,null,null,{"$f":"HOJA_CAPTURA!R401","v":"00:00:00"}]
[{"$f":"HOJA_CAPTURA!J402","v":0},{"$f":"HOJA_CAPTURA!K402","v":0},{"$f":"HOJA_CAPTURA!M402","v":0},{"$f":"HOJA_CAPTURA!N402","v":0},{"$f":"HOJA_CAPTURA!P402","v":0},{"$f":"HOJA_CAPTURA!Q402","v":"00:00:00"},{"$f":"HOJA_CAPTURA!V402","v":0},{"$f":"HOJA_CAPTURA!AF402","v":0},{"$f":"HOJA_CAPTURA!AG402","v":0},{"$f":"HOJA_CAPTURA!AH402","v":0},{"$f":"HOJA_CAPTURA!AI402","v":0},{"$f":"HOJA_CAPTURA!AJ402","v":0},{"$f":"HOJA_CAPTURA!AK402","v":0},{"$f":"HOJA_CAPTURA!AL402","v":0},{"$f":"HOJA_CAPTURA!AU402","v":0}]
[null,null,null,null,null,{"$f":"HOJA_CAPTURA!R402","v":"00:00:00"}]
[]
[null,"\"El presente inventario consta de __fojas y ampara la cantidad de __expedientes de los años de __al__, contenidos en__ cajas, con un peso aproximado de __kg.\""]
[null,null,{"$f":"HOJA_CAPTURA!F399","v":0},null,null,null,null,{"$f":"HOJA_CAPTURA!E399","v":0}]
["Nombre, firma, cargo y área de adscripción de la persona que formuló el inventario ",null,null,null,null,null,"Nombre, firma, cargo y área de adscripción de la persona que revisó el inventario"]
[null,{"$f":"HOJA_CAPTURA!D399","v":0}]
["Nombre y firma del titular de la unidad administrativa que autorizó el inventario",null,null,null,null,null,"Nombre y firma del responsable del archivo de concentración que recibe el inventario"]